{"text_format":"3","workbook":"xlsx","n_sheets":3,"sheets":["ЗАЯВКА","Лист2","Лист3"],"not_rendered":{"macros":1},"read":"whole","date_system":"1900"}

{"sheet":"ЗАЯВКА","index":0,"n_rows":1178,"n_cols":17,"rows_kept":1178,"merged":[[0,0,0,1],[1,0,1,1],[2,0,2,1],[3,0,3,1],[5,0,5,5],[6,0,6,1],[6,2,6,5],[7,0,7,1],[7,2,7,5],[8,0,8,1],[8,2,8,5],[9,0,9,1],[9,2,9,5],[10,0,10,1],[10,2,10,5],[11,0,11,1],[11,2,11,5],[12,0,12,1],[12,2,12,5],[13,0,13,1],[13,2,13,5],[14,0,14,1],[14,2,14,5],[16,0,16,1],[16,2,16,5],[17,0,17,1],[17,3,17,5],[18,0,18,1],[18,3,18,5]]}
["Ответственный за составление отчета (ФИО)",null,null,"Общая стоимость",{"$f":"E2+E3","v":{"v":0,"d":"0.00"}},"Общая стоимость",{"$f":"G2+G3","v":{"v":0,"d":"0.00"}}]
["Должность",null,null,"Итого по КОСГУ 228, руб",{"$f":"SUM(Таблица2[11])","v":{"v":0,"d":"0.00"}},"Итого по КОСГУ 228, руб",{"$f":"SUM(Таблица2[14])","v":{"v":0,"d":"0.00"}}]
["Телефон",null,null,"Итого по КОСГУ 310, руб",{"$f":"SUM(Таблица2[12])","v":{"v":0,"d":"0.00"}},"Итого по КОСГУ 310, руб",{"$f":"SUM(Таблица2[15])","v":{"v":0,"d":"0.00"}}]
["Электронная почта",null,null,"общая стоимость выделенных ИОГВ средств, руб.",{"$f":"SUM(Таблица2[10])","v":{"v":0,"d":"0.00"}},"общая стоимость выполненных работ, руб",{"$f":"SUM(Таблица2[13])","v":{"v":0,"d":"0.00"}}]
[]
["Системы, относящиеся к КСОБ",{"$nulls":6},"ВНИМАНИЕ!!!! "]
["Сокращение (указывается в столбце 8)",null,"Наименование",{"$nulls":4},"ПЕРЕД ЗАПОЛНЕНИЕМ ТАБЛИЦЫ ВНИМАТЕЛЬНО ПРОЧИТАЙТЕ ИНСТРУКЦИЮ"]
["АПС",null,"Автоматическая система пожарной сигнализазации ",{"$nulls":4},"НЕ ДОПУСКАЕТСЯ ОБЪЕДИНЕНИЕ ЯЧЕЕК!"]
["СОУЭ",null,"Система оповещения и управления эвакуацией",{"$nulls":4},"ВСЕ ПОЛЯ ДОЛЖНЫ БЫТЬ ЗАПОЛНЕНЫ!"]
["ОС",null,"Система охранной сигнализации ",{"$nulls":4},"ОБЯЗАТЕЛЬНО УКАЗАТЬ ОТВЕТСТВЕННОГО ЗА СОСТАВЛЕНИЕ ОТЧЕТА И КОНТАКТЫ"]
["ТС",null,"Система тревожной сигнализации"]
["АПТ",null,"Общее наименование систем автоматического пожаротушения (включает АУПТ, АУПТВ, АУГПТ)"]
["СКУД",null,"Система контроля управления доступом"]
["СВН",null,"Система видеонаблюдения"]
["СКЗ",null,"Система контроля загазованности"]
[]
["КОСГУ",null,"КЛАССИФИКАЦИЯ ОПЕРАЦИЙ СЕКТОРА ГОСУДАРСТВЕННОГО УПРАВЛЕНИЯ"]
[228,null,"Услуги, работы для целей капитальных вложений","Проектирование, работы по дооснащению КСОБ, материалы"]
[310,null,"Увеличение стоимости основных средств","Оборудование при дооснащении КСОБ"]
[]
["№ п/п","ИОГВ ","Наименование учреждения","Адрес ","№ паспорта КСОБ","Подтип учреждения ","Круглосуточное пребывание людей ","Наименование системы "," Вид работ","Средства выделенные на основании Адресного перечня на дооснащение КСОБ, руб. ","Средства выделенные на основании Адресного перечня на дооснащение КСОБ по КОСГУ 228, руб.","Средства выделенные на основании Адресного перечня на дооснащение КСОБ по КОСГУ 310, руб.","Стоимость выполненных работ, руб. ","Стоимость выполненных работ с НДС по КОСГУ 228, руб.","Стоимость выполненных работ с НДС по КОСГУ 310, руб.","Отчетные документы","Коментарий"]
["1","2","3","4","5","6","7","8","9","10","11","12","13","14","15","16","17"]
[1,{"$nulls":8},{"$f":"Таблица2[[#This Row],[11]]+Таблица2[[#This Row],[12]]","v":{"v":0,"d":"0.00"}},null,null,{"$f":"Таблица2[[#This Row],[14]]+Таблица2[[#This Row],[15]]","v":{"v":0,"d":"0.00"}}]
[2,{"$nulls":8},{"$f":"Таблица2[[#This Row],[11]]+Таблица2[[#This Row],[12]]","v":{"v":0,"d":"0.00"}},null,null,{"$f":"Таблица2[[#This Row],[14]]+Таблица2[[#This Row],[15]]","v":{"v":0,"d":"0.00"}}]
[3,{"$nulls":8},{"$f":"Таблица2[[#This Row],[11]]+Таблица2[[#This Row],[12]]","v":{"v":0,"d":"0.00"}},null,null,{"$f":"Таблица2[[#This Row],[14]]+Таблица2[[#This Row],[15]]","v":{"v":0,"d":"0.00"}}]
[4,{"$nulls":8},{"$f":"Таблица2[[#This Row],[11]]+Таблица2[[#This Row],[12]]","v":{"v":0,"d":"0.00"}},null,null,{"$f":"Таблица2[[#This Row],[14]]+Таблица2[[#This Row],[15]]","v":{"v":0,"d":"0.00"}}]
[5,{"$nulls":8},{"$f":"Таблица2[[#This Row],[11]]+Таблица2[[#This Row],[12]]","v":{"v":0,"d":"0.00"}},null,null,{"$f":"Таблица2[[#This Row],[14]]+Таблица2[[#This Row],[15]]","v":{"v":0,"d":"0.00"}}]
[6,{"$nulls":8},{"$f":"Таблица2[[#This Row],[11]]+Таблица2[[#This Row],[12]]","v":{"v":0,"d":"0.00"}},null,null,{"$f":"Таблица2[[#This Row],[14]]+Таблица2[[#This Row],[15]]","v":{"v":0,"d":"0.00"}}]
[7,{"$nulls":8},{"$f":"Таблица2[[#This Row],[11]]+Таблица2[[#This Row],[12]]","v":{"v":0,"d":"0.00"}},null,null,{"$f":"Таблица2[[#This Row],[14]]+Таблица2[[#This Row],[15]]","v":{"v":0,"d":"0.00"}}]
[8,{"$nulls":8},{"$f":"Таблица2[[#This Row],[11]]+Таблица2[[#This Row],[12]]","v":{"v":0,"d":"0.00"}},null,null,{"$f":"Таблица2[[#This Row],[14]]+Таблица2[[#This Row],[15]]","v":{"v":0,"d":"0.00"}}]
[9,{"$nulls":8},{"$f":"Таблица2[[#This Row],[11]]+Таблица2[[#This Row],[12]]","v":{"v":0,"d":"0.00"}},null,null,{"$f":"Таблица2[[#This Row],[14]]+Таблица2[[#This Row],[15]]","v":{"v":0,"d":"0.00"}}]
[10,{"$nulls":8},{"$f":"Таблица2[[#This Row],[11]]+Таблица2[[#This Row],[12]]","v":{"v":0,"d":"0.00"}},null,null,{"$f":"Таблица2[[#This Row],[14]]+Таблица2[[#This Row],[15]]","v":{"v":0,"d":"0.00"}}]
[11,{"$nulls":8},{"$f":"Таблица2[[#This Row],[11]]+Таблица2[[#This Row],[12]]","v":{"v":0,"d":"0.00"}},null,null,{"$f":"Таблица2[[#This Row],[14]]+Таблица2[[#This Row],[15]]","v":{"v":0,"d":"0.00"}}]
[12,{"$nulls":8},{"$f":"Таблица2[[#This Row],[11]]+Таблица2[[#This Row],[12]]","v":{"v":0,"d":"0.00"}},null,null,{"$f":"Таблица2[[#This Row],[14]]+Таблица2[[#This Row],[15]]","v":{"v":0,"d":"0.00"}}]
[13,{"$nulls":8},{"$f":"Таблица2[[#This Row],[11]]+Таблица2[[#This Row],[12]]","v":{"v":0,"d":"0.00"}},null,null,{"$f":"Таблица2[[#This Row],[14]]+Таблица2[[#This Row],[15]]","v":{"v":0,"d":"0.00"}}]
[14,{"$nulls":8},{"$f":"Таблица2[[#This Row],[11]]+Таблица2[[#This Row],[12]]","v":{"v":0,"d":"0.00"}},null,null,{"$f":"Таблица2[[#This Row],[14]]+Таблица2[[#This Row],[15]]","v":{"v":0,"d":"0.00"}}]
[15,{"$nulls":8},{"$f":"Таблица2[[#This Row],[11]]+Таблица2[[#This Row],[12]]","v":{"v":0,"d":"0.00"}},null,null,{"$f":"Таблица2[[#This Row],[14]]+Таблица2[[#This Row],[15]]","v":{"v":0,"d":"0.00"}}]
[16,{"$nulls":8},{"$f":"Таблица2[[#This Row],[11]]+Таблица2[[#This Row],[12]]","v":{"v":0,"d":"0.00"}},null,null,{"$f":"Таблица2[[#This Row],[14]]+Таблица2[[#This Row],[15]]","v":{"v":0,"d":"0.00"}}]
[17,{"$nulls":8},{"$f":"Таблица2[[#This Row],[11]]+Таблица2[[#This Row],[12]]","v":{"v":0,"d":"0.00"}},null,null,{"$f":"Таблица2[[#This Row],[14]]+Таблица2[[#This Row],[15]]","v":{"v":0,"d":"0.00"}}]
[18,{"$nulls":8},{"$f":"Таблица2[[#This Row],[11]]+Таблица2[[#This Row],[12]]","v":{"v":0,"d":"0.00"}},null,null,{"$f":"Таблица2[[#This Row],[14]]+Таблица2[[#This Row],[15]]","v":{"v":0,"d":"0.00"}}]
[19,{"$nulls":8},{"$f":"Таблица2[[#This Row],[11]]+Таблица2[[#This Row],[12]]","v":{"v":0,"d":"0.00"}},null,null,{"$f":"Таблица2[[#This Row],[14]]+Таблица2[[#This Row],[15]]","v":{"v":0,"d":"0.00"}}]
[20,{"$nulls":8},{"$f":"Таблица2[[#This Row],[11]]+Таблица2[[#This Row],[12]]","v":{"v":0,"d":"0.00"}},null,null,{"$f":"Таблица2[[#This Row],[14]]+Таблица2[[#This Row],[15]]","v":{"v":0,"d":"0.00"}}]
[21,{"$nulls":8},{"$f":"Таблица2[[#This Row],[11]]+Таблица2[[#This Row],[12]]","v":{"v":0,"d":"0.00"}},null,null,{"$f":"Таблица2[[#This Row],[14]]+Таблица2[[#This Row],[15]]","v":{"v":0,"d":"0.00"}}]
[22,{"$nulls":8},{"$f":"Таблица2[[#This Row],[11]]+Таблица2[[#This Row],[12]]","v":{"v":0,"d":"0.00"}},null,null,{"$f":"Таблица2[[#This Row],[14]]+Таблица2[[#This Row],[15]]","v":{"v":0,"d":"0.00"}}]
[23,{"$nulls":8},{"$f":"Таблица2[[#This Row],[11]]+Таблица2[[#This Row],[12]]","v":{"v":0,"d":"0.00"}},null,null,{"$f":"Таблица2[[#This Row],[14]]+Таблица2[[#This Row],[15]]","v":{"v":0,"d":"0.00"}}]
[24,{"$nulls":8},{"$f":"Таблица2[[#This Row],[11]]+Таблица2[[#This Row],[12]]","v":{"v":0,"d":"0.00"}},null,null,{"$f":"Таблица2[[#This Row],[14]]+Таблица2[[#This Row],[15]]","v":{"v":0,"d":"0.00"}}]
[25,{"$nulls":8},{"$f":"Таблица2[[#This Row],[11]]+Таблица2[[#This Row],[12]]","v":{"v":0,"d":"0.00"}},null,null,{"$f":"Таблица2[[#This Row],[14]]+Таблица2[[#This Row],[15]]","v":{"v":0,"d":"0.00"}}]
[26,{"$nulls":8},{"$f":"Таблица2[[#This Row],[11]]+Таблица2[[#This Row],[12]]","v":{"v":0,"d":"0.00"}},null,null,{"$f":"Таблица2[[#This Row],[14]]+Таблица2[[#This Row],[15]]","v":{"v":0,"d":"0.00"}}]
[27,{"$nulls":8},{"$f":"Таблица2[[#This Row],[11]]+Таблица2[[#This Row],[12]]","v":{"v":0,"d":"0.00"}},null,null,{"$f":"Таблица2[[#This Row],[14]]+Таблица2[[#This Row],[15]]","v":{"v":0,"d":"0.00"}}]
[28,{"$nulls":8},{"$f":"Таблица2[[#This Row],[11]]+Таблица2[[#This Row],[12]]","v":{"v":0,"d":"0.00"}},null,null,{"$f":"Таблица2[[#This Row],[14]]+Таблица2[[#This Row],[15]]","v":{"v":0,"d":"0.00"}}]
[29,{"$nulls":8},{"$f":"Таблица2[[#This Row],[11]]+Таблица2[[#This Row],[12]]","v":{"v":0,"d":"0.00"}},null,null,{"$f":"Таблица2[[#This Row],[14]]+Таблица2[[#This Row],[15]]","v":{"v":0,"d":"0.00"}}]
[30,{"$nulls":8},{"$f":"Таблица2[[#This Row],[11]]+Таблица2[[#This Row],[12]]","v":{"v":0,"d":"0.00"}},null,null,{"$f":"Таблица2[[#This Row],[14]]+Таблица2[[#This Row],[15]]","v":{"v":0,"d":"0.00"}}]
[31,{"$nulls":8},{"$f":"Таблица2[[#This Row],[11]]+Таблица2[[#This Row],[12]]","v":{"v":0,"d":"0.00"}},null,null,{"$f":"Таблица2[[#This Row],[14]]+Таблица2[[#This Row],[15]]","v":{"v":0,"d":"0.00"}}]
[32,{"$nulls":8},{"$f":"Таблица2[[#This Row],[11]]+Таблица2[[#This Row],[12]]","v":{"v":0,"d":"0.00"}},null,null,{"$f":"Таблица2[[#This Row],[14]]+Таблица2[[#This Row],[15]]","v":{"v":0,"d":"0.00"}}]
[33,{"$nulls":8},{"$f":"Таблица2[[#This Row],[11]]+Таблица2[[#This Row],[12]]","v":{"v":0,"d":"0.00"}},null,null,{"$f":"Таблица2[[#This Row],[14]]+Таблица2[[#This Row],[15]]","v":{"v":0,"d":"0.00"}}]
[34,{"$nulls":8},{"$f":"Таблица2[[#This Row],[11]]+Таблица2[[#This Row],[12]]","v":{"v":0,"d":"0.00"}},null,null,{"$f":"Таблица2[[#This Row],[14]]+Таблица2[[#This Row],[15]]","v":{"v":0,"d":"0.00"}}]
[35,{"$nulls":8},{"$f":"Таблица2[[#This Row],[11]]+Таблица2[[#This Row],[12]]","v":{"v":0,"d":"0.00"}},null,null,{"$f":"Таблица2[[#This Row],[14]]+Таблица2[[#This Row],[15]]","v":{"v":0,"d":"0.00"}}]
[36,{"$nulls":8},{"$f":"Таблица2[[#This Row],[11]]+Таблица2[[#This Row],[12]]","v":{"v":0,"d":"0.00"}},null,null,{"$f":"Таблица2[[#This Row],[14]]+Таблица2[[#This Row],[15]]","v":{"v":0,"d":"0.00"}}]
[37,{"$nulls":8},{"$f":"Таблица2[[#This Row],[11]]+Таблица2[[#This Row],[12]]","v":{"v":0,"d":"0.00"}},null,null,{"$f":"Таблица2[[#This Row],[14]]+Таблица2[[#This Row],[15]]","v":{"v":0,"d":"0.00"}}]
[38,{"$nulls":8},{"$f":"Таблица2[[#This Row],[11]]+Таблица2[[#This Row],[12]]","v":{"v":0,"d":"0.00"}},null,null,{"$f":"Таблица2[[#This Row],[14]]+Таблица2[[#This Row],[15]]","v":{"v":0,"d":"0.00"}}]
[39,{"$nulls":8},{"$f":"Таблица2[[#This Row],[11]]+Таблица2[[#This Row],[12]]","v":{"v":0,"d":"0.00"}},null,null,{"$f":"Таблица2[[#This Row],[14]]+Таблица2[[#This Row],[15]]","v":{"v":0,"d":"0.00"}}]
[40,{"$nulls":8},{"$f":"Таблица2[[#This Row],[11]]+Таблица2[[#This Row],[12]]","v":{"v":0,"d":"0.00"}},null,null,{"$f":"Таблица2[[#This Row],[14]]+Таблица2[[#This Row],[15]]","v":{"v":0,"d":"0.00"}}]
[41,{"$nulls":8},{"$f":"Таблица2[[#This Row],[11]]+Таблица2[[#This Row],[12]]","v":{"v":0,"d":"0.00"}},null,null,{"$f":"Таблица2[[#This Row],[14]]+Таблица2[[#This Row],[15]]","v":{"v":0,"d":"0.00"}}]
[42,{"$nulls":8},{"$f":"Таблица2[[#This Row],[11]]+Таблица2[[#This Row],[12]]","v":{"v":0,"d":"0.00"}},null,null,{"$f":"Таблица2[[#This Row],[14]]+Таблица2[[#This Row],[15]]","v":{"v":0,"d":"0.00"}}]
[43,{"$nulls":8},{"$f":"Таблица2[[#This Row],[11]]+Таблица2[[#This Row],[12]]","v":{"v":0,"d":"0.00"}},null,null,{"$f":"Таблица2[[#This Row],[14]]+Таблица2[[#This Row],[15]]","v":{"v":0,"d":"0.00"}}]
[44,{"$nulls":8},{"$f":"Таблица2[[#This Row],[11]]+Таблица2[[#This Row],[12]]","v":{"v":0,"d":"0.00"}},null,null,{"$f":"Таблица2[[#This Row],[14]]+Таблица2[[#This Row],[15]]","v":{"v":0,"d":"0.00"}}]
[45,{"$nulls":8},{"$f":"Таблица2[[#This Row],[11]]+Таблица2[[#This Row],[12]]","v":{"v":0,"d":"0.00"}},null,null,{"$f":"Таблица2[[#This Row],[14]]+Таблица2[[#This Row],[15]]","v":{"v":0,"d":"0.00"}}]
[46,{"$nulls":8},{"$f":"Таблица2[[#This Row],[11]]+Таблица2[[#This Row],[12]]","v":{"v":0,"d":"0.00"}},null,null,{"$f":"Таблица2[[#This Row],[14]]+Таблица2[[#This Row],[15]]","v":{"v":0,"d":"0.00"}}]
[47,{"$nulls":8},{"$f":"Таблица2[[#This Row],[11]]+Таблица2[[#This Row],[12]]","v":{"v":0,"d":"0.00"}},null,null,{"$f":"Таблица2[[#This Row],[14]]+Таблица2[[#This Row],[15]]","v":{"v":0,"d":"0.00"}}]
[48,{"$nulls":8},{"$f":"Таблица2[[#This Row],[11]]+Таблица2[[#This Row],[12]]","v":{"v":0,"d":"0.00"}},null,null,{"$f":"Таблица2[[#This Row],[14]]+Таблица2[[#This Row],[15]]","v":{"v":0,"d":"0.00"}}]
[49,{"$nulls":8},{"$f":"Таблица2[[#This Row],[11]]+Таблица2[[#This Row],[12]]","v":{"v":0,"d":"0.00"}},null,null,{"$f":"Таблица2[[#This Row],[14]]+Таблица2[[#This Row],[15]]","v":{"v":0,"d":"0.00"}}]
[50,{"$nulls":8},{"$f":"Таблица2[[#This Row],[11]]+Таблица2[[#This Row],[12]]","v":{"v":0,"d":"0.00"}},null,null,{"$f":"Таблица2[[#This Row],[14]]+Таблица2[[#This Row],[15]]","v":{"v":0,"d":"0.00"}}]
[51,{"$nulls":8},{"$f":"Таблица2[[#This Row],[11]]+Таблица2[[#This Row],[12]]","v":{"v":0,"d":"0.00"}},null,null,{"$f":"Таблица2[[#This Row],[14]]+Таблица2[[#This Row],[15]]","v":{"v":0,"d":"0.00"}}]
[52,{"$nulls":8},{"$f":"Таблица2[[#This Row],[11]]+Таблица2[[#This Row],[12]]","v":{"v":0,"d":"0.00"}},null,null,{"$f":"Таблица2[[#This Row],[14]]+Таблица2[[#This Row],[15]]","v":{"v":0,"d":"0.00"}}]
[53,{"$nulls":8},{"$f":"Таблица2[[#This Row],[11]]+Таблица2[[#This Row],[12]]","v":{"v":0,"d":"0.00"}},null,null,{"$f":"Таблица2[[#This Row],[14]]+Таблица2[[#This Row],[15]]","v":{"v":0,"d":"0.00"}}]
[54,{"$nulls":8},{"$f":"Таблица2[[#This Row],[11]]+Таблица2[[#This Row],[12]]","v":{"v":0,"d":"0.00"}},null,null,{"$f":"Таблица2[[#This Row],[14]]+Таблица2[[#This Row],[15]]","v":{"v":0,"d":"0.00"}}]
[55,{"$nulls":8},{"$f":"Таблица2[[#This Row],[11]]+Таблица2[[#This Row],[12]]","v":{"v":0,"d":"0.00"}},null,null,{"$f":"Таблица2[[#This Row],[14]]+Таблица2[[#This Row],[15]]","v":{"v":0,"d":"0.00"}}]
[56,{"$nulls":8},{"$f":"Таблица2[[#This Row],[11]]+Таблица2[[#This Row],[12]]","v":{"v":0,"d":"0.00"}},null,null,{"$f":"Таблица2[[#This Row],[14]]+Таблица2[[#This Row],[15]]","v":{"v":0,"d":"0.00"}}]
[57,{"$nulls":8},{"$f":"Таблица2[[#This Row],[11]]+Таблица2[[#This Row],[12]]","v":{"v":0,"d":"0.00"}},null,null,{"$f":"Таблица2[[#This Row],[14]]+Таблица2[[#This Row],[15]]","v":{"v":0,"d":"0.00"}}]
[58,{"$nulls":8},{"$f":"Таблица2[[#This Row],[11]]+Таблица2[[#This Row],[12]]","v":{"v":0,"d":"0.00"}},null,null,{"$f":"Таблица2[[#This Row],[14]]+Таблица2[[#This Row],[15]]","v":{"v":0,"d":"0.00"}}]
[59,{"$nulls":8},{"$f":"Таблица2[[#This Row],[11]]+Таблица2[[#This Row],[12]]","v":{"v":0,"d":"0.00"}},null,null,{"$f":"Таблица2[[#This Row],[14]]+Таблица2[[#This Row],[15]]","v":{"v":0,"d":"0.00"}}]
[60,{"$nulls":8},{"$f":"Таблица2[[#This Row],[11]]+Таблица2[[#This Row],[12]]","v":{"v":0,"d":"0.00"}},null,null,{"$f":"Таблица2[[#This Row],[14]]+Таблица2[[#This Row],[15]]","v":{"v":0,"d":"0.00"}}]
[61,{"$nulls":8},{"$f":"Таблица2[[#This Row],[11]]+Таблица2[[#This Row],[12]]","v":{"v":0,"d":"0.00"}},null,null,{"$f":"Таблица2[[#This Row],[14]]+Таблица2[[#This Row],[15]]","v":{"v":0,"d":"0.00"}}]
[62,{"$nulls":8},{"$f":"Таблица2[[#This Row],[11]]+Таблица2[[#This Row],[12]]","v":{"v":0,"d":"0.00"}},null,null,{"$f":"Таблица2[[#This Row],[14]]+Таблица2[[#This Row],[15]]","v":{"v":0,"d":"0.00"}}]
[63,{"$nulls":8},{"$f":"Таблица2[[#This Row],[11]]+Таблица2[[#This Row],[12]]","v":{"v":0,"d":"0.00"}},null,null,{"$f":"Таблица2[[#This Row],[14]]+Таблица2[[#This Row],[15]]","v":{"v":0,"d":"0.00"}}]
[64,{"$nulls":8},{"$f":"Таблица2[[#This Row],[11]]+Таблица2[[#This Row],[12]]","v":{"v":0,"d":"0.00"}},null,null,{"$f":"Таблица2[[#This Row],[14]]+Таблица2[[#This Row],[15]]","v":{"v":0,"d":"0.00"}}]
[65,{"$nulls":8},{"$f":"Таблица2[[#This Row],[11]]+Таблица2[[#This Row],[12]]","v":{"v":0,"d":"0.00"}},null,null,{"$f":"Таблица2[[#This Row],[14]]+Таблица2[[#This Row],[15]]","v":{"v":0,"d":"0.00"}}]
[66,{"$nulls":8},{"$f":"Таблица2[[#This Row],[11]]+Таблица2[[#This Row],[12]]","v":{"v":0,"d":"0.00"}},null,null,{"$f":"Таблица2[[#This Row],[14]]+Таблица2[[#This Row],[15]]","v":{"v":0,"d":"0.00"}}]
[67,{"$nulls":8},{"$f":"Таблица2[[#This Row],[11]]+Таблица2[[#This Row],[12]]","v":{"v":0,"d":"0.00"}},null,null,{"$f":"Таблица2[[#This Row],[14]]+Таблица2[[#This Row],[15]]","v":{"v":0,"d":"0.00"}}]
[68,{"$nulls":8},{"$f":"Таблица2[[#This Row],[11]]+Таблица2[[#This Row],[12]]","v":{"v":0,"d":"0.00"}},null,null,{"$f":"Таблица2[[#This Row],[14]]+Таблица2[[#This Row],[15]]","v":{"v":0,"d":"0.00"}}]
[69,{"$nulls":8},{"$f":"Таблица2[[#This Row],[11]]+Таблица2[[#This Row],[12]]","v":{"v":0,"d":"0.00"}},null,null,{"$f":"Таблица2[[#This Row],[14]]+Таблица2[[#This Row],[15]]","v":{"v":0,"d":"0.00"}}]
[70,{"$nulls":8},{"$f":"Таблица2[[#This Row],[11]]+Таблица2[[#This Row],[12]]","v":{"v":0,"d":"0.00"}},null,null,{"$f":"Таблица2[[#This Row],[14]]+Таблица2[[#This Row],[15]]","v":{"v":0,"d":"0.00"}}]
[71,{"$nulls":8},{"$f":"Таблица2[[#This Row],[11]]+Таблица2[[#This Row],[12]]","v":{"v":0,"d":"0.00"}},null,null,{"$f":"Таблица2[[#This Row],[14]]+Таблица2[[#This Row],[15]]","v":{"v":0,"d":"0.00"}}]
[72,{"$nulls":8},{"$f":"Таблица2[[#This Row],[11]]+Таблица2[[#This Row],[12]]","v":{"v":0,"d":"0.00"}},null,null,{"$f":"Таблица2[[#This Row],[14]]+Таблица2[[#This Row],[15]]","v":{"v":0,"d":"0.00"}}]
[73,{"$nulls":8},{"$f":"Таблица2[[#This Row],[11]]+Таблица2[[#This Row],[12]]","v":{"v":0,"d":"0.00"}},null,null,{"$f":"Таблица2[[#This Row],[14]]+Таблица2[[#This Row],[15]]","v":{"v":0,"d":"0.00"}}]
[74,{"$nulls":8},{"$f":"Таблица2[[#This Row],[11]]+Таблица2[[#This Row],[12]]","v":{"v":0,"d":"0.00"}},null,null,{"$f":"Таблица2[[#This Row],[14]]+Таблица2[[#This Row],[15]]","v":{"v":0,"d":"0.00"}}]
[75,{"$nulls":8},{"$f":"Таблица2[[#This Row],[11]]+Таблица2[[#This Row],[12]]","v":{"v":0,"d":"0.00"}},null,null,{"$f":"Таблица2[[#This Row],[14]]+Таблица2[[#This Row],[15]]","v":{"v":0,"d":"0.00"}}]
[76,{"$nulls":8},{"$f":"Таблица2[[#This Row],[11]]+Таблица2[[#This Row],[12]]","v":{"v":0,"d":"0.00"}},null,null,{"$f":"Таблица2[[#This Row],[14]]+Таблица2[[#This Row],[15]]","v":{"v":0,"d":"0.00"}}]
[77,{"$nulls":8},{"$f":"Таблица2[[#This Row],[11]]+Таблица2[[#This Row],[12]]","v":{"v":0,"d":"0.00"}},null,null,{"$f":"Таблица2[[#This Row],[14]]+Таблица2[[#This Row],[15]]","v":{"v":0,"d":"0.00"}}]
[78,{"$nulls":8},{"$f":"Таблица2[[#This Row],[11]]+Таблица2[[#This Row],[12]]","v":{"v":0,"d":"0.00"}},null,null,{"$f":"Таблица2[[#This Row],[14]]+Таблица2[[#This Row],[15]]","v":{"v":0,"d":"0.00"}}]
[79,{"$nulls":8},{"$f":"Таблица2[[#This Row],[11]]+Таблица2[[#This Row],[12]]","v":{"v":0,"d":"0.00"}},null,null,{"$f":"Таблица2[[#This Row],[14]]+Таблица2[[#This Row],[15]]","v":{"v":0,"d":"0.00"}}]
[80,{"$nulls":8},{"$f":"Таблица2[[#This Row],[11]]+Таблица2[[#This Row],[12]]","v":{"v":0,"d":"0.00"}},null,null,{"$f":"Таблица2[[#This Row],[14]]+Таблица2[[#This Row],[15]]","v":{"v":0,"d":"0.00"}}]
[81,{"$nulls":8},{"$f":"Таблица2[[#This Row],[11]]+Таблица2[[#This Row],[12]]","v":{"v":0,"d":"0.00"}},null,null,{"$f":"Таблица2[[#This Row],[14]]+Таблица2[[#This Row],[15]]","v":{"v":0,"d":"0.00"}}]
[82,{"$nulls":8},{"$f":"Таблица2[[#This Row],[11]]+Таблица2[[#This Row],[12]]","v":{"v":0,"d":"0.00"}},null,null,{"$f":"Таблица2[[#This Row],[14]]+Таблица2[[#This Row],[15]]","v":{"v":0,"d":"0.00"}}]
[83,{"$nulls":8},{"$f":"Таблица2[[#This Row],[11]]+Таблица2[[#This Row],[12]]","v":{"v":0,"d":"0.00"}},null,null,{"$f":"Таблица2[[#This Row],[14]]+Таблица2[[#This Row],[15]]","v":{"v":0,"d":"0.00"}}]
[84,{"$nulls":8},{"$f":"Таблица2[[#This Row],[11]]+Таблица2[[#This Row],[12]]","v":{"v":0,"d":"0.00"}},null,null,{"$f":"Таблица2[[#This Row],[14]]+Таблица2[[#This Row],[15]]","v":{"v":0,"d":"0.00"}}]
[85,{"$nulls":8},{"$f":"Таблица2[[#This Row],[11]]+Таблица2[[#This Row],[12]]","v":{"v":0,"d":"0.00"}},null,null,{"$f":"Таблица2[[#This Row],[14]]+Таблица2[[#This Row],[15]]","v":{"v":0,"d":"0.00"}}]
[86,{"$nulls":8},{"$f":"Таблица2[[#This Row],[11]]+Таблица2[[#This Row],[12]]","v":{"v":0,"d":"0.00"}},null,null,{"$f":"Таблица2[[#This Row],[14]]+Таблица2[[#This Row],[15]]","v":{"v":0,"d":"0.00"}}]
[87,{"$nulls":8},{"$f":"Таблица2[[#This Row],[11]]+Таблица2[[#This Row],[12]]","v":{"v":0,"d":"0.00"}},null,null,{"$f":"Таблица2[[#This Row],[14]]+Таблица2[[#This Row],[15]]","v":{"v":0,"d":"0.00"}}]
[88,{"$nulls":8},{"$f":"Таблица2[[#This Row],[11]]+Таблица2[[#This Row],[12]]","v":{"v":0,"d":"0.00"}},null,null,{"$f":"Таблица2[[#This Row],[14]]+Таблица2[[#This Row],[15]]","v":{"v":0,"d":"0.00"}}]
[89,{"$nulls":8},{"$f":"Таблица2[[#This Row],[11]]+Таблица2[[#This Row],[12]]","v":{"v":0,"d":"0.00"}},null,null,{"$f":"Таблица2[[#This Row],[14]]+Таблица2[[#This Row],[15]]","v":{"v":0,"d":"0.00"}}]
[90,{"$nulls":8},{"$f":"Таблица2[[#This Row],[11]]+Таблица2[[#This Row],[12]]","v":{"v":0,"d":"0.00"}},null,null,{"$f":"Таблица2[[#This Row],[14]]+Таблица2[[#This Row],[15]]","v":{"v":0,"d":"0.00"}}]
[91,{"$nulls":8},{"$f":"Таблица2[[#This Row],[11]]+Таблица2[[#This Row],[12]]","v":{"v":0,"d":"0.00"}},null,null,{"$f":"Таблица2[[#This Row],[14]]+Таблица2[[#This Row],[15]]","v":{"v":0,"d":"0.00"}}]
[92,{"$nulls":8},{"$f":"Таблица2[[#This Row],[11]]+Таблица2[[#This Row],[12]]","v":{"v":0,"d":"0.00"}},null,null,{"$f":"Таблица2[[#This Row],[14]]+Таблица2[[#This Row],[15]]","v":{"v":0,"d":"0.00"}}]
[93,{"$nulls":8},{"$f":"Таблица2[[#This Row],[11]]+Таблица2[[#This Row],[12]]","v":{"v":0,"d":"0.00"}},null,null,{"$f":"Таблица2[[#This Row],[14]]+Таблица2[[#This Row],[15]]","v":{"v":0,"d":"0.00"}}]
[94,{"$nulls":8},{"$f":"Таблица2[[#This Row],[11]]+Таблица2[[#This Row],[12]]","v":{"v":0,"d":"0.00"}},null,null,{"$f":"Таблица2[[#This Row],[14]]+Таблица2[[#This Row],[15]]","v":{"v":0,"d":"0.00"}}]
[95,{"$nulls":8},{"$f":"Таблица2[[#This Row],[11]]+Таблица2[[#This Row],[12]]","v":{"v":0,"d":"0.00"}},null,null,{"$f":"Таблица2[[#This Row],[14]]+Таблица2[[#This Row],[15]]","v":{"v":0,"d":"0.00"}}]
[96,{"$nulls":8},{"$f":"Таблица2[[#This Row],[11]]+Таблица2[[#This Row],[12]]","v":{"v":0,"d":"0.00"}},null,null,{"$f":"Таблица2[[#This Row],[14]]+Таблица2[[#This Row],[15]]","v":{"v":0,"d":"0.00"}}]
[97,{"$nulls":8},{"$f":"Таблица2[[#This Row],[11]]+Таблица2[[#This Row],[12]]","v":{"v":0,"d":"0.00"}},null,null,{"$f":"Таблица2[[#This Row],[14]]+Таблица2[[#This Row],[15]]","v":{"v":0,"d":"0.00"}}]
[98,{"$nulls":8},{"$f":"Таблица2[[#This Row],[11]]+Таблица2[[#This Row],[12]]","v":{"v":0,"d":"0.00"}},null,null,{"$f":"Таблица2[[#This Row],[14]]+Таблица2[[#This Row],[15]]","v":{"v":0,"d":"0.00"}}]
[99,{"$nulls":8},{"$f":"Таблица2[[#This Row],[11]]+Таблица2[[#This Row],[12]]","v":{"v":0,"d":"0.00"}},null,null,{"$f":"Таблица2[[#This Row],[14]]+Таблица2[[#This Row],[15]]","v":{"v":0,"d":"0.00"}}]
[100,{"$nulls":8},{"$f":"Таблица2[[#This Row],[11]]+Таблица2[[#This Row],[12]]","v":{"v":0,"d":"0.00"}},null,null,{"$f":"Таблица2[[#This Row],[14]]+Таблица2[[#This Row],[15]]","v":{"v":0,"d":"0.00"}}]
[101,{"$nulls":8},{"$f":"Таблица2[[#This Row],[11]]+Таблица2[[#This Row],[12]]","v":{"v":0,"d":"0.00"}},null,null,{"$f":"Таблица2[[#This Row],[14]]+Таблица2[[#This Row],[15]]","v":{"v":0,"d":"0.00"}}]
[102,{"$nulls":8},{"$f":"Таблица2[[#This Row],[11]]+Таблица2[[#This Row],[12]]","v":{"v":0,"d":"0.00"}},null,null,{"$f":"Таблица2[[#This Row],[14]]+Таблица2[[#This Row],[15]]","v":{"v":0,"d":"0.00"}}]
[103,{"$nulls":8},{"$f":"Таблица2[[#This Row],[11]]+Таблица2[[#This Row],[12]]","v":{"v":0,"d":"0.00"}},null,null,{"$f":"Таблица2[[#This Row],[14]]+Таблица2[[#This Row],[15]]","v":{"v":0,"d":"0.00"}}]
[104,{"$nulls":8},{"$f":"Таблица2[[#This Row],[11]]+Таблица2[[#This Row],[12]]","v":{"v":0,"d":"0.00"}},null,null,{"$f":"Таблица2[[#This Row],[14]]+Таблица2[[#This Row],[15]]","v":{"v":0,"d":"0.00"}}]
[105,{"$nulls":8},{"$f":"Таблица2[[#This Row],[11]]+Таблица2[[#This Row],[12]]","v":{"v":0,"d":"0.00"}},null,null,{"$f":"Таблица2[[#This Row],[14]]+Таблица2[[#This Row],[15]]","v":{"v":0,"d":"0.00"}}]
[106,{"$nulls":8},{"$f":"Таблица2[[#This Row],[11]]+Таблица2[[#This Row],[12]]","v":{"v":0,"d":"0.00"}},null,null,{"$f":"Таблица2[[#This Row],[14]]+Таблица2[[#This Row],[15]]","v":{"v":0,"d":"0.00"}}]
[107,{"$nulls":8},{"$f":"Таблица2[[#This Row],[11]]+Таблица2[[#This Row],[12]]","v":{"v":0,"d":"0.00"}},null,null,{"$f":"Таблица2[[#This Row],[14]]+Таблица2[[#This Row],[15]]","v":{"v":0,"d":"0.00"}}]
[108,{"$nulls":8},{"$f":"Таблица2[[#This Row],[11]]+Таблица2[[#This Row],[12]]","v":{"v":0,"d":"0.00"}},null,null,{"$f":"Таблица2[[#This Row],[14]]+Таблица2[[#This Row],[15]]","v":{"v":0,"d":"0.00"}}]
[109,{"$nulls":8},{"$f":"Таблица2[[#This Row],[11]]+Таблица2[[#This Row],[12]]","v":{"v":0,"d":"0.00"}},null,null,{"$f":"Таблица2[[#This Row],[14]]+Таблица2[[#This Row],[15]]","v":{"v":0,"d":"0.00"}}]
[110,{"$nulls":8},{"$f":"Таблица2[[#This Row],[11]]+Таблица2[[#This Row],[12]]","v":{"v":0,"d":"0.00"}},null,null,{"$f":"Таблица2[[#This Row],[14]]+Таблица2[[#This Row],[15]]","v":{"v":0,"d":"0.00"}}]
[111,{"$nulls":8},{"$f":"Таблица2[[#This Row],[11]]+Таблица2[[#This Row],[12]]","v":{"v":0,"d":"0.00"}},null,null,{"$f":"Таблица2[[#This Row],[14]]+Таблица2[[#This Row],[15]]","v":{"v":0,"d":"0.00"}}]
[112,{"$nulls":8},{"$f":"Таблица2[[#This Row],[11]]+Таблица2[[#This Row],[12]]","v":{"v":0,"d":"0.00"}},null,null,{"$f":"Таблица2[[#This Row],[14]]+Таблица2[[#This Row],[15]]","v":{"v":0,"d":"0.00"}}]
[113,{"$nulls":8},{"$f":"Таблица2[[#This Row],[11]]+Таблица2[[#This Row],[12]]","v":{"v":0,"d":"0.00"}},null,null,{"$f":"Таблица2[[#This Row],[14]]+Таблица2[[#This Row],[15]]","v":{"v":0,"d":"0.00"}}]
[114,{"$nulls":8},{"$f":"Таблица2[[#This Row],[11]]+Таблица2[[#This Row],[12]]","v":{"v":0,"d":"0.00"}},null,null,{"$f":"Таблица2[[#This Row],[14]]+Таблица2[[#This Row],[15]]","v":{"v":0,"d":"0.00"}}]
[115,{"$nulls":8},{"$f":"Таблица2[[#This Row],[11]]+Таблица2[[#This Row],[12]]","v":{"v":0,"d":"0.00"}},null,null,{"$f":"Таблица2[[#This Row],[14]]+Таблица2[[#This Row],[15]]","v":{"v":0,"d":"0.00"}}]
[116,{"$nulls":8},{"$f":"Таблица2[[#This Row],[11]]+Таблица2[[#This Row],[12]]","v":{"v":0,"d":"0.00"}},null,null,{"$f":"Таблица2[[#This Row],[14]]+Таблица2[[#This Row],[15]]","v":{"v":0,"d":"0.00"}}]
[117,{"$nulls":8},{"$f":"Таблица2[[#This Row],[11]]+Таблица2[[#This Row],[12]]","v":{"v":0,"d":"0.00"}},null,null,{"$f":"Таблица2[[#This Row],[14]]+Таблица2[[#This Row],[15]]","v":{"v":0,"d":"0.00"}}]
[118,{"$nulls":8},{"$f":"Таблица2[[#This Row],[11]]+Таблица2[[#This Row],[12]]","v":{"v":0,"d":"0.00"}},null,null,{"$f":"Таблица2[[#This Row],[14]]+Таблица2[[#This Row],[15]]","v":{"v":0,"d":"0.00"}}]
[119,{"$nulls":8},{"$f":"Таблица2[[#This Row],[11]]+Таблица2[[#This Row],[12]]","v":{"v":0,"d":"0.00"}},null,null,{"$f":"Таблица2[[#This Row],[14]]+Таблица2[[#This Row],[15]]","v":{"v":0,"d":"0.00"}}]
[120,{"$nulls":8},{"$f":"Таблица2[[#This Row],[11]]+Таблица2[[#This Row],[12]]","v":{"v":0,"d":"0.00"}},null,null,{"$f":"Таблица2[[#This Row],[14]]+Таблица2[[#This Row],[15]]","v":{"v":0,"d":"0.00"}}]
[121,{"$nulls":8},{"$f":"Таблица2[[#This Row],[11]]+Таблица2[[#This Row],[12]]","v":{"v":0,"d":"0.00"}},null,null,{"$f":"Таблица2[[#This Row],[14]]+Таблица2[[#This Row],[15]]","v":{"v":0,"d":"0.00"}}]
[122,{"$nulls":8},{"$f":"Таблица2[[#This Row],[11]]+Таблица2[[#This Row],[12]]","v":{"v":0,"d":"0.00"}},null,null,{"$f":"Таблица2[[#This Row],[14]]+Таблица2[[#This Row],[15]]","v":{"v":0,"d":"0.00"}}]
[123,{"$nulls":8},{"$f":"Таблица2[[#This Row],[11]]+Таблица2[[#This Row],[12]]","v":{"v":0,"d":"0.00"}},null,null,{"$f":"Таблица2[[#This Row],[14]]+Таблица2[[#This Row],[15]]","v":{"v":0,"d":"0.00"}}]
[124,{"$nulls":8},{"$f":"Таблица2[[#This Row],[11]]+Таблица2[[#This Row],[12]]","v":{"v":0,"d":"0.00"}},null,null,{"$f":"Таблица2[[#This Row],[14]]+Таблица2[[#This Row],[15]]","v":{"v":0,"d":"0.00"}}]
[125,{"$nulls":8},{"$f":"Таблица2[[#This Row],[11]]+Таблица2[[#This Row],[12]]","v":{"v":0,"d":"0.00"}},null,null,{"$f":"Таблица2[[#This Row],[14]]+Таблица2[[#This Row],[15]]","v":{"v":0,"d":"0.00"}}]
[126,{"$nulls":8},{"$f":"Таблица2[[#This Row],[11]]+Таблица2[[#This Row],[12]]","v":{"v":0,"d":"0.00"}},null,null,{"$f":"Таблица2[[#This Row],[14]]+Таблица2[[#This Row],[15]]","v":{"v":0,"d":"0.00"}}]
[127,{"$nulls":8},{"$f":"Таблица2[[#This Row],[11]]+Таблица2[[#This Row],[12]]","v":{"v":0,"d":"0.00"}},null,null,{"$f":"Таблица2[[#This Row],[14]]+Таблица2[[#This Row],[15]]","v":{"v":0,"d":"0.00"}}]
[128,{"$nulls":8},{"$f":"Таблица2[[#This Row],[11]]+Таблица2[[#This Row],[12]]","v":{"v":0,"d":"0.00"}},null,null,{"$f":"Таблица2[[#This Row],[14]]+Таблица2[[#This Row],[15]]","v":{"v":0,"d":"0.00"}}]
[129,{"$nulls":8},{"$f":"Таблица2[[#This Row],[11]]+Таблица2[[#This Row],[12]]","v":{"v":0,"d":"0.00"}},null,null,{"$f":"Таблица2[[#This Row],[14]]+Таблица2[[#This Row],[15]]","v":{"v":0,"d":"0.00"}}]
[130,{"$nulls":8},{"$f":"Таблица2[[#This Row],[11]]+Таблица2[[#This Row],[12]]","v":{"v":0,"d":"0.00"}},null,null,{"$f":"Таблица2[[#This Row],[14]]+Таблица2[[#This Row],[15]]","v":{"v":0,"d":"0.00"}}]
[131,{"$nulls":8},{"$f":"Таблица2[[#This Row],[11]]+Таблица2[[#This Row],[12]]","v":{"v":0,"d":"0.00"}},null,null,{"$f":"Таблица2[[#This Row],[14]]+Таблица2[[#This Row],[15]]","v":{"v":0,"d":"0.00"}}]
[132,{"$nulls":8},{"$f":"Таблица2[[#This Row],[11]]+Таблица2[[#This Row],[12]]","v":{"v":0,"d":"0.00"}},null,null,{"$f":"Таблица2[[#This Row],[14]]+Таблица2[[#This Row],[15]]","v":{"v":0,"d":"0.00"}}]
[133,{"$nulls":8},{"$f":"Таблица2[[#This Row],[11]]+Таблица2[[#This Row],[12]]","v":{"v":0,"d":"0.00"}},null,null,{"$f":"Таблица2[[#This Row],[14]]+Таблица2[[#This Row],[15]]","v":{"v":0,"d":"0.00"}}]
[134,{"$nulls":8},{"$f":"Таблица2[[#This Row],[11]]+Таблица2[[#This Row],[12]]","v":{"v":0,"d":"0.00"}},null,null,{"$f":"Таблица2[[#This Row],[14]]+Таблица2[[#This Row],[15]]","v":{"v":0,"d":"0.00"}}]
[135,{"$nulls":8},{"$f":"Таблица2[[#This Row],[11]]+Таблица2[[#This Row],[12]]","v":{"v":0,"d":"0.00"}},null,null,{"$f":"Таблица2[[#This Row],[14]]+Таблица2[[#This Row],[15]]","v":{"v":0,"d":"0.00"}}]
[136,{"$nulls":8},{"$f":"Таблица2[[#This Row],[11]]+Таблица2[[#This Row],[12]]","v":{"v":0,"d":"0.00"}},null,null,{"$f":"Таблица2[[#This Row],[14]]+Таблица2[[#This Row],[15]]","v":{"v":0,"d":"0.00"}}]
[137,{"$nulls":8},{"$f":"Таблица2[[#This Row],[11]]+Таблица2[[#This Row],[12]]","v":{"v":0,"d":"0.00"}},null,null,{"$f":"Таблица2[[#This Row],[14]]+Таблица2[[#This Row],[15]]","v":{"v":0,"d":"0.00"}}]
[138,{"$nulls":8},{"$f":"Таблица2[[#This Row],[11]]+Таблица2[[#This Row],[12]]","v":{"v":0,"d":"0.00"}},null,null,{"$f":"Таблица2[[#This Row],[14]]+Таблица2[[#This Row],[15]]","v":{"v":0,"d":"0.00"}}]
[139,{"$nulls":8},{"$f":"Таблица2[[#This Row],[11]]+Таблица2[[#This Row],[12]]","v":{"v":0,"d":"0.00"}},null,null,{"$f":"Таблица2[[#This Row],[14]]+Таблица2[[#This Row],[15]]","v":{"v":0,"d":"0.00"}}]
[140,{"$nulls":8},{"$f":"Таблица2[[#This Row],[11]]+Таблица2[[#This Row],[12]]","v":{"v":0,"d":"0.00"}},null,null,{"$f":"Таблица2[[#This Row],[14]]+Таблица2[[#This Row],[15]]","v":{"v":0,"d":"0.00"}}]
[141,{"$nulls":8},{"$f":"Таблица2[[#This Row],[11]]+Таблица2[[#This Row],[12]]","v":{"v":0,"d":"0.00"}},null,null,{"$f":"Таблица2[[#This Row],[14]]+Таблица2[[#This Row],[15]]","v":{"v":0,"d":"0.00"}}]
[142,{"$nulls":8},{"$f":"Таблица2[[#This Row],[11]]+Таблица2[[#This Row],[12]]","v":{"v":0,"d":"0.00"}},null,null,{"$f":"Таблица2[[#This Row],[14]]+Таблица2[[#This Row],[15]]","v":{"v":0,"d":"0.00"}}]
[143,{"$nulls":8},{"$f":"Таблица2[[#This Row],[11]]+Таблица2[[#This Row],[12]]","v":{"v":0,"d":"0.00"}},null,null,{"$f":"Таблица2[[#This Row],[14]]+Таблица2[[#This Row],[15]]","v":{"v":0,"d":"0.00"}}]
[144,{"$nulls":8},{"$f":"Таблица2[[#This Row],[11]]+Таблица2[[#This Row],[12]]","v":{"v":0,"d":"0.00"}},null,null,{"$f":"Таблица2[[#This Row],[14]]+Таблица2[[#This Row],[15]]","v":{"v":0,"d":"0.00"}}]
[145,{"$nulls":8},{"$f":"Таблица2[[#This Row],[11]]+Таблица2[[#This Row],[12]]","v":{"v":0,"d":"0.00"}},null,null,{"$f":"Таблица2[[#This Row],[14]]+Таблица2[[#This Row],[15]]","v":{"v":0,"d":"0.00"}}]
[146,{"$nulls":8},{"$f":"Таблица2[[#This Row],[11]]+Таблица2[[#This Row],[12]]","v":{"v":0,"d":"0.00"}},null,null,{"$f":"Таблица2[[#This Row],[14]]+Таблица2[[#This Row],[15]]","v":{"v":0,"d":"0.00"}}]
[147,{"$nulls":8},{"$f":"Таблица2[[#This Row],[11]]+Таблица2[[#This Row],[12]]","v":{"v":0,"d":"0.00"}},null,null,{"$f":"Таблица2[[#This Row],[14]]+Таблица2[[#This Row],[15]]","v":{"v":0,"d":"0.00"}}]
[148,{"$nulls":8},{"$f":"Таблица2[[#This Row],[11]]+Таблица2[[#This Row],[12]]","v":{"v":0,"d":"0.00"}},null,null,{"$f":"Таблица2[[#This Row],[14]]+Таблица2[[#This Row],[15]]","v":{"v":0,"d":"0.00"}}]
[149,{"$nulls":8},{"$f":"Таблица2[[#This Row],[11]]+Таблица2[[#This Row],[12]]","v":{"v":0,"d":"0.00"}},null,null,{"$f":"Таблица2[[#This Row],[14]]+Таблица2[[#This Row],[15]]","v":{"v":0,"d":"0.00"}}]
[150,{"$nulls":8},{"$f":"Таблица2[[#This Row],[11]]+Таблица2[[#This Row],[12]]","v":{"v":0,"d":"0.00"}},null,null,{"$f":"Таблица2[[#This Row],[14]]+Таблица2[[#This Row],[15]]","v":{"v":0,"d":"0.00"}}]
[151,{"$nulls":8},{"$f":"Таблица2[[#This Row],[11]]+Таблица2[[#This Row],[12]]","v":{"v":0,"d":"0.00"}},null,null,{"$f":"Таблица2[[#This Row],[14]]+Таблица2[[#This Row],[15]]","v":{"v":0,"d":"0.00"}}]
[152,{"$nulls":8},{"$f":"Таблица2[[#This Row],[11]]+Таблица2[[#This Row],[12]]","v":{"v":0,"d":"0.00"}},null,null,{"$f":"Таблица2[[#This Row],[14]]+Таблица2[[#This Row],[15]]","v":{"v":0,"d":"0.00"}}]
[153,{"$nulls":8},{"$f":"Таблица2[[#This Row],[11]]+Таблица2[[#This Row],[12]]","v":{"v":0,"d":"0.00"}},null,null,{"$f":"Таблица2[[#This Row],[14]]+Таблица2[[#This Row],[15]]","v":{"v":0,"d":"0.00"}}]
[154,{"$nulls":8},{"$f":"Таблица2[[#This Row],[11]]+Таблица2[[#This Row],[12]]","v":{"v":0,"d":"0.00"}},null,null,{"$f":"Таблица2[[#This Row],[14]]+Таблица2[[#This Row],[15]]","v":{"v":0,"d":"0.00"}}]
[155,{"$nulls":8},{"$f":"Таблица2[[#This Row],[11]]+Таблица2[[#This Row],[12]]","v":{"v":0,"d":"0.00"}},null,null,{"$f":"Таблица2[[#This Row],[14]]+Таблица2[[#This Row],[15]]","v":{"v":0,"d":"0.00"}}]
[156,{"$nulls":8},{"$f":"Таблица2[[#This Row],[11]]+Таблица2[[#This Row],[12]]","v":{"v":0,"d":"0.00"}},null,null,{"$f":"Таблица2[[#This Row],[14]]+Таблица2[[#This Row],[15]]","v":{"v":0,"d":"0.00"}}]
[157,{"$nulls":8},{"$f":"Таблица2[[#This Row],[11]]+Таблица2[[#This Row],[12]]","v":{"v":0,"d":"0.00"}},null,null,{"$f":"Таблица2[[#This Row],[14]]+Таблица2[[#This Row],[15]]","v":{"v":0,"d":"0.00"}}]
[158,{"$nulls":8},{"$f":"Таблица2[[#This Row],[11]]+Таблица2[[#This Row],[12]]","v":{"v":0,"d":"0.00"}},null,null,{"$f":"Таблица2[[#This Row],[14]]+Таблица2[[#This Row],[15]]","v":{"v":0,"d":"0.00"}}]
[159,{"$nulls":8},{"$f":"Таблица2[[#This Row],[11]]+Таблица2[[#This Row],[12]]","v":{"v":0,"d":"0.00"}},null,null,{"$f":"Таблица2[[#This Row],[14]]+Таблица2[[#This Row],[15]]","v":{"v":0,"d":"0.00"}}]
[160,{"$nulls":8},{"$f":"Таблица2[[#This Row],[11]]+Таблица2[[#This Row],[12]]","v":{"v":0,"d":"0.00"}},null,null,{"$f":"Таблица2[[#This Row],[14]]+Таблица2[[#This Row],[15]]","v":{"v":0,"d":"0.00"}}]
[161,{"$nulls":8},{"$f":"Таблица2[[#This Row],[11]]+Таблица2[[#This Row],[12]]","v":{"v":0,"d":"0.00"}},null,null,{"$f":"Таблица2[[#This Row],[14]]+Таблица2[[#This Row],[15]]","v":{"v":0,"d":"0.00"}}]
[162,{"$nulls":8},{"$f":"Таблица2[[#This Row],[11]]+Таблица2[[#This Row],[12]]","v":{"v":0,"d":"0.00"}},null,null,{"$f":"Таблица2[[#This Row],[14]]+Таблица2[[#This Row],[15]]","v":{"v":0,"d":"0.00"}}]
[163,{"$nulls":8},{"$f":"Таблица2[[#This Row],[11]]+Таблица2[[#This Row],[12]]","v":{"v":0,"d":"0.00"}},null,null,{"$f":"Таблица2[[#This Row],[14]]+Таблица2[[#This Row],[15]]","v":{"v":0,"d":"0.00"}}]
[164,{"$nulls":8},{"$f":"Таблица2[[#This Row],[11]]+Таблица2[[#This Row],[12]]","v":{"v":0,"d":"0.00"}},null,null,{"$f":"Таблица2[[#This Row],[14]]+Таблица2[[#This Row],[15]]","v":{"v":0,"d":"0.00"}}]
[165,{"$nulls":8},{"$f":"Таблица2[[#This Row],[11]]+Таблица2[[#This Row],[12]]","v":{"v":0,"d":"0.00"}},null,null,{"$f":"Таблица2[[#This Row],[14]]+Таблица2[[#This Row],[15]]","v":{"v":0,"d":"0.00"}}]
[166,{"$nulls":8},{"$f":"Таблица2[[#This Row],[11]]+Таблица2[[#This Row],[12]]","v":{"v":0,"d":"0.00"}},null,null,{"$f":"Таблица2[[#This Row],[14]]+Таблица2[[#This Row],[15]]","v":{"v":0,"d":"0.00"}}]
[167,{"$nulls":8},{"$f":"Таблица2[[#This Row],[11]]+Таблица2[[#This Row],[12]]","v":{"v":0,"d":"0.00"}},null,null,{"$f":"Таблица2[[#This Row],[14]]+Таблица2[[#This Row],[15]]","v":{"v":0,"d":"0.00"}}]
[168,{"$nulls":8},{"$f":"Таблица2[[#This Row],[11]]+Таблица2[[#This Row],[12]]","v":{"v":0,"d":"0.00"}},null,null,{"$f":"Таблица2[[#This Row],[14]]+Таблица2[[#This Row],[15]]","v":{"v":0,"d":"0.00"}}]
[169,{"$nulls":8},{"$f":"Таблица2[[#This Row],[11]]+Таблица2[[#This Row],[12]]","v":{"v":0,"d":"0.00"}},null,null,{"$f":"Таблица2[[#This Row],[14]]+Таблица2[[#This Row],[15]]","v":{"v":0,"d":"0.00"}}]
[170,{"$nulls":8},{"$f":"Таблица2[[#This Row],[11]]+Таблица2[[#This Row],[12]]","v":{"v":0,"d":"0.00"}},null,null,{"$f":"Таблица2[[#This Row],[14]]+Таблица2[[#This Row],[15]]","v":{"v":0,"d":"0.00"}}]
[171,{"$nulls":8},{"$f":"Таблица2[[#This Row],[11]]+Таблица2[[#This Row],[12]]","v":{"v":0,"d":"0.00"}},null,null,{"$f":"Таблица2[[#This Row],[14]]+Таблица2[[#This Row],[15]]","v":{"v":0,"d":"0.00"}}]
[172,{"$nulls":8},{"$f":"Таблица2[[#This Row],[11]]+Таблица2[[#This Row],[12]]","v":{"v":0,"d":"0.00"}},null,null,{"$f":"Таблица2[[#This Row],[14]]+Таблица2[[#This Row],[15]]","v":{"v":0,"d":"0.00"}}]
[173,{"$nulls":8},{"$f":"Таблица2[[#This Row],[11]]+Таблица2[[#This Row],[12]]","v":{"v":0,"d":"0.00"}},null,null,{"$f":"Таблица2[[#This Row],[14]]+Таблица2[[#This Row],[15]]","v":{"v":0,"d":"0.00"}}]
[174,{"$nulls":8},{"$f":"Таблица2[[#This Row],[11]]+Таблица2[[#This Row],[12]]","v":{"v":0,"d":"0.00"}},null,null,{"$f":"Таблица2[[#This Row],[14]]+Таблица2[[#This Row],[15]]","v":{"v":0,"d":"0.00"}}]
[175,{"$nulls":8},{"$f":"Таблица2[[#This Row],[11]]+Таблица2[[#This Row],[12]]","v":{"v":0,"d":"0.00"}},null,null,{"$f":"Таблица2[[#This Row],[14]]+Таблица2[[#This Row],[15]]","v":{"v":0,"d":"0.00"}}]
[176,{"$nulls":8},{"$f":"Таблица2[[#This Row],[11]]+Таблица2[[#This Row],[12]]","v":{"v":0,"d":"0.00"}},null,null,{"$f":"Таблица2[[#This Row],[14]]+Таблица2[[#This Row],[15]]","v":{"v":0,"d":"0.00"}}]
[177,{"$nulls":8},{"$f":"Таблица2[[#This Row],[11]]+Таблица2[[#This Row],[12]]","v":{"v":0,"d":"0.00"}},null,null,{"$f":"Таблица2[[#This Row],[14]]+Таблица2[[#This Row],[15]]","v":{"v":0,"d":"0.00"}}]
[178,{"$nulls":8},{"$f":"Таблица2[[#This Row],[11]]+Таблица2[[#This Row],[12]]","v":{"v":0,"d":"0.00"}},null,null,{"$f":"Таблица2[[#This Row],[14]]+Таблица2[[#This Row],[15]]","v":{"v":0,"d":"0.00"}}]
[179,{"$nulls":8},{"$f":"Таблица2[[#This Row],[11]]+Таблица2[[#This Row],[12]]","v":{"v":0,"d":"0.00"}},null,null,{"$f":"Таблица2[[#This Row],[14]]+Таблица2[[#This Row],[15]]","v":{"v":0,"d":"0.00"}}]
[180,{"$nulls":8},{"$f":"Таблица2[[#This Row],[11]]+Таблица2[[#This Row],[12]]","v":{"v":0,"d":"0.00"}},null,null,{"$f":"Таблица2[[#This Row],[14]]+Таблица2[[#This Row],[15]]","v":{"v":0,"d":"0.00"}}]
[181,{"$nulls":8},{"$f":"Таблица2[[#This Row],[11]]+Таблица2[[#This Row],[12]]","v":{"v":0,"d":"0.00"}},null,null,{"$f":"Таблица2[[#This Row],[14]]+Таблица2[[#This Row],[15]]","v":{"v":0,"d":"0.00"}}]
[182,{"$nulls":8},{"$f":"Таблица2[[#This Row],[11]]+Таблица2[[#This Row],[12]]","v":{"v":0,"d":"0.00"}},null,null,{"$f":"Таблица2[[#This Row],[14]]+Таблица2[[#This Row],[15]]","v":{"v":0,"d":"0.00"}}]
[183,{"$nulls":8},{"$f":"Таблица2[[#This Row],[11]]+Таблица2[[#This Row],[12]]","v":{"v":0,"d":"0.00"}},null,null,{"$f":"Таблица2[[#This Row],[14]]+Таблица2[[#This Row],[15]]","v":{"v":0,"d":"0.00"}}]
[184,{"$nulls":8},{"$f":"Таблица2[[#This Row],[11]]+Таблица2[[#This Row],[12]]","v":{"v":0,"d":"0.00"}},null,null,{"$f":"Таблица2[[#This Row],[14]]+Таблица2[[#This Row],[15]]","v":{"v":0,"d":"0.00"}}]
[185,{"$nulls":8},{"$f":"Таблица2[[#This Row],[11]]+Таблица2[[#This Row],[12]]","v":{"v":0,"d":"0.00"}},null,null,{"$f":"Таблица2[[#This Row],[14]]+Таблица2[[#This Row],[15]]","v":{"v":0,"d":"0.00"}}]
[186,{"$nulls":8},{"$f":"Таблица2[[#This Row],[11]]+Таблица2[[#This Row],[12]]","v":{"v":0,"d":"0.00"}},null,null,{"$f":"Таблица2[[#This Row],[14]]+Таблица2[[#This Row],[15]]","v":{"v":0,"d":"0.00"}}]
[187,{"$nulls":8},{"$f":"Таблица2[[#This Row],[11]]+Таблица2[[#This Row],[12]]","v":{"v":0,"d":"0.00"}},null,null,{"$f":"Таблица2[[#This Row],[14]]+Таблица2[[#This Row],[15]]","v":{"v":0,"d":"0.00"}}]
[188,{"$nulls":8},{"$f":"Таблица2[[#This Row],[11]]+Таблица2[[#This Row],[12]]","v":{"v":0,"d":"0.00"}},null,null,{"$f":"Таблица2[[#This Row],[14]]+Таблица2[[#This Row],[15]]","v":{"v":0,"d":"0.00"}}]
[189,{"$nulls":8},{"$f":"Таблица2[[#This Row],[11]]+Таблица2[[#This Row],[12]]","v":{"v":0,"d":"0.00"}},null,null,{"$f":"Таблица2[[#This Row],[14]]+Таблица2[[#This Row],[15]]","v":{"v":0,"d":"0.00"}}]
[190,{"$nulls":8},{"$f":"Таблица2[[#This Row],[11]]+Таблица2[[#This Row],[12]]","v":{"v":0,"d":"0.00"}},null,null,{"$f":"Таблица2[[#This Row],[14]]+Таблица2[[#This Row],[15]]","v":{"v":0,"d":"0.00"}}]
[191,{"$nulls":8},{"$f":"Таблица2[[#This Row],[11]]+Таблица2[[#This Row],[12]]","v":{"v":0,"d":"0.00"}},null,null,{"$f":"Таблица2[[#This Row],[14]]+Таблица2[[#This Row],[15]]","v":{"v":0,"d":"0.00"}}]
[192,{"$nulls":8},{"$f":"Таблица2[[#This Row],[11]]+Таблица2[[#This Row],[12]]","v":{"v":0,"d":"0.00"}},null,null,{"$f":"Таблица2[[#This Row],[14]]+Таблица2[[#This Row],[15]]","v":{"v":0,"d":"0.00"}}]
[193,{"$nulls":8},{"$f":"Таблица2[[#This Row],[11]]+Таблица2[[#This Row],[12]]","v":{"v":0,"d":"0.00"}},null,null,{"$f":"Таблица2[[#This Row],[14]]+Таблица2[[#This Row],[15]]","v":{"v":0,"d":"0.00"}}]
[194,{"$nulls":8},{"$f":"Таблица2[[#This Row],[11]]+Таблица2[[#This Row],[12]]","v":{"v":0,"d":"0.00"}},null,null,{"$f":"Таблица2[[#This Row],[14]]+Таблица2[[#This Row],[15]]","v":{"v":0,"d":"0.00"}}]
[195,{"$nulls":8},{"$f":"Таблица2[[#This Row],[11]]+Таблица2[[#This Row],[12]]","v":{"v":0,"d":"0.00"}},null,null,{"$f":"Таблица2[[#This Row],[14]]+Таблица2[[#This Row],[15]]","v":{"v":0,"d":"0.00"}}]
[196,{"$nulls":8},{"$f":"Таблица2[[#This Row],[11]]+Таблица2[[#This Row],[12]]","v":{"v":0,"d":"0.00"}},null,null,{"$f":"Таблица2[[#This Row],[14]]+Таблица2[[#This Row],[15]]","v":{"v":0,"d":"0.00"}}]
[197,{"$nulls":8},{"$f":"Таблица2[[#This Row],[11]]+Таблица2[[#This Row],[12]]","v":{"v":0,"d":"0.00"}},null,null,{"$f":"Таблица2[[#This Row],[14]]+Таблица2[[#This Row],[15]]","v":{"v":0,"d":"0.00"}}]
[198,{"$nulls":8},{"$f":"Таблица2[[#This Row],[11]]+Таблица2[[#This Row],[12]]","v":{"v":0,"d":"0.00"}},null,null,{"$f":"Таблица2[[#This Row],[14]]+Таблица2[[#This Row],[15]]","v":{"v":0,"d":"0.00"}}]
[199,{"$nulls":8},{"$f":"Таблица2[[#This Row],[11]]+Таблица2[[#This Row],[12]]","v":{"v":0,"d":"0.00"}},null,null,{"$f":"Таблица2[[#This Row],[14]]+Таблица2[[#This Row],[15]]","v":{"v":0,"d":"0.00"}}]
[200,{"$nulls":8},{"$f":"Таблица2[[#This Row],[11]]+Таблица2[[#This Row],[12]]","v":{"v":0,"d":"0.00"}},null,null,{"$f":"Таблица2[[#This Row],[14]]+Таблица2[[#This Row],[15]]","v":{"v":0,"d":"0.00"}}]
[201,{"$nulls":8},{"$f":"Таблица2[[#This Row],[11]]+Таблица2[[#This Row],[12]]","v":{"v":0,"d":"0.00"}},null,null,{"$f":"Таблица2[[#This Row],[14]]+Таблица2[[#This Row],[15]]","v":{"v":0,"d":"0.00"}}]
[202,{"$nulls":8},{"$f":"Таблица2[[#This Row],[11]]+Таблица2[[#This Row],[12]]","v":{"v":0,"d":"0.00"}},null,null,{"$f":"Таблица2[[#This Row],[14]]+Таблица2[[#This Row],[15]]","v":{"v":0,"d":"0.00"}}]
[203,{"$nulls":8},{"$f":"Таблица2[[#This Row],[11]]+Таблица2[[#This Row],[12]]","v":{"v":0,"d":"0.00"}},null,null,{"$f":"Таблица2[[#This Row],[14]]+Таблица2[[#This Row],[15]]","v":{"v":0,"d":"0.00"}}]
[204,{"$nulls":8},{"$f":"Таблица2[[#This Row],[11]]+Таблица2[[#This Row],[12]]","v":{"v":0,"d":"0.00"}},null,null,{"$f":"Таблица2[[#This Row],[14]]+Таблица2[[#This Row],[15]]","v":{"v":0,"d":"0.00"}}]
[205,{"$nulls":8},{"$f":"Таблица2[[#This Row],[11]]+Таблица2[[#This Row],[12]]","v":{"v":0,"d":"0.00"}},null,null,{"$f":"Таблица2[[#This Row],[14]]+Таблица2[[#This Row],[15]]","v":{"v":0,"d":"0.00"}}]
[206,{"$nulls":8},{"$f":"Таблица2[[#This Row],[11]]+Таблица2[[#This Row],[12]]","v":{"v":0,"d":"0.00"}},null,null,{"$f":"Таблица2[[#This Row],[14]]+Таблица2[[#This Row],[15]]","v":{"v":0,"d":"0.00"}}]
[207,{"$nulls":8},{"$f":"Таблица2[[#This Row],[11]]+Таблица2[[#This Row],[12]]","v":{"v":0,"d":"0.00"}},null,null,{"$f":"Таблица2[[#This Row],[14]]+Таблица2[[#This Row],[15]]","v":{"v":0,"d":"0.00"}}]
[208,{"$nulls":8},{"$f":"Таблица2[[#This Row],[11]]+Таблица2[[#This Row],[12]]","v":{"v":0,"d":"0.00"}},null,null,{"$f":"Таблица2[[#This Row],[14]]+Таблица2[[#This Row],[15]]","v":{"v":0,"d":"0.00"}}]
[209,{"$nulls":8},{"$f":"Таблица2[[#This Row],[11]]+Таблица2[[#This Row],[12]]","v":{"v":0,"d":"0.00"}},null,null,{"$f":"Таблица2[[#This Row],[14]]+Таблица2[[#This Row],[15]]","v":{"v":0,"d":"0.00"}}]
[210,{"$nulls":8},{"$f":"Таблица2[[#This Row],[11]]+Таблица2[[#This Row],[12]]","v":{"v":0,"d":"0.00"}},null,null,{"$f":"Таблица2[[#This Row],[14]]+Таблица2[[#This Row],[15]]","v":{"v":0,"d":"0.00"}}]
[211,{"$nulls":8},{"$f":"Таблица2[[#This Row],[11]]+Таблица2[[#This Row],[12]]","v":{"v":0,"d":"0.00"}},null,null,{"$f":"Таблица2[[#This Row],[14]]+Таблица2[[#This Row],[15]]","v":{"v":0,"d":"0.00"}}]
[212,{"$nulls":8},{"$f":"Таблица2[[#This Row],[11]]+Таблица2[[#This Row],[12]]","v":{"v":0,"d":"0.00"}},null,null,{"$f":"Таблица2[[#This Row],[14]]+Таблица2[[#This Row],[15]]","v":{"v":0,"d":"0.00"}}]
[213,{"$nulls":8},{"$f":"Таблица2[[#This Row],[11]]+Таблица2[[#This Row],[12]]","v":{"v":0,"d":"0.00"}},null,null,{"$f":"Таблица2[[#This Row],[14]]+Таблица2[[#This Row],[15]]","v":{"v":0,"d":"0.00"}}]
[214,{"$nulls":8},{"$f":"Таблица2[[#This Row],[11]]+Таблица2[[#This Row],[12]]","v":{"v":0,"d":"0.00"}},null,null,{"$f":"Таблица2[[#This Row],[14]]+Таблица2[[#This Row],[15]]","v":{"v":0,"d":"0.00"}}]
[215,{"$nulls":8},{"$f":"Таблица2[[#This Row],[11]]+Таблица2[[#This Row],[12]]","v":{"v":0,"d":"0.00"}},null,null,{"$f":"Таблица2[[#This Row],[14]]+Таблица2[[#This Row],[15]]","v":{"v":0,"d":"0.00"}}]
[216,{"$nulls":8},{"$f":"Таблица2[[#This Row],[11]]+Таблица2[[#This Row],[12]]","v":{"v":0,"d":"0.00"}},null,null,{"$f":"Таблица2[[#This Row],[14]]+Таблица2[[#This Row],[15]]","v":{"v":0,"d":"0.00"}}]
[217,{"$nulls":8},{"$f":"Таблица2[[#This Row],[11]]+Таблица2[[#This Row],[12]]","v":{"v":0,"d":"0.00"}},null,null,{"$f":"Таблица2[[#This Row],[14]]+Таблица2[[#This Row],[15]]","v":{"v":0,"d":"0.00"}}]
[218,{"$nulls":8},{"$f":"Таблица2[[#This Row],[11]]+Таблица2[[#This Row],[12]]","v":{"v":0,"d":"0.00"}},null,null,{"$f":"Таблица2[[#This Row],[14]]+Таблица2[[#This Row],[15]]","v":{"v":0,"d":"0.00"}}]
[219,{"$nulls":8},{"$f":"Таблица2[[#This Row],[11]]+Таблица2[[#This Row],[12]]","v":{"v":0,"d":"0.00"}},null,null,{"$f":"Таблица2[[#This Row],[14]]+Таблица2[[#This Row],[15]]","v":{"v":0,"d":"0.00"}}]
[220,{"$nulls":8},{"$f":"Таблица2[[#This Row],[11]]+Таблица2[[#This Row],[12]]","v":{"v":0,"d":"0.00"}},null,null,{"$f":"Таблица2[[#This Row],[14]]+Таблица2[[#This Row],[15]]","v":{"v":0,"d":"0.00"}}]
[221,{"$nulls":8},{"$f":"Таблица2[[#This Row],[11]]+Таблица2[[#This Row],[12]]","v":{"v":0,"d":"0.00"}},null,null,{"$f":"Таблица2[[#This Row],[14]]+Таблица2[[#This Row],[15]]","v":{"v":0,"d":"0.00"}}]
[222,{"$nulls":8},{"$f":"Таблица2[[#This Row],[11]]+Таблица2[[#This Row],[12]]","v":{"v":0,"d":"0.00"}},null,null,{"$f":"Таблица2[[#This Row],[14]]+Таблица2[[#This Row],[15]]","v":{"v":0,"d":"0.00"}}]
[223,{"$nulls":8},{"$f":"Таблица2[[#This Row],[11]]+Таблица2[[#This Row],[12]]","v":{"v":0,"d":"0.00"}},null,null,{"$f":"Таблица2[[#This Row],[14]]+Таблица2[[#This Row],[15]]","v":{"v":0,"d":"0.00"}}]
[224,{"$nulls":8},{"$f":"Таблица2[[#This Row],[11]]+Таблица2[[#This Row],[12]]","v":{"v":0,"d":"0.00"}},null,null,{"$f":"Таблица2[[#This Row],[14]]+Таблица2[[#This Row],[15]]","v":{"v":0,"d":"0.00"}}]
[225,{"$nulls":8},{"$f":"Таблица2[[#This Row],[11]]+Таблица2[[#This Row],[12]]","v":{"v":0,"d":"0.00"}},null,null,{"$f":"Таблица2[[#This Row],[14]]+Таблица2[[#This Row],[15]]","v":{"v":0,"d":"0.00"}}]
[226,{"$nulls":8},{"$f":"Таблица2[[#This Row],[11]]+Таблица2[[#This Row],[12]]","v":{"v":0,"d":"0.00"}},null,null,{"$f":"Таблица2[[#This Row],[14]]+Таблица2[[#This Row],[15]]","v":{"v":0,"d":"0.00"}}]
[227,{"$nulls":8},{"$f":"Таблица2[[#This Row],[11]]+Таблица2[[#This Row],[12]]","v":{"v":0,"d":"0.00"}},null,null,{"$f":"Таблица2[[#This Row],[14]]+Таблица2[[#This Row],[15]]","v":{"v":0,"d":"0.00"}}]
[228,{"$nulls":8},{"$f":"Таблица2[[#This Row],[11]]+Таблица2[[#This Row],[12]]","v":{"v":0,"d":"0.00"}},null,null,{"$f":"Таблица2[[#This Row],[14]]+Таблица2[[#This Row],[15]]","v":{"v":0,"d":"0.00"}}]
[229,{"$nulls":8},{"$f":"Таблица2[[#This Row],[11]]+Таблица2[[#This Row],[12]]","v":{"v":0,"d":"0.00"}},null,null,{"$f":"Таблица2[[#This Row],[14]]+Таблица2[[#This Row],[15]]","v":{"v":0,"d":"0.00"}}]
[230,{"$nulls":8},{"$f":"Таблица2[[#This Row],[11]]+Таблица2[[#This Row],[12]]","v":{"v":0,"d":"0.00"}},null,null,{"$f":"Таблица2[[#This Row],[14]]+Таблица2[[#This Row],[15]]","v":{"v":0,"d":"0.00"}}]
[231,{"$nulls":8},{"$f":"Таблица2[[#This Row],[11]]+Таблица2[[#This Row],[12]]","v":{"v":0,"d":"0.00"}},null,null,{"$f":"Таблица2[[#This Row],[14]]+Таблица2[[#This Row],[15]]","v":{"v":0,"d":"0.00"}}]
[232,{"$nulls":8},{"$f":"Таблица2[[#This Row],[11]]+Таблица2[[#This Row],[12]]","v":{"v":0,"d":"0.00"}},null,null,{"$f":"Таблица2[[#This Row],[14]]+Таблица2[[#This Row],[15]]","v":{"v":0,"d":"0.00"}}]
[233,{"$nulls":8},{"$f":"Таблица2[[#This Row],[11]]+Таблица2[[#This Row],[12]]","v":{"v":0,"d":"0.00"}},null,null,{"$f":"Таблица2[[#This Row],[14]]+Таблица2[[#This Row],[15]]","v":{"v":0,"d":"0.00"}}]
[234,{"$nulls":8},{"$f":"Таблица2[[#This Row],[11]]+Таблица2[[#This Row],[12]]","v":{"v":0,"d":"0.00"}},null,null,{"$f":"Таблица2[[#This Row],[14]]+Таблица2[[#This Row],[15]]","v":{"v":0,"d":"0.00"}}]
[235,{"$nulls":8},{"$f":"Таблица2[[#This Row],[11]]+Таблица2[[#This Row],[12]]","v":{"v":0,"d":"0.00"}},null,null,{"$f":"Таблица2[[#This Row],[14]]+Таблица2[[#This Row],[15]]","v":{"v":0,"d":"0.00"}}]
[236,{"$nulls":8},{"$f":"Таблица2[[#This Row],[11]]+Таблица2[[#This Row],[12]]","v":{"v":0,"d":"0.00"}},null,null,{"$f":"Таблица2[[#This Row],[14]]+Таблица2[[#This Row],[15]]","v":{"v":0,"d":"0.00"}}]
[237,{"$nulls":8},{"$f":"Таблица2[[#This Row],[11]]+Таблица2[[#This Row],[12]]","v":{"v":0,"d":"0.00"}},null,null,{"$f":"Таблица2[[#This Row],[14]]+Таблица2[[#This Row],[15]]","v":{"v":0,"d":"0.00"}}]
[238,{"$nulls":8},{"$f":"Таблица2[[#This Row],[11]]+Таблица2[[#This Row],[12]]","v":{"v":0,"d":"0.00"}},null,null,{"$f":"Таблица2[[#This Row],[14]]+Таблица2[[#This Row],[15]]","v":{"v":0,"d":"0.00"}}]
[239,{"$nulls":8},{"$f":"Таблица2[[#This Row],[11]]+Таблица2[[#This Row],[12]]","v":{"v":0,"d":"0.00"}},null,null,{"$f":"Таблица2[[#This Row],[14]]+Таблица2[[#This Row],[15]]","v":{"v":0,"d":"0.00"}}]
[240,{"$nulls":8},{"$f":"Таблица2[[#This Row],[11]]+Таблица2[[#This Row],[12]]","v":{"v":0,"d":"0.00"}},null,null,{"$f":"Таблица2[[#This Row],[14]]+Таблица2[[#This Row],[15]]","v":{"v":0,"d":"0.00"}}]
[241,{"$nulls":8},{"$f":"Таблица2[[#This Row],[11]]+Таблица2[[#This Row],[12]]","v":{"v":0,"d":"0.00"}},null,null,{"$f":"Таблица2[[#This Row],[14]]+Таблица2[[#This Row],[15]]","v":{"v":0,"d":"0.00"}}]
[242,{"$nulls":8},{"$f":"Таблица2[[#This Row],[11]]+Таблица2[[#This Row],[12]]","v":{"v":0,"d":"0.00"}},null,null,{"$f":"Таблица2[[#This Row],[14]]+Таблица2[[#This Row],[15]]","v":{"v":0,"d":"0.00"}}]
[243,{"$nulls":8},{"$f":"Таблица2[[#This Row],[11]]+Таблица2[[#This Row],[12]]","v":{"v":0,"d":"0.00"}},null,null,{"$f":"Таблица2[[#This Row],[14]]+Таблица2[[#This Row],[15]]","v":{"v":0,"d":"0.00"}}]
[244,{"$nulls":8},{"$f":"Таблица2[[#This Row],[11]]+Таблица2[[#This Row],[12]]","v":{"v":0,"d":"0.00"}},null,null,{"$f":"Таблица2[[#This Row],[14]]+Таблица2[[#This Row],[15]]","v":{"v":0,"d":"0.00"}}]
[245,{"$nulls":8},{"$f":"Таблица2[[#This Row],[11]]+Таблица2[[#This Row],[12]]","v":{"v":0,"d":"0.00"}},null,null,{"$f":"Таблица2[[#This Row],[14]]+Таблица2[[#This Row],[15]]","v":{"v":0,"d":"0.00"}}]
[246,{"$nulls":8},{"$f":"Таблица2[[#This Row],[11]]+Таблица2[[#This Row],[12]]","v":{"v":0,"d":"0.00"}},null,null,{"$f":"Таблица2[[#This Row],[14]]+Таблица2[[#This Row],[15]]","v":{"v":0,"d":"0.00"}}]
[247,{"$nulls":8},{"$f":"Таблица2[[#This Row],[11]]+Таблица2[[#This Row],[12]]","v":{"v":0,"d":"0.00"}},null,null,{"$f":"Таблица2[[#This Row],[14]]+Таблица2[[#This Row],[15]]","v":{"v":0,"d":"0.00"}}]
[248,{"$nulls":8},{"$f":"Таблица2[[#This Row],[11]]+Таблица2[[#This Row],[12]]","v":{"v":0,"d":"0.00"}},null,null,{"$f":"Таблица2[[#This Row],[14]]+Таблица2[[#This Row],[15]]","v":{"v":0,"d":"0.00"}}]
[249,{"$nulls":8},{"$f":"Таблица2[[#This Row],[11]]+Таблица2[[#This Row],[12]]","v":{"v":0,"d":"0.00"}},null,null,{"$f":"Таблица2[[#This Row],[14]]+Таблица2[[#This Row],[15]]","v":{"v":0,"d":"0.00"}}]
[250,{"$nulls":8},{"$f":"Таблица2[[#This Row],[11]]+Таблица2[[#This Row],[12]]","v":{"v":0,"d":"0.00"}},null,null,{"$f":"Таблица2[[#This Row],[14]]+Таблица2[[#This Row],[15]]","v":{"v":0,"d":"0.00"}}]
[251,{"$nulls":8},{"$f":"Таблица2[[#This Row],[11]]+Таблица2[[#This Row],[12]]","v":{"v":0,"d":"0.00"}},null,null,{"$f":"Таблица2[[#This Row],[14]]+Таблица2[[#This Row],[15]]","v":{"v":0,"d":"0.00"}}]
[252,{"$nulls":8},{"$f":"Таблица2[[#This Row],[11]]+Таблица2[[#This Row],[12]]","v":{"v":0,"d":"0.00"}},null,null,{"$f":"Таблица2[[#This Row],[14]]+Таблица2[[#This Row],[15]]","v":{"v":0,"d":"0.00"}}]
[253,{"$nulls":8},{"$f":"Таблица2[[#This Row],[11]]+Таблица2[[#This Row],[12]]","v":{"v":0,"d":"0.00"}},null,null,{"$f":"Таблица2[[#This Row],[14]]+Таблица2[[#This Row],[15]]","v":{"v":0,"d":"0.00"}}]
[254,{"$nulls":8},{"$f":"Таблица2[[#This Row],[11]]+Таблица2[[#This Row],[12]]","v":{"v":0,"d":"0.00"}},null,null,{"$f":"Таблица2[[#This Row],[14]]+Таблица2[[#This Row],[15]]","v":{"v":0,"d":"0.00"}}]
[255,{"$nulls":8},{"$f":"Таблица2[[#This Row],[11]]+Таблица2[[#This Row],[12]]","v":{"v":0,"d":"0.00"}},null,null,{"$f":"Таблица2[[#This Row],[14]]+Таблица2[[#This Row],[15]]","v":{"v":0,"d":"0.00"}}]
[256,{"$nulls":8},{"$f":"Таблица2[[#This Row],[11]]+Таблица2[[#This Row],[12]]","v":{"v":0,"d":"0.00"}},null,null,{"$f":"Таблица2[[#This Row],[14]]+Таблица2[[#This Row],[15]]","v":{"v":0,"d":"0.00"}}]
[257,{"$nulls":8},{"$f":"Таблица2[[#This Row],[11]]+Таблица2[[#This Row],[12]]","v":{"v":0,"d":"0.00"}},null,null,{"$f":"Таблица2[[#This Row],[14]]+Таблица2[[#This Row],[15]]","v":{"v":0,"d":"0.00"}}]
[258,{"$nulls":8},{"$f":"Таблица2[[#This Row],[11]]+Таблица2[[#This Row],[12]]","v":{"v":0,"d":"0.00"}},null,null,{"$f":"Таблица2[[#This Row],[14]]+Таблица2[[#This Row],[15]]","v":{"v":0,"d":"0.00"}}]
[259,{"$nulls":8},{"$f":"Таблица2[[#This Row],[11]]+Таблица2[[#This Row],[12]]","v":{"v":0,"d":"0.00"}},null,null,{"$f":"Таблица2[[#This Row],[14]]+Таблица2[[#This Row],[15]]","v":{"v":0,"d":"0.00"}}]
[260,{"$nulls":8},{"$f":"Таблица2[[#This Row],[11]]+Таблица2[[#This Row],[12]]","v":{"v":0,"d":"0.00"}},null,null,{"$f":"Таблица2[[#This Row],[14]]+Таблица2[[#This Row],[15]]","v":{"v":0,"d":"0.00"}}]
[261,{"$nulls":8},{"$f":"Таблица2[[#This Row],[11]]+Таблица2[[#This Row],[12]]","v":{"v":0,"d":"0.00"}},null,null,{"$f":"Таблица2[[#This Row],[14]]+Таблица2[[#This Row],[15]]","v":{"v":0,"d":"0.00"}}]
[262,{"$nulls":8},{"$f":"Таблица2[[#This Row],[11]]+Таблица2[[#This Row],[12]]","v":{"v":0,"d":"0.00"}},null,null,{"$f":"Таблица2[[#This Row],[14]]+Таблица2[[#This Row],[15]]","v":{"v":0,"d":"0.00"}}]
[263,{"$nulls":8},{"$f":"Таблица2[[#This Row],[11]]+Таблица2[[#This Row],[12]]","v":{"v":0,"d":"0.00"}},null,null,{"$f":"Таблица2[[#This Row],[14]]+Таблица2[[#This Row],[15]]","v":{"v":0,"d":"0.00"}}]
[264,{"$nulls":8},{"$f":"Таблица2[[#This Row],[11]]+Таблица2[[#This Row],[12]]","v":{"v":0,"d":"0.00"}},null,null,{"$f":"Таблица2[[#This Row],[14]]+Таблица2[[#This Row],[15]]","v":{"v":0,"d":"0.00"}}]
[265,{"$nulls":8},{"$f":"Таблица2[[#This Row],[11]]+Таблица2[[#This Row],[12]]","v":{"v":0,"d":"0.00"}},null,null,{"$f":"Таблица2[[#This Row],[14]]+Таблица2[[#This Row],[15]]","v":{"v":0,"d":"0.00"}}]
[266,{"$nulls":8},{"$f":"Таблица2[[#This Row],[11]]+Таблица2[[#This Row],[12]]","v":{"v":0,"d":"0.00"}},null,null,{"$f":"Таблица2[[#This Row],[14]]+Таблица2[[#This Row],[15]]","v":{"v":0,"d":"0.00"}}]
[267,{"$nulls":8},{"$f":"Таблица2[[#This Row],[11]]+Таблица2[[#This Row],[12]]","v":{"v":0,"d":"0.00"}},null,null,{"$f":"Таблица2[[#This Row],[14]]+Таблица2[[#This Row],[15]]","v":{"v":0,"d":"0.00"}}]
[268,{"$nulls":8},{"$f":"Таблица2[[#This Row],[11]]+Таблица2[[#This Row],[12]]","v":{"v":0,"d":"0.00"}},null,null,{"$f":"Таблица2[[#This Row],[14]]+Таблица2[[#This Row],[15]]","v":{"v":0,"d":"0.00"}}]
[269,{"$nulls":8},{"$f":"Таблица2[[#This Row],[11]]+Таблица2[[#This Row],[12]]","v":{"v":0,"d":"0.00"}},null,null,{"$f":"Таблица2[[#This Row],[14]]+Таблица2[[#This Row],[15]]","v":{"v":0,"d":"0.00"}}]
[270,{"$nulls":8},{"$f":"Таблица2[[#This Row],[11]]+Таблица2[[#This Row],[12]]","v":{"v":0,"d":"0.00"}},null,null,{"$f":"Таблица2[[#This Row],[14]]+Таблица2[[#This Row],[15]]","v":{"v":0,"d":"0.00"}}]
[271,{"$nulls":8},{"$f":"Таблица2[[#This Row],[11]]+Таблица2[[#This Row],[12]]","v":{"v":0,"d":"0.00"}},null,null,{"$f":"Таблица2[[#This Row],[14]]+Таблица2[[#This Row],[15]]","v":{"v":0,"d":"0.00"}}]
[272,{"$nulls":8},{"$f":"Таблица2[[#This Row],[11]]+Таблица2[[#This Row],[12]]","v":{"v":0,"d":"0.00"}},null,null,{"$f":"Таблица2[[#This Row],[14]]+Таблица2[[#This Row],[15]]","v":{"v":0,"d":"0.00"}}]
[273,{"$nulls":8},{"$f":"Таблица2[[#This Row],[11]]+Таблица2[[#This Row],[12]]","v":{"v":0,"d":"0.00"}},null,null,{"$f":"Таблица2[[#This Row],[14]]+Таблица2[[#This Row],[15]]","v":{"v":0,"d":"0.00"}}]
[274,{"$nulls":8},{"$f":"Таблица2[[#This Row],[11]]+Таблица2[[#This Row],[12]]","v":{"v":0,"d":"0.00"}},null,null,{"$f":"Таблица2[[#This Row],[14]]+Таблица2[[#This Row],[15]]","v":{"v":0,"d":"0.00"}}]
[275,{"$nulls":8},{"$f":"Таблица2[[#This Row],[11]]+Таблица2[[#This Row],[12]]","v":{"v":0,"d":"0.00"}},null,null,{"$f":"Таблица2[[#This Row],[14]]+Таблица2[[#This Row],[15]]","v":{"v":0,"d":"0.00"}}]
[276,{"$nulls":8},{"$f":"Таблица2[[#This Row],[11]]+Таблица2[[#This Row],[12]]","v":{"v":0,"d":"0.00"}},null,null,{"$f":"Таблица2[[#This Row],[14]]+Таблица2[[#This Row],[15]]","v":{"v":0,"d":"0.00"}}]
[277,{"$nulls":8},{"$f":"Таблица2[[#This Row],[11]]+Таблица2[[#This Row],[12]]","v":{"v":0,"d":"0.00"}},null,null,{"$f":"Таблица2[[#This Row],[14]]+Таблица2[[#This Row],[15]]","v":{"v":0,"d":"0.00"}}]
[278,{"$nulls":8},{"$f":"Таблица2[[#This Row],[11]]+Таблица2[[#This Row],[12]]","v":{"v":0,"d":"0.00"}},null,null,{"$f":"Таблица2[[#This Row],[14]]+Таблица2[[#This Row],[15]]","v":{"v":0,"d":"0.00"}}]
[279,{"$nulls":8},{"$f":"Таблица2[[#This Row],[11]]+Таблица2[[#This Row],[12]]","v":{"v":0,"d":"0.00"}},null,null,{"$f":"Таблица2[[#This Row],[14]]+Таблица2[[#This Row],[15]]","v":{"v":0,"d":"0.00"}}]
[280,{"$nulls":8},{"$f":"Таблица2[[#This Row],[11]]+Таблица2[[#This Row],[12]]","v":{"v":0,"d":"0.00"}},null,null,{"$f":"Таблица2[[#This Row],[14]]+Таблица2[[#This Row],[15]]","v":{"v":0,"d":"0.00"}}]
[281,{"$nulls":8},{"$f":"Таблица2[[#This Row],[11]]+Таблица2[[#This Row],[12]]","v":{"v":0,"d":"0.00"}},null,null,{"$f":"Таблица2[[#This Row],[14]]+Таблица2[[#This Row],[15]]","v":{"v":0,"d":"0.00"}}]
[282,{"$nulls":8},{"$f":"Таблица2[[#This Row],[11]]+Таблица2[[#This Row],[12]]","v":{"v":0,"d":"0.00"}},null,null,{"$f":"Таблица2[[#This Row],[14]]+Таблица2[[#This Row],[15]]","v":{"v":0,"d":"0.00"}}]
[283,{"$nulls":8},{"$f":"Таблица2[[#This Row],[11]]+Таблица2[[#This Row],[12]]","v":{"v":0,"d":"0.00"}},null,null,{"$f":"Таблица2[[#This Row],[14]]+Таблица2[[#This Row],[15]]","v":{"v":0,"d":"0.00"}}]
[284,{"$nulls":8},{"$f":"Таблица2[[#This Row],[11]]+Таблица2[[#This Row],[12]]","v":{"v":0,"d":"0.00"}},null,null,{"$f":"Таблица2[[#This Row],[14]]+Таблица2[[#This Row],[15]]","v":{"v":0,"d":"0.00"}}]
[285,{"$nulls":8},{"$f":"Таблица2[[#This Row],[11]]+Таблица2[[#This Row],[12]]","v":{"v":0,"d":"0.00"}},null,null,{"$f":"Таблица2[[#This Row],[14]]+Таблица2[[#This Row],[15]]","v":{"v":0,"d":"0.00"}}]
[286,{"$nulls":8},{"$f":"Таблица2[[#This Row],[11]]+Таблица2[[#This Row],[12]]","v":{"v":0,"d":"0.00"}},null,null,{"$f":"Таблица2[[#This Row],[14]]+Таблица2[[#This Row],[15]]","v":{"v":0,"d":"0.00"}}]
[287,{"$nulls":8},{"$f":"Таблица2[[#This Row],[11]]+Таблица2[[#This Row],[12]]","v":{"v":0,"d":"0.00"}},null,null,{"$f":"Таблица2[[#This Row],[14]]+Таблица2[[#This Row],[15]]","v":{"v":0,"d":"0.00"}}]
[288,{"$nulls":8},{"$f":"Таблица2[[#This Row],[11]]+Таблица2[[#This Row],[12]]","v":{"v":0,"d":"0.00"}},null,null,{"$f":"Таблица2[[#This Row],[14]]+Таблица2[[#This Row],[15]]","v":{"v":0,"d":"0.00"}}]
[289,{"$nulls":8},{"$f":"Таблица2[[#This Row],[11]]+Таблица2[[#This Row],[12]]","v":{"v":0,"d":"0.00"}},null,null,{"$f":"Таблица2[[#This Row],[14]]+Таблица2[[#This Row],[15]]","v":{"v":0,"d":"0.00"}}]
[290,{"$nulls":8},{"$f":"Таблица2[[#This Row],[11]]+Таблица2[[#This Row],[12]]","v":{"v":0,"d":"0.00"}},null,null,{"$f":"Таблица2[[#This Row],[14]]+Таблица2[[#This Row],[15]]","v":{"v":0,"d":"0.00"}}]
[291,{"$nulls":8},{"$f":"Таблица2[[#This Row],[11]]+Таблица2[[#This Row],[12]]","v":{"v":0,"d":"0.00"}},null,null,{"$f":"Таблица2[[#This Row],[14]]+Таблица2[[#This Row],[15]]","v":{"v":0,"d":"0.00"}}]
[292,{"$nulls":8},{"$f":"Таблица2[[#This Row],[11]]+Таблица2[[#This Row],[12]]","v":{"v":0,"d":"0.00"}},null,null,{"$f":"Таблица2[[#This Row],[14]]+Таблица2[[#This Row],[15]]","v":{"v":0,"d":"0.00"}}]
[293,{"$nulls":8},{"$f":"Таблица2[[#This Row],[11]]+Таблица2[[#This Row],[12]]","v":{"v":0,"d":"0.00"}},null,null,{"$f":"Таблица2[[#This Row],[14]]+Таблица2[[#This Row],[15]]","v":{"v":0,"d":"0.00"}}]
[294,{"$nulls":8},{"$f":"Таблица2[[#This Row],[11]]+Таблица2[[#This Row],[12]]","v":{"v":0,"d":"0.00"}},null,null,{"$f":"Таблица2[[#This Row],[14]]+Таблица2[[#This Row],[15]]","v":{"v":0,"d":"0.00"}}]
[295,{"$nulls":8},{"$f":"Таблица2[[#This Row],[11]]+Таблица2[[#This Row],[12]]","v":{"v":0,"d":"0.00"}},null,null,{"$f":"Таблица2[[#This Row],[14]]+Таблица2[[#This Row],[15]]","v":{"v":0,"d":"0.00"}}]
[296,{"$nulls":8},{"$f":"Таблица2[[#This Row],[11]]+Таблица2[[#This Row],[12]]","v":{"v":0,"d":"0.00"}},null,null,{"$f":"Таблица2[[#This Row],[14]]+Таблица2[[#This Row],[15]]","v":{"v":0,"d":"0.00"}}]
[297,{"$nulls":8},{"$f":"Таблица2[[#This Row],[11]]+Таблица2[[#This Row],[12]]","v":{"v":0,"d":"0.00"}},null,null,{"$f":"Таблица2[[#This Row],[14]]+Таблица2[[#This Row],[15]]","v":{"v":0,"d":"0.00"}}]
[298,{"$nulls":8},{"$f":"Таблица2[[#This Row],[11]]+Таблица2[[#This Row],[12]]","v":{"v":0,"d":"0.00"}},null,null,{"$f":"Таблица2[[#This Row],[14]]+Таблица2[[#This Row],[15]]","v":{"v":0,"d":"0.00"}}]
[299,{"$nulls":8},{"$f":"Таблица2[[#This Row],[11]]+Таблица2[[#This Row],[12]]","v":{"v":0,"d":"0.00"}},null,null,{"$f":"Таблица2[[#This Row],[14]]+Таблица2[[#This Row],[15]]","v":{"v":0,"d":"0.00"}}]
[300,{"$nulls":8},{"$f":"Таблица2[[#This Row],[11]]+Таблица2[[#This Row],[12]]","v":{"v":0,"d":"0.00"}},null,null,{"$f":"Таблица2[[#This Row],[14]]+Таблица2[[#This Row],[15]]","v":{"v":0,"d":"0.00"}}]
[301,{"$nulls":8},{"$f":"Таблица2[[#This Row],[11]]+Таблица2[[#This Row],[12]]","v":{"v":0,"d":"0.00"}},null,null,{"$f":"Таблица2[[#This Row],[14]]+Таблица2[[#This Row],[15]]","v":{"v":0,"d":"0.00"}}]
[302,{"$nulls":8},{"$f":"Таблица2[[#This Row],[11]]+Таблица2[[#This Row],[12]]","v":{"v":0,"d":"0.00"}},null,null,{"$f":"Таблица2[[#This Row],[14]]+Таблица2[[#This Row],[15]]","v":{"v":0,"d":"0.00"}}]
[303,{"$nulls":8},{"$f":"Таблица2[[#This Row],[11]]+Таблица2[[#This Row],[12]]","v":{"v":0,"d":"0.00"}},null,null,{"$f":"Таблица2[[#This Row],[14]]+Таблица2[[#This Row],[15]]","v":{"v":0,"d":"0.00"}}]
[304,{"$nulls":8},{"$f":"Таблица2[[#This Row],[11]]+Таблица2[[#This Row],[12]]","v":{"v":0,"d":"0.00"}},null,null,{"$f":"Таблица2[[#This Row],[14]]+Таблица2[[#This Row],[15]]","v":{"v":0,"d":"0.00"}}]
[305,{"$nulls":8},{"$f":"Таблица2[[#This Row],[11]]+Таблица2[[#This Row],[12]]","v":{"v":0,"d":"0.00"}},null,null,{"$f":"Таблица2[[#This Row],[14]]+Таблица2[[#This Row],[15]]","v":{"v":0,"d":"0.00"}}]
[306,{"$nulls":8},{"$f":"Таблица2[[#This Row],[11]]+Таблица2[[#This Row],[12]]","v":{"v":0,"d":"0.00"}},null,null,{"$f":"Таблица2[[#This Row],[14]]+Таблица2[[#This Row],[15]]","v":{"v":0,"d":"0.00"}}]
[307,{"$nulls":8},{"$f":"Таблица2[[#This Row],[11]]+Таблица2[[#This Row],[12]]","v":{"v":0,"d":"0.00"}},null,null,{"$f":"Таблица2[[#This Row],[14]]+Таблица2[[#This Row],[15]]","v":{"v":0,"d":"0.00"}}]
[308,{"$nulls":8},{"$f":"Таблица2[[#This Row],[11]]+Таблица2[[#This Row],[12]]","v":{"v":0,"d":"0.00"}},null,null,{"$f":"Таблица2[[#This Row],[14]]+Таблица2[[#This Row],[15]]","v":{"v":0,"d":"0.00"}}]
[309,{"$nulls":8},{"$f":"Таблица2[[#This Row],[11]]+Таблица2[[#This Row],[12]]","v":{"v":0,"d":"0.00"}},null,null,{"$f":"Таблица2[[#This Row],[14]]+Таблица2[[#This Row],[15]]","v":{"v":0,"d":"0.00"}}]
[310,{"$nulls":8},{"$f":"Таблица2[[#This Row],[11]]+Таблица2[[#This Row],[12]]","v":{"v":0,"d":"0.00"}},null,null,{"$f":"Таблица2[[#This Row],[14]]+Таблица2[[#This Row],[15]]","v":{"v":0,"d":"0.00"}}]
[311,{"$nulls":8},{"$f":"Таблица2[[#This Row],[11]]+Таблица2[[#This Row],[12]]","v":{"v":0,"d":"0.00"}},null,null,{"$f":"Таблица2[[#This Row],[14]]+Таблица2[[#This Row],[15]]","v":{"v":0,"d":"0.00"}}]
[312,{"$nulls":8},{"$f":"Таблица2[[#This Row],[11]]+Таблица2[[#This Row],[12]]","v":{"v":0,"d":"0.00"}},null,null,{"$f":"Таблица2[[#This Row],[14]]+Таблица2[[#This Row],[15]]","v":{"v":0,"d":"0.00"}}]
[313,{"$nulls":8},{"$f":"Таблица2[[#This Row],[11]]+Таблица2[[#This Row],[12]]","v":{"v":0,"d":"0.00"}},null,null,{"$f":"Таблица2[[#This Row],[14]]+Таблица2[[#This Row],[15]]","v":{"v":0,"d":"0.00"}}]
[314,{"$nulls":8},{"$f":"Таблица2[[#This Row],[11]]+Таблица2[[#This Row],[12]]","v":{"v":0,"d":"0.00"}},null,null,{"$f":"Таблица2[[#This Row],[14]]+Таблица2[[#This Row],[15]]","v":{"v":0,"d":"0.00"}}]
[315,{"$nulls":8},{"$f":"Таблица2[[#This Row],[11]]+Таблица2[[#This Row],[12]]","v":{"v":0,"d":"0.00"}},null,null,{"$f":"Таблица2[[#This Row],[14]]+Таблица2[[#This Row],[15]]","v":{"v":0,"d":"0.00"}}]
[316,{"$nulls":8},{"$f":"Таблица2[[#This Row],[11]]+Таблица2[[#This Row],[12]]","v":{"v":0,"d":"0.00"}},null,null,{"$f":"Таблица2[[#This Row],[14]]+Таблица2[[#This Row],[15]]","v":{"v":0,"d":"0.00"}}]
[317,{"$nulls":8},{"$f":"Таблица2[[#This Row],[11]]+Таблица2[[#This Row],[12]]","v":{"v":0,"d":"0.00"}},null,null,{"$f":"Таблица2[[#This Row],[14]]+Таблица2[[#This Row],[15]]","v":{"v":0,"d":"0.00"}}]
[318,{"$nulls":8},{"$f":"Таблица2[[#This Row],[11]]+Таблица2[[#This Row],[12]]","v":{"v":0,"d":"0.00"}},null,null,{"$f":"Таблица2[[#This Row],[14]]+Таблица2[[#This Row],[15]]","v":{"v":0,"d":"0.00"}}]
[319,{"$nulls":8},{"$f":"Таблица2[[#This Row],[11]]+Таблица2[[#This Row],[12]]","v":{"v":0,"d":"0.00"}},null,null,{"$f":"Таблица2[[#This Row],[14]]+Таблица2[[#This Row],[15]]","v":{"v":0,"d":"0.00"}}]
[320,{"$nulls":8},{"$f":"Таблица2[[#This Row],[11]]+Таблица2[[#This Row],[12]]","v":{"v":0,"d":"0.00"}},null,null,{"$f":"Таблица2[[#This Row],[14]]+Таблица2[[#This Row],[15]]","v":{"v":0,"d":"0.00"}}]
[321,{"$nulls":8},{"$f":"Таблица2[[#This Row],[11]]+Таблица2[[#This Row],[12]]","v":{"v":0,"d":"0.00"}},null,null,{"$f":"Таблица2[[#This Row],[14]]+Таблица2[[#This Row],[15]]","v":{"v":0,"d":"0.00"}}]
[322,{"$nulls":8},{"$f":"Таблица2[[#This Row],[11]]+Таблица2[[#This Row],[12]]","v":{"v":0,"d":"0.00"}},null,null,{"$f":"Таблица2[[#This Row],[14]]+Таблица2[[#This Row],[15]]","v":{"v":0,"d":"0.00"}}]
[323,{"$nulls":8},{"$f":"Таблица2[[#This Row],[11]]+Таблица2[[#This Row],[12]]","v":{"v":0,"d":"0.00"}},null,null,{"$f":"Таблица2[[#This Row],[14]]+Таблица2[[#This Row],[15]]","v":{"v":0,"d":"0.00"}}]
[324,{"$nulls":8},{"$f":"Таблица2[[#This Row],[11]]+Таблица2[[#This Row],[12]]","v":{"v":0,"d":"0.00"}},null,null,{"$f":"Таблица2[[#This Row],[14]]+Таблица2[[#This Row],[15]]","v":{"v":0,"d":"0.00"}}]
[325,{"$nulls":8},{"$f":"Таблица2[[#This Row],[11]]+Таблица2[[#This Row],[12]]","v":{"v":0,"d":"0.00"}},null,null,{"$f":"Таблица2[[#This Row],[14]]+Таблица2[[#This Row],[15]]","v":{"v":0,"d":"0.00"}}]
[326,{"$nulls":8},{"$f":"Таблица2[[#This Row],[11]]+Таблица2[[#This Row],[12]]","v":{"v":0,"d":"0.00"}},null,null,{"$f":"Таблица2[[#This Row],[14]]+Таблица2[[#This Row],[15]]","v":{"v":0,"d":"0.00"}}]
[327,{"$nulls":8},{"$f":"Таблица2[[#This Row],[11]]+Таблица2[[#This Row],[12]]","v":{"v":0,"d":"0.00"}},null,null,{"$f":"Таблица2[[#This Row],[14]]+Таблица2[[#This Row],[15]]","v":{"v":0,"d":"0.00"}}]
[328,{"$nulls":8},{"$f":"Таблица2[[#This Row],[11]]+Таблица2[[#This Row],[12]]","v":{"v":0,"d":"0.00"}},null,null,{"$f":"Таблица2[[#This Row],[14]]+Таблица2[[#This Row],[15]]","v":{"v":0,"d":"0.00"}}]
[329,{"$nulls":8},{"$f":"Таблица2[[#This Row],[11]]+Таблица2[[#This Row],[12]]","v":{"v":0,"d":"0.00"}},null,null,{"$f":"Таблица2[[#This Row],[14]]+Таблица2[[#This Row],[15]]","v":{"v":0,"d":"0.00"}}]
[330,{"$nulls":8},{"$f":"Таблица2[[#This Row],[11]]+Таблица2[[#This Row],[12]]","v":{"v":0,"d":"0.00"}},null,null,{"$f":"Таблица2[[#This Row],[14]]+Таблица2[[#This Row],[15]]","v":{"v":0,"d":"0.00"}}]
[331,{"$nulls":8},{"$f":"Таблица2[[#This Row],[11]]+Таблица2[[#This Row],[12]]","v":{"v":0,"d":"0.00"}},null,null,{"$f":"Таблица2[[#This Row],[14]]+Таблица2[[#This Row],[15]]","v":{"v":0,"d":"0.00"}}]
[332,{"$nulls":8},{"$f":"Таблица2[[#This Row],[11]]+Таблица2[[#This Row],[12]]","v":{"v":0,"d":"0.00"}},null,null,{"$f":"Таблица2[[#This Row],[14]]+Таблица2[[#This Row],[15]]","v":{"v":0,"d":"0.00"}}]
[333,{"$nulls":8},{"$f":"Таблица2[[#This Row],[11]]+Таблица2[[#This Row],[12]]","v":{"v":0,"d":"0.00"}},null,null,{"$f":"Таблица2[[#This Row],[14]]+Таблица2[[#This Row],[15]]","v":{"v":0,"d":"0.00"}}]
[334,{"$nulls":8},{"$f":"Таблица2[[#This Row],[11]]+Таблица2[[#This Row],[12]]","v":{"v":0,"d":"0.00"}},null,null,{"$f":"Таблица2[[#This Row],[14]]+Таблица2[[#This Row],[15]]","v":{"v":0,"d":"0.00"}}]
[335,{"$nulls":8},{"$f":"Таблица2[[#This Row],[11]]+Таблица2[[#This Row],[12]]","v":{"v":0,"d":"0.00"}},null,null,{"$f":"Таблица2[[#This Row],[14]]+Таблица2[[#This Row],[15]]","v":{"v":0,"d":"0.00"}}]
[336,{"$nulls":8},{"$f":"Таблица2[[#This Row],[11]]+Таблица2[[#This Row],[12]]","v":{"v":0,"d":"0.00"}},null,null,{"$f":"Таблица2[[#This Row],[14]]+Таблица2[[#This Row],[15]]","v":{"v":0,"d":"0.00"}}]
[337,{"$nulls":8},{"$f":"Таблица2[[#This Row],[11]]+Таблица2[[#This Row],[12]]","v":{"v":0,"d":"0.00"}},null,null,{"$f":"Таблица2[[#This Row],[14]]+Таблица2[[#This Row],[15]]","v":{"v":0,"d":"0.00"}}]
[338,{"$nulls":8},{"$f":"Таблица2[[#This Row],[11]]+Таблица2[[#This Row],[12]]","v":{"v":0,"d":"0.00"}},null,null,{"$f":"Таблица2[[#This Row],[14]]+Таблица2[[#This Row],[15]]","v":{"v":0,"d":"0.00"}}]
[339,{"$nulls":8},{"$f":"Таблица2[[#This Row],[11]]+Таблица2[[#This Row],[12]]","v":{"v":0,"d":"0.00"}},null,null,{"$f":"Таблица2[[#This Row],[14]]+Таблица2[[#This Row],[15]]","v":{"v":0,"d":"0.00"}}]
[340,{"$nulls":8},{"$f":"Таблица2[[#This Row],[11]]+Таблица2[[#This Row],[12]]","v":{"v":0,"d":"0.00"}},null,null,{"$f":"Таблица2[[#This Row],[14]]+Таблица2[[#This Row],[15]]","v":{"v":0,"d":"0.00"}}]
[341,{"$nulls":8},{"$f":"Таблица2[[#This Row],[11]]+Таблица2[[#This Row],[12]]","v":{"v":0,"d":"0.00"}},null,null,{"$f":"Таблица2[[#This Row],[14]]+Таблица2[[#This Row],[15]]","v":{"v":0,"d":"0.00"}}]
[342,{"$nulls":8},{"$f":"Таблица2[[#This Row],[11]]+Таблица2[[#This Row],[12]]","v":{"v":0,"d":"0.00"}},null,null,{"$f":"Таблица2[[#This Row],[14]]+Таблица2[[#This Row],[15]]","v":{"v":0,"d":"0.00"}}]
[343,{"$nulls":8},{"$f":"Таблица2[[#This Row],[11]]+Таблица2[[#This Row],[12]]","v":{"v":0,"d":"0.00"}},null,null,{"$f":"Таблица2[[#This Row],[14]]+Таблица2[[#This Row],[15]]","v":{"v":0,"d":"0.00"}}]
[344,{"$nulls":8},{"$f":"Таблица2[[#This Row],[11]]+Таблица2[[#This Row],[12]]","v":{"v":0,"d":"0.00"}},null,null,{"$f":"Таблица2[[#This Row],[14]]+Таблица2[[#This Row],[15]]","v":{"v":0,"d":"0.00"}}]
[345,{"$nulls":8},{"$f":"Таблица2[[#This Row],[11]]+Таблица2[[#This Row],[12]]","v":{"v":0,"d":"0.00"}},null,null,{"$f":"Таблица2[[#This Row],[14]]+Таблица2[[#This Row],[15]]","v":{"v":0,"d":"0.00"}}]
[346,{"$nulls":8},{"$f":"Таблица2[[#This Row],[11]]+Таблица2[[#This Row],[12]]","v":{"v":0,"d":"0.00"}},null,null,{"$f":"Таблица2[[#This Row],[14]]+Таблица2[[#This Row],[15]]","v":{"v":0,"d":"0.00"}}]
[347,{"$nulls":8},{"$f":"Таблица2[[#This Row],[11]]+Таблица2[[#This Row],[12]]","v":{"v":0,"d":"0.00"}},null,null,{"$f":"Таблица2[[#This Row],[14]]+Таблица2[[#This Row],[15]]","v":{"v":0,"d":"0.00"}}]
[348,{"$nulls":8},{"$f":"Таблица2[[#This Row],[11]]+Таблица2[[#This Row],[12]]","v":{"v":0,"d":"0.00"}},null,null,{"$f":"Таблица2[[#This Row],[14]]+Таблица2[[#This Row],[15]]","v":{"v":0,"d":"0.00"}}]
[349,{"$nulls":8},{"$f":"Таблица2[[#This Row],[11]]+Таблица2[[#This Row],[12]]","v":{"v":0,"d":"0.00"}},null,null,{"$f":"Таблица2[[#This Row],[14]]+Таблица2[[#This Row],[15]]","v":{"v":0,"d":"0.00"}}]
[350,{"$nulls":8},{"$f":"Таблица2[[#This Row],[11]]+Таблица2[[#This Row],[12]]","v":{"v":0,"d":"0.00"}},null,null,{"$f":"Таблица2[[#This Row],[14]]+Таблица2[[#This Row],[15]]","v":{"v":0,"d":"0.00"}}]
[351,{"$nulls":8},{"$f":"Таблица2[[#This Row],[11]]+Таблица2[[#This Row],[12]]","v":{"v":0,"d":"0.00"}},null,null,{"$f":"Таблица2[[#This Row],[14]]+Таблица2[[#This Row],[15]]","v":{"v":0,"d":"0.00"}}]
[352,{"$nulls":8},{"$f":"Таблица2[[#This Row],[11]]+Таблица2[[#This Row],[12]]","v":{"v":0,"d":"0.00"}},null,null,{"$f":"Таблица2[[#This Row],[14]]+Таблица2[[#This Row],[15]]","v":{"v":0,"d":"0.00"}}]
[353,{"$nulls":8},{"$f":"Таблица2[[#This Row],[11]]+Таблица2[[#This Row],[12]]","v":{"v":0,"d":"0.00"}},null,null,{"$f":"Таблица2[[#This Row],[14]]+Таблица2[[#This Row],[15]]","v":{"v":0,"d":"0.00"}}]
[354,{"$nulls":8},{"$f":"Таблица2[[#This Row],[11]]+Таблица2[[#This Row],[12]]","v":{"v":0,"d":"0.00"}},null,null,{"$f":"Таблица2[[#This Row],[14]]+Таблица2[[#This Row],[15]]","v":{"v":0,"d":"0.00"}}]
[355,{"$nulls":8},{"$f":"Таблица2[[#This Row],[11]]+Таблица2[[#This Row],[12]]","v":{"v":0,"d":"0.00"}},null,null,{"$f":"Таблица2[[#This Row],[14]]+Таблица2[[#This Row],[15]]","v":{"v":0,"d":"0.00"}}]
[356,{"$nulls":8},{"$f":"Таблица2[[#This Row],[11]]+Таблица2[[#This Row],[12]]","v":{"v":0,"d":"0.00"}},null,null,{"$f":"Таблица2[[#This Row],[14]]+Таблица2[[#This Row],[15]]","v":{"v":0,"d":"0.00"}}]
[357,{"$nulls":8},{"$f":"Таблица2[[#This Row],[11]]+Таблица2[[#This Row],[12]]","v":{"v":0,"d":"0.00"}},null,null,{"$f":"Таблица2[[#This Row],[14]]+Таблица2[[#This Row],[15]]","v":{"v":0,"d":"0.00"}}]
[358,{"$nulls":8},{"$f":"Таблица2[[#This Row],[11]]+Таблица2[[#This Row],[12]]","v":{"v":0,"d":"0.00"}},null,null,{"$f":"Таблица2[[#This Row],[14]]+Таблица2[[#This Row],[15]]","v":{"v":0,"d":"0.00"}}]
[359,{"$nulls":8},{"$f":"Таблица2[[#This Row],[11]]+Таблица2[[#This Row],[12]]","v":{"v":0,"d":"0.00"}},null,null,{"$f":"Таблица2[[#This Row],[14]]+Таблица2[[#This Row],[15]]","v":{"v":0,"d":"0.00"}}]
[360,{"$nulls":8},{"$f":"Таблица2[[#This Row],[11]]+Таблица2[[#This Row],[12]]","v":{"v":0,"d":"0.00"}},null,null,{"$f":"Таблица2[[#This Row],[14]]+Таблица2[[#This Row],[15]]","v":{"v":0,"d":"0.00"}}]
[361,{"$nulls":8},{"$f":"Таблица2[[#This Row],[11]]+Таблица2[[#This Row],[12]]","v":{"v":0,"d":"0.00"}},null,null,{"$f":"Таблица2[[#This Row],[14]]+Таблица2[[#This Row],[15]]","v":{"v":0,"d":"0.00"}}]
[362,{"$nulls":8},{"$f":"Таблица2[[#This Row],[11]]+Таблица2[[#This Row],[12]]","v":{"v":0,"d":"0.00"}},null,null,{"$f":"Таблица2[[#This Row],[14]]+Таблица2[[#This Row],[15]]","v":{"v":0,"d":"0.00"}}]
[363,{"$nulls":8},{"$f":"Таблица2[[#This Row],[11]]+Таблица2[[#This Row],[12]]","v":{"v":0,"d":"0.00"}},null,null,{"$f":"Таблица2[[#This Row],[14]]+Таблица2[[#This Row],[15]]","v":{"v":0,"d":"0.00"}}]
[364,{"$nulls":8},{"$f":"Таблица2[[#This Row],[11]]+Таблица2[[#This Row],[12]]","v":{"v":0,"d":"0.00"}},null,null,{"$f":"Таблица2[[#This Row],[14]]+Таблица2[[#This Row],[15]]","v":{"v":0,"d":"0.00"}}]
[365,{"$nulls":8},{"$f":"Таблица2[[#This Row],[11]]+Таблица2[[#This Row],[12]]","v":{"v":0,"d":"0.00"}},null,null,{"$f":"Таблица2[[#This Row],[14]]+Таблица2[[#This Row],[15]]","v":{"v":0,"d":"0.00"}}]
[366,{"$nulls":8},{"$f":"Таблица2[[#This Row],[11]]+Таблица2[[#This Row],[12]]","v":{"v":0,"d":"0.00"}},null,null,{"$f":"Таблица2[[#This Row],[14]]+Таблица2[[#This Row],[15]]","v":{"v":0,"d":"0.00"}}]
[367,{"$nulls":8},{"$f":"Таблица2[[#This Row],[11]]+Таблица2[[#This Row],[12]]","v":{"v":0,"d":"0.00"}},null,null,{"$f":"Таблица2[[#This Row],[14]]+Таблица2[[#This Row],[15]]","v":{"v":0,"d":"0.00"}}]
[368,{"$nulls":8},{"$f":"Таблица2[[#This Row],[11]]+Таблица2[[#This Row],[12]]","v":{"v":0,"d":"0.00"}},null,null,{"$f":"Таблица2[[#This Row],[14]]+Таблица2[[#This Row],[15]]","v":{"v":0,"d":"0.00"}}]
[369,{"$nulls":8},{"$f":"Таблица2[[#This Row],[11]]+Таблица2[[#This Row],[12]]","v":{"v":0,"d":"0.00"}},null,null,{"$f":"Таблица2[[#This Row],[14]]+Таблица2[[#This Row],[15]]","v":{"v":0,"d":"0.00"}}]
[370,{"$nulls":8},{"$f":"Таблица2[[#This Row],[11]]+Таблица2[[#This Row],[12]]","v":{"v":0,"d":"0.00"}},null,null,{"$f":"Таблица2[[#This Row],[14]]+Таблица2[[#This Row],[15]]","v":{"v":0,"d":"0.00"}}]
[371,{"$nulls":8},{"$f":"Таблица2[[#This Row],[11]]+Таблица2[[#This Row],[12]]","v":{"v":0,"d":"0.00"}},null,null,{"$f":"Таблица2[[#This Row],[14]]+Таблица2[[#This Row],[15]]","v":{"v":0,"d":"0.00"}}]
[372,{"$nulls":8},{"$f":"Таблица2[[#This Row],[11]]+Таблица2[[#This Row],[12]]","v":{"v":0,"d":"0.00"}},null,null,{"$f":"Таблица2[[#This Row],[14]]+Таблица2[[#This Row],[15]]","v":{"v":0,"d":"0.00"}}]
[373,{"$nulls":8},{"$f":"Таблица2[[#This Row],[11]]+Таблица2[[#This Row],[12]]","v":{"v":0,"d":"0.00"}},null,null,{"$f":"Таблица2[[#This Row],[14]]+Таблица2[[#This Row],[15]]","v":{"v":0,"d":"0.00"}}]
[374,{"$nulls":8},{"$f":"Таблица2[[#This Row],[11]]+Таблица2[[#This Row],[12]]","v":{"v":0,"d":"0.00"}},null,null,{"$f":"Таблица2[[#This Row],[14]]+Таблица2[[#This Row],[15]]","v":{"v":0,"d":"0.00"}}]
[375,{"$nulls":8},{"$f":"Таблица2[[#This Row],[11]]+Таблица2[[#This Row],[12]]","v":{"v":0,"d":"0.00"}},null,null,{"$f":"Таблица2[[#This Row],[14]]+Таблица2[[#This Row],[15]]","v":{"v":0,"d":"0.00"}}]
[376,{"$nulls":8},{"$f":"Таблица2[[#This Row],[11]]+Таблица2[[#This Row],[12]]","v":{"v":0,"d":"0.00"}},null,null,{"$f":"Таблица2[[#This Row],[14]]+Таблица2[[#This Row],[15]]","v":{"v":0,"d":"0.00"}}]
[377,{"$nulls":8},{"$f":"Таблица2[[#This Row],[11]]+Таблица2[[#This Row],[12]]","v":{"v":0,"d":"0.00"}},null,null,{"$f":"Таблица2[[#This Row],[14]]+Таблица2[[#This Row],[15]]","v":{"v":0,"d":"0.00"}}]
[378,{"$nulls":8},{"$f":"Таблица2[[#This Row],[11]]+Таблица2[[#This Row],[12]]","v":{"v":0,"d":"0.00"}},null,null,{"$f":"Таблица2[[#This Row],[14]]+Таблица2[[#This Row],[15]]","v":{"v":0,"d":"0.00"}}]
[379,{"$nulls":8},{"$f":"Таблица2[[#This Row],[11]]+Таблица2[[#This Row],[12]]","v":{"v":0,"d":"0.00"}},null,null,{"$f":"Таблица2[[#This Row],[14]]+Таблица2[[#This Row],[15]]","v":{"v":0,"d":"0.00"}}]
[380,{"$nulls":8},{"$f":"Таблица2[[#This Row],[11]]+Таблица2[[#This Row],[12]]","v":{"v":0,"d":"0.00"}},null,null,{"$f":"Таблица2[[#This Row],[14]]+Таблица2[[#This Row],[15]]","v":{"v":0,"d":"0.00"}}]
[381,{"$nulls":8},{"$f":"Таблица2[[#This Row],[11]]+Таблица2[[#This Row],[12]]","v":{"v":0,"d":"0.00"}},null,null,{"$f":"Таблица2[[#This Row],[14]]+Таблица2[[#This Row],[15]]","v":{"v":0,"d":"0.00"}}]
[382,{"$nulls":8},{"$f":"Таблица2[[#This Row],[11]]+Таблица2[[#This Row],[12]]","v":{"v":0,"d":"0.00"}},null,null,{"$f":"Таблица2[[#This Row],[14]]+Таблица2[[#This Row],[15]]","v":{"v":0,"d":"0.00"}}]
[383,{"$nulls":8},{"$f":"Таблица2[[#This Row],[11]]+Таблица2[[#This Row],[12]]","v":{"v":0,"d":"0.00"}},null,null,{"$f":"Таблица2[[#This Row],[14]]+Таблица2[[#This Row],[15]]","v":{"v":0,"d":"0.00"}}]
[384,{"$nulls":8},{"$f":"Таблица2[[#This Row],[11]]+Таблица2[[#This Row],[12]]","v":{"v":0,"d":"0.00"}},null,null,{"$f":"Таблица2[[#This Row],[14]]+Таблица2[[#This Row],[15]]","v":{"v":0,"d":"0.00"}}]
[385,{"$nulls":8},{"$f":"Таблица2[[#This Row],[11]]+Таблица2[[#This Row],[12]]","v":{"v":0,"d":"0.00"}},null,null,{"$f":"Таблица2[[#This Row],[14]]+Таблица2[[#This Row],[15]]","v":{"v":0,"d":"0.00"}}]
[386,{"$nulls":8},{"$f":"Таблица2[[#This Row],[11]]+Таблица2[[#This Row],[12]]","v":{"v":0,"d":"0.00"}},null,null,{"$f":"Таблица2[[#This Row],[14]]+Таблица2[[#This Row],[15]]","v":{"v":0,"d":"0.00"}}]
[387,{"$nulls":8},{"$f":"Таблица2[[#This Row],[11]]+Таблица2[[#This Row],[12]]","v":{"v":0,"d":"0.00"}},null,null,{"$f":"Таблица2[[#This Row],[14]]+Таблица2[[#This Row],[15]]","v":{"v":0,"d":"0.00"}}]
[388,{"$nulls":8},{"$f":"Таблица2[[#This Row],[11]]+Таблица2[[#This Row],[12]]","v":{"v":0,"d":"0.00"}},null,null,{"$f":"Таблица2[[#This Row],[14]]+Таблица2[[#This Row],[15]]","v":{"v":0,"d":"0.00"}}]
[389,{"$nulls":8},{"$f":"Таблица2[[#This Row],[11]]+Таблица2[[#This Row],[12]]","v":{"v":0,"d":"0.00"}},null,null,{"$f":"Таблица2[[#This Row],[14]]+Таблица2[[#This Row],[15]]","v":{"v":0,"d":"0.00"}}]
[390,{"$nulls":8},{"$f":"Таблица2[[#This Row],[11]]+Таблица2[[#This Row],[12]]","v":{"v":0,"d":"0.00"}},null,null,{"$f":"Таблица2[[#This Row],[14]]+Таблица2[[#This Row],[15]]","v":{"v":0,"d":"0.00"}}]
[391,{"$nulls":8},{"$f":"Таблица2[[#This Row],[11]]+Таблица2[[#This Row],[12]]","v":{"v":0,"d":"0.00"}},null,null,{"$f":"Таблица2[[#This Row],[14]]+Таблица2[[#This Row],[15]]","v":{"v":0,"d":"0.00"}}]
[392,{"$nulls":8},{"$f":"Таблица2[[#This Row],[11]]+Таблица2[[#This Row],[12]]","v":{"v":0,"d":"0.00"}},null,null,{"$f":"Таблица2[[#This Row],[14]]+Таблица2[[#This Row],[15]]","v":{"v":0,"d":"0.00"}}]
[393,{"$nulls":8},{"$f":"Таблица2[[#This Row],[11]]+Таблица2[[#This Row],[12]]","v":{"v":0,"d":"0.00"}},null,null,{"$f":"Таблица2[[#This Row],[14]]+Таблица2[[#This Row],[15]]","v":{"v":0,"d":"0.00"}}]
[394,{"$nulls":8},{"$f":"Таблица2[[#This Row],[11]]+Таблица2[[#This Row],[12]]","v":{"v":0,"d":"0.00"}},null,null,{"$f":"Таблица2[[#This Row],[14]]+Таблица2[[#This Row],[15]]","v":{"v":0,"d":"0.00"}}]
[395,{"$nulls":8},{"$f":"Таблица2[[#This Row],[11]]+Таблица2[[#This Row],[12]]","v":{"v":0,"d":"0.00"}},null,null,{"$f":"Таблица2[[#This Row],[14]]+Таблица2[[#This Row],[15]]","v":{"v":0,"d":"0.00"}}]
[396,{"$nulls":8},{"$f":"Таблица2[[#This Row],[11]]+Таблица2[[#This Row],[12]]","v":{"v":0,"d":"0.00"}},null,null,{"$f":"Таблица2[[#This Row],[14]]+Таблица2[[#This Row],[15]]","v":{"v":0,"d":"0.00"}}]
[397,{"$nulls":8},{"$f":"Таблица2[[#This Row],[11]]+Таблица2[[#This Row],[12]]","v":{"v":0,"d":"0.00"}},null,null,{"$f":"Таблица2[[#This Row],[14]]+Таблица2[[#This Row],[15]]","v":{"v":0,"d":"0.00"}}]
[398,{"$nulls":8},{"$f":"Таблица2[[#This Row],[11]]+Таблица2[[#This Row],[12]]","v":{"v":0,"d":"0.00"}},null,null,{"$f":"Таблица2[[#This Row],[14]]+Таблица2[[#This Row],[15]]","v":{"v":0,"d":"0.00"}}]
[399,{"$nulls":8},{"$f":"Таблица2[[#This Row],[11]]+Таблица2[[#This Row],[12]]","v":{"v":0,"d":"0.00"}},null,null,{"$f":"Таблица2[[#This Row],[14]]+Таблица2[[#This Row],[15]]","v":{"v":0,"d":"0.00"}}]
[400,{"$nulls":8},{"$f":"Таблица2[[#This Row],[11]]+Таблица2[[#This Row],[12]]","v":{"v":0,"d":"0.00"}},null,null,{"$f":"Таблица2[[#This Row],[14]]+Таблица2[[#This Row],[15]]","v":{"v":0,"d":"0.00"}}]
[401,{"$nulls":8},{"$f":"Таблица2[[#This Row],[11]]+Таблица2[[#This Row],[12]]","v":{"v":0,"d":"0.00"}},null,null,{"$f":"Таблица2[[#This Row],[14]]+Таблица2[[#This Row],[15]]","v":{"v":0,"d":"0.00"}}]
[402,{"$nulls":8},{"$f":"Таблица2[[#This Row],[11]]+Таблица2[[#This Row],[12]]","v":{"v":0,"d":"0.00"}},null,null,{"$f":"Таблица2[[#This Row],[14]]+Таблица2[[#This Row],[15]]","v":{"v":0,"d":"0.00"}}]
[403,{"$nulls":8},{"$f":"Таблица2[[#This Row],[11]]+Таблица2[[#This Row],[12]]","v":{"v":0,"d":"0.00"}},null,null,{"$f":"Таблица2[[#This Row],[14]]+Таблица2[[#This Row],[15]]","v":{"v":0,"d":"0.00"}}]
[404,{"$nulls":8},{"$f":"Таблица2[[#This Row],[11]]+Таблица2[[#This Row],[12]]","v":{"v":0,"d":"0.00"}},null,null,{"$f":"Таблица2[[#This Row],[14]]+Таблица2[[#This Row],[15]]","v":{"v":0,"d":"0.00"}}]
[405,{"$nulls":8},{"$f":"Таблица2[[#This Row],[11]]+Таблица2[[#This Row],[12]]","v":{"v":0,"d":"0.00"}},null,null,{"$f":"Таблица2[[#This Row],[14]]+Таблица2[[#This Row],[15]]","v":{"v":0,"d":"0.00"}}]
[406,{"$nulls":8},{"$f":"Таблица2[[#This Row],[11]]+Таблица2[[#This Row],[12]]","v":{"v":0,"d":"0.00"}},null,null,{"$f":"Таблица2[[#This Row],[14]]+Таблица2[[#This Row],[15]]","v":{"v":0,"d":"0.00"}}]
[407,{"$nulls":8},{"$f":"Таблица2[[#This Row],[11]]+Таблица2[[#This Row],[12]]","v":{"v":0,"d":"0.00"}},null,null,{"$f":"Таблица2[[#This Row],[14]]+Таблица2[[#This Row],[15]]","v":{"v":0,"d":"0.00"}}]
[408,{"$nulls":8},{"$f":"Таблица2[[#This Row],[11]]+Таблица2[[#This Row],[12]]","v":{"v":0,"d":"0.00"}},null,null,{"$f":"Таблица2[[#This Row],[14]]+Таблица2[[#This Row],[15]]","v":{"v":0,"d":"0.00"}}]
[409,{"$nulls":8},{"$f":"Таблица2[[#This Row],[11]]+Таблица2[[#This Row],[12]]","v":{"v":0,"d":"0.00"}},null,null,{"$f":"Таблица2[[#This Row],[14]]+Таблица2[[#This Row],[15]]","v":{"v":0,"d":"0.00"}}]
[410,{"$nulls":8},{"$f":"Таблица2[[#This Row],[11]]+Таблица2[[#This Row],[12]]","v":{"v":0,"d":"0.00"}},null,null,{"$f":"Таблица2[[#This Row],[14]]+Таблица2[[#This Row],[15]]","v":{"v":0,"d":"0.00"}}]
[411,{"$nulls":8},{"$f":"Таблица2[[#This Row],[11]]+Таблица2[[#This Row],[12]]","v":{"v":0,"d":"0.00"}},null,null,{"$f":"Таблица2[[#This Row],[14]]+Таблица2[[#This Row],[15]]","v":{"v":0,"d":"0.00"}}]
[412,{"$nulls":8},{"$f":"Таблица2[[#This Row],[11]]+Таблица2[[#This Row],[12]]","v":{"v":0,"d":"0.00"}},null,null,{"$f":"Таблица2[[#This Row],[14]]+Таблица2[[#This Row],[15]]","v":{"v":0,"d":"0.00"}}]
[413,{"$nulls":8},{"$f":"Таблица2[[#This Row],[11]]+Таблица2[[#This Row],[12]]","v":{"v":0,"d":"0.00"}},null,null,{"$f":"Таблица2[[#This Row],[14]]+Таблица2[[#This Row],[15]]","v":{"v":0,"d":"0.00"}}]
[414,{"$nulls":8},{"$f":"Таблица2[[#This Row],[11]]+Таблица2[[#This Row],[12]]","v":{"v":0,"d":"0.00"}},null,null,{"$f":"Таблица2[[#This Row],[14]]+Таблица2[[#This Row],[15]]","v":{"v":0,"d":"0.00"}}]
[415,{"$nulls":8},{"$f":"Таблица2[[#This Row],[11]]+Таблица2[[#This Row],[12]]","v":{"v":0,"d":"0.00"}},null,null,{"$f":"Таблица2[[#This Row],[14]]+Таблица2[[#This Row],[15]]","v":{"v":0,"d":"0.00"}}]
[416,{"$nulls":8},{"$f":"Таблица2[[#This Row],[11]]+Таблица2[[#This Row],[12]]","v":{"v":0,"d":"0.00"}},null,null,{"$f":"Таблица2[[#This Row],[14]]+Таблица2[[#This Row],[15]]","v":{"v":0,"d":"0.00"}}]
[417,{"$nulls":8},{"$f":"Таблица2[[#This Row],[11]]+Таблица2[[#This Row],[12]]","v":{"v":0,"d":"0.00"}},null,null,{"$f":"Таблица2[[#This Row],[14]]+Таблица2[[#This Row],[15]]","v":{"v":0,"d":"0.00"}}]
[418,{"$nulls":8},{"$f":"Таблица2[[#This Row],[11]]+Таблица2[[#This Row],[12]]","v":{"v":0,"d":"0.00"}},null,null,{"$f":"Таблица2[[#This Row],[14]]+Таблица2[[#This Row],[15]]","v":{"v":0,"d":"0.00"}}]
[419,{"$nulls":8},{"$f":"Таблица2[[#This Row],[11]]+Таблица2[[#This Row],[12]]","v":{"v":0,"d":"0.00"}},null,null,{"$f":"Таблица2[[#This Row],[14]]+Таблица2[[#This Row],[15]]","v":{"v":0,"d":"0.00"}}]
[420,{"$nulls":8},{"$f":"Таблица2[[#This Row],[11]]+Таблица2[[#This Row],[12]]","v":{"v":0,"d":"0.00"}},null,null,{"$f":"Таблица2[[#This Row],[14]]+Таблица2[[#This Row],[15]]","v":{"v":0,"d":"0.00"}}]
[421,{"$nulls":8},{"$f":"Таблица2[[#This Row],[11]]+Таблица2[[#This Row],[12]]","v":{"v":0,"d":"0.00"}},null,null,{"$f":"Таблица2[[#This Row],[14]]+Таблица2[[#This Row],[15]]","v":{"v":0,"d":"0.00"}}]
[422,{"$nulls":8},{"$f":"Таблица2[[#This Row],[11]]+Таблица2[[#This Row],[12]]","v":{"v":0,"d":"0.00"}},null,null,{"$f":"Таблица2[[#This Row],[14]]+Таблица2[[#This Row],[15]]","v":{"v":0,"d":"0.00"}}]
[423,{"$nulls":8},{"$f":"Таблица2[[#This Row],[11]]+Таблица2[[#This Row],[12]]","v":{"v":0,"d":"0.00"}},null,null,{"$f":"Таблица2[[#This Row],[14]]+Таблица2[[#This Row],[15]]","v":{"v":0,"d":"0.00"}}]
[424,{"$nulls":8},{"$f":"Таблица2[[#This Row],[11]]+Таблица2[[#This Row],[12]]","v":{"v":0,"d":"0.00"}},null,null,{"$f":"Таблица2[[#This Row],[14]]+Таблица2[[#This Row],[15]]","v":{"v":0,"d":"0.00"}}]
[425,{"$nulls":8},{"$f":"Таблица2[[#This Row],[11]]+Таблица2[[#This Row],[12]]","v":{"v":0,"d":"0.00"}},null,null,{"$f":"Таблица2[[#This Row],[14]]+Таблица2[[#This Row],[15]]","v":{"v":0,"d":"0.00"}}]
[426,{"$nulls":8},{"$f":"Таблица2[[#This Row],[11]]+Таблица2[[#This Row],[12]]","v":{"v":0,"d":"0.00"}},null,null,{"$f":"Таблица2[[#This Row],[14]]+Таблица2[[#This Row],[15]]","v":{"v":0,"d":"0.00"}}]
[427,{"$nulls":8},{"$f":"Таблица2[[#This Row],[11]]+Таблица2[[#This Row],[12]]","v":{"v":0,"d":"0.00"}},null,null,{"$f":"Таблица2[[#This Row],[14]]+Таблица2[[#This Row],[15]]","v":{"v":0,"d":"0.00"}}]
[428,{"$nulls":8},{"$f":"Таблица2[[#This Row],[11]]+Таблица2[[#This Row],[12]]","v":{"v":0,"d":"0.00"}},null,null,{"$f":"Таблица2[[#This Row],[14]]+Таблица2[[#This Row],[15]]","v":{"v":0,"d":"0.00"}}]
[429,{"$nulls":8},{"$f":"Таблица2[[#This Row],[11]]+Таблица2[[#This Row],[12]]","v":{"v":0,"d":"0.00"}},null,null,{"$f":"Таблица2[[#This Row],[14]]+Таблица2[[#This Row],[15]]","v":{"v":0,"d":"0.00"}}]
[430,{"$nulls":8},{"$f":"Таблица2[[#This Row],[11]]+Таблица2[[#This Row],[12]]","v":{"v":0,"d":"0.00"}},null,null,{"$f":"Таблица2[[#This Row],[14]]+Таблица2[[#This Row],[15]]","v":{"v":0,"d":"0.00"}}]
[431,{"$nulls":8},{"$f":"Таблица2[[#This Row],[11]]+Таблица2[[#This Row],[12]]","v":{"v":0,"d":"0.00"}},null,null,{"$f":"Таблица2[[#This Row],[14]]+Таблица2[[#This Row],[15]]","v":{"v":0,"d":"0.00"}}]
[432,{"$nulls":8},{"$f":"Таблица2[[#This Row],[11]]+Таблица2[[#This Row],[12]]","v":{"v":0,"d":"0.00"}},null,null,{"$f":"Таблица2[[#This Row],[14]]+Таблица2[[#This Row],[15]]","v":{"v":0,"d":"0.00"}}]
[433,{"$nulls":8},{"$f":"Таблица2[[#This Row],[11]]+Таблица2[[#This Row],[12]]","v":{"v":0,"d":"0.00"}},null,null,{"$f":"Таблица2[[#This Row],[14]]+Таблица2[[#This Row],[15]]","v":{"v":0,"d":"0.00"}}]
[434,{"$nulls":8},{"$f":"Таблица2[[#This Row],[11]]+Таблица2[[#This Row],[12]]","v":{"v":0,"d":"0.00"}},null,null,{"$f":"Таблица2[[#This Row],[14]]+Таблица2[[#This Row],[15]]","v":{"v":0,"d":"0.00"}}]
[435,{"$nulls":8},{"$f":"Таблица2[[#This Row],[11]]+Таблица2[[#This Row],[12]]","v":{"v":0,"d":"0.00"}},null,null,{"$f":"Таблица2[[#This Row],[14]]+Таблица2[[#This Row],[15]]","v":{"v":0,"d":"0.00"}}]
[436,{"$nulls":8},{"$f":"Таблица2[[#This Row],[11]]+Таблица2[[#This Row],[12]]","v":{"v":0,"d":"0.00"}},null,null,{"$f":"Таблица2[[#This Row],[14]]+Таблица2[[#This Row],[15]]","v":{"v":0,"d":"0.00"}}]
[437,{"$nulls":8},{"$f":"Таблица2[[#This Row],[11]]+Таблица2[[#This Row],[12]]","v":{"v":0,"d":"0.00"}},null,null,{"$f":"Таблица2[[#This Row],[14]]+Таблица2[[#This Row],[15]]","v":{"v":0,"d":"0.00"}}]
[438,{"$nulls":8},{"$f":"Таблица2[[#This Row],[11]]+Таблица2[[#This Row],[12]]","v":{"v":0,"d":"0.00"}},null,null,{"$f":"Таблица2[[#This Row],[14]]+Таблица2[[#This Row],[15]]","v":{"v":0,"d":"0.00"}}]
[439,{"$nulls":8},{"$f":"Таблица2[[#This Row],[11]]+Таблица2[[#This Row],[12]]","v":{"v":0,"d":"0.00"}},null,null,{"$f":"Таблица2[[#This Row],[14]]+Таблица2[[#This Row],[15]]","v":{"v":0,"d":"0.00"}}]
[440,{"$nulls":8},{"$f":"Таблица2[[#This Row],[11]]+Таблица2[[#This Row],[12]]","v":{"v":0,"d":"0.00"}},null,null,{"$f":"Таблица2[[#This Row],[14]]+Таблица2[[#This Row],[15]]","v":{"v":0,"d":"0.00"}}]
[441,{"$nulls":8},{"$f":"Таблица2[[#This Row],[11]]+Таблица2[[#This Row],[12]]","v":{"v":0,"d":"0.00"}},null,null,{"$f":"Таблица2[[#This Row],[14]]+Таблица2[[#This Row],[15]]","v":{"v":0,"d":"0.00"}}]
[442,{"$nulls":8},{"$f":"Таблица2[[#This Row],[11]]+Таблица2[[#This Row],[12]]","v":{"v":0,"d":"0.00"}},null,null,{"$f":"Таблица2[[#This Row],[14]]+Таблица2[[#This Row],[15]]","v":{"v":0,"d":"0.00"}}]
[443,{"$nulls":8},{"$f":"Таблица2[[#This Row],[11]]+Таблица2[[#This Row],[12]]","v":{"v":0,"d":"0.00"}},null,null,{"$f":"Таблица2[[#This Row],[14]]+Таблица2[[#This Row],[15]]","v":{"v":0,"d":"0.00"}}]
[444,{"$nulls":8},{"$f":"Таблица2[[#This Row],[11]]+Таблица2[[#This Row],[12]]","v":{"v":0,"d":"0.00"}},null,null,{"$f":"Таблица2[[#This Row],[14]]+Таблица2[[#This Row],[15]]","v":{"v":0,"d":"0.00"}}]
[445,{"$nulls":8},{"$f":"Таблица2[[#This Row],[11]]+Таблица2[[#This Row],[12]]","v":{"v":0,"d":"0.00"}},null,null,{"$f":"Таблица2[[#This Row],[14]]+Таблица2[[#This Row],[15]]","v":{"v":0,"d":"0.00"}}]
[446,{"$nulls":8},{"$f":"Таблица2[[#This Row],[11]]+Таблица2[[#This Row],[12]]","v":{"v":0,"d":"0.00"}},null,null,{"$f":"Таблица2[[#This Row],[14]]+Таблица2[[#This Row],[15]]","v":{"v":0,"d":"0.00"}}]
[447,{"$nulls":8},{"$f":"Таблица2[[#This Row],[11]]+Таблица2[[#This Row],[12]]","v":{"v":0,"d":"0.00"}},null,null,{"$f":"Таблица2[[#This Row],[14]]+Таблица2[[#This Row],[15]]","v":{"v":0,"d":"0.00"}}]
[448,{"$nulls":8},{"$f":"Таблица2[[#This Row],[11]]+Таблица2[[#This Row],[12]]","v":{"v":0,"d":"0.00"}},null,null,{"$f":"Таблица2[[#This Row],[14]]+Таблица2[[#This Row],[15]]","v":{"v":0,"d":"0.00"}}]
[449,{"$nulls":8},{"$f":"Таблица2[[#This Row],[11]]+Таблица2[[#This Row],[12]]","v":{"v":0,"d":"0.00"}},null,null,{"$f":"Таблица2[[#This Row],[14]]+Таблица2[[#This Row],[15]]","v":{"v":0,"d":"0.00"}}]
[450,{"$nulls":8},{"$f":"Таблица2[[#This Row],[11]]+Таблица2[[#This Row],[12]]","v":{"v":0,"d":"0.00"}},null,null,{"$f":"Таблица2[[#This Row],[14]]+Таблица2[[#This Row],[15]]","v":{"v":0,"d":"0.00"}}]
[451,{"$nulls":8},{"$f":"Таблица2[[#This Row],[11]]+Таблица2[[#This Row],[12]]","v":{"v":0,"d":"0.00"}},null,null,{"$f":"Таблица2[[#This Row],[14]]+Таблица2[[#This Row],[15]]","v":{"v":0,"d":"0.00"}}]
[452,{"$nulls":8},{"$f":"Таблица2[[#This Row],[11]]+Таблица2[[#This Row],[12]]","v":{"v":0,"d":"0.00"}},null,null,{"$f":"Таблица2[[#This Row],[14]]+Таблица2[[#This Row],[15]]","v":{"v":0,"d":"0.00"}}]
[453,{"$nulls":8},{"$f":"Таблица2[[#This Row],[11]]+Таблица2[[#This Row],[12]]","v":{"v":0,"d":"0.00"}},null,null,{"$f":"Таблица2[[#This Row],[14]]+Таблица2[[#This Row],[15]]","v":{"v":0,"d":"0.00"}}]
[454,{"$nulls":8},{"$f":"Таблица2[[#This Row],[11]]+Таблица2[[#This Row],[12]]","v":{"v":0,"d":"0.00"}},null,null,{"$f":"Таблица2[[#This Row],[14]]+Таблица2[[#This Row],[15]]","v":{"v":0,"d":"0.00"}}]
[455,{"$nulls":8},{"$f":"Таблица2[[#This Row],[11]]+Таблица2[[#This Row],[12]]","v":{"v":0,"d":"0.00"}},null,null,{"$f":"Таблица2[[#This Row],[14]]+Таблица2[[#This Row],[15]]","v":{"v":0,"d":"0.00"}}]
[456,{"$nulls":8},{"$f":"Таблица2[[#This Row],[11]]+Таблица2[[#This Row],[12]]","v":{"v":0,"d":"0.00"}},null,null,{"$f":"Таблица2[[#This Row],[14]]+Таблица2[[#This Row],[15]]","v":{"v":0,"d":"0.00"}}]
[457,{"$nulls":8},{"$f":"Таблица2[[#This Row],[11]]+Таблица2[[#This Row],[12]]","v":{"v":0,"d":"0.00"}},null,null,{"$f":"Таблица2[[#This Row],[14]]+Таблица2[[#This Row],[15]]","v":{"v":0,"d":"0.00"}}]
[458,{"$nulls":8},{"$f":"Таблица2[[#This Row],[11]]+Таблица2[[#This Row],[12]]","v":{"v":0,"d":"0.00"}},null,null,{"$f":"Таблица2[[#This Row],[14]]+Таблица2[[#This Row],[15]]","v":{"v":0,"d":"0.00"}}]
[459,{"$nulls":8},{"$f":"Таблица2[[#This Row],[11]]+Таблица2[[#This Row],[12]]","v":{"v":0,"d":"0.00"}},null,null,{"$f":"Таблица2[[#This Row],[14]]+Таблица2[[#This Row],[15]]","v":{"v":0,"d":"0.00"}}]
[460,{"$nulls":8},{"$f":"Таблица2[[#This Row],[11]]+Таблица2[[#This Row],[12]]","v":{"v":0,"d":"0.00"}},null,null,{"$f":"Таблица2[[#This Row],[14]]+Таблица2[[#This Row],[15]]","v":{"v":0,"d":"0.00"}}]
[461,{"$nulls":8},{"$f":"Таблица2[[#This Row],[11]]+Таблица2[[#This Row],[12]]","v":{"v":0,"d":"0.00"}},null,null,{"$f":"Таблица2[[#This Row],[14]]+Таблица2[[#This Row],[15]]","v":{"v":0,"d":"0.00"}}]
[462,{"$nulls":8},{"$f":"Таблица2[[#This Row],[11]]+Таблица2[[#This Row],[12]]","v":{"v":0,"d":"0.00"}},null,null,{"$f":"Таблица2[[#This Row],[14]]+Таблица2[[#This Row],[15]]","v":{"v":0,"d":"0.00"}}]
[463,{"$nulls":8},{"$f":"Таблица2[[#This Row],[11]]+Таблица2[[#This Row],[12]]","v":{"v":0,"d":"0.00"}},null,null,{"$f":"Таблица2[[#This Row],[14]]+Таблица2[[#This Row],[15]]","v":{"v":0,"d":"0.00"}}]
[464,{"$nulls":8},{"$f":"Таблица2[[#This Row],[11]]+Таблица2[[#This Row],[12]]","v":{"v":0,"d":"0.00"}},null,null,{"$f":"Таблица2[[#This Row],[14]]+Таблица2[[#This Row],[15]]","v":{"v":0,"d":"0.00"}}]
[465,{"$nulls":8},{"$f":"Таблица2[[#This Row],[11]]+Таблица2[[#This Row],[12]]","v":{"v":0,"d":"0.00"}},null,null,{"$f":"Таблица2[[#This Row],[14]]+Таблица2[[#This Row],[15]]","v":{"v":0,"d":"0.00"}}]
[466,{"$nulls":8},{"$f":"Таблица2[[#This Row],[11]]+Таблица2[[#This Row],[12]]","v":{"v":0,"d":"0.00"}},null,null,{"$f":"Таблица2[[#This Row],[14]]+Таблица2[[#This Row],[15]]","v":{"v":0,"d":"0.00"}}]
[467,{"$nulls":8},{"$f":"Таблица2[[#This Row],[11]]+Таблица2[[#This Row],[12]]","v":{"v":0,"d":"0.00"}},null,null,{"$f":"Таблица2[[#This Row],[14]]+Таблица2[[#This Row],[15]]","v":{"v":0,"d":"0.00"}}]
[468,{"$nulls":8},{"$f":"Таблица2[[#This Row],[11]]+Таблица2[[#This Row],[12]]","v":{"v":0,"d":"0.00"}},null,null,{"$f":"Таблица2[[#This Row],[14]]+Таблица2[[#This Row],[15]]","v":{"v":0,"d":"0.00"}}]
[469,{"$nulls":8},{"$f":"Таблица2[[#This Row],[11]]+Таблица2[[#This Row],[12]]","v":{"v":0,"d":"0.00"}},null,null,{"$f":"Таблица2[[#This Row],[14]]+Таблица2[[#This Row],[15]]","v":{"v":0,"d":"0.00"}}]
[470,{"$nulls":8},{"$f":"Таблица2[[#This Row],[11]]+Таблица2[[#This Row],[12]]","v":{"v":0,"d":"0.00"}},null,null,{"$f":"Таблица2[[#This Row],[14]]+Таблица2[[#This Row],[15]]","v":{"v":0,"d":"0.00"}}]
[471,{"$nulls":8},{"$f":"Таблица2[[#This Row],[11]]+Таблица2[[#This Row],[12]]","v":{"v":0,"d":"0.00"}},null,null,{"$f":"Таблица2[[#This Row],[14]]+Таблица2[[#This Row],[15]]","v":{"v":0,"d":"0.00"}}]
[472,{"$nulls":8},{"$f":"Таблица2[[#This Row],[11]]+Таблица2[[#This Row],[12]]","v":{"v":0,"d":"0.00"}},null,null,{"$f":"Таблица2[[#This Row],[14]]+Таблица2[[#This Row],[15]]","v":{"v":0,"d":"0.00"}}]
[473,{"$nulls":8},{"$f":"Таблица2[[#This Row],[11]]+Таблица2[[#This Row],[12]]","v":{"v":0,"d":"0.00"}},null,null,{"$f":"Таблица2[[#This Row],[14]]+Таблица2[[#This Row],[15]]","v":{"v":0,"d":"0.00"}}]
[474,{"$nulls":8},{"$f":"Таблица2[[#This Row],[11]]+Таблица2[[#This Row],[12]]","v":{"v":0,"d":"0.00"}},null,null,{"$f":"Таблица2[[#This Row],[14]]+Таблица2[[#This Row],[15]]","v":{"v":0,"d":"0.00"}}]
[475,{"$nulls":8},{"$f":"Таблица2[[#This Row],[11]]+Таблица2[[#This Row],[12]]","v":{"v":0,"d":"0.00"}},null,null,{"$f":"Таблица2[[#This Row],[14]]+Таблица2[[#This Row],[15]]","v":{"v":0,"d":"0.00"}}]
[476,{"$nulls":8},{"$f":"Таблица2[[#This Row],[11]]+Таблица2[[#This Row],[12]]","v":{"v":0,"d":"0.00"}},null,null,{"$f":"Таблица2[[#This Row],[14]]+Таблица2[[#This Row],[15]]","v":{"v":0,"d":"0.00"}}]
[477,{"$nulls":8},{"$f":"Таблица2[[#This Row],[11]]+Таблица2[[#This Row],[12]]","v":{"v":0,"d":"0.00"}},null,null,{"$f":"Таблица2[[#This Row],[14]]+Таблица2[[#This Row],[15]]","v":{"v":0,"d":"0.00"}}]
[478,{"$nulls":8},{"$f":"Таблица2[[#This Row],[11]]+Таблица2[[#This Row],[12]]","v":{"v":0,"d":"0.00"}},null,null,{"$f":"Таблица2[[#This Row],[14]]+Таблица2[[#This Row],[15]]","v":{"v":0,"d":"0.00"}}]
[479,{"$nulls":8},{"$f":"Таблица2[[#This Row],[11]]+Таблица2[[#This Row],[12]]","v":{"v":0,"d":"0.00"}},null,null,{"$f":"Таблица2[[#This Row],[14]]+Таблица2[[#This Row],[15]]","v":{"v":0,"d":"0.00"}}]
[480,{"$nulls":8},{"$f":"Таблица2[[#This Row],[11]]+Таблица2[[#This Row],[12]]","v":{"v":0,"d":"0.00"}},null,null,{"$f":"Таблица2[[#This Row],[14]]+Таблица2[[#This Row],[15]]","v":{"v":0,"d":"0.00"}}]
[481,{"$nulls":8},{"$f":"Таблица2[[#This Row],[11]]+Таблица2[[#This Row],[12]]","v":{"v":0,"d":"0.00"}},null,null,{"$f":"Таблица2[[#This Row],[14]]+Таблица2[[#This Row],[15]]","v":{"v":0,"d":"0.00"}}]
[482,{"$nulls":8},{"$f":"Таблица2[[#This Row],[11]]+Таблица2[[#This Row],[12]]","v":{"v":0,"d":"0.00"}},null,null,{"$f":"Таблица2[[#This Row],[14]]+Таблица2[[#This Row],[15]]","v":{"v":0,"d":"0.00"}}]
[483,{"$nulls":8},{"$f":"Таблица2[[#This Row],[11]]+Таблица2[[#This Row],[12]]","v":{"v":0,"d":"0.00"}},null,null,{"$f":"Таблица2[[#This Row],[14]]+Таблица2[[#This Row],[15]]","v":{"v":0,"d":"0.00"}}]
[484,{"$nulls":8},{"$f":"Таблица2[[#This Row],[11]]+Таблица2[[#This Row],[12]]","v":{"v":0,"d":"0.00"}},null,null,{"$f":"Таблица2[[#This Row],[14]]+Таблица2[[#This Row],[15]]","v":{"v":0,"d":"0.00"}}]
[485,{"$nulls":8},{"$f":"Таблица2[[#This Row],[11]]+Таблица2[[#This Row],[12]]","v":{"v":0,"d":"0.00"}},null,null,{"$f":"Таблица2[[#This Row],[14]]+Таблица2[[#This Row],[15]]","v":{"v":0,"d":"0.00"}}]
[486,{"$nulls":8},{"$f":"Таблица2[[#This Row],[11]]+Таблица2[[#This Row],[12]]","v":{"v":0,"d":"0.00"}},null,null,{"$f":"Таблица2[[#This Row],[14]]+Таблица2[[#This Row],[15]]","v":{"v":0,"d":"0.00"}}]
[487,{"$nulls":8},{"$f":"Таблица2[[#This Row],[11]]+Таблица2[[#This Row],[12]]","v":{"v":0,"d":"0.00"}},null,null,{"$f":"Таблица2[[#This Row],[14]]+Таблица2[[#This Row],[15]]","v":{"v":0,"d":"0.00"}}]
[488,{"$nulls":8},{"$f":"Таблица2[[#This Row],[11]]+Таблица2[[#This Row],[12]]","v":{"v":0,"d":"0.00"}},null,null,{"$f":"Таблица2[[#This Row],[14]]+Таблица2[[#This Row],[15]]","v":{"v":0,"d":"0.00"}}]
[489,{"$nulls":8},{"$f":"Таблица2[[#This Row],[11]]+Таблица2[[#This Row],[12]]","v":{"v":0,"d":"0.00"}},null,null,{"$f":"Таблица2[[#This Row],[14]]+Таблица2[[#This Row],[15]]","v":{"v":0,"d":"0.00"}}]
[490,{"$nulls":8},{"$f":"Таблица2[[#This Row],[11]]+Таблица2[[#This Row],[12]]","v":{"v":0,"d":"0.00"}},null,null,{"$f":"Таблица2[[#This Row],[14]]+Таблица2[[#This Row],[15]]","v":{"v":0,"d":"0.00"}}]
[491,{"$nulls":8},{"$f":"Таблица2[[#This Row],[11]]+Таблица2[[#This Row],[12]]","v":{"v":0,"d":"0.00"}},null,null,{"$f":"Таблица2[[#This Row],[14]]+Таблица2[[#This Row],[15]]","v":{"v":0,"d":"0.00"}}]
[492,{"$nulls":8},{"$f":"Таблица2[[#This Row],[11]]+Таблица2[[#This Row],[12]]","v":{"v":0,"d":"0.00"}},null,null,{"$f":"Таблица2[[#This Row],[14]]+Таблица2[[#This Row],[15]]","v":{"v":0,"d":"0.00"}}]
[493,{"$nulls":8},{"$f":"Таблица2[[#This Row],[11]]+Таблица2[[#This Row],[12]]","v":{"v":0,"d":"0.00"}},null,null,{"$f":"Таблица2[[#This Row],[14]]+Таблица2[[#This Row],[15]]","v":{"v":0,"d":"0.00"}}]
[494,{"$nulls":8},{"$f":"Таблица2[[#This Row],[11]]+Таблица2[[#This Row],[12]]","v":{"v":0,"d":"0.00"}},null,null,{"$f":"Таблица2[[#This Row],[14]]+Таблица2[[#This Row],[15]]","v":{"v":0,"d":"0.00"}}]
[495,{"$nulls":8},{"$f":"Таблица2[[#This Row],[11]]+Таблица2[[#This Row],[12]]","v":{"v":0,"d":"0.00"}},null,null,{"$f":"Таблица2[[#This Row],[14]]+Таблица2[[#This Row],[15]]","v":{"v":0,"d":"0.00"}}]
[496,{"$nulls":8},{"$f":"Таблица2[[#This Row],[11]]+Таблица2[[#This Row],[12]]","v":{"v":0,"d":"0.00"}},null,null,{"$f":"Таблица2[[#This Row],[14]]+Таблица2[[#This Row],[15]]","v":{"v":0,"d":"0.00"}}]
[497,{"$nulls":8},{"$f":"Таблица2[[#This Row],[11]]+Таблица2[[#This Row],[12]]","v":{"v":0,"d":"0.00"}},null,null,{"$f":"Таблица2[[#This Row],[14]]+Таблица2[[#This Row],[15]]","v":{"v":0,"d":"0.00"}}]
[498,{"$nulls":8},{"$f":"Таблица2[[#This Row],[11]]+Таблица2[[#This Row],[12]]","v":{"v":0,"d":"0.00"}},null,null,{"$f":"Таблица2[[#This Row],[14]]+Таблица2[[#This Row],[15]]","v":{"v":0,"d":"0.00"}}]
[499,{"$nulls":8},{"$f":"Таблица2[[#This Row],[11]]+Таблица2[[#This Row],[12]]","v":{"v":0,"d":"0.00"}},null,null,{"$f":"Таблица2[[#This Row],[14]]+Таблица2[[#This Row],[15]]","v":{"v":0,"d":"0.00"}}]
[500,{"$nulls":8},{"$f":"Таблица2[[#This Row],[11]]+Таблица2[[#This Row],[12]]","v":{"v":0,"d":"0.00"}},null,null,{"$f":"Таблица2[[#This Row],[14]]+Таблица2[[#This Row],[15]]","v":{"v":0,"d":"0.00"}}]
[501,{"$nulls":8},{"$f":"Таблица2[[#This Row],[11]]+Таблица2[[#This Row],[12]]","v":{"v":0,"d":"0.00"}},null,null,{"$f":"Таблица2[[#This Row],[14]]+Таблица2[[#This Row],[15]]","v":{"v":0,"d":"0.00"}}]
[502,{"$nulls":8},{"$f":"Таблица2[[#This Row],[11]]+Таблица2[[#This Row],[12]]","v":{"v":0,"d":"0.00"}},null,null,{"$f":"Таблица2[[#This Row],[14]]+Таблица2[[#This Row],[15]]","v":{"v":0,"d":"0.00"}}]
[503,{"$nulls":8},{"$f":"Таблица2[[#This Row],[11]]+Таблица2[[#This Row],[12]]","v":{"v":0,"d":"0.00"}},null,null,{"$f":"Таблица2[[#This Row],[14]]+Таблица2[[#This Row],[15]]","v":{"v":0,"d":"0.00"}}]
[504,{"$nulls":8},{"$f":"Таблица2[[#This Row],[11]]+Таблица2[[#This Row],[12]]","v":{"v":0,"d":"0.00"}},null,null,{"$f":"Таблица2[[#This Row],[14]]+Таблица2[[#This Row],[15]]","v":{"v":0,"d":"0.00"}}]
[505,{"$nulls":8},{"$f":"Таблица2[[#This Row],[11]]+Таблица2[[#This Row],[12]]","v":{"v":0,"d":"0.00"}},null,null,{"$f":"Таблица2[[#This Row],[14]]+Таблица2[[#This Row],[15]]","v":{"v":0,"d":"0.00"}}]
[506,{"$nulls":8},{"$f":"Таблица2[[#This Row],[11]]+Таблица2[[#This Row],[12]]","v":{"v":0,"d":"0.00"}},null,null,{"$f":"Таблица2[[#This Row],[14]]+Таблица2[[#This Row],[15]]","v":{"v":0,"d":"0.00"}}]
[507,{"$nulls":8},{"$f":"Таблица2[[#This Row],[11]]+Таблица2[[#This Row],[12]]","v":{"v":0,"d":"0.00"}},null,null,{"$f":"Таблица2[[#This Row],[14]]+Таблица2[[#This Row],[15]]","v":{"v":0,"d":"0.00"}}]
[508,{"$nulls":8},{"$f":"Таблица2[[#This Row],[11]]+Таблица2[[#This Row],[12]]","v":{"v":0,"d":"0.00"}},null,null,{"$f":"Таблица2[[#This Row],[14]]+Таблица2[[#This Row],[15]]","v":{"v":0,"d":"0.00"}}]
[509,{"$nulls":8},{"$f":"Таблица2[[#This Row],[11]]+Таблица2[[#This Row],[12]]","v":{"v":0,"d":"0.00"}},null,null,{"$f":"Таблица2[[#This Row],[14]]+Таблица2[[#This Row],[15]]","v":{"v":0,"d":"0.00"}}]
[510,{"$nulls":8},{"$f":"Таблица2[[#This Row],[11]]+Таблица2[[#This Row],[12]]","v":{"v":0,"d":"0.00"}},null,null,{"$f":"Таблица2[[#This Row],[14]]+Таблица2[[#This Row],[15]]","v":{"v":0,"d":"0.00"}}]
[511,{"$nulls":8},{"$f":"Таблица2[[#This Row],[11]]+Таблица2[[#This Row],[12]]","v":{"v":0,"d":"0.00"}},null,null,{"$f":"Таблица2[[#This Row],[14]]+Таблица2[[#This Row],[15]]","v":{"v":0,"d":"0.00"}}]
[512,{"$nulls":8},{"$f":"Таблица2[[#This Row],[11]]+Таблица2[[#This Row],[12]]","v":{"v":0,"d":"0.00"}},null,null,{"$f":"Таблица2[[#This Row],[14]]+Таблица2[[#This Row],[15]]","v":{"v":0,"d":"0.00"}}]
[513,{"$nulls":8},{"$f":"Таблица2[[#This Row],[11]]+Таблица2[[#This Row],[12]]","v":{"v":0,"d":"0.00"}},null,null,{"$f":"Таблица2[[#This Row],[14]]+Таблица2[[#This Row],[15]]","v":{"v":0,"d":"0.00"}}]
[514,{"$nulls":8},{"$f":"Таблица2[[#This Row],[11]]+Таблица2[[#This Row],[12]]","v":{"v":0,"d":"0.00"}},null,null,{"$f":"Таблица2[[#This Row],[14]]+Таблица2[[#This Row],[15]]","v":{"v":0,"d":"0.00"}}]
[515,{"$nulls":8},{"$f":"Таблица2[[#This Row],[11]]+Таблица2[[#This Row],[12]]","v":{"v":0,"d":"0.00"}},null,null,{"$f":"Таблица2[[#This Row],[14]]+Таблица2[[#This Row],[15]]","v":{"v":0,"d":"0.00"}}]
[516,{"$nulls":8},{"$f":"Таблица2[[#This Row],[11]]+Таблица2[[#This Row],[12]]","v":{"v":0,"d":"0.00"}},null,null,{"$f":"Таблица2[[#This Row],[14]]+Таблица2[[#This Row],[15]]","v":{"v":0,"d":"0.00"}}]
[517,{"$nulls":8},{"$f":"Таблица2[[#This Row],[11]]+Таблица2[[#This Row],[12]]","v":{"v":0,"d":"0.00"}},null,null,{"$f":"Таблица2[[#This Row],[14]]+Таблица2[[#This Row],[15]]","v":{"v":0,"d":"0.00"}}]
[518,{"$nulls":8},{"$f":"Таблица2[[#This Row],[11]]+Таблица2[[#This Row],[12]]","v":{"v":0,"d":"0.00"}},null,null,{"$f":"Таблица2[[#This Row],[14]]+Таблица2[[#This Row],[15]]","v":{"v":0,"d":"0.00"}}]
[519,{"$nulls":8},{"$f":"Таблица2[[#This Row],[11]]+Таблица2[[#This Row],[12]]","v":{"v":0,"d":"0.00"}},null,null,{"$f":"Таблица2[[#This Row],[14]]+Таблица2[[#This Row],[15]]","v":{"v":0,"d":"0.00"}}]
[520,{"$nulls":8},{"$f":"Таблица2[[#This Row],[11]]+Таблица2[[#This Row],[12]]","v":{"v":0,"d":"0.00"}},null,null,{"$f":"Таблица2[[#This Row],[14]]+Таблица2[[#This Row],[15]]","v":{"v":0,"d":"0.00"}}]
[521,{"$nulls":8},{"$f":"Таблица2[[#This Row],[11]]+Таблица2[[#This Row],[12]]","v":{"v":0,"d":"0.00"}},null,null,{"$f":"Таблица2[[#This Row],[14]]+Таблица2[[#This Row],[15]]","v":{"v":0,"d":"0.00"}}]
[522,{"$nulls":8},{"$f":"Таблица2[[#This Row],[11]]+Таблица2[[#This Row],[12]]","v":{"v":0,"d":"0.00"}},null,null,{"$f":"Таблица2[[#This Row],[14]]+Таблица2[[#This Row],[15]]","v":{"v":0,"d":"0.00"}}]
[523,{"$nulls":8},{"$f":"Таблица2[[#This Row],[11]]+Таблица2[[#This Row],[12]]","v":{"v":0,"d":"0.00"}},null,null,{"$f":"Таблица2[[#This Row],[14]]+Таблица2[[#This Row],[15]]","v":{"v":0,"d":"0.00"}}]
[524,{"$nulls":8},{"$f":"Таблица2[[#This Row],[11]]+Таблица2[[#This Row],[12]]","v":{"v":0,"d":"0.00"}},null,null,{"$f":"Таблица2[[#This Row],[14]]+Таблица2[[#This Row],[15]]","v":{"v":0,"d":"0.00"}}]
[525,{"$nulls":8},{"$f":"Таблица2[[#This Row],[11]]+Таблица2[[#This Row],[12]]","v":{"v":0,"d":"0.00"}},null,null,{"$f":"Таблица2[[#This Row],[14]]+Таблица2[[#This Row],[15]]","v":{"v":0,"d":"0.00"}}]
[526,{"$nulls":8},{"$f":"Таблица2[[#This Row],[11]]+Таблица2[[#This Row],[12]]","v":{"v":0,"d":"0.00"}},null,null,{"$f":"Таблица2[[#This Row],[14]]+Таблица2[[#This Row],[15]]","v":{"v":0,"d":"0.00"}}]
[527,{"$nulls":8},{"$f":"Таблица2[[#This Row],[11]]+Таблица2[[#This Row],[12]]","v":{"v":0,"d":"0.00"}},null,null,{"$f":"Таблица2[[#This Row],[14]]+Таблица2[[#This Row],[15]]","v":{"v":0,"d":"0.00"}}]
[528,{"$nulls":8},{"$f":"Таблица2[[#This Row],[11]]+Таблица2[[#This Row],[12]]","v":{"v":0,"d":"0.00"}},null,null,{"$f":"Таблица2[[#This Row],[14]]+Таблица2[[#This Row],[15]]","v":{"v":0,"d":"0.00"}}]
[529,{"$nulls":8},{"$f":"Таблица2[[#This Row],[11]]+Таблица2[[#This Row],[12]]","v":{"v":0,"d":"0.00"}},null,null,{"$f":"Таблица2[[#This Row],[14]]+Таблица2[[#This Row],[15]]","v":{"v":0,"d":"0.00"}}]
[530,{"$nulls":8},{"$f":"Таблица2[[#This Row],[11]]+Таблица2[[#This Row],[12]]","v":{"v":0,"d":"0.00"}},null,null,{"$f":"Таблица2[[#This Row],[14]]+Таблица2[[#This Row],[15]]","v":{"v":0,"d":"0.00"}}]
[531,{"$nulls":8},{"$f":"Таблица2[[#This Row],[11]]+Таблица2[[#This Row],[12]]","v":{"v":0,"d":"0.00"}},null,null,{"$f":"Таблица2[[#This Row],[14]]+Таблица2[[#This Row],[15]]","v":{"v":0,"d":"0.00"}}]
[532,{"$nulls":8},{"$f":"Таблица2[[#This Row],[11]]+Таблица2[[#This Row],[12]]","v":{"v":0,"d":"0.00"}},null,null,{"$f":"Таблица2[[#This Row],[14]]+Таблица2[[#This Row],[15]]","v":{"v":0,"d":"0.00"}}]
[533,{"$nulls":8},{"$f":"Таблица2[[#This Row],[11]]+Таблица2[[#This Row],[12]]","v":{"v":0,"d":"0.00"}},null,null,{"$f":"Таблица2[[#This Row],[14]]+Таблица2[[#This Row],[15]]","v":{"v":0,"d":"0.00"}}]
[534,{"$nulls":8},{"$f":"Таблица2[[#This Row],[11]]+Таблица2[[#This Row],[12]]","v":{"v":0,"d":"0.00"}},null,null,{"$f":"Таблица2[[#This Row],[14]]+Таблица2[[#This Row],[15]]","v":{"v":0,"d":"0.00"}}]
[535,{"$nulls":8},{"$f":"Таблица2[[#This Row],[11]]+Таблица2[[#This Row],[12]]","v":{"v":0,"d":"0.00"}},null,null,{"$f":"Таблица2[[#This Row],[14]]+Таблица2[[#This Row],[15]]","v":{"v":0,"d":"0.00"}}]
[536,{"$nulls":8},{"$f":"Таблица2[[#This Row],[11]]+Таблица2[[#This Row],[12]]","v":{"v":0,"d":"0.00"}},null,null,{"$f":"Таблица2[[#This Row],[14]]+Таблица2[[#This Row],[15]]","v":{"v":0,"d":"0.00"}}]
[537,{"$nulls":8},{"$f":"Таблица2[[#This Row],[11]]+Таблица2[[#This Row],[12]]","v":{"v":0,"d":"0.00"}},null,null,{"$f":"Таблица2[[#This Row],[14]]+Таблица2[[#This Row],[15]]","v":{"v":0,"d":"0.00"}}]
[538,{"$nulls":8},{"$f":"Таблица2[[#This Row],[11]]+Таблица2[[#This Row],[12]]","v":{"v":0,"d":"0.00"}},null,null,{"$f":"Таблица2[[#This Row],[14]]+Таблица2[[#This Row],[15]]","v":{"v":0,"d":"0.00"}}]
[539,{"$nulls":8},{"$f":"Таблица2[[#This Row],[11]]+Таблица2[[#This Row],[12]]","v":{"v":0,"d":"0.00"}},null,null,{"$f":"Таблица2[[#This Row],[14]]+Таблица2[[#This Row],[15]]","v":{"v":0,"d":"0.00"}}]
[540,{"$nulls":8},{"$f":"Таблица2[[#This Row],[11]]+Таблица2[[#This Row],[12]]","v":{"v":0,"d":"0.00"}},null,null,{"$f":"Таблица2[[#This Row],[14]]+Таблица2[[#This Row],[15]]","v":{"v":0,"d":"0.00"}}]
[541,{"$nulls":8},{"$f":"Таблица2[[#This Row],[11]]+Таблица2[[#This Row],[12]]","v":{"v":0,"d":"0.00"}},null,null,{"$f":"Таблица2[[#This Row],[14]]+Таблица2[[#This Row],[15]]","v":{"v":0,"d":"0.00"}}]
[542,{"$nulls":8},{"$f":"Таблица2[[#This Row],[11]]+Таблица2[[#This Row],[12]]","v":{"v":0,"d":"0.00"}},null,null,{"$f":"Таблица2[[#This Row],[14]]+Таблица2[[#This Row],[15]]","v":{"v":0,"d":"0.00"}}]
[543,{"$nulls":8},{"$f":"Таблица2[[#This Row],[11]]+Таблица2[[#This Row],[12]]","v":{"v":0,"d":"0.00"}},null,null,{"$f":"Таблица2[[#This Row],[14]]+Таблица2[[#This Row],[15]]","v":{"v":0,"d":"0.00"}}]
[544,{"$nulls":8},{"$f":"Таблица2[[#This Row],[11]]+Таблица2[[#This Row],[12]]","v":{"v":0,"d":"0.00"}},null,null,{"$f":"Таблица2[[#This Row],[14]]+Таблица2[[#This Row],[15]]","v":{"v":0,"d":"0.00"}}]
[545,{"$nulls":8},{"$f":"Таблица2[[#This Row],[11]]+Таблица2[[#This Row],[12]]","v":{"v":0,"d":"0.00"}},null,null,{"$f":"Таблица2[[#This Row],[14]]+Таблица2[[#This Row],[15]]","v":{"v":0,"d":"0.00"}}]
[546,{"$nulls":8},{"$f":"Таблица2[[#This Row],[11]]+Таблица2[[#This Row],[12]]","v":{"v":0,"d":"0.00"}},null,null,{"$f":"Таблица2[[#This Row],[14]]+Таблица2[[#This Row],[15]]","v":{"v":0,"d":"0.00"}}]
[547,{"$nulls":8},{"$f":"Таблица2[[#This Row],[11]]+Таблица2[[#This Row],[12]]","v":{"v":0,"d":"0.00"}},null,null,{"$f":"Таблица2[[#This Row],[14]]+Таблица2[[#This Row],[15]]","v":{"v":0,"d":"0.00"}}]
[548,{"$nulls":8},{"$f":"Таблица2[[#This Row],[11]]+Таблица2[[#This Row],[12]]","v":{"v":0,"d":"0.00"}},null,null,{"$f":"Таблица2[[#This Row],[14]]+Таблица2[[#This Row],[15]]","v":{"v":0,"d":"0.00"}}]
[549,{"$nulls":8},{"$f":"Таблица2[[#This Row],[11]]+Таблица2[[#This Row],[12]]","v":{"v":0,"d":"0.00"}},null,null,{"$f":"Таблица2[[#This Row],[14]]+Таблица2[[#This Row],[15]]","v":{"v":0,"d":"0.00"}}]
[550,{"$nulls":8},{"$f":"Таблица2[[#This Row],[11]]+Таблица2[[#This Row],[12]]","v":{"v":0,"d":"0.00"}},null,null,{"$f":"Таблица2[[#This Row],[14]]+Таблица2[[#This Row],[15]]","v":{"v":0,"d":"0.00"}}]
[551,{"$nulls":8},{"$f":"Таблица2[[#This Row],[11]]+Таблица2[[#This Row],[12]]","v":{"v":0,"d":"0.00"}},null,null,{"$f":"Таблица2[[#This Row],[14]]+Таблица2[[#This Row],[15]]","v":{"v":0,"d":"0.00"}}]
[552,{"$nulls":8},{"$f":"Таблица2[[#This Row],[11]]+Таблица2[[#This Row],[12]]","v":{"v":0,"d":"0.00"}},null,null,{"$f":"Таблица2[[#This Row],[14]]+Таблица2[[#This Row],[15]]","v":{"v":0,"d":"0.00"}}]
[553,{"$nulls":8},{"$f":"Таблица2[[#This Row],[11]]+Таблица2[[#This Row],[12]]","v":{"v":0,"d":"0.00"}},null,null,{"$f":"Таблица2[[#This Row],[14]]+Таблица2[[#This Row],[15]]","v":{"v":0,"d":"0.00"}}]
[554,{"$nulls":8},{"$f":"Таблица2[[#This Row],[11]]+Таблица2[[#This Row],[12]]","v":{"v":0,"d":"0.00"}},null,null,{"$f":"Таблица2[[#This Row],[14]]+Таблица2[[#This Row],[15]]","v":{"v":0,"d":"0.00"}}]
[555,{"$nulls":8},{"$f":"Таблица2[[#This Row],[11]]+Таблица2[[#This Row],[12]]","v":{"v":0,"d":"0.00"}},null,null,{"$f":"Таблица2[[#This Row],[14]]+Таблица2[[#This Row],[15]]","v":{"v":0,"d":"0.00"}}]
[556,{"$nulls":8},{"$f":"Таблица2[[#This Row],[11]]+Таблица2[[#This Row],[12]]","v":{"v":0,"d":"0.00"}},null,null,{"$f":"Таблица2[[#This Row],[14]]+Таблица2[[#This Row],[15]]","v":{"v":0,"d":"0.00"}}]
[557,{"$nulls":8},{"$f":"Таблица2[[#This Row],[11]]+Таблица2[[#This Row],[12]]","v":{"v":0,"d":"0.00"}},null,null,{"$f":"Таблица2[[#This Row],[14]]+Таблица2[[#This Row],[15]]","v":{"v":0,"d":"0.00"}}]
[558,{"$nulls":8},{"$f":"Таблица2[[#This Row],[11]]+Таблица2[[#This Row],[12]]","v":{"v":0,"d":"0.00"}},null,null,{"$f":"Таблица2[[#This Row],[14]]+Таблица2[[#This Row],[15]]","v":{"v":0,"d":"0.00"}}]
[559,{"$nulls":8},{"$f":"Таблица2[[#This Row],[11]]+Таблица2[[#This Row],[12]]","v":{"v":0,"d":"0.00"}},null,null,{"$f":"Таблица2[[#This Row],[14]]+Таблица2[[#This Row],[15]]","v":{"v":0,"d":"0.00"}}]
[560,{"$nulls":8},{"$f":"Таблица2[[#This Row],[11]]+Таблица2[[#This Row],[12]]","v":{"v":0,"d":"0.00"}},null,null,{"$f":"Таблица2[[#This Row],[14]]+Таблица2[[#This Row],[15]]","v":{"v":0,"d":"0.00"}}]
[561,{"$nulls":8},{"$f":"Таблица2[[#This Row],[11]]+Таблица2[[#This Row],[12]]","v":{"v":0,"d":"0.00"}},null,null,{"$f":"Таблица2[[#This Row],[14]]+Таблица2[[#This Row],[15]]","v":{"v":0,"d":"0.00"}}]
[562,{"$nulls":8},{"$f":"Таблица2[[#This Row],[11]]+Таблица2[[#This Row],[12]]","v":{"v":0,"d":"0.00"}},null,null,{"$f":"Таблица2[[#This Row],[14]]+Таблица2[[#This Row],[15]]","v":{"v":0,"d":"0.00"}}]
[563,{"$nulls":8},{"$f":"Таблица2[[#This Row],[11]]+Таблица2[[#This Row],[12]]","v":{"v":0,"d":"0.00"}},null,null,{"$f":"Таблица2[[#This Row],[14]]+Таблица2[[#This Row],[15]]","v":{"v":0,"d":"0.00"}}]
[564,{"$nulls":8},{"$f":"Таблица2[[#This Row],[11]]+Таблица2[[#This Row],[12]]","v":{"v":0,"d":"0.00"}},null,null,{"$f":"Таблица2[[#This Row],[14]]+Таблица2[[#This Row],[15]]","v":{"v":0,"d":"0.00"}}]
[565,{"$nulls":8},{"$f":"Таблица2[[#This Row],[11]]+Таблица2[[#This Row],[12]]","v":{"v":0,"d":"0.00"}},null,null,{"$f":"Таблица2[[#This Row],[14]]+Таблица2[[#This Row],[15]]","v":{"v":0,"d":"0.00"}}]
[566,{"$nulls":8},{"$f":"Таблица2[[#This Row],[11]]+Таблица2[[#This Row],[12]]","v":{"v":0,"d":"0.00"}},null,null,{"$f":"Таблица2[[#This Row],[14]]+Таблица2[[#This Row],[15]]","v":{"v":0,"d":"0.00"}}]
[567,{"$nulls":8},{"$f":"Таблица2[[#This Row],[11]]+Таблица2[[#This Row],[12]]","v":{"v":0,"d":"0.00"}},null,null,{"$f":"Таблица2[[#This Row],[14]]+Таблица2[[#This Row],[15]]","v":{"v":0,"d":"0.00"}}]
[568,{"$nulls":8},{"$f":"Таблица2[[#This Row],[11]]+Таблица2[[#This Row],[12]]","v":{"v":0,"d":"0.00"}},null,null,{"$f":"Таблица2[[#This Row],[14]]+Таблица2[[#This Row],[15]]","v":{"v":0,"d":"0.00"}}]
[569,{"$nulls":8},{"$f":"Таблица2[[#This Row],[11]]+Таблица2[[#This Row],[12]]","v":{"v":0,"d":"0.00"}},null,null,{"$f":"Таблица2[[#This Row],[14]]+Таблица2[[#This Row],[15]]","v":{"v":0,"d":"0.00"}}]
[570,{"$nulls":8},{"$f":"Таблица2[[#This Row],[11]]+Таблица2[[#This Row],[12]]","v":{"v":0,"d":"0.00"}},null,null,{"$f":"Таблица2[[#This Row],[14]]+Таблица2[[#This Row],[15]]","v":{"v":0,"d":"0.00"}}]
[571,{"$nulls":8},{"$f":"Таблица2[[#This Row],[11]]+Таблица2[[#This Row],[12]]","v":{"v":0,"d":"0.00"}},null,null,{"$f":"Таблица2[[#This Row],[14]]+Таблица2[[#This Row],[15]]","v":{"v":0,"d":"0.00"}}]
[572,{"$nulls":8},{"$f":"Таблица2[[#This Row],[11]]+Таблица2[[#This Row],[12]]","v":{"v":0,"d":"0.00"}},null,null,{"$f":"Таблица2[[#This Row],[14]]+Таблица2[[#This Row],[15]]","v":{"v":0,"d":"0.00"}}]
[573,{"$nulls":8},{"$f":"Таблица2[[#This Row],[11]]+Таблица2[[#This Row],[12]]","v":{"v":0,"d":"0.00"}},null,null,{"$f":"Таблица2[[#This Row],[14]]+Таблица2[[#This Row],[15]]","v":{"v":0,"d":"0.00"}}]
[574,{"$nulls":8},{"$f":"Таблица2[[#This Row],[11]]+Таблица2[[#This Row],[12]]","v":{"v":0,"d":"0.00"}},null,null,{"$f":"Таблица2[[#This Row],[14]]+Таблица2[[#This Row],[15]]","v":{"v":0,"d":"0.00"}}]
[575,{"$nulls":8},{"$f":"Таблица2[[#This Row],[11]]+Таблица2[[#This Row],[12]]","v":{"v":0,"d":"0.00"}},null,null,{"$f":"Таблица2[[#This Row],[14]]+Таблица2[[#This Row],[15]]","v":{"v":0,"d":"0.00"}}]
[576,{"$nulls":8},{"$f":"Таблица2[[#This Row],[11]]+Таблица2[[#This Row],[12]]","v":{"v":0,"d":"0.00"}},null,null,{"$f":"Таблица2[[#This Row],[14]]+Таблица2[[#This Row],[15]]","v":{"v":0,"d":"0.00"}}]
[577,{"$nulls":8},{"$f":"Таблица2[[#This Row],[11]]+Таблица2[[#This Row],[12]]","v":{"v":0,"d":"0.00"}},null,null,{"$f":"Таблица2[[#This Row],[14]]+Таблица2[[#This Row],[15]]","v":{"v":0,"d":"0.00"}}]
[578,{"$nulls":8},{"$f":"Таблица2[[#This Row],[11]]+Таблица2[[#This Row],[12]]","v":{"v":0,"d":"0.00"}},null,null,{"$f":"Таблица2[[#This Row],[14]]+Таблица2[[#This Row],[15]]","v":{"v":0,"d":"0.00"}}]
[579,{"$nulls":8},{"$f":"Таблица2[[#This Row],[11]]+Таблица2[[#This Row],[12]]","v":{"v":0,"d":"0.00"}},null,null,{"$f":"Таблица2[[#This Row],[14]]+Таблица2[[#This Row],[15]]","v":{"v":0,"d":"0.00"}}]
[580,{"$nulls":8},{"$f":"Таблица2[[#This Row],[11]]+Таблица2[[#This Row],[12]]","v":{"v":0,"d":"0.00"}},null,null,{"$f":"Таблица2[[#This Row],[14]]+Таблица2[[#This Row],[15]]","v":{"v":0,"d":"0.00"}}]
[581,{"$nulls":8},{"$f":"Таблица2[[#This Row],[11]]+Таблица2[[#This Row],[12]]","v":{"v":0,"d":"0.00"}},null,null,{"$f":"Таблица2[[#This Row],[14]]+Таблица2[[#This Row],[15]]","v":{"v":0,"d":"0.00"}}]
[582,{"$nulls":8},{"$f":"Таблица2[[#This Row],[11]]+Таблица2[[#This Row],[12]]","v":{"v":0,"d":"0.00"}},null,null,{"$f":"Таблица2[[#This Row],[14]]+Таблица2[[#This Row],[15]]","v":{"v":0,"d":"0.00"}}]
[583,{"$nulls":8},{"$f":"Таблица2[[#This Row],[11]]+Таблица2[[#This Row],[12]]","v":{"v":0,"d":"0.00"}},null,null,{"$f":"Таблица2[[#This Row],[14]]+Таблица2[[#This Row],[15]]","v":{"v":0,"d":"0.00"}}]
[584,{"$nulls":8},{"$f":"Таблица2[[#This Row],[11]]+Таблица2[[#This Row],[12]]","v":{"v":0,"d":"0.00"}},null,null,{"$f":"Таблица2[[#This Row],[14]]+Таблица2[[#This Row],[15]]","v":{"v":0,"d":"0.00"}}]
[585,{"$nulls":8},{"$f":"Таблица2[[#This Row],[11]]+Таблица2[[#This Row],[12]]","v":{"v":0,"d":"0.00"}},null,null,{"$f":"Таблица2[[#This Row],[14]]+Таблица2[[#This Row],[15]]","v":{"v":0,"d":"0.00"}}]
[586,{"$nulls":8},{"$f":"Таблица2[[#This Row],[11]]+Таблица2[[#This Row],[12]]","v":{"v":0,"d":"0.00"}},null,null,{"$f":"Таблица2[[#This Row],[14]]+Таблица2[[#This Row],[15]]","v":{"v":0,"d":"0.00"}}]
[587,{"$nulls":8},{"$f":"Таблица2[[#This Row],[11]]+Таблица2[[#This Row],[12]]","v":{"v":0,"d":"0.00"}},null,null,{"$f":"Таблица2[[#This Row],[14]]+Таблица2[[#This Row],[15]]","v":{"v":0,"d":"0.00"}}]
[588,{"$nulls":8},{"$f":"Таблица2[[#This Row],[11]]+Таблица2[[#This Row],[12]]","v":{"v":0,"d":"0.00"}},null,null,{"$f":"Таблица2[[#This Row],[14]]+Таблица2[[#This Row],[15]]","v":{"v":0,"d":"0.00"}}]
[589,{"$nulls":8},{"$f":"Таблица2[[#This Row],[11]]+Таблица2[[#This Row],[12]]","v":{"v":0,"d":"0.00"}},null,null,{"$f":"Таблица2[[#This Row],[14]]+Таблица2[[#This Row],[15]]","v":{"v":0,"d":"0.00"}}]
[590,{"$nulls":8},{"$f":"Таблица2[[#This Row],[11]]+Таблица2[[#This Row],[12]]","v":{"v":0,"d":"0.00"}},null,null,{"$f":"Таблица2[[#This Row],[14]]+Таблица2[[#This Row],[15]]","v":{"v":0,"d":"0.00"}}]
[591,{"$nulls":8},{"$f":"Таблица2[[#This Row],[11]]+Таблица2[[#This Row],[12]]","v":{"v":0,"d":"0.00"}},null,null,{"$f":"Таблица2[[#This Row],[14]]+Таблица2[[#This Row],[15]]","v":{"v":0,"d":"0.00"}}]
[592,{"$nulls":8},{"$f":"Таблица2[[#This Row],[11]]+Таблица2[[#This Row],[12]]","v":{"v":0,"d":"0.00"}},null,null,{"$f":"Таблица2[[#This Row],[14]]+Таблица2[[#This Row],[15]]","v":{"v":0,"d":"0.00"}}]
[593,{"$nulls":8},{"$f":"Таблица2[[#This Row],[11]]+Таблица2[[#This Row],[12]]","v":{"v":0,"d":"0.00"}},null,null,{"$f":"Таблица2[[#This Row],[14]]+Таблица2[[#This Row],[15]]","v":{"v":0,"d":"0.00"}}]
[594,{"$nulls":8},{"$f":"Таблица2[[#This Row],[11]]+Таблица2[[#This Row],[12]]","v":{"v":0,"d":"0.00"}},null,null,{"$f":"Таблица2[[#This Row],[14]]+Таблица2[[#This Row],[15]]","v":{"v":0,"d":"0.00"}}]
[595,{"$nulls":8},{"$f":"Таблица2[[#This Row],[11]]+Таблица2[[#This Row],[12]]","v":{"v":0,"d":"0.00"}},null,null,{"$f":"Таблица2[[#This Row],[14]]+Таблица2[[#This Row],[15]]","v":{"v":0,"d":"0.00"}}]
[596,{"$nulls":8},{"$f":"Таблица2[[#This Row],[11]]+Таблица2[[#This Row],[12]]","v":{"v":0,"d":"0.00"}},null,null,{"$f":"Таблица2[[#This Row],[14]]+Таблица2[[#This Row],[15]]","v":{"v":0,"d":"0.00"}}]
[597,{"$nulls":8},{"$f":"Таблица2[[#This Row],[11]]+Таблица2[[#This Row],[12]]","v":{"v":0,"d":"0.00"}},null,null,{"$f":"Таблица2[[#This Row],[14]]+Таблица2[[#This Row],[15]]","v":{"v":0,"d":"0.00"}}]
[598,{"$nulls":8},{"$f":"Таблица2[[#This Row],[11]]+Таблица2[[#This Row],[12]]","v":{"v":0,"d":"0.00"}},null,null,{"$f":"Таблица2[[#This Row],[14]]+Таблица2[[#This Row],[15]]","v":{"v":0,"d":"0.00"}}]
[599,{"$nulls":8},{"$f":"Таблица2[[#This Row],[11]]+Таблица2[[#This Row],[12]]","v":{"v":0,"d":"0.00"}},null,null,{"$f":"Таблица2[[#This Row],[14]]+Таблица2[[#This Row],[15]]","v":{"v":0,"d":"0.00"}}]
[600,{"$nulls":8},{"$f":"Таблица2[[#This Row],[11]]+Таблица2[[#This Row],[12]]","v":{"v":0,"d":"0.00"}},null,null,{"$f":"Таблица2[[#This Row],[14]]+Таблица2[[#This Row],[15]]","v":{"v":0,"d":"0.00"}}]
[601,{"$nulls":8},{"$f":"Таблица2[[#This Row],[11]]+Таблица2[[#This Row],[12]]","v":{"v":0,"d":"0.00"}},null,null,{"$f":"Таблица2[[#This Row],[14]]+Таблица2[[#This Row],[15]]","v":{"v":0,"d":"0.00"}}]
[602,{"$nulls":8},{"$f":"Таблица2[[#This Row],[11]]+Таблица2[[#This Row],[12]]","v":{"v":0,"d":"0.00"}},null,null,{"$f":"Таблица2[[#This Row],[14]]+Таблица2[[#This Row],[15]]","v":{"v":0,"d":"0.00"}}]
[603,{"$nulls":8},{"$f":"Таблица2[[#This Row],[11]]+Таблица2[[#This Row],[12]]","v":{"v":0,"d":"0.00"}},null,null,{"$f":"Таблица2[[#This Row],[14]]+Таблица2[[#This Row],[15]]","v":{"v":0,"d":"0.00"}}]
[604,{"$nulls":8},{"$f":"Таблица2[[#This Row],[11]]+Таблица2[[#This Row],[12]]","v":{"v":0,"d":"0.00"}},null,null,{"$f":"Таблица2[[#This Row],[14]]+Таблица2[[#This Row],[15]]","v":{"v":0,"d":"0.00"}}]
[605,{"$nulls":8},{"$f":"Таблица2[[#This Row],[11]]+Таблица2[[#This Row],[12]]","v":{"v":0,"d":"0.00"}},null,null,{"$f":"Таблица2[[#This Row],[14]]+Таблица2[[#This Row],[15]]","v":{"v":0,"d":"0.00"}}]
[606,{"$nulls":8},{"$f":"Таблица2[[#This Row],[11]]+Таблица2[[#This Row],[12]]","v":{"v":0,"d":"0.00"}},null,null,{"$f":"Таблица2[[#This Row],[14]]+Таблица2[[#This Row],[15]]","v":{"v":0,"d":"0.00"}}]
[607,{"$nulls":8},{"$f":"Таблица2[[#This Row],[11]]+Таблица2[[#This Row],[12]]","v":{"v":0,"d":"0.00"}},null,null,{"$f":"Таблица2[[#This Row],[14]]+Таблица2[[#This Row],[15]]","v":{"v":0,"d":"0.00"}}]
[608,{"$nulls":8},{"$f":"Таблица2[[#This Row],[11]]+Таблица2[[#This Row],[12]]","v":{"v":0,"d":"0.00"}},null,null,{"$f":"Таблица2[[#This Row],[14]]+Таблица2[[#This Row],[15]]","v":{"v":0,"d":"0.00"}}]
[609,{"$nulls":8},{"$f":"Таблица2[[#This Row],[11]]+Таблица2[[#This Row],[12]]","v":{"v":0,"d":"0.00"}},null,null,{"$f":"Таблица2[[#This Row],[14]]+Таблица2[[#This Row],[15]]","v":{"v":0,"d":"0.00"}}]
[610,{"$nulls":8},{"$f":"Таблица2[[#This Row],[11]]+Таблица2[[#This Row],[12]]","v":{"v":0,"d":"0.00"}},null,null,{"$f":"Таблица2[[#This Row],[14]]+Таблица2[[#This Row],[15]]","v":{"v":0,"d":"0.00"}}]
[611,{"$nulls":8},{"$f":"Таблица2[[#This Row],[11]]+Таблица2[[#This Row],[12]]","v":{"v":0,"d":"0.00"}},null,null,{"$f":"Таблица2[[#This Row],[14]]+Таблица2[[#This Row],[15]]","v":{"v":0,"d":"0.00"}}]
[612,{"$nulls":8},{"$f":"Таблица2[[#This Row],[11]]+Таблица2[[#This Row],[12]]","v":{"v":0,"d":"0.00"}},null,null,{"$f":"Таблица2[[#This Row],[14]]+Таблица2[[#This Row],[15]]","v":{"v":0,"d":"0.00"}}]
[613,{"$nulls":8},{"$f":"Таблица2[[#This Row],[11]]+Таблица2[[#This Row],[12]]","v":{"v":0,"d":"0.00"}},null,null,{"$f":"Таблица2[[#This Row],[14]]+Таблица2[[#This Row],[15]]","v":{"v":0,"d":"0.00"}}]
[614,{"$nulls":8},{"$f":"Таблица2[[#This Row],[11]]+Таблица2[[#This Row],[12]]","v":{"v":0,"d":"0.00"}},null,null,{"$f":"Таблица2[[#This Row],[14]]+Таблица2[[#This Row],[15]]","v":{"v":0,"d":"0.00"}}]
[615,{"$nulls":8},{"$f":"Таблица2[[#This Row],[11]]+Таблица2[[#This Row],[12]]","v":{"v":0,"d":"0.00"}},null,null,{"$f":"Таблица2[[#This Row],[14]]+Таблица2[[#This Row],[15]]","v":{"v":0,"d":"0.00"}}]
[616,{"$nulls":8},{"$f":"Таблица2[[#This Row],[11]]+Таблица2[[#This Row],[12]]","v":{"v":0,"d":"0.00"}},null,null,{"$f":"Таблица2[[#This Row],[14]]+Таблица2[[#This Row],[15]]","v":{"v":0,"d":"0.00"}}]
[617,{"$nulls":8},{"$f":"Таблица2[[#This Row],[11]]+Таблица2[[#This Row],[12]]","v":{"v":0,"d":"0.00"}},null,null,{"$f":"Таблица2[[#This Row],[14]]+Таблица2[[#This Row],[15]]","v":{"v":0,"d":"0.00"}}]
[618,{"$nulls":8},{"$f":"Таблица2[[#This Row],[11]]+Таблица2[[#This Row],[12]]","v":{"v":0,"d":"0.00"}},null,null,{"$f":"Таблица2[[#This Row],[14]]+Таблица2[[#This Row],[15]]","v":{"v":0,"d":"0.00"}}]
[619,{"$nulls":8},{"$f":"Таблица2[[#This Row],[11]]+Таблица2[[#This Row],[12]]","v":{"v":0,"d":"0.00"}},null,null,{"$f":"Таблица2[[#This Row],[14]]+Таблица2[[#This Row],[15]]","v":{"v":0,"d":"0.00"}}]
[620,{"$nulls":8},{"$f":"Таблица2[[#This Row],[11]]+Таблица2[[#This Row],[12]]","v":{"v":0,"d":"0.00"}},null,null,{"$f":"Таблица2[[#This Row],[14]]+Таблица2[[#This Row],[15]]","v":{"v":0,"d":"0.00"}}]
[621,{"$nulls":8},{"$f":"Таблица2[[#This Row],[11]]+Таблица2[[#This Row],[12]]","v":{"v":0,"d":"0.00"}},null,null,{"$f":"Таблица2[[#This Row],[14]]+Таблица2[[#This Row],[15]]","v":{"v":0,"d":"0.00"}}]
[622,{"$nulls":8},{"$f":"Таблица2[[#This Row],[11]]+Таблица2[[#This Row],[12]]","v":{"v":0,"d":"0.00"}},null,null,{"$f":"Таблица2[[#This Row],[14]]+Таблица2[[#This Row],[15]]","v":{"v":0,"d":"0.00"}}]
[623,{"$nulls":8},{"$f":"Таблица2[[#This Row],[11]]+Таблица2[[#This Row],[12]]","v":{"v":0,"d":"0.00"}},null,null,{"$f":"Таблица2[[#This Row],[14]]+Таблица2[[#This Row],[15]]","v":{"v":0,"d":"0.00"}}]
[624,{"$nulls":8},{"$f":"Таблица2[[#This Row],[11]]+Таблица2[[#This Row],[12]]","v":{"v":0,"d":"0.00"}},null,null,{"$f":"Таблица2[[#This Row],[14]]+Таблица2[[#This Row],[15]]","v":{"v":0,"d":"0.00"}}]
[625,{"$nulls":8},{"$f":"Таблица2[[#This Row],[11]]+Таблица2[[#This Row],[12]]","v":{"v":0,"d":"0.00"}},null,null,{"$f":"Таблица2[[#This Row],[14]]+Таблица2[[#This Row],[15]]","v":{"v":0,"d":"0.00"}}]
[626,{"$nulls":8},{"$f":"Таблица2[[#This Row],[11]]+Таблица2[[#This Row],[12]]","v":{"v":0,"d":"0.00"}},null,null,{"$f":"Таблица2[[#This Row],[14]]+Таблица2[[#This Row],[15]]","v":{"v":0,"d":"0.00"}}]
[627,{"$nulls":8},{"$f":"Таблица2[[#This Row],[11]]+Таблица2[[#This Row],[12]]","v":{"v":0,"d":"0.00"}},null,null,{"$f":"Таблица2[[#This Row],[14]]+Таблица2[[#This Row],[15]]","v":{"v":0,"d":"0.00"}}]
[628,{"$nulls":8},{"$f":"Таблица2[[#This Row],[11]]+Таблица2[[#This Row],[12]]","v":{"v":0,"d":"0.00"}},null,null,{"$f":"Таблица2[[#This Row],[14]]+Таблица2[[#This Row],[15]]","v":{"v":0,"d":"0.00"}}]
[629,{"$nulls":8},{"$f":"Таблица2[[#This Row],[11]]+Таблица2[[#This Row],[12]]","v":{"v":0,"d":"0.00"}},null,null,{"$f":"Таблица2[[#This Row],[14]]+Таблица2[[#This Row],[15]]","v":{"v":0,"d":"0.00"}}]
[630,{"$nulls":8},{"$f":"Таблица2[[#This Row],[11]]+Таблица2[[#This Row],[12]]","v":{"v":0,"d":"0.00"}},null,null,{"$f":"Таблица2[[#This Row],[14]]+Таблица2[[#This Row],[15]]","v":{"v":0,"d":"0.00"}}]
[631,{"$nulls":8},{"$f":"Таблица2[[#This Row],[11]]+Таблица2[[#This Row],[12]]","v":{"v":0,"d":"0.00"}},null,null,{"$f":"Таблица2[[#This Row],[14]]+Таблица2[[#This Row],[15]]","v":{"v":0,"d":"0.00"}}]
[632,{"$nulls":8},{"$f":"Таблица2[[#This Row],[11]]+Таблица2[[#This Row],[12]]","v":{"v":0,"d":"0.00"}},null,null,{"$f":"Таблица2[[#This Row],[14]]+Таблица2[[#This Row],[15]]","v":{"v":0,"d":"0.00"}}]
[633,{"$nulls":8},{"$f":"Таблица2[[#This Row],[11]]+Таблица2[[#This Row],[12]]","v":{"v":0,"d":"0.00"}},null,null,{"$f":"Таблица2[[#This Row],[14]]+Таблица2[[#This Row],[15]]","v":{"v":0,"d":"0.00"}}]
[634,{"$nulls":8},{"$f":"Таблица2[[#This Row],[11]]+Таблица2[[#This Row],[12]]","v":{"v":0,"d":"0.00"}},null,null,{"$f":"Таблица2[[#This Row],[14]]+Таблица2[[#This Row],[15]]","v":{"v":0,"d":"0.00"}}]
[635,{"$nulls":8},{"$f":"Таблица2[[#This Row],[11]]+Таблица2[[#This Row],[12]]","v":{"v":0,"d":"0.00"}},null,null,{"$f":"Таблица2[[#This Row],[14]]+Таблица2[[#This Row],[15]]","v":{"v":0,"d":"0.00"}}]
[636,{"$nulls":8},{"$f":"Таблица2[[#This Row],[11]]+Таблица2[[#This Row],[12]]","v":{"v":0,"d":"0.00"}},null,null,{"$f":"Таблица2[[#This Row],[14]]+Таблица2[[#This Row],[15]]","v":{"v":0,"d":"0.00"}}]
[637,{"$nulls":8},{"$f":"Таблица2[[#This Row],[11]]+Таблица2[[#This Row],[12]]","v":{"v":0,"d":"0.00"}},null,null,{"$f":"Таблица2[[#This Row],[14]]+Таблица2[[#This Row],[15]]","v":{"v":0,"d":"0.00"}}]
[638,{"$nulls":8},{"$f":"Таблица2[[#This Row],[11]]+Таблица2[[#This Row],[12]]","v":{"v":0,"d":"0.00"}},null,null,{"$f":"Таблица2[[#This Row],[14]]+Таблица2[[#This Row],[15]]","v":{"v":0,"d":"0.00"}}]
[639,{"$nulls":8},{"$f":"Таблица2[[#This Row],[11]]+Таблица2[[#This Row],[12]]","v":{"v":0,"d":"0.00"}},null,null,{"$f":"Таблица2[[#This Row],[14]]+Таблица2[[#This Row],[15]]","v":{"v":0,"d":"0.00"}}]
[640,{"$nulls":8},{"$f":"Таблица2[[#This Row],[11]]+Таблица2[[#This Row],[12]]","v":{"v":0,"d":"0.00"}},null,null,{"$f":"Таблица2[[#This Row],[14]]+Таблица2[[#This Row],[15]]","v":{"v":0,"d":"0.00"}}]
[641,{"$nulls":8},{"$f":"Таблица2[[#This Row],[11]]+Таблица2[[#This Row],[12]]","v":{"v":0,"d":"0.00"}},null,null,{"$f":"Таблица2[[#This Row],[14]]+Таблица2[[#This Row],[15]]","v":{"v":0,"d":"0.00"}}]
[642,{"$nulls":8},{"$f":"Таблица2[[#This Row],[11]]+Таблица2[[#This Row],[12]]","v":{"v":0,"d":"0.00"}},null,null,{"$f":"Таблица2[[#This Row],[14]]+Таблица2[[#This Row],[15]]","v":{"v":0,"d":"0.00"}}]
[643,{"$nulls":8},{"$f":"Таблица2[[#This Row],[11]]+Таблица2[[#This Row],[12]]","v":{"v":0,"d":"0.00"}},null,null,{"$f":"Таблица2[[#This Row],[14]]+Таблица2[[#This Row],[15]]","v":{"v":0,"d":"0.00"}}]
[644,{"$nulls":8},{"$f":"Таблица2[[#This Row],[11]]+Таблица2[[#This Row],[12]]","v":{"v":0,"d":"0.00"}},null,null,{"$f":"Таблица2[[#This Row],[14]]+Таблица2[[#This Row],[15]]","v":{"v":0,"d":"0.00"}}]
[645,{"$nulls":8},{"$f":"Таблица2[[#This Row],[11]]+Таблица2[[#This Row],[12]]","v":{"v":0,"d":"0.00"}},null,null,{"$f":"Таблица2[[#This Row],[14]]+Таблица2[[#This Row],[15]]","v":{"v":0,"d":"0.00"}}]
[646,{"$nulls":8},{"$f":"Таблица2[[#This Row],[11]]+Таблица2[[#This Row],[12]]","v":{"v":0,"d":"0.00"}},null,null,{"$f":"Таблица2[[#This Row],[14]]+Таблица2[[#This Row],[15]]","v":{"v":0,"d":"0.00"}}]
[647,{"$nulls":8},{"$f":"Таблица2[[#This Row],[11]]+Таблица2[[#This Row],[12]]","v":{"v":0,"d":"0.00"}},null,null,{"$f":"Таблица2[[#This Row],[14]]+Таблица2[[#This Row],[15]]","v":{"v":0,"d":"0.00"}}]
[648,{"$nulls":8},{"$f":"Таблица2[[#This Row],[11]]+Таблица2[[#This Row],[12]]","v":{"v":0,"d":"0.00"}},null,null,{"$f":"Таблица2[[#This Row],[14]]+Таблица2[[#This Row],[15]]","v":{"v":0,"d":"0.00"}}]
[649,{"$nulls":8},{"$f":"Таблица2[[#This Row],[11]]+Таблица2[[#This Row],[12]]","v":{"v":0,"d":"0.00"}},null,null,{"$f":"Таблица2[[#This Row],[14]]+Таблица2[[#This Row],[15]]","v":{"v":0,"d":"0.00"}}]
[650,{"$nulls":8},{"$f":"Таблица2[[#This Row],[11]]+Таблица2[[#This Row],[12]]","v":{"v":0,"d":"0.00"}},null,null,{"$f":"Таблица2[[#This Row],[14]]+Таблица2[[#This Row],[15]]","v":{"v":0,"d":"0.00"}}]
[651,{"$nulls":8},{"$f":"Таблица2[[#This Row],[11]]+Таблица2[[#This Row],[12]]","v":{"v":0,"d":"0.00"}},null,null,{"$f":"Таблица2[[#This Row],[14]]+Таблица2[[#This Row],[15]]","v":{"v":0,"d":"0.00"}}]
[652,{"$nulls":8},{"$f":"Таблица2[[#This Row],[11]]+Таблица2[[#This Row],[12]]","v":{"v":0,"d":"0.00"}},null,null,{"$f":"Таблица2[[#This Row],[14]]+Таблица2[[#This Row],[15]]","v":{"v":0,"d":"0.00"}}]
[653,{"$nulls":8},{"$f":"Таблица2[[#This Row],[11]]+Таблица2[[#This Row],[12]]","v":{"v":0,"d":"0.00"}},null,null,{"$f":"Таблица2[[#This Row],[14]]+Таблица2[[#This Row],[15]]","v":{"v":0,"d":"0.00"}}]
[654,{"$nulls":8},{"$f":"Таблица2[[#This Row],[11]]+Таблица2[[#This Row],[12]]","v":{"v":0,"d":"0.00"}},null,null,{"$f":"Таблица2[[#This Row],[14]]+Таблица2[[#This Row],[15]]","v":{"v":0,"d":"0.00"}}]
[655,{"$nulls":8},{"$f":"Таблица2[[#This Row],[11]]+Таблица2[[#This Row],[12]]","v":{"v":0,"d":"0.00"}},null,null,{"$f":"Таблица2[[#This Row],[14]]+Таблица2[[#This Row],[15]]","v":{"v":0,"d":"0.00"}}]
[656,{"$nulls":8},{"$f":"Таблица2[[#This Row],[11]]+Таблица2[[#This Row],[12]]","v":{"v":0,"d":"0.00"}},null,null,{"$f":"Таблица2[[#This Row],[14]]+Таблица2[[#This Row],[15]]","v":{"v":0,"d":"0.00"}}]
[657,{"$nulls":8},{"$f":"Таблица2[[#This Row],[11]]+Таблица2[[#This Row],[12]]","v":{"v":0,"d":"0.00"}},null,null,{"$f":"Таблица2[[#This Row],[14]]+Таблица2[[#This Row],[15]]","v":{"v":0,"d":"0.00"}}]
[658,{"$nulls":8},{"$f":"Таблица2[[#This Row],[11]]+Таблица2[[#This Row],[12]]","v":{"v":0,"d":"0.00"}},null,null,{"$f":"Таблица2[[#This Row],[14]]+Таблица2[[#This Row],[15]]","v":{"v":0,"d":"0.00"}}]
[659,{"$nulls":8},{"$f":"Таблица2[[#This Row],[11]]+Таблица2[[#This Row],[12]]","v":{"v":0,"d":"0.00"}},null,null,{"$f":"Таблица2[[#This Row],[14]]+Таблица2[[#This Row],[15]]","v":{"v":0,"d":"0.00"}}]
[660,{"$nulls":8},{"$f":"Таблица2[[#This Row],[11]]+Таблица2[[#This Row],[12]]","v":{"v":0,"d":"0.00"}},null,null,{"$f":"Таблица2[[#This Row],[14]]+Таблица2[[#This Row],[15]]","v":{"v":0,"d":"0.00"}}]
[661,{"$nulls":8},{"$f":"Таблица2[[#This Row],[11]]+Таблица2[[#This Row],[12]]","v":{"v":0,"d":"0.00"}},null,null,{"$f":"Таблица2[[#This Row],[14]]+Таблица2[[#This Row],[15]]","v":{"v":0,"d":"0.00"}}]
[662,{"$nulls":8},{"$f":"Таблица2[[#This Row],[11]]+Таблица2[[#This Row],[12]]","v":{"v":0,"d":"0.00"}},null,null,{"$f":"Таблица2[[#This Row],[14]]+Таблица2[[#This Row],[15]]","v":{"v":0,"d":"0.00"}}]
[663,{"$nulls":8},{"$f":"Таблица2[[#This Row],[11]]+Таблица2[[#This Row],[12]]","v":{"v":0,"d":"0.00"}},null,null,{"$f":"Таблица2[[#This Row],[14]]+Таблица2[[#This Row],[15]]","v":{"v":0,"d":"0.00"}}]
[664,{"$nulls":8},{"$f":"Таблица2[[#This Row],[11]]+Таблица2[[#This Row],[12]]","v":{"v":0,"d":"0.00"}},null,null,{"$f":"Таблица2[[#This Row],[14]]+Таблица2[[#This Row],[15]]","v":{"v":0,"d":"0.00"}}]
[665,{"$nulls":8},{"$f":"Таблица2[[#This Row],[11]]+Таблица2[[#This Row],[12]]","v":{"v":0,"d":"0.00"}},null,null,{"$f":"Таблица2[[#This Row],[14]]+Таблица2[[#This Row],[15]]","v":{"v":0,"d":"0.00"}}]
[666,{"$nulls":8},{"$f":"Таблица2[[#This Row],[11]]+Таблица2[[#This Row],[12]]","v":{"v":0,"d":"0.00"}},null,null,{"$f":"Таблица2[[#This Row],[14]]+Таблица2[[#This Row],[15]]","v":{"v":0,"d":"0.00"}}]
[667,{"$nulls":8},{"$f":"Таблица2[[#This Row],[11]]+Таблица2[[#This Row],[12]]","v":{"v":0,"d":"0.00"}},null,null,{"$f":"Таблица2[[#This Row],[14]]+Таблица2[[#This Row],[15]]","v":{"v":0,"d":"0.00"}}]
[668,{"$nulls":8},{"$f":"Таблица2[[#This Row],[11]]+Таблица2[[#This Row],[12]]","v":{"v":0,"d":"0.00"}},null,null,{"$f":"Таблица2[[#This Row],[14]]+Таблица2[[#This Row],[15]]","v":{"v":0,"d":"0.00"}}]
[669,{"$nulls":8},{"$f":"Таблица2[[#This Row],[11]]+Таблица2[[#This Row],[12]]","v":{"v":0,"d":"0.00"}},null,null,{"$f":"Таблица2[[#This Row],[14]]+Таблица2[[#This Row],[15]]","v":{"v":0,"d":"0.00"}}]
[670,{"$nulls":8},{"$f":"Таблица2[[#This Row],[11]]+Таблица2[[#This Row],[12]]","v":{"v":0,"d":"0.00"}},null,null,{"$f":"Таблица2[[#This Row],[14]]+Таблица2[[#This Row],[15]]","v":{"v":0,"d":"0.00"}}]
[671,{"$nulls":8},{"$f":"Таблица2[[#This Row],[11]]+Таблица2[[#This Row],[12]]","v":{"v":0,"d":"0.00"}},null,null,{"$f":"Таблица2[[#This Row],[14]]+Таблица2[[#This Row],[15]]","v":{"v":0,"d":"0.00"}}]
[672,{"$nulls":8},{"$f":"Таблица2[[#This Row],[11]]+Таблица2[[#This Row],[12]]","v":{"v":0,"d":"0.00"}},null,null,{"$f":"Таблица2[[#This Row],[14]]+Таблица2[[#This Row],[15]]","v":{"v":0,"d":"0.00"}}]
[673,{"$nulls":8},{"$f":"Таблица2[[#This Row],[11]]+Таблица2[[#This Row],[12]]","v":{"v":0,"d":"0.00"}},null,null,{"$f":"Таблица2[[#This Row],[14]]+Таблица2[[#This Row],[15]]","v":{"v":0,"d":"0.00"}}]
[674,{"$nulls":8},{"$f":"Таблица2[[#This Row],[11]]+Таблица2[[#This Row],[12]]","v":{"v":0,"d":"0.00"}},null,null,{"$f":"Таблица2[[#This Row],[14]]+Таблица2[[#This Row],[15]]","v":{"v":0,"d":"0.00"}}]
[675,{"$nulls":8},{"$f":"Таблица2[[#This Row],[11]]+Таблица2[[#This Row],[12]]","v":{"v":0,"d":"0.00"}},null,null,{"$f":"Таблица2[[#This Row],[14]]+Таблица2[[#This Row],[15]]","v":{"v":0,"d":"0.00"}}]
[676,{"$nulls":8},{"$f":"Таблица2[[#This Row],[11]]+Таблица2[[#This Row],[12]]","v":{"v":0,"d":"0.00"}},null,null,{"$f":"Таблица2[[#This Row],[14]]+Таблица2[[#This Row],[15]]","v":{"v":0,"d":"0.00"}}]
[677,{"$nulls":8},{"$f":"Таблица2[[#This Row],[11]]+Таблица2[[#This Row],[12]]","v":{"v":0,"d":"0.00"}},null,null,{"$f":"Таблица2[[#This Row],[14]]+Таблица2[[#This Row],[15]]","v":{"v":0,"d":"0.00"}}]
[678,{"$nulls":8},{"$f":"Таблица2[[#This Row],[11]]+Таблица2[[#This Row],[12]]","v":{"v":0,"d":"0.00"}},null,null,{"$f":"Таблица2[[#This Row],[14]]+Таблица2[[#This Row],[15]]","v":{"v":0,"d":"0.00"}}]
[679,{"$nulls":8},{"$f":"Таблица2[[#This Row],[11]]+Таблица2[[#This Row],[12]]","v":{"v":0,"d":"0.00"}},null,null,{"$f":"Таблица2[[#This Row],[14]]+Таблица2[[#This Row],[15]]","v":{"v":0,"d":"0.00"}}]
[680,{"$nulls":8},{"$f":"Таблица2[[#This Row],[11]]+Таблица2[[#This Row],[12]]","v":{"v":0,"d":"0.00"}},null,null,{"$f":"Таблица2[[#This Row],[14]]+Таблица2[[#This Row],[15]]","v":{"v":0,"d":"0.00"}}]
[681,{"$nulls":8},{"$f":"Таблица2[[#This Row],[11]]+Таблица2[[#This Row],[12]]","v":{"v":0,"d":"0.00"}},null,null,{"$f":"Таблица2[[#This Row],[14]]+Таблица2[[#This Row],[15]]","v":{"v":0,"d":"0.00"}}]
[682,{"$nulls":8},{"$f":"Таблица2[[#This Row],[11]]+Таблица2[[#This Row],[12]]","v":{"v":0,"d":"0.00"}},null,null,{"$f":"Таблица2[[#This Row],[14]]+Таблица2[[#This Row],[15]]","v":{"v":0,"d":"0.00"}}]
[683,{"$nulls":8},{"$f":"Таблица2[[#This Row],[11]]+Таблица2[[#This Row],[12]]","v":{"v":0,"d":"0.00"}},null,null,{"$f":"Таблица2[[#This Row],[14]]+Таблица2[[#This Row],[15]]","v":{"v":0,"d":"0.00"}}]
[684,{"$nulls":8},{"$f":"Таблица2[[#This Row],[11]]+Таблица2[[#This Row],[12]]","v":{"v":0,"d":"0.00"}},null,null,{"$f":"Таблица2[[#This Row],[14]]+Таблица2[[#This Row],[15]]","v":{"v":0,"d":"0.00"}}]
[685,{"$nulls":8},{"$f":"Таблица2[[#This Row],[11]]+Таблица2[[#This Row],[12]]","v":{"v":0,"d":"0.00"}},null,null,{"$f":"Таблица2[[#This Row],[14]]+Таблица2[[#This Row],[15]]","v":{"v":0,"d":"0.00"}}]
[686,{"$nulls":8},{"$f":"Таблица2[[#This Row],[11]]+Таблица2[[#This Row],[12]]","v":{"v":0,"d":"0.00"}},null,null,{"$f":"Таблица2[[#This Row],[14]]+Таблица2[[#This Row],[15]]","v":{"v":0,"d":"0.00"}}]
[687,{"$nulls":8},{"$f":"Таблица2[[#This Row],[11]]+Таблица2[[#This Row],[12]]","v":{"v":0,"d":"0.00"}},null,null,{"$f":"Таблица2[[#This Row],[14]]+Таблица2[[#This Row],[15]]","v":{"v":0,"d":"0.00"}}]
[688,{"$nulls":8},{"$f":"Таблица2[[#This Row],[11]]+Таблица2[[#This Row],[12]]","v":{"v":0,"d":"0.00"}},null,null,{"$f":"Таблица2[[#This Row],[14]]+Таблица2[[#This Row],[15]]","v":{"v":0,"d":"0.00"}}]
[689,{"$nulls":8},{"$f":"Таблица2[[#This Row],[11]]+Таблица2[[#This Row],[12]]","v":{"v":0,"d":"0.00"}},null,null,{"$f":"Таблица2[[#This Row],[14]]+Таблица2[[#This Row],[15]]","v":{"v":0,"d":"0.00"}}]
[690,{"$nulls":8},{"$f":"Таблица2[[#This Row],[11]]+Таблица2[[#This Row],[12]]","v":{"v":0,"d":"0.00"}},null,null,{"$f":"Таблица2[[#This Row],[14]]+Таблица2[[#This Row],[15]]","v":{"v":0,"d":"0.00"}}]
[691,{"$nulls":8},{"$f":"Таблица2[[#This Row],[11]]+Таблица2[[#This Row],[12]]","v":{"v":0,"d":"0.00"}},null,null,{"$f":"Таблица2[[#This Row],[14]]+Таблица2[[#This Row],[15]]","v":{"v":0,"d":"0.00"}}]
[692,{"$nulls":8},{"$f":"Таблица2[[#This Row],[11]]+Таблица2[[#This Row],[12]]","v":{"v":0,"d":"0.00"}},null,null,{"$f":"Таблица2[[#This Row],[14]]+Таблица2[[#This Row],[15]]","v":{"v":0,"d":"0.00"}}]
[693,{"$nulls":8},{"$f":"Таблица2[[#This Row],[11]]+Таблица2[[#This Row],[12]]","v":{"v":0,"d":"0.00"}},null,null,{"$f":"Таблица2[[#This Row],[14]]+Таблица2[[#This Row],[15]]","v":{"v":0,"d":"0.00"}}]
[694,{"$nulls":8},{"$f":"Таблица2[[#This Row],[11]]+Таблица2[[#This Row],[12]]","v":{"v":0,"d":"0.00"}},null,null,{"$f":"Таблица2[[#This Row],[14]]+Таблица2[[#This Row],[15]]","v":{"v":0,"d":"0.00"}}]
[695,{"$nulls":8},{"$f":"Таблица2[[#This Row],[11]]+Таблица2[[#This Row],[12]]","v":{"v":0,"d":"0.00"}},null,null,{"$f":"Таблица2[[#This Row],[14]]+Таблица2[[#This Row],[15]]","v":{"v":0,"d":"0.00"}}]
[696,{"$nulls":8},{"$f":"Таблица2[[#This Row],[11]]+Таблица2[[#This Row],[12]]","v":{"v":0,"d":"0.00"}},null,null,{"$f":"Таблица2[[#This Row],[14]]+Таблица2[[#This Row],[15]]","v":{"v":0,"d":"0.00"}}]
[697,{"$nulls":8},{"$f":"Таблица2[[#This Row],[11]]+Таблица2[[#This Row],[12]]","v":{"v":0,"d":"0.00"}},null,null,{"$f":"Таблица2[[#This Row],[14]]+Таблица2[[#This Row],[15]]","v":{"v":0,"d":"0.00"}}]
[698,{"$nulls":8},{"$f":"Таблица2[[#This Row],[11]]+Таблица2[[#This Row],[12]]","v":{"v":0,"d":"0.00"}},null,null,{"$f":"Таблица2[[#This Row],[14]]+Таблица2[[#This Row],[15]]","v":{"v":0,"d":"0.00"}}]
[699,{"$nulls":8},{"$f":"Таблица2[[#This Row],[11]]+Таблица2[[#This Row],[12]]","v":{"v":0,"d":"0.00"}},null,null,{"$f":"Таблица2[[#This Row],[14]]+Таблица2[[#This Row],[15]]","v":{"v":0,"d":"0.00"}}]
[700,{"$nulls":8},{"$f":"Таблица2[[#This Row],[11]]+Таблица2[[#This Row],[12]]","v":{"v":0,"d":"0.00"}},null,null,{"$f":"Таблица2[[#This Row],[14]]+Таблица2[[#This Row],[15]]","v":{"v":0,"d":"0.00"}}]
[701,{"$nulls":8},{"$f":"Таблица2[[#This Row],[11]]+Таблица2[[#This Row],[12]]","v":{"v":0,"d":"0.00"}},null,null,{"$f":"Таблица2[[#This Row],[14]]+Таблица2[[#This Row],[15]]","v":{"v":0,"d":"0.00"}}]
[702,{"$nulls":8},{"$f":"Таблица2[[#This Row],[11]]+Таблица2[[#This Row],[12]]","v":{"v":0,"d":"0.00"}},null,null,{"$f":"Таблица2[[#This Row],[14]]+Таблица2[[#This Row],[15]]","v":{"v":0,"d":"0.00"}}]
[703,{"$nulls":8},{"$f":"Таблица2[[#This Row],[11]]+Таблица2[[#This Row],[12]]","v":{"v":0,"d":"0.00"}},null,null,{"$f":"Таблица2[[#This Row],[14]]+Таблица2[[#This Row],[15]]","v":{"v":0,"d":"0.00"}}]
[704,{"$nulls":8},{"$f":"Таблица2[[#This Row],[11]]+Таблица2[[#This Row],[12]]","v":{"v":0,"d":"0.00"}},null,null,{"$f":"Таблица2[[#This Row],[14]]+Таблица2[[#This Row],[15]]","v":{"v":0,"d":"0.00"}}]
[705,{"$nulls":8},{"$f":"Таблица2[[#This Row],[11]]+Таблица2[[#This Row],[12]]","v":{"v":0,"d":"0.00"}},null,null,{"$f":"Таблица2[[#This Row],[14]]+Таблица2[[#This Row],[15]]","v":{"v":0,"d":"0.00"}}]
[706,{"$nulls":8},{"$f":"Таблица2[[#This Row],[11]]+Таблица2[[#This Row],[12]]","v":{"v":0,"d":"0.00"}},null,null,{"$f":"Таблица2[[#This Row],[14]]+Таблица2[[#This Row],[15]]","v":{"v":0,"d":"0.00"}}]
[707,{"$nulls":8},{"$f":"Таблица2[[#This Row],[11]]+Таблица2[[#This Row],[12]]","v":{"v":0,"d":"0.00"}},null,null,{"$f":"Таблица2[[#This Row],[14]]+Таблица2[[#This Row],[15]]","v":{"v":0,"d":"0.00"}}]
[708,{"$nulls":8},{"$f":"Таблица2[[#This Row],[11]]+Таблица2[[#This Row],[12]]","v":{"v":0,"d":"0.00"}},null,null,{"$f":"Таблица2[[#This Row],[14]]+Таблица2[[#This Row],[15]]","v":{"v":0,"d":"0.00"}}]
[709,{"$nulls":8},{"$f":"Таблица2[[#This Row],[11]]+Таблица2[[#This Row],[12]]","v":{"v":0,"d":"0.00"}},null,null,{"$f":"Таблица2[[#This Row],[14]]+Таблица2[[#This Row],[15]]","v":{"v":0,"d":"0.00"}}]
[710,{"$nulls":8},{"$f":"Таблица2[[#This Row],[11]]+Таблица2[[#This Row],[12]]","v":{"v":0,"d":"0.00"}},null,null,{"$f":"Таблица2[[#This Row],[14]]+Таблица2[[#This Row],[15]]","v":{"v":0,"d":"0.00"}}]
[711,{"$nulls":8},{"$f":"Таблица2[[#This Row],[11]]+Таблица2[[#This Row],[12]]","v":{"v":0,"d":"0.00"}},null,null,{"$f":"Таблица2[[#This Row],[14]]+Таблица2[[#This Row],[15]]","v":{"v":0,"d":"0.00"}}]
[712,{"$nulls":8},{"$f":"Таблица2[[#This Row],[11]]+Таблица2[[#This Row],[12]]","v":{"v":0,"d":"0.00"}},null,null,{"$f":"Таблица2[[#This Row],[14]]+Таблица2[[#This Row],[15]]","v":{"v":0,"d":"0.00"}}]
[713,{"$nulls":8},{"$f":"Таблица2[[#This Row],[11]]+Таблица2[[#This Row],[12]]","v":{"v":0,"d":"0.00"}},null,null,{"$f":"Таблица2[[#This Row],[14]]+Таблица2[[#This Row],[15]]","v":{"v":0,"d":"0.00"}}]
[714,{"$nulls":8},{"$f":"Таблица2[[#This Row],[11]]+Таблица2[[#This Row],[12]]","v":{"v":0,"d":"0.00"}},null,null,{"$f":"Таблица2[[#This Row],[14]]+Таблица2[[#This Row],[15]]","v":{"v":0,"d":"0.00"}}]
[715,{"$nulls":8},{"$f":"Таблица2[[#This Row],[11]]+Таблица2[[#This Row],[12]]","v":{"v":0,"d":"0.00"}},null,null,{"$f":"Таблица2[[#This Row],[14]]+Таблица2[[#This Row],[15]]","v":{"v":0,"d":"0.00"}}]
[716,{"$nulls":8},{"$f":"Таблица2[[#This Row],[11]]+Таблица2[[#This Row],[12]]","v":{"v":0,"d":"0.00"}},null,null,{"$f":"Таблица2[[#This Row],[14]]+Таблица2[[#This Row],[15]]","v":{"v":0,"d":"0.00"}}]
[717,{"$nulls":8},{"$f":"Таблица2[[#This Row],[11]]+Таблица2[[#This Row],[12]]","v":{"v":0,"d":"0.00"}},null,null,{"$f":"Таблица2[[#This Row],[14]]+Таблица2[[#This Row],[15]]","v":{"v":0,"d":"0.00"}}]
[718,{"$nulls":8},{"$f":"Таблица2[[#This Row],[11]]+Таблица2[[#This Row],[12]]","v":{"v":0,"d":"0.00"}},null,null,{"$f":"Таблица2[[#This Row],[14]]+Таблица2[[#This Row],[15]]","v":{"v":0,"d":"0.00"}}]
[719,{"$nulls":8},{"$f":"Таблица2[[#This Row],[11]]+Таблица2[[#This Row],[12]]","v":{"v":0,"d":"0.00"}},null,null,{"$f":"Таблица2[[#This Row],[14]]+Таблица2[[#This Row],[15]]","v":{"v":0,"d":"0.00"}}]
[720,{"$nulls":8},{"$f":"Таблица2[[#This Row],[11]]+Таблица2[[#This Row],[12]]","v":{"v":0,"d":"0.00"}},null,null,{"$f":"Таблица2[[#This Row],[14]]+Таблица2[[#This Row],[15]]","v":{"v":0,"d":"0.00"}}]
[721,{"$nulls":8},{"$f":"Таблица2[[#This Row],[11]]+Таблица2[[#This Row],[12]]","v":{"v":0,"d":"0.00"}},null,null,{"$f":"Таблица2[[#This Row],[14]]+Таблица2[[#This Row],[15]]","v":{"v":0,"d":"0.00"}}]
[722,{"$nulls":8},{"$f":"Таблица2[[#This Row],[11]]+Таблица2[[#This Row],[12]]","v":{"v":0,"d":"0.00"}},null,null,{"$f":"Таблица2[[#This Row],[14]]+Таблица2[[#This Row],[15]]","v":{"v":0,"d":"0.00"}}]
[723,{"$nulls":8},{"$f":"Таблица2[[#This Row],[11]]+Таблица2[[#This Row],[12]]","v":{"v":0,"d":"0.00"}},null,null,{"$f":"Таблица2[[#This Row],[14]]+Таблица2[[#This Row],[15]]","v":{"v":0,"d":"0.00"}}]
[724,{"$nulls":8},{"$f":"Таблица2[[#This Row],[11]]+Таблица2[[#This Row],[12]]","v":{"v":0,"d":"0.00"}},null,null,{"$f":"Таблица2[[#This Row],[14]]+Таблица2[[#This Row],[15]]","v":{"v":0,"d":"0.00"}}]
[725,{"$nulls":8},{"$f":"Таблица2[[#This Row],[11]]+Таблица2[[#This Row],[12]]","v":{"v":0,"d":"0.00"}},null,null,{"$f":"Таблица2[[#This Row],[14]]+Таблица2[[#This Row],[15]]","v":{"v":0,"d":"0.00"}}]
[726,{"$nulls":8},{"$f":"Таблица2[[#This Row],[11]]+Таблица2[[#This Row],[12]]","v":{"v":0,"d":"0.00"}},null,null,{"$f":"Таблица2[[#This Row],[14]]+Таблица2[[#This Row],[15]]","v":{"v":0,"d":"0.00"}}]
[727,{"$nulls":8},{"$f":"Таблица2[[#This Row],[11]]+Таблица2[[#This Row],[12]]","v":{"v":0,"d":"0.00"}},null,null,{"$f":"Таблица2[[#This Row],[14]]+Таблица2[[#This Row],[15]]","v":{"v":0,"d":"0.00"}}]
[728,{"$nulls":8},{"$f":"Таблица2[[#This Row],[11]]+Таблица2[[#This Row],[12]]","v":{"v":0,"d":"0.00"}},null,null,{"$f":"Таблица2[[#This Row],[14]]+Таблица2[[#This Row],[15]]","v":{"v":0,"d":"0.00"}}]
[729,{"$nulls":8},{"$f":"Таблица2[[#This Row],[11]]+Таблица2[[#This Row],[12]]","v":{"v":0,"d":"0.00"}},null,null,{"$f":"Таблица2[[#This Row],[14]]+Таблица2[[#This Row],[15]]","v":{"v":0,"d":"0.00"}}]
[730,{"$nulls":8},{"$f":"Таблица2[[#This Row],[11]]+Таблица2[[#This Row],[12]]","v":{"v":0,"d":"0.00"}},null,null,{"$f":"Таблица2[[#This Row],[14]]+Таблица2[[#This Row],[15]]","v":{"v":0,"d":"0.00"}}]
[731,{"$nulls":8},{"$f":"Таблица2[[#This Row],[11]]+Таблица2[[#This Row],[12]]","v":{"v":0,"d":"0.00"}},null,null,{"$f":"Таблица2[[#This Row],[14]]+Таблица2[[#This Row],[15]]","v":{"v":0,"d":"0.00"}}]
[732,{"$nulls":8},{"$f":"Таблица2[[#This Row],[11]]+Таблица2[[#This Row],[12]]","v":{"v":0,"d":"0.00"}},null,null,{"$f":"Таблица2[[#This Row],[14]]+Таблица2[[#This Row],[15]]","v":{"v":0,"d":"0.00"}}]
[733,{"$nulls":8},{"$f":"Таблица2[[#This Row],[11]]+Таблица2[[#This Row],[12]]","v":{"v":0,"d":"0.00"}},null,null,{"$f":"Таблица2[[#This Row],[14]]+Таблица2[[#This Row],[15]]","v":{"v":0,"d":"0.00"}}]
[734,{"$nulls":8},{"$f":"Таблица2[[#This Row],[11]]+Таблица2[[#This Row],[12]]","v":{"v":0,"d":"0.00"}},null,null,{"$f":"Таблица2[[#This Row],[14]]+Таблица2[[#This Row],[15]]","v":{"v":0,"d":"0.00"}}]
[735,{"$nulls":8},{"$f":"Таблица2[[#This Row],[11]]+Таблица2[[#This Row],[12]]","v":{"v":0,"d":"0.00"}},null,null,{"$f":"Таблица2[[#This Row],[14]]+Таблица2[[#This Row],[15]]","v":{"v":0,"d":"0.00"}}]
[736,{"$nulls":8},{"$f":"Таблица2[[#This Row],[11]]+Таблица2[[#This Row],[12]]","v":{"v":0,"d":"0.00"}},null,null,{"$f":"Таблица2[[#This Row],[14]]+Таблица2[[#This Row],[15]]","v":{"v":0,"d":"0.00"}}]
[737,{"$nulls":8},{"$f":"Таблица2[[#This Row],[11]]+Таблица2[[#This Row],[12]]","v":{"v":0,"d":"0.00"}},null,null,{"$f":"Таблица2[[#This Row],[14]]+Таблица2[[#This Row],[15]]","v":{"v":0,"d":"0.00"}}]
[738,{"$nulls":8},{"$f":"Таблица2[[#This Row],[11]]+Таблица2[[#This Row],[12]]","v":{"v":0,"d":"0.00"}},null,null,{"$f":"Таблица2[[#This Row],[14]]+Таблица2[[#This Row],[15]]","v":{"v":0,"d":"0.00"}}]
[739,{"$nulls":8},{"$f":"Таблица2[[#This Row],[11]]+Таблица2[[#This Row],[12]]","v":{"v":0,"d":"0.00"}},null,null,{"$f":"Таблица2[[#This Row],[14]]+Таблица2[[#This Row],[15]]","v":{"v":0,"d":"0.00"}}]
[740,{"$nulls":8},{"$f":"Таблица2[[#This Row],[11]]+Таблица2[[#This Row],[12]]","v":{"v":0,"d":"0.00"}},null,null,{"$f":"Таблица2[[#This Row],[14]]+Таблица2[[#This Row],[15]]","v":{"v":0,"d":"0.00"}}]
[741,{"$nulls":8},{"$f":"Таблица2[[#This Row],[11]]+Таблица2[[#This Row],[12]]","v":{"v":0,"d":"0.00"}},null,null,{"$f":"Таблица2[[#This Row],[14]]+Таблица2[[#This Row],[15]]","v":{"v":0,"d":"0.00"}}]
[742,{"$nulls":8},{"$f":"Таблица2[[#This Row],[11]]+Таблица2[[#This Row],[12]]","v":{"v":0,"d":"0.00"}},null,null,{"$f":"Таблица2[[#This Row],[14]]+Таблица2[[#This Row],[15]]","v":{"v":0,"d":"0.00"}}]
[743,{"$nulls":8},{"$f":"Таблица2[[#This Row],[11]]+Таблица2[[#This Row],[12]]","v":{"v":0,"d":"0.00"}},null,null,{"$f":"Таблица2[[#This Row],[14]]+Таблица2[[#This Row],[15]]","v":{"v":0,"d":"0.00"}}]
[744,{"$nulls":8},{"$f":"Таблица2[[#This Row],[11]]+Таблица2[[#This Row],[12]]","v":{"v":0,"d":"0.00"}},null,null,{"$f":"Таблица2[[#This Row],[14]]+Таблица2[[#This Row],[15]]","v":{"v":0,"d":"0.00"}}]
[745,{"$nulls":8},{"$f":"Таблица2[[#This Row],[11]]+Таблица2[[#This Row],[12]]","v":{"v":0,"d":"0.00"}},null,null,{"$f":"Таблица2[[#This Row],[14]]+Таблица2[[#This Row],[15]]","v":{"v":0,"d":"0.00"}}]
[746,{"$nulls":8},{"$f":"Таблица2[[#This Row],[11]]+Таблица2[[#This Row],[12]]","v":{"v":0,"d":"0.00"}},null,null,{"$f":"Таблица2[[#This Row],[14]]+Таблица2[[#This Row],[15]]","v":{"v":0,"d":"0.00"}}]
[747,{"$nulls":8},{"$f":"Таблица2[[#This Row],[11]]+Таблица2[[#This Row],[12]]","v":{"v":0,"d":"0.00"}},null,null,{"$f":"Таблица2[[#This Row],[14]]+Таблица2[[#This Row],[15]]","v":{"v":0,"d":"0.00"}}]
[748,{"$nulls":8},{"$f":"Таблица2[[#This Row],[11]]+Таблица2[[#This Row],[12]]","v":{"v":0,"d":"0.00"}},null,null,{"$f":"Таблица2[[#This Row],[14]]+Таблица2[[#This Row],[15]]","v":{"v":0,"d":"0.00"}}]
[749,{"$nulls":8},{"$f":"Таблица2[[#This Row],[11]]+Таблица2[[#This Row],[12]]","v":{"v":0,"d":"0.00"}},null,null,{"$f":"Таблица2[[#This Row],[14]]+Таблица2[[#This Row],[15]]","v":{"v":0,"d":"0.00"}}]
[750,{"$nulls":8},{"$f":"Таблица2[[#This Row],[11]]+Таблица2[[#This Row],[12]]","v":{"v":0,"d":"0.00"}},null,null,{"$f":"Таблица2[[#This Row],[14]]+Таблица2[[#This Row],[15]]","v":{"v":0,"d":"0.00"}}]
[751,{"$nulls":8},{"$f":"Таблица2[[#This Row],[11]]+Таблица2[[#This Row],[12]]","v":{"v":0,"d":"0.00"}},null,null,{"$f":"Таблица2[[#This Row],[14]]+Таблица2[[#This Row],[15]]","v":{"v":0,"d":"0.00"}}]
[752,{"$nulls":8},{"$f":"Таблица2[[#This Row],[11]]+Таблица2[[#This Row],[12]]","v":{"v":0,"d":"0.00"}},null,null,{"$f":"Таблица2[[#This Row],[14]]+Таблица2[[#This Row],[15]]","v":{"v":0,"d":"0.00"}}]
[753,{"$nulls":8},{"$f":"Таблица2[[#This Row],[11]]+Таблица2[[#This Row],[12]]","v":{"v":0,"d":"0.00"}},null,null,{"$f":"Таблица2[[#This Row],[14]]+Таблица2[[#This Row],[15]]","v":{"v":0,"d":"0.00"}}]
[754,{"$nulls":8},{"$f":"Таблица2[[#This Row],[11]]+Таблица2[[#This Row],[12]]","v":{"v":0,"d":"0.00"}},null,null,{"$f":"Таблица2[[#This Row],[14]]+Таблица2[[#This Row],[15]]","v":{"v":0,"d":"0.00"}}]
[755,{"$nulls":8},{"$f":"Таблица2[[#This Row],[11]]+Таблица2[[#This Row],[12]]","v":{"v":0,"d":"0.00"}},null,null,{"$f":"Таблица2[[#This Row],[14]]+Таблица2[[#This Row],[15]]","v":{"v":0,"d":"0.00"}}]
[756,{"$nulls":8},{"$f":"Таблица2[[#This Row],[11]]+Таблица2[[#This Row],[12]]","v":{"v":0,"d":"0.00"}},null,null,{"$f":"Таблица2[[#This Row],[14]]+Таблица2[[#This Row],[15]]","v":{"v":0,"d":"0.00"}}]
[757,{"$nulls":8},{"$f":"Таблица2[[#This Row],[11]]+Таблица2[[#This Row],[12]]","v":{"v":0,"d":"0.00"}},null,null,{"$f":"Таблица2[[#This Row],[14]]+Таблица2[[#This Row],[15]]","v":{"v":0,"d":"0.00"}}]
[758,{"$nulls":8},{"$f":"Таблица2[[#This Row],[11]]+Таблица2[[#This Row],[12]]","v":{"v":0,"d":"0.00"}},null,null,{"$f":"Таблица2[[#This Row],[14]]+Таблица2[[#This Row],[15]]","v":{"v":0,"d":"0.00"}}]
[759,{"$nulls":8},{"$f":"Таблица2[[#This Row],[11]]+Таблица2[[#This Row],[12]]","v":{"v":0,"d":"0.00"}},null,null,{"$f":"Таблица2[[#This Row],[14]]+Таблица2[[#This Row],[15]]","v":{"v":0,"d":"0.00"}}]
[760,{"$nulls":8},{"$f":"Таблица2[[#This Row],[11]]+Таблица2[[#This Row],[12]]","v":{"v":0,"d":"0.00"}},null,null,{"$f":"Таблица2[[#This Row],[14]]+Таблица2[[#This Row],[15]]","v":{"v":0,"d":"0.00"}}]
[761,{"$nulls":8},{"$f":"Таблица2[[#This Row],[11]]+Таблица2[[#This Row],[12]]","v":{"v":0,"d":"0.00"}},null,null,{"$f":"Таблица2[[#This Row],[14]]+Таблица2[[#This Row],[15]]","v":{"v":0,"d":"0.00"}}]
[762,{"$nulls":8},{"$f":"Таблица2[[#This Row],[11]]+Таблица2[[#This Row],[12]]","v":{"v":0,"d":"0.00"}},null,null,{"$f":"Таблица2[[#This Row],[14]]+Таблица2[[#This Row],[15]]","v":{"v":0,"d":"0.00"}}]
[763,{"$nulls":8},{"$f":"Таблица2[[#This Row],[11]]+Таблица2[[#This Row],[12]]","v":{"v":0,"d":"0.00"}},null,null,{"$f":"Таблица2[[#This Row],[14]]+Таблица2[[#This Row],[15]]","v":{"v":0,"d":"0.00"}}]
[764,{"$nulls":8},{"$f":"Таблица2[[#This Row],[11]]+Таблица2[[#This Row],[12]]","v":{"v":0,"d":"0.00"}},null,null,{"$f":"Таблица2[[#This Row],[14]]+Таблица2[[#This Row],[15]]","v":{"v":0,"d":"0.00"}}]
[765,{"$nulls":8},{"$f":"Таблица2[[#This Row],[11]]+Таблица2[[#This Row],[12]]","v":{"v":0,"d":"0.00"}},null,null,{"$f":"Таблица2[[#This Row],[14]]+Таблица2[[#This Row],[15]]","v":{"v":0,"d":"0.00"}}]
[766,{"$nulls":8},{"$f":"Таблица2[[#This Row],[11]]+Таблица2[[#This Row],[12]]","v":{"v":0,"d":"0.00"}},null,null,{"$f":"Таблица2[[#This Row],[14]]+Таблица2[[#This Row],[15]]","v":{"v":0,"d":"0.00"}}]
[767,{"$nulls":8},{"$f":"Таблица2[[#This Row],[11]]+Таблица2[[#This Row],[12]]","v":{"v":0,"d":"0.00"}},null,null,{"$f":"Таблица2[[#This Row],[14]]+Таблица2[[#This Row],[15]]","v":{"v":0,"d":"0.00"}}]
[768,{"$nulls":8},{"$f":"Таблица2[[#This Row],[11]]+Таблица2[[#This Row],[12]]","v":{"v":0,"d":"0.00"}},null,null,{"$f":"Таблица2[[#This Row],[14]]+Таблица2[[#This Row],[15]]","v":{"v":0,"d":"0.00"}}]
[769,{"$nulls":8},{"$f":"Таблица2[[#This Row],[11]]+Таблица2[[#This Row],[12]]","v":{"v":0,"d":"0.00"}},null,null,{"$f":"Таблица2[[#This Row],[14]]+Таблица2[[#This Row],[15]]","v":{"v":0,"d":"0.00"}}]
[770,{"$nulls":8},{"$f":"Таблица2[[#This Row],[11]]+Таблица2[[#This Row],[12]]","v":{"v":0,"d":"0.00"}},null,null,{"$f":"Таблица2[[#This Row],[14]]+Таблица2[[#This Row],[15]]","v":{"v":0,"d":"0.00"}}]
[771,{"$nulls":8},{"$f":"Таблица2[[#This Row],[11]]+Таблица2[[#This Row],[12]]","v":{"v":0,"d":"0.00"}},null,null,{"$f":"Таблица2[[#This Row],[14]]+Таблица2[[#This Row],[15]]","v":{"v":0,"d":"0.00"}}]
[772,{"$nulls":8},{"$f":"Таблица2[[#This Row],[11]]+Таблица2[[#This Row],[12]]","v":{"v":0,"d":"0.00"}},null,null,{"$f":"Таблица2[[#This Row],[14]]+Таблица2[[#This Row],[15]]","v":{"v":0,"d":"0.00"}}]
[773,{"$nulls":8},{"$f":"Таблица2[[#This Row],[11]]+Таблица2[[#This Row],[12]]","v":{"v":0,"d":"0.00"}},null,null,{"$f":"Таблица2[[#This Row],[14]]+Таблица2[[#This Row],[15]]","v":{"v":0,"d":"0.00"}}]
[774,{"$nulls":8},{"$f":"Таблица2[[#This Row],[11]]+Таблица2[[#This Row],[12]]","v":{"v":0,"d":"0.00"}},null,null,{"$f":"Таблица2[[#This Row],[14]]+Таблица2[[#This Row],[15]]","v":{"v":0,"d":"0.00"}}]
[775,{"$nulls":8},{"$f":"Таблица2[[#This Row],[11]]+Таблица2[[#This Row],[12]]","v":{"v":0,"d":"0.00"}},null,null,{"$f":"Таблица2[[#This Row],[14]]+Таблица2[[#This Row],[15]]","v":{"v":0,"d":"0.00"}}]
[776,{"$nulls":8},{"$f":"Таблица2[[#This Row],[11]]+Таблица2[[#This Row],[12]]","v":{"v":0,"d":"0.00"}},null,null,{"$f":"Таблица2[[#This Row],[14]]+Таблица2[[#This Row],[15]]","v":{"v":0,"d":"0.00"}}]
[777,{"$nulls":8},{"$f":"Таблица2[[#This Row],[11]]+Таблица2[[#This Row],[12]]","v":{"v":0,"d":"0.00"}},null,null,{"$f":"Таблица2[[#This Row],[14]]+Таблица2[[#This Row],[15]]","v":{"v":0,"d":"0.00"}}]
[778,{"$nulls":8},{"$f":"Таблица2[[#This Row],[11]]+Таблица2[[#This Row],[12]]","v":{"v":0,"d":"0.00"}},null,null,{"$f":"Таблица2[[#This Row],[14]]+Таблица2[[#This Row],[15]]","v":{"v":0,"d":"0.00"}}]
[779,{"$nulls":8},{"$f":"Таблица2[[#This Row],[11]]+Таблица2[[#This Row],[12]]","v":{"v":0,"d":"0.00"}},null,null,{"$f":"Таблица2[[#This Row],[14]]+Таблица2[[#This Row],[15]]","v":{"v":0,"d":"0.00"}}]
[780,{"$nulls":8},{"$f":"Таблица2[[#This Row],[11]]+Таблица2[[#This Row],[12]]","v":{"v":0,"d":"0.00"}},null,null,{"$f":"Таблица2[[#This Row],[14]]+Таблица2[[#This Row],[15]]","v":{"v":0,"d":"0.00"}}]
[781,{"$nulls":8},{"$f":"Таблица2[[#This Row],[11]]+Таблица2[[#This Row],[12]]","v":{"v":0,"d":"0.00"}},null,null,{"$f":"Таблица2[[#This Row],[14]]+Таблица2[[#This Row],[15]]","v":{"v":0,"d":"0.00"}}]
[782,{"$nulls":8},{"$f":"Таблица2[[#This Row],[11]]+Таблица2[[#This Row],[12]]","v":{"v":0,"d":"0.00"}},null,null,{"$f":"Таблица2[[#This Row],[14]]+Таблица2[[#This Row],[15]]","v":{"v":0,"d":"0.00"}}]
[783,{"$nulls":8},{"$f":"Таблица2[[#This Row],[11]]+Таблица2[[#This Row],[12]]","v":{"v":0,"d":"0.00"}},null,null,{"$f":"Таблица2[[#This Row],[14]]+Таблица2[[#This Row],[15]]","v":{"v":0,"d":"0.00"}}]
[784,{"$nulls":8},{"$f":"Таблица2[[#This Row],[11]]+Таблица2[[#This Row],[12]]","v":{"v":0,"d":"0.00"}},null,null,{"$f":"Таблица2[[#This Row],[14]]+Таблица2[[#This Row],[15]]","v":{"v":0,"d":"0.00"}}]
[785,{"$nulls":8},{"$f":"Таблица2[[#This Row],[11]]+Таблица2[[#This Row],[12]]","v":{"v":0,"d":"0.00"}},null,null,{"$f":"Таблица2[[#This Row],[14]]+Таблица2[[#This Row],[15]]","v":{"v":0,"d":"0.00"}}]
[786,{"$nulls":8},{"$f":"Таблица2[[#This Row],[11]]+Таблица2[[#This Row],[12]]","v":{"v":0,"d":"0.00"}},null,null,{"$f":"Таблица2[[#This Row],[14]]+Таблица2[[#This Row],[15]]","v":{"v":0,"d":"0.00"}}]
[787,{"$nulls":8},{"$f":"Таблица2[[#This Row],[11]]+Таблица2[[#This Row],[12]]","v":{"v":0,"d":"0.00"}},null,null,{"$f":"Таблица2[[#This Row],[14]]+Таблица2[[#This Row],[15]]","v":{"v":0,"d":"0.00"}}]
[788,{"$nulls":8},{"$f":"Таблица2[[#This Row],[11]]+Таблица2[[#This Row],[12]]","v":{"v":0,"d":"0.00"}},null,null,{"$f":"Таблица2[[#This Row],[14]]+Таблица2[[#This Row],[15]]","v":{"v":0,"d":"0.00"}}]
[789,{"$nulls":8},{"$f":"Таблица2[[#This Row],[11]]+Таблица2[[#This Row],[12]]","v":{"v":0,"d":"0.00"}},null,null,{"$f":"Таблица2[[#This Row],[14]]+Таблица2[[#This Row],[15]]","v":{"v":0,"d":"0.00"}}]
[790,{"$nulls":8},{"$f":"Таблица2[[#This Row],[11]]+Таблица2[[#This Row],[12]]","v":{"v":0,"d":"0.00"}},null,null,{"$f":"Таблица2[[#This Row],[14]]+Таблица2[[#This Row],[15]]","v":{"v":0,"d":"0.00"}}]
[791,{"$nulls":8},{"$f":"Таблица2[[#This Row],[11]]+Таблица2[[#This Row],[12]]","v":{"v":0,"d":"0.00"}},null,null,{"$f":"Таблица2[[#This Row],[14]]+Таблица2[[#This Row],[15]]","v":{"v":0,"d":"0.00"}}]
[792,{"$nulls":8},{"$f":"Таблица2[[#This Row],[11]]+Таблица2[[#This Row],[12]]","v":{"v":0,"d":"0.00"}},null,null,{"$f":"Таблица2[[#This Row],[14]]+Таблица2[[#This Row],[15]]","v":{"v":0,"d":"0.00"}}]
[793,{"$nulls":8},{"$f":"Таблица2[[#This Row],[11]]+Таблица2[[#This Row],[12]]","v":{"v":0,"d":"0.00"}},null,null,{"$f":"Таблица2[[#This Row],[14]]+Таблица2[[#This Row],[15]]","v":{"v":0,"d":"0.00"}}]
[794,{"$nulls":8},{"$f":"Таблица2[[#This Row],[11]]+Таблица2[[#This Row],[12]]","v":{"v":0,"d":"0.00"}},null,null,{"$f":"Таблица2[[#This Row],[14]]+Таблица2[[#This Row],[15]]","v":{"v":0,"d":"0.00"}}]
[795,{"$nulls":8},{"$f":"Таблица2[[#This Row],[11]]+Таблица2[[#This Row],[12]]","v":{"v":0,"d":"0.00"}},null,null,{"$f":"Таблица2[[#This Row],[14]]+Таблица2[[#This Row],[15]]","v":{"v":0,"d":"0.00"}}]
[796,{"$nulls":8},{"$f":"Таблица2[[#This Row],[11]]+Таблица2[[#This Row],[12]]","v":{"v":0,"d":"0.00"}},null,null,{"$f":"Таблица2[[#This Row],[14]]+Таблица2[[#This Row],[15]]","v":{"v":0,"d":"0.00"}}]
[797,{"$nulls":8},{"$f":"Таблица2[[#This Row],[11]]+Таблица2[[#This Row],[12]]","v":{"v":0,"d":"0.00"}},null,null,{"$f":"Таблица2[[#This Row],[14]]+Таблица2[[#This Row],[15]]","v":{"v":0,"d":"0.00"}}]
[798,{"$nulls":8},{"$f":"Таблица2[[#This Row],[11]]+Таблица2[[#This Row],[12]]","v":{"v":0,"d":"0.00"}},null,null,{"$f":"Таблица2[[#This Row],[14]]+Таблица2[[#This Row],[15]]","v":{"v":0,"d":"0.00"}}]
[799,{"$nulls":8},{"$f":"Таблица2[[#This Row],[11]]+Таблица2[[#This Row],[12]]","v":{"v":0,"d":"0.00"}},null,null,{"$f":"Таблица2[[#This Row],[14]]+Таблица2[[#This Row],[15]]","v":{"v":0,"d":"0.00"}}]
[800,{"$nulls":8},{"$f":"Таблица2[[#This Row],[11]]+Таблица2[[#This Row],[12]]","v":{"v":0,"d":"0.00"}},null,null,{"$f":"Таблица2[[#This Row],[14]]+Таблица2[[#This Row],[15]]","v":{"v":0,"d":"0.00"}}]
[801,{"$nulls":8},{"$f":"Таблица2[[#This Row],[11]]+Таблица2[[#This Row],[12]]","v":{"v":0,"d":"0.00"}},null,null,{"$f":"Таблица2[[#This Row],[14]]+Таблица2[[#This Row],[15]]","v":{"v":0,"d":"0.00"}}]
[802,{"$nulls":8},{"$f":"Таблица2[[#This Row],[11]]+Таблица2[[#This Row],[12]]","v":{"v":0,"d":"0.00"}},null,null,{"$f":"Таблица2[[#This Row],[14]]+Таблица2[[#This Row],[15]]","v":{"v":0,"d":"0.00"}}]
[803,{"$nulls":8},{"$f":"Таблица2[[#This Row],[11]]+Таблица2[[#This Row],[12]]","v":{"v":0,"d":"0.00"}},null,null,{"$f":"Таблица2[[#This Row],[14]]+Таблица2[[#This Row],[15]]","v":{"v":0,"d":"0.00"}}]
[804,{"$nulls":8},{"$f":"Таблица2[[#This Row],[11]]+Таблица2[[#This Row],[12]]","v":{"v":0,"d":"0.00"}},null,null,{"$f":"Таблица2[[#This Row],[14]]+Таблица2[[#This Row],[15]]","v":{"v":0,"d":"0.00"}}]
[805,{"$nulls":8},{"$f":"Таблица2[[#This Row],[11]]+Таблица2[[#This Row],[12]]","v":{"v":0,"d":"0.00"}},null,null,{"$f":"Таблица2[[#This Row],[14]]+Таблица2[[#This Row],[15]]","v":{"v":0,"d":"0.00"}}]
[806,{"$nulls":8},{"$f":"Таблица2[[#This Row],[11]]+Таблица2[[#This Row],[12]]","v":{"v":0,"d":"0.00"}},null,null,{"$f":"Таблица2[[#This Row],[14]]+Таблица2[[#This Row],[15]]","v":{"v":0,"d":"0.00"}}]
[807,{"$nulls":8},{"$f":"Таблица2[[#This Row],[11]]+Таблица2[[#This Row],[12]]","v":{"v":0,"d":"0.00"}},null,null,{"$f":"Таблица2[[#This Row],[14]]+Таблица2[[#This Row],[15]]","v":{"v":0,"d":"0.00"}}]
[808,{"$nulls":8},{"$f":"Таблица2[[#This Row],[11]]+Таблица2[[#This Row],[12]]","v":{"v":0,"d":"0.00"}},null,null,{"$f":"Таблица2[[#This Row],[14]]+Таблица2[[#This Row],[15]]","v":{"v":0,"d":"0.00"}}]
[809,{"$nulls":8},{"$f":"Таблица2[[#This Row],[11]]+Таблица2[[#This Row],[12]]","v":{"v":0,"d":"0.00"}},null,null,{"$f":"Таблица2[[#This Row],[14]]+Таблица2[[#This Row],[15]]","v":{"v":0,"d":"0.00"}}]
[810,{"$nulls":8},{"$f":"Таблица2[[#This Row],[11]]+Таблица2[[#This Row],[12]]","v":{"v":0,"d":"0.00"}},null,null,{"$f":"Таблица2[[#This Row],[14]]+Таблица2[[#This Row],[15]]","v":{"v":0,"d":"0.00"}}]
[811,{"$nulls":8},{"$f":"Таблица2[[#This Row],[11]]+Таблица2[[#This Row],[12]]","v":{"v":0,"d":"0.00"}},null,null,{"$f":"Таблица2[[#This Row],[14]]+Таблица2[[#This Row],[15]]","v":{"v":0,"d":"0.00"}}]
[812,{"$nulls":8},{"$f":"Таблица2[[#This Row],[11]]+Таблица2[[#This Row],[12]]","v":{"v":0,"d":"0.00"}},null,null,{"$f":"Таблица2[[#This Row],[14]]+Таблица2[[#This Row],[15]]","v":{"v":0,"d":"0.00"}}]
[813,{"$nulls":8},{"$f":"Таблица2[[#This Row],[11]]+Таблица2[[#This Row],[12]]","v":{"v":0,"d":"0.00"}},null,null,{"$f":"Таблица2[[#This Row],[14]]+Таблица2[[#This Row],[15]]","v":{"v":0,"d":"0.00"}}]
[814,{"$nulls":8},{"$f":"Таблица2[[#This Row],[11]]+Таблица2[[#This Row],[12]]","v":{"v":0,"d":"0.00"}},null,null,{"$f":"Таблица2[[#This Row],[14]]+Таблица2[[#This Row],[15]]","v":{"v":0,"d":"0.00"}}]
[815,{"$nulls":8},{"$f":"Таблица2[[#This Row],[11]]+Таблица2[[#This Row],[12]]","v":{"v":0,"d":"0.00"}},null,null,{"$f":"Таблица2[[#This Row],[14]]+Таблица2[[#This Row],[15]]","v":{"v":0,"d":"0.00"}}]
[816,{"$nulls":8},{"$f":"Таблица2[[#This Row],[11]]+Таблица2[[#This Row],[12]]","v":{"v":0,"d":"0.00"}},null,null,{"$f":"Таблица2[[#This Row],[14]]+Таблица2[[#This Row],[15]]","v":{"v":0,"d":"0.00"}}]
[817,{"$nulls":8},{"$f":"Таблица2[[#This Row],[11]]+Таблица2[[#This Row],[12]]","v":{"v":0,"d":"0.00"}},null,null,{"$f":"Таблица2[[#This Row],[14]]+Таблица2[[#This Row],[15]]","v":{"v":0,"d":"0.00"}}]
[818,{"$nulls":8},{"$f":"Таблица2[[#This Row],[11]]+Таблица2[[#This Row],[12]]","v":{"v":0,"d":"0.00"}},null,null,{"$f":"Таблица2[[#This Row],[14]]+Таблица2[[#This Row],[15]]","v":{"v":0,"d":"0.00"}}]
[819,{"$nulls":8},{"$f":"Таблица2[[#This Row],[11]]+Таблица2[[#This Row],[12]]","v":{"v":0,"d":"0.00"}},null,null,{"$f":"Таблица2[[#This Row],[14]]+Таблица2[[#This Row],[15]]","v":{"v":0,"d":"0.00"}}]
[820,{"$nulls":8},{"$f":"Таблица2[[#This Row],[11]]+Таблица2[[#This Row],[12]]","v":{"v":0,"d":"0.00"}},null,null,{"$f":"Таблица2[[#This Row],[14]]+Таблица2[[#This Row],[15]]","v":{"v":0,"d":"0.00"}}]
[821,{"$nulls":8},{"$f":"Таблица2[[#This Row],[11]]+Таблица2[[#This Row],[12]]","v":{"v":0,"d":"0.00"}},null,null,{"$f":"Таблица2[[#This Row],[14]]+Таблица2[[#This Row],[15]]","v":{"v":0,"d":"0.00"}}]
[822,{"$nulls":8},{"$f":"Таблица2[[#This Row],[11]]+Таблица2[[#This Row],[12]]","v":{"v":0,"d":"0.00"}},null,null,{"$f":"Таблица2[[#This Row],[14]]+Таблица2[[#This Row],[15]]","v":{"v":0,"d":"0.00"}}]
[823,{"$nulls":8},{"$f":"Таблица2[[#This Row],[11]]+Таблица2[[#This Row],[12]]","v":{"v":0,"d":"0.00"}},null,null,{"$f":"Таблица2[[#This Row],[14]]+Таблица2[[#This Row],[15]]","v":{"v":0,"d":"0.00"}}]
[824,{"$nulls":8},{"$f":"Таблица2[[#This Row],[11]]+Таблица2[[#This Row],[12]]","v":{"v":0,"d":"0.00"}},null,null,{"$f":"Таблица2[[#This Row],[14]]+Таблица2[[#This Row],[15]]","v":{"v":0,"d":"0.00"}}]
[825,{"$nulls":8},{"$f":"Таблица2[[#This Row],[11]]+Таблица2[[#This Row],[12]]","v":{"v":0,"d":"0.00"}},null,null,{"$f":"Таблица2[[#This Row],[14]]+Таблица2[[#This Row],[15]]","v":{"v":0,"d":"0.00"}}]
[826,{"$nulls":8},{"$f":"Таблица2[[#This Row],[11]]+Таблица2[[#This Row],[12]]","v":{"v":0,"d":"0.00"}},null,null,{"$f":"Таблица2[[#This Row],[14]]+Таблица2[[#This Row],[15]]","v":{"v":0,"d":"0.00"}}]
[827,{"$nulls":8},{"$f":"Таблица2[[#This Row],[11]]+Таблица2[[#This Row],[12]]","v":{"v":0,"d":"0.00"}},null,null,{"$f":"Таблица2[[#This Row],[14]]+Таблица2[[#This Row],[15]]","v":{"v":0,"d":"0.00"}}]
[828,{"$nulls":8},{"$f":"Таблица2[[#This Row],[11]]+Таблица2[[#This Row],[12]]","v":{"v":0,"d":"0.00"}},null,null,{"$f":"Таблица2[[#This Row],[14]]+Таблица2[[#This Row],[15]]","v":{"v":0,"d":"0.00"}}]
[829,{"$nulls":8},{"$f":"Таблица2[[#This Row],[11]]+Таблица2[[#This Row],[12]]","v":{"v":0,"d":"0.00"}},null,null,{"$f":"Таблица2[[#This Row],[14]]+Таблица2[[#This Row],[15]]","v":{"v":0,"d":"0.00"}}]
[830,{"$nulls":8},{"$f":"Таблица2[[#This Row],[11]]+Таблица2[[#This Row],[12]]","v":{"v":0,"d":"0.00"}},null,null,{"$f":"Таблица2[[#This Row],[14]]+Таблица2[[#This Row],[15]]","v":{"v":0,"d":"0.00"}}]
[831,{"$nulls":8},{"$f":"Таблица2[[#This Row],[11]]+Таблица2[[#This Row],[12]]","v":{"v":0,"d":"0.00"}},null,null,{"$f":"Таблица2[[#This Row],[14]]+Таблица2[[#This Row],[15]]","v":{"v":0,"d":"0.00"}}]
[832,{"$nulls":8},{"$f":"Таблица2[[#This Row],[11]]+Таблица2[[#This Row],[12]]","v":{"v":0,"d":"0.00"}},null,null,{"$f":"Таблица2[[#This Row],[14]]+Таблица2[[#This Row],[15]]","v":{"v":0,"d":"0.00"}}]
[833,{"$nulls":8},{"$f":"Таблица2[[#This Row],[11]]+Таблица2[[#This Row],[12]]","v":{"v":0,"d":"0.00"}},null,null,{"$f":"Таблица2[[#This Row],[14]]+Таблица2[[#This Row],[15]]","v":{"v":0,"d":"0.00"}}]
[834,{"$nulls":8},{"$f":"Таблица2[[#This Row],[11]]+Таблица2[[#This Row],[12]]","v":{"v":0,"d":"0.00"}},null,null,{"$f":"Таблица2[[#This Row],[14]]+Таблица2[[#This Row],[15]]","v":{"v":0,"d":"0.00"}}]
[835,{"$nulls":8},{"$f":"Таблица2[[#This Row],[11]]+Таблица2[[#This Row],[12]]","v":{"v":0,"d":"0.00"}},null,null,{"$f":"Таблица2[[#This Row],[14]]+Таблица2[[#This Row],[15]]","v":{"v":0,"d":"0.00"}}]
[836,{"$nulls":8},{"$f":"Таблица2[[#This Row],[11]]+Таблица2[[#This Row],[12]]","v":{"v":0,"d":"0.00"}},null,null,{"$f":"Таблица2[[#This Row],[14]]+Таблица2[[#This Row],[15]]","v":{"v":0,"d":"0.00"}}]
[837,{"$nulls":8},{"$f":"Таблица2[[#This Row],[11]]+Таблица2[[#This Row],[12]]","v":{"v":0,"d":"0.00"}},null,null,{"$f":"Таблица2[[#This Row],[14]]+Таблица2[[#This Row],[15]]","v":{"v":0,"d":"0.00"}}]
[838,{"$nulls":8},{"$f":"Таблица2[[#This Row],[11]]+Таблица2[[#This Row],[12]]","v":{"v":0,"d":"0.00"}},null,null,{"$f":"Таблица2[[#This Row],[14]]+Таблица2[[#This Row],[15]]","v":{"v":0,"d":"0.00"}}]
[839,{"$nulls":8},{"$f":"Таблица2[[#This Row],[11]]+Таблица2[[#This Row],[12]]","v":{"v":0,"d":"0.00"}},null,null,{"$f":"Таблица2[[#This Row],[14]]+Таблица2[[#This Row],[15]]","v":{"v":0,"d":"0.00"}}]
[840,{"$nulls":8},{"$f":"Таблица2[[#This Row],[11]]+Таблица2[[#This Row],[12]]","v":{"v":0,"d":"0.00"}},null,null,{"$f":"Таблица2[[#This Row],[14]]+Таблица2[[#This Row],[15]]","v":{"v":0,"d":"0.00"}}]
[841,{"$nulls":8},{"$f":"Таблица2[[#This Row],[11]]+Таблица2[[#This Row],[12]]","v":{"v":0,"d":"0.00"}},null,null,{"$f":"Таблица2[[#This Row],[14]]+Таблица2[[#This Row],[15]]","v":{"v":0,"d":"0.00"}}]
[842,{"$nulls":8},{"$f":"Таблица2[[#This Row],[11]]+Таблица2[[#This Row],[12]]","v":{"v":0,"d":"0.00"}},null,null,{"$f":"Таблица2[[#This Row],[14]]+Таблица2[[#This Row],[15]]","v":{"v":0,"d":"0.00"}}]
[843,{"$nulls":8},{"$f":"Таблица2[[#This Row],[11]]+Таблица2[[#This Row],[12]]","v":{"v":0,"d":"0.00"}},null,null,{"$f":"Таблица2[[#This Row],[14]]+Таблица2[[#This Row],[15]]","v":{"v":0,"d":"0.00"}}]
[844,{"$nulls":8},{"$f":"Таблица2[[#This Row],[11]]+Таблица2[[#This Row],[12]]","v":{"v":0,"d":"0.00"}},null,null,{"$f":"Таблица2[[#This Row],[14]]+Таблица2[[#This Row],[15]]","v":{"v":0,"d":"0.00"}}]
[845,{"$nulls":8},{"$f":"Таблица2[[#This Row],[11]]+Таблица2[[#This Row],[12]]","v":{"v":0,"d":"0.00"}},null,null,{"$f":"Таблица2[[#This Row],[14]]+Таблица2[[#This Row],[15]]","v":{"v":0,"d":"0.00"}}]
[846,{"$nulls":8},{"$f":"Таблица2[[#This Row],[11]]+Таблица2[[#This Row],[12]]","v":{"v":0,"d":"0.00"}},null,null,{"$f":"Таблица2[[#This Row],[14]]+Таблица2[[#This Row],[15]]","v":{"v":0,"d":"0.00"}}]
[847,{"$nulls":8},{"$f":"Таблица2[[#This Row],[11]]+Таблица2[[#This Row],[12]]","v":{"v":0,"d":"0.00"}},null,null,{"$f":"Таблица2[[#This Row],[14]]+Таблица2[[#This Row],[15]]","v":{"v":0,"d":"0.00"}}]
[848,{"$nulls":8},{"$f":"Таблица2[[#This Row],[11]]+Таблица2[[#This Row],[12]]","v":{"v":0,"d":"0.00"}},null,null,{"$f":"Таблица2[[#This Row],[14]]+Таблица2[[#This Row],[15]]","v":{"v":0,"d":"0.00"}}]
[849,{"$nulls":8},{"$f":"Таблица2[[#This Row],[11]]+Таблица2[[#This Row],[12]]","v":{"v":0,"d":"0.00"}},null,null,{"$f":"Таблица2[[#This Row],[14]]+Таблица2[[#This Row],[15]]","v":{"v":0,"d":"0.00"}}]
[850,{"$nulls":8},{"$f":"Таблица2[[#This Row],[11]]+Таблица2[[#This Row],[12]]","v":{"v":0,"d":"0.00"}},null,null,{"$f":"Таблица2[[#This Row],[14]]+Таблица2[[#This Row],[15]]","v":{"v":0,"d":"0.00"}}]
[851,{"$nulls":8},{"$f":"Таблица2[[#This Row],[11]]+Таблица2[[#This Row],[12]]","v":{"v":0,"d":"0.00"}},null,null,{"$f":"Таблица2[[#This Row],[14]]+Таблица2[[#This Row],[15]]","v":{"v":0,"d":"0.00"}}]
[852,{"$nulls":8},{"$f":"Таблица2[[#This Row],[11]]+Таблица2[[#This Row],[12]]","v":{"v":0,"d":"0.00"}},null,null,{"$f":"Таблица2[[#This Row],[14]]+Таблица2[[#This Row],[15]]","v":{"v":0,"d":"0.00"}}]
[853,{"$nulls":8},{"$f":"Таблица2[[#This Row],[11]]+Таблица2[[#This Row],[12]]","v":{"v":0,"d":"0.00"}},null,null,{"$f":"Таблица2[[#This Row],[14]]+Таблица2[[#This Row],[15]]","v":{"v":0,"d":"0.00"}}]
[854,{"$nulls":8},{"$f":"Таблица2[[#This Row],[11]]+Таблица2[[#This Row],[12]]","v":{"v":0,"d":"0.00"}},null,null,{"$f":"Таблица2[[#This Row],[14]]+Таблица2[[#This Row],[15]]","v":{"v":0,"d":"0.00"}}]
[855,{"$nulls":8},{"$f":"Таблица2[[#This Row],[11]]+Таблица2[[#This Row],[12]]","v":{"v":0,"d":"0.00"}},null,null,{"$f":"Таблица2[[#This Row],[14]]+Таблица2[[#This Row],[15]]","v":{"v":0,"d":"0.00"}}]
[856,{"$nulls":8},{"$f":"Таблица2[[#This Row],[11]]+Таблица2[[#This Row],[12]]","v":{"v":0,"d":"0.00"}},null,null,{"$f":"Таблица2[[#This Row],[14]]+Таблица2[[#This Row],[15]]","v":{"v":0,"d":"0.00"}}]
[857,{"$nulls":8},{"$f":"Таблица2[[#This Row],[11]]+Таблица2[[#This Row],[12]]","v":{"v":0,"d":"0.00"}},null,null,{"$f":"Таблица2[[#This Row],[14]]+Таблица2[[#This Row],[15]]","v":{"v":0,"d":"0.00"}}]
[858,{"$nulls":8},{"$f":"Таблица2[[#This Row],[11]]+Таблица2[[#This Row],[12]]","v":{"v":0,"d":"0.00"}},null,null,{"$f":"Таблица2[[#This Row],[14]]+Таблица2[[#This Row],[15]]","v":{"v":0,"d":"0.00"}}]
[859,{"$nulls":8},{"$f":"Таблица2[[#This Row],[11]]+Таблица2[[#This Row],[12]]","v":{"v":0,"d":"0.00"}},null,null,{"$f":"Таблица2[[#This Row],[14]]+Таблица2[[#This Row],[15]]","v":{"v":0,"d":"0.00"}}]
[860,{"$nulls":8},{"$f":"Таблица2[[#This Row],[11]]+Таблица2[[#This Row],[12]]","v":{"v":0,"d":"0.00"}},null,null,{"$f":"Таблица2[[#This Row],[14]]+Таблица2[[#This Row],[15]]","v":{"v":0,"d":"0.00"}}]
[861,{"$nulls":8},{"$f":"Таблица2[[#This Row],[11]]+Таблица2[[#This Row],[12]]","v":{"v":0,"d":"0.00"}},null,null,{"$f":"Таблица2[[#This Row],[14]]+Таблица2[[#This Row],[15]]","v":{"v":0,"d":"0.00"}}]
[862,{"$nulls":8},{"$f":"Таблица2[[#This Row],[11]]+Таблица2[[#This Row],[12]]","v":{"v":0,"d":"0.00"}},null,null,{"$f":"Таблица2[[#This Row],[14]]+Таблица2[[#This Row],[15]]","v":{"v":0,"d":"0.00"}}]
[863,{"$nulls":8},{"$f":"Таблица2[[#This Row],[11]]+Таблица2[[#This Row],[12]]","v":{"v":0,"d":"0.00"}},null,null,{"$f":"Таблица2[[#This Row],[14]]+Таблица2[[#This Row],[15]]","v":{"v":0,"d":"0.00"}}]
[864,{"$nulls":8},{"$f":"Таблица2[[#This Row],[11]]+Таблица2[[#This Row],[12]]","v":{"v":0,"d":"0.00"}},null,null,{"$f":"Таблица2[[#This Row],[14]]+Таблица2[[#This Row],[15]]","v":{"v":0,"d":"0.00"}}]
[865,{"$nulls":8},{"$f":"Таблица2[[#This Row],[11]]+Таблица2[[#This Row],[12]]","v":{"v":0,"d":"0.00"}},null,null,{"$f":"Таблица2[[#This Row],[14]]+Таблица2[[#This Row],[15]]","v":{"v":0,"d":"0.00"}}]
[866,{"$nulls":8},{"$f":"Таблица2[[#This Row],[11]]+Таблица2[[#This Row],[12]]","v":{"v":0,"d":"0.00"}},null,null,{"$f":"Таблица2[[#This Row],[14]]+Таблица2[[#This Row],[15]]","v":{"v":0,"d":"0.00"}}]
[867,{"$nulls":8},{"$f":"Таблица2[[#This Row],[11]]+Таблица2[[#This Row],[12]]","v":{"v":0,"d":"0.00"}},null,null,{"$f":"Таблица2[[#This Row],[14]]+Таблица2[[#This Row],[15]]","v":{"v":0,"d":"0.00"}}]
[868,{"$nulls":8},{"$f":"Таблица2[[#This Row],[11]]+Таблица2[[#This Row],[12]]","v":{"v":0,"d":"0.00"}},null,null,{"$f":"Таблица2[[#This Row],[14]]+Таблица2[[#This Row],[15]]","v":{"v":0,"d":"0.00"}}]
[869,{"$nulls":8},{"$f":"Таблица2[[#This Row],[11]]+Таблица2[[#This Row],[12]]","v":{"v":0,"d":"0.00"}},null,null,{"$f":"Таблица2[[#This Row],[14]]+Таблица2[[#This Row],[15]]","v":{"v":0,"d":"0.00"}}]
[870,{"$nulls":8},{"$f":"Таблица2[[#This Row],[11]]+Таблица2[[#This Row],[12]]","v":{"v":0,"d":"0.00"}},null,null,{"$f":"Таблица2[[#This Row],[14]]+Таблица2[[#This Row],[15]]","v":{"v":0,"d":"0.00"}}]
[871,{"$nulls":8},{"$f":"Таблица2[[#This Row],[11]]+Таблица2[[#This Row],[12]]","v":{"v":0,"d":"0.00"}},null,null,{"$f":"Таблица2[[#This Row],[14]]+Таблица2[[#This Row],[15]]","v":{"v":0,"d":"0.00"}}]
[872,{"$nulls":8},{"$f":"Таблица2[[#This Row],[11]]+Таблица2[[#This Row],[12]]","v":{"v":0,"d":"0.00"}},null,null,{"$f":"Таблица2[[#This Row],[14]]+Таблица2[[#This Row],[15]]","v":{"v":0,"d":"0.00"}}]
[873,{"$nulls":8},{"$f":"Таблица2[[#This Row],[11]]+Таблица2[[#This Row],[12]]","v":{"v":0,"d":"0.00"}},null,null,{"$f":"Таблица2[[#This Row],[14]]+Таблица2[[#This Row],[15]]","v":{"v":0,"d":"0.00"}}]
[874,{"$nulls":8},{"$f":"Таблица2[[#This Row],[11]]+Таблица2[[#This Row],[12]]","v":{"v":0,"d":"0.00"}},null,null,{"$f":"Таблица2[[#This Row],[14]]+Таблица2[[#This Row],[15]]","v":{"v":0,"d":"0.00"}}]
[875,{"$nulls":8},{"$f":"Таблица2[[#This Row],[11]]+Таблица2[[#This Row],[12]]","v":{"v":0,"d":"0.00"}},null,null,{"$f":"Таблица2[[#This Row],[14]]+Таблица2[[#This Row],[15]]","v":{"v":0,"d":"0.00"}}]
[876,{"$nulls":8},{"$f":"Таблица2[[#This Row],[11]]+Таблица2[[#This Row],[12]]","v":{"v":0,"d":"0.00"}},null,null,{"$f":"Таблица2[[#This Row],[14]]+Таблица2[[#This Row],[15]]","v":{"v":0,"d":"0.00"}}]
[877,{"$nulls":8},{"$f":"Таблица2[[#This Row],[11]]+Таблица2[[#This Row],[12]]","v":{"v":0,"d":"0.00"}},null,null,{"$f":"Таблица2[[#This Row],[14]]+Таблица2[[#This Row],[15]]","v":{"v":0,"d":"0.00"}}]
[878,{"$nulls":8},{"$f":"Таблица2[[#This Row],[11]]+Таблица2[[#This Row],[12]]","v":{"v":0,"d":"0.00"}},null,null,{"$f":"Таблица2[[#This Row],[14]]+Таблица2[[#This Row],[15]]","v":{"v":0,"d":"0.00"}}]
[879,{"$nulls":8},{"$f":"Таблица2[[#This Row],[11]]+Таблица2[[#This Row],[12]]","v":{"v":0,"d":"0.00"}},null,null,{"$f":"Таблица2[[#This Row],[14]]+Таблица2[[#This Row],[15]]","v":{"v":0,"d":"0.00"}}]
[880,{"$nulls":8},{"$f":"Таблица2[[#This Row],[11]]+Таблица2[[#This Row],[12]]","v":{"v":0,"d":"0.00"}},null,null,{"$f":"Таблица2[[#This Row],[14]]+Таблица2[[#This Row],[15]]","v":{"v":0,"d":"0.00"}}]
[881,{"$nulls":8},{"$f":"Таблица2[[#This Row],[11]]+Таблица2[[#This Row],[12]]","v":{"v":0,"d":"0.00"}},null,null,{"$f":"Таблица2[[#This Row],[14]]+Таблица2[[#This Row],[15]]","v":{"v":0,"d":"0.00"}}]
[882,{"$nulls":8},{"$f":"Таблица2[[#This Row],[11]]+Таблица2[[#This Row],[12]]","v":{"v":0,"d":"0.00"}},null,null,{"$f":"Таблица2[[#This Row],[14]]+Таблица2[[#This Row],[15]]","v":{"v":0,"d":"0.00"}}]
[883,{"$nulls":8},{"$f":"Таблица2[[#This Row],[11]]+Таблица2[[#This Row],[12]]","v":{"v":0,"d":"0.00"}},null,null,{"$f":"Таблица2[[#This Row],[14]]+Таблица2[[#This Row],[15]]","v":{"v":0,"d":"0.00"}}]
[884,{"$nulls":8},{"$f":"Таблица2[[#This Row],[11]]+Таблица2[[#This Row],[12]]","v":{"v":0,"d":"0.00"}},null,null,{"$f":"Таблица2[[#This Row],[14]]+Таблица2[[#This Row],[15]]","v":{"v":0,"d":"0.00"}}]
[885,{"$nulls":8},{"$f":"Таблица2[[#This Row],[11]]+Таблица2[[#This Row],[12]]","v":{"v":0,"d":"0.00"}},null,null,{"$f":"Таблица2[[#This Row],[14]]+Таблица2[[#This Row],[15]]","v":{"v":0,"d":"0.00"}}]
[886,{"$nulls":8},{"$f":"Таблица2[[#This Row],[11]]+Таблица2[[#This Row],[12]]","v":{"v":0,"d":"0.00"}},null,null,{"$f":"Таблица2[[#This Row],[14]]+Таблица2[[#This Row],[15]]","v":{"v":0,"d":"0.00"}}]
[887,{"$nulls":8},{"$f":"Таблица2[[#This Row],[11]]+Таблица2[[#This Row],[12]]","v":{"v":0,"d":"0.00"}},null,null,{"$f":"Таблица2[[#This Row],[14]]+Таблица2[[#This Row],[15]]","v":{"v":0,"d":"0.00"}}]
[888,{"$nulls":8},{"$f":"Таблица2[[#This Row],[11]]+Таблица2[[#This Row],[12]]","v":{"v":0,"d":"0.00"}},null,null,{"$f":"Таблица2[[#This Row],[14]]+Таблица2[[#This Row],[15]]","v":{"v":0,"d":"0.00"}}]
[889,{"$nulls":8},{"$f":"Таблица2[[#This Row],[11]]+Таблица2[[#This Row],[12]]","v":{"v":0,"d":"0.00"}},null,null,{"$f":"Таблица2[[#This Row],[14]]+Таблица2[[#This Row],[15]]","v":{"v":0,"d":"0.00"}}]
[890,{"$nulls":8},{"$f":"Таблица2[[#This Row],[11]]+Таблица2[[#This Row],[12]]","v":{"v":0,"d":"0.00"}},null,null,{"$f":"Таблица2[[#This Row],[14]]+Таблица2[[#This Row],[15]]","v":{"v":0,"d":"0.00"}}]
[891,{"$nulls":8},{"$f":"Таблица2[[#This Row],[11]]+Таблица2[[#This Row],[12]]","v":{"v":0,"d":"0.00"}},null,null,{"$f":"Таблица2[[#This Row],[14]]+Таблица2[[#This Row],[15]]","v":{"v":0,"d":"0.00"}}]
[892,{"$nulls":8},{"$f":"Таблица2[[#This Row],[11]]+Таблица2[[#This Row],[12]]","v":{"v":0,"d":"0.00"}},null,null,{"$f":"Таблица2[[#This Row],[14]]+Таблица2[[#This Row],[15]]","v":{"v":0,"d":"0.00"}}]
[893,{"$nulls":8},{"$f":"Таблица2[[#This Row],[11]]+Таблица2[[#This Row],[12]]","v":{"v":0,"d":"0.00"}},null,null,{"$f":"Таблица2[[#This Row],[14]]+Таблица2[[#This Row],[15]]","v":{"v":0,"d":"0.00"}}]
[894,{"$nulls":8},{"$f":"Таблица2[[#This Row],[11]]+Таблица2[[#This Row],[12]]","v":{"v":0,"d":"0.00"}},null,null,{"$f":"Таблица2[[#This Row],[14]]+Таблица2[[#This Row],[15]]","v":{"v":0,"d":"0.00"}}]
[895,{"$nulls":8},{"$f":"Таблица2[[#This Row],[11]]+Таблица2[[#This Row],[12]]","v":{"v":0,"d":"0.00"}},null,null,{"$f":"Таблица2[[#This Row],[14]]+Таблица2[[#This Row],[15]]","v":{"v":0,"d":"0.00"}}]
[896,{"$nulls":8},{"$f":"Таблица2[[#This Row],[11]]+Таблица2[[#This Row],[12]]","v":{"v":0,"d":"0.00"}},null,null,{"$f":"Таблица2[[#This Row],[14]]+Таблица2[[#This Row],[15]]","v":{"v":0,"d":"0.00"}}]
[897,{"$nulls":8},{"$f":"Таблица2[[#This Row],[11]]+Таблица2[[#This Row],[12]]","v":{"v":0,"d":"0.00"}},null,null,{"$f":"Таблица2[[#This Row],[14]]+Таблица2[[#This Row],[15]]","v":{"v":0,"d":"0.00"}}]
[898,{"$nulls":8},{"$f":"Таблица2[[#This Row],[11]]+Таблица2[[#This Row],[12]]","v":{"v":0,"d":"0.00"}},null,null,{"$f":"Таблица2[[#This Row],[14]]+Таблица2[[#This Row],[15]]","v":{"v":0,"d":"0.00"}}]
[899,{"$nulls":8},{"$f":"Таблица2[[#This Row],[11]]+Таблица2[[#This Row],[12]]","v":{"v":0,"d":"0.00"}},null,null,{"$f":"Таблица2[[#This Row],[14]]+Таблица2[[#This Row],[15]]","v":{"v":0,"d":"0.00"}}]
[900,{"$nulls":8},{"$f":"Таблица2[[#This Row],[11]]+Таблица2[[#This Row],[12]]","v":{"v":0,"d":"0.00"}},null,null,{"$f":"Таблица2[[#This Row],[14]]+Таблица2[[#This Row],[15]]","v":{"v":0,"d":"0.00"}}]
[901,{"$nulls":8},{"$f":"Таблица2[[#This Row],[11]]+Таблица2[[#This Row],[12]]","v":{"v":0,"d":"0.00"}},null,null,{"$f":"Таблица2[[#This Row],[14]]+Таблица2[[#This Row],[15]]","v":{"v":0,"d":"0.00"}}]
[902,{"$nulls":8},{"$f":"Таблица2[[#This Row],[11]]+Таблица2[[#This Row],[12]]","v":{"v":0,"d":"0.00"}},null,null,{"$f":"Таблица2[[#This Row],[14]]+Таблица2[[#This Row],[15]]","v":{"v":0,"d":"0.00"}}]
[903,{"$nulls":8},{"$f":"Таблица2[[#This Row],[11]]+Таблица2[[#This Row],[12]]","v":{"v":0,"d":"0.00"}},null,null,{"$f":"Таблица2[[#This Row],[14]]+Таблица2[[#This Row],[15]]","v":{"v":0,"d":"0.00"}}]
[904,{"$nulls":8},{"$f":"Таблица2[[#This Row],[11]]+Таблица2[[#This Row],[12]]","v":{"v":0,"d":"0.00"}},null,null,{"$f":"Таблица2[[#This Row],[14]]+Таблица2[[#This Row],[15]]","v":{"v":0,"d":"0.00"}}]
[905,{"$nulls":8},{"$f":"Таблица2[[#This Row],[11]]+Таблица2[[#This Row],[12]]","v":{"v":0,"d":"0.00"}},null,null,{"$f":"Таблица2[[#This Row],[14]]+Таблица2[[#This Row],[15]]","v":{"v":0,"d":"0.00"}}]
[906,{"$nulls":8},{"$f":"Таблица2[[#This Row],[11]]+Таблица2[[#This Row],[12]]","v":{"v":0,"d":"0.00"}},null,null,{"$f":"Таблица2[[#This Row],[14]]+Таблица2[[#This Row],[15]]","v":{"v":0,"d":"0.00"}}]
[907,{"$nulls":8},{"$f":"Таблица2[[#This Row],[11]]+Таблица2[[#This Row],[12]]","v":{"v":0,"d":"0.00"}},null,null,{"$f":"Таблица2[[#This Row],[14]]+Таблица2[[#This Row],[15]]","v":{"v":0,"d":"0.00"}}]
[908,{"$nulls":8},{"$f":"Таблица2[[#This Row],[11]]+Таблица2[[#This Row],[12]]","v":{"v":0,"d":"0.00"}},null,null,{"$f":"Таблица2[[#This Row],[14]]+Таблица2[[#This Row],[15]]","v":{"v":0,"d":"0.00"}}]
[909,{"$nulls":8},{"$f":"Таблица2[[#This Row],[11]]+Таблица2[[#This Row],[12]]","v":{"v":0,"d":"0.00"}},null,null,{"$f":"Таблица2[[#This Row],[14]]+Таблица2[[#This Row],[15]]","v":{"v":0,"d":"0.00"}}]
[910,{"$nulls":8},{"$f":"Таблица2[[#This Row],[11]]+Таблица2[[#This Row],[12]]","v":{"v":0,"d":"0.00"}},null,null,{"$f":"Таблица2[[#This Row],[14]]+Таблица2[[#This Row],[15]]","v":{"v":0,"d":"0.00"}}]
[911,{"$nulls":8},{"$f":"Таблица2[[#This Row],[11]]+Таблица2[[#This Row],[12]]","v":{"v":0,"d":"0.00"}},null,null,{"$f":"Таблица2[[#This Row],[14]]+Таблица2[[#This Row],[15]]","v":{"v":0,"d":"0.00"}}]
[912,{"$nulls":8},{"$f":"Таблица2[[#This Row],[11]]+Таблица2[[#This Row],[12]]","v":{"v":0,"d":"0.00"}},null,null,{"$f":"Таблица2[[#This Row],[14]]+Таблица2[[#This Row],[15]]","v":{"v":0,"d":"0.00"}}]
[913,{"$nulls":8},{"$f":"Таблица2[[#This Row],[11]]+Таблица2[[#This Row],[12]]","v":{"v":0,"d":"0.00"}},null,null,{"$f":"Таблица2[[#This Row],[14]]+Таблица2[[#This Row],[15]]","v":{"v":0,"d":"0.00"}}]
[914,{"$nulls":8},{"$f":"Таблица2[[#This Row],[11]]+Таблица2[[#This Row],[12]]","v":{"v":0,"d":"0.00"}},null,null,{"$f":"Таблица2[[#This Row],[14]]+Таблица2[[#This Row],[15]]","v":{"v":0,"d":"0.00"}}]
[915,{"$nulls":8},{"$f":"Таблица2[[#This Row],[11]]+Таблица2[[#This Row],[12]]","v":{"v":0,"d":"0.00"}},null,null,{"$f":"Таблица2[[#This Row],[14]]+Таблица2[[#This Row],[15]]","v":{"v":0,"d":"0.00"}}]
[916,{"$nulls":8},{"$f":"Таблица2[[#This Row],[11]]+Таблица2[[#This Row],[12]]","v":{"v":0,"d":"0.00"}},null,null,{"$f":"Таблица2[[#This Row],[14]]+Таблица2[[#This Row],[15]]","v":{"v":0,"d":"0.00"}}]
[917,{"$nulls":8},{"$f":"Таблица2[[#This Row],[11]]+Таблица2[[#This Row],[12]]","v":{"v":0,"d":"0.00"}},null,null,{"$f":"Таблица2[[#This Row],[14]]+Таблица2[[#This Row],[15]]","v":{"v":0,"d":"0.00"}}]
[918,{"$nulls":8},{"$f":"Таблица2[[#This Row],[11]]+Таблица2[[#This Row],[12]]","v":{"v":0,"d":"0.00"}},null,null,{"$f":"Таблица2[[#This Row],[14]]+Таблица2[[#This Row],[15]]","v":{"v":0,"d":"0.00"}}]
[919,{"$nulls":8},{"$f":"Таблица2[[#This Row],[11]]+Таблица2[[#This Row],[12]]","v":{"v":0,"d":"0.00"}},null,null,{"$f":"Таблица2[[#This Row],[14]]+Таблица2[[#This Row],[15]]","v":{"v":0,"d":"0.00"}}]
[920,{"$nulls":8},{"$f":"Таблица2[[#This Row],[11]]+Таблица2[[#This Row],[12]]","v":{"v":0,"d":"0.00"}},null,null,{"$f":"Таблица2[[#This Row],[14]]+Таблица2[[#This Row],[15]]","v":{"v":0,"d":"0.00"}}]
[921,{"$nulls":8},{"$f":"Таблица2[[#This Row],[11]]+Таблица2[[#This Row],[12]]","v":{"v":0,"d":"0.00"}},null,null,{"$f":"Таблица2[[#This Row],[14]]+Таблица2[[#This Row],[15]]","v":{"v":0,"d":"0.00"}}]
[922,{"$nulls":8},{"$f":"Таблица2[[#This Row],[11]]+Таблица2[[#This Row],[12]]","v":{"v":0,"d":"0.00"}},null,null,{"$f":"Таблица2[[#This Row],[14]]+Таблица2[[#This Row],[15]]","v":{"v":0,"d":"0.00"}}]
[923,{"$nulls":8},{"$f":"Таблица2[[#This Row],[11]]+Таблица2[[#This Row],[12]]","v":{"v":0,"d":"0.00"}},null,null,{"$f":"Таблица2[[#This Row],[14]]+Таблица2[[#This Row],[15]]","v":{"v":0,"d":"0.00"}}]
[924,{"$nulls":8},{"$f":"Таблица2[[#This Row],[11]]+Таблица2[[#This Row],[12]]","v":{"v":0,"d":"0.00"}},null,null,{"$f":"Таблица2[[#This Row],[14]]+Таблица2[[#This Row],[15]]","v":{"v":0,"d":"0.00"}}]
[925,{"$nulls":8},{"$f":"Таблица2[[#This Row],[11]]+Таблица2[[#This Row],[12]]","v":{"v":0,"d":"0.00"}},null,null,{"$f":"Таблица2[[#This Row],[14]]+Таблица2[[#This Row],[15]]","v":{"v":0,"d":"0.00"}}]
[926,{"$nulls":8},{"$f":"Таблица2[[#This Row],[11]]+Таблица2[[#This Row],[12]]","v":{"v":0,"d":"0.00"}},null,null,{"$f":"Таблица2[[#This Row],[14]]+Таблица2[[#This Row],[15]]","v":{"v":0,"d":"0.00"}}]
[927,{"$nulls":8},{"$f":"Таблица2[[#This Row],[11]]+Таблица2[[#This Row],[12]]","v":{"v":0,"d":"0.00"}},null,null,{"$f":"Таблица2[[#This Row],[14]]+Таблица2[[#This Row],[15]]","v":{"v":0,"d":"0.00"}}]
[928,{"$nulls":8},{"$f":"Таблица2[[#This Row],[11]]+Таблица2[[#This Row],[12]]","v":{"v":0,"d":"0.00"}},null,null,{"$f":"Таблица2[[#This Row],[14]]+Таблица2[[#This Row],[15]]","v":{"v":0,"d":"0.00"}}]
[929,{"$nulls":8},{"$f":"Таблица2[[#This Row],[11]]+Таблица2[[#This Row],[12]]","v":{"v":0,"d":"0.00"}},null,null,{"$f":"Таблица2[[#This Row],[14]]+Таблица2[[#This Row],[15]]","v":{"v":0,"d":"0.00"}}]
[930,{"$nulls":8},{"$f":"Таблица2[[#This Row],[11]]+Таблица2[[#This Row],[12]]","v":{"v":0,"d":"0.00"}},null,null,{"$f":"Таблица2[[#This Row],[14]]+Таблица2[[#This Row],[15]]","v":{"v":0,"d":"0.00"}}]
[931,{"$nulls":8},{"$f":"Таблица2[[#This Row],[11]]+Таблица2[[#This Row],[12]]","v":{"v":0,"d":"0.00"}},null,null,{"$f":"Таблица2[[#This Row],[14]]+Таблица2[[#This Row],[15]]","v":{"v":0,"d":"0.00"}}]
[932,{"$nulls":8},{"$f":"Таблица2[[#This Row],[11]]+Таблица2[[#This Row],[12]]","v":{"v":0,"d":"0.00"}},null,null,{"$f":"Таблица2[[#This Row],[14]]+Таблица2[[#This Row],[15]]","v":{"v":0,"d":"0.00"}}]
[933,{"$nulls":8},{"$f":"Таблица2[[#This Row],[11]]+Таблица2[[#This Row],[12]]","v":{"v":0,"d":"0.00"}},null,null,{"$f":"Таблица2[[#This Row],[14]]+Таблица2[[#This Row],[15]]","v":{"v":0,"d":"0.00"}}]
[934,{"$nulls":8},{"$f":"Таблица2[[#This Row],[11]]+Таблица2[[#This Row],[12]]","v":{"v":0,"d":"0.00"}},null,null,{"$f":"Таблица2[[#This Row],[14]]+Таблица2[[#This Row],[15]]","v":{"v":0,"d":"0.00"}}]
[935,{"$nulls":8},{"$f":"Таблица2[[#This Row],[11]]+Таблица2[[#This Row],[12]]","v":{"v":0,"d":"0.00"}},null,null,{"$f":"Таблица2[[#This Row],[14]]+Таблица2[[#This Row],[15]]","v":{"v":0,"d":"0.00"}}]
[936,{"$nulls":8},{"$f":"Таблица2[[#This Row],[11]]+Таблица2[[#This Row],[12]]","v":{"v":0,"d":"0.00"}},null,null,{"$f":"Таблица2[[#This Row],[14]]+Таблица2[[#This Row],[15]]","v":{"v":0,"d":"0.00"}}]
[937,{"$nulls":8},{"$f":"Таблица2[[#This Row],[11]]+Таблица2[[#This Row],[12]]","v":{"v":0,"d":"0.00"}},null,null,{"$f":"Таблица2[[#This Row],[14]]+Таблица2[[#This Row],[15]]","v":{"v":0,"d":"0.00"}}]
[938,{"$nulls":8},{"$f":"Таблица2[[#This Row],[11]]+Таблица2[[#This Row],[12]]","v":{"v":0,"d":"0.00"}},null,null,{"$f":"Таблица2[[#This Row],[14]]+Таблица2[[#This Row],[15]]","v":{"v":0,"d":"0.00"}}]
[939,{"$nulls":8},{"$f":"Таблица2[[#This Row],[11]]+Таблица2[[#This Row],[12]]","v":{"v":0,"d":"0.00"}},null,null,{"$f":"Таблица2[[#This Row],[14]]+Таблица2[[#This Row],[15]]","v":{"v":0,"d":"0.00"}}]
[940,{"$nulls":8},{"$f":"Таблица2[[#This Row],[11]]+Таблица2[[#This Row],[12]]","v":{"v":0,"d":"0.00"}},null,null,{"$f":"Таблица2[[#This Row],[14]]+Таблица2[[#This Row],[15]]","v":{"v":0,"d":"0.00"}}]
[941,{"$nulls":8},{"$f":"Таблица2[[#This Row],[11]]+Таблица2[[#This Row],[12]]","v":{"v":0,"d":"0.00"}},null,null,{"$f":"Таблица2[[#This Row],[14]]+Таблица2[[#This Row],[15]]","v":{"v":0,"d":"0.00"}}]
[942,{"$nulls":8},{"$f":"Таблица2[[#This Row],[11]]+Таблица2[[#This Row],[12]]","v":{"v":0,"d":"0.00"}},null,null,{"$f":"Таблица2[[#This Row],[14]]+Таблица2[[#This Row],[15]]","v":{"v":0,"d":"0.00"}}]
[943,{"$nulls":8},{"$f":"Таблица2[[#This Row],[11]]+Таблица2[[#This Row],[12]]","v":{"v":0,"d":"0.00"}},null,null,{"$f":"Таблица2[[#This Row],[14]]+Таблица2[[#This Row],[15]]","v":{"v":0,"d":"0.00"}}]
[944,{"$nulls":8},{"$f":"Таблица2[[#This Row],[11]]+Таблица2[[#This Row],[12]]","v":{"v":0,"d":"0.00"}},null,null,{"$f":"Таблица2[[#This Row],[14]]+Таблица2[[#This Row],[15]]","v":{"v":0,"d":"0.00"}}]
[945,{"$nulls":8},{"$f":"Таблица2[[#This Row],[11]]+Таблица2[[#This Row],[12]]","v":{"v":0,"d":"0.00"}},null,null,{"$f":"Таблица2[[#This Row],[14]]+Таблица2[[#This Row],[15]]","v":{"v":0,"d":"0.00"}}]
[946,{"$nulls":8},{"$f":"Таблица2[[#This Row],[11]]+Таблица2[[#This Row],[12]]","v":{"v":0,"d":"0.00"}},null,null,{"$f":"Таблица2[[#This Row],[14]]+Таблица2[[#This Row],[15]]","v":{"v":0,"d":"0.00"}}]
[947,{"$nulls":8},{"$f":"Таблица2[[#This Row],[11]]+Таблица2[[#This Row],[12]]","v":{"v":0,"d":"0.00"}},null,null,{"$f":"Таблица2[[#This Row],[14]]+Таблица2[[#This Row],[15]]","v":{"v":0,"d":"0.00"}}]
[948,{"$nulls":8},{"$f":"Таблица2[[#This Row],[11]]+Таблица2[[#This Row],[12]]","v":{"v":0,"d":"0.00"}},null,null,{"$f":"Таблица2[[#This Row],[14]]+Таблица2[[#This Row],[15]]","v":{"v":0,"d":"0.00"}}]
[949,{"$nulls":8},{"$f":"Таблица2[[#This Row],[11]]+Таблица2[[#This Row],[12]]","v":{"v":0,"d":"0.00"}},null,null,{"$f":"Таблица2[[#This Row],[14]]+Таблица2[[#This Row],[15]]","v":{"v":0,"d":"0.00"}}]
[950,{"$nulls":8},{"$f":"Таблица2[[#This Row],[11]]+Таблица2[[#This Row],[12]]","v":{"v":0,"d":"0.00"}},null,null,{"$f":"Таблица2[[#This Row],[14]]+Таблица2[[#This Row],[15]]","v":{"v":0,"d":"0.00"}}]
[951,{"$nulls":8},{"$f":"Таблица2[[#This Row],[11]]+Таблица2[[#This Row],[12]]","v":{"v":0,"d":"0.00"}},null,null,{"$f":"Таблица2[[#This Row],[14]]+Таблица2[[#This Row],[15]]","v":{"v":0,"d":"0.00"}}]
[952,{"$nulls":8},{"$f":"Таблица2[[#This Row],[11]]+Таблица2[[#This Row],[12]]","v":{"v":0,"d":"0.00"}},null,null,{"$f":"Таблица2[[#This Row],[14]]+Таблица2[[#This Row],[15]]","v":{"v":0,"d":"0.00"}}]
[953,{"$nulls":8},{"$f":"Таблица2[[#This Row],[11]]+Таблица2[[#This Row],[12]]","v":{"v":0,"d":"0.00"}},null,null,{"$f":"Таблица2[[#This Row],[14]]+Таблица2[[#This Row],[15]]","v":{"v":0,"d":"0.00"}}]
[954,{"$nulls":8},{"$f":"Таблица2[[#This Row],[11]]+Таблица2[[#This Row],[12]]","v":{"v":0,"d":"0.00"}},null,null,{"$f":"Таблица2[[#This Row],[14]]+Таблица2[[#This Row],[15]]","v":{"v":0,"d":"0.00"}}]
[955,{"$nulls":8},{"$f":"Таблица2[[#This Row],[11]]+Таблица2[[#This Row],[12]]","v":{"v":0,"d":"0.00"}},null,null,{"$f":"Таблица2[[#This Row],[14]]+Таблица2[[#This Row],[15]]","v":{"v":0,"d":"0.00"}}]
[956,{"$nulls":8},{"$f":"Таблица2[[#This Row],[11]]+Таблица2[[#This Row],[12]]","v":{"v":0,"d":"0.00"}},null,null,{"$f":"Таблица2[[#This Row],[14]]+Таблица2[[#This Row],[15]]","v":{"v":0,"d":"0.00"}}]
[957,{"$nulls":8},{"$f":"Таблица2[[#This Row],[11]]+Таблица2[[#This Row],[12]]","v":{"v":0,"d":"0.00"}},null,null,{"$f":"Таблица2[[#This Row],[14]]+Таблица2[[#This Row],[15]]","v":{"v":0,"d":"0.00"}}]
[958,{"$nulls":8},{"$f":"Таблица2[[#This Row],[11]]+Таблица2[[#This Row],[12]]","v":{"v":0,"d":"0.00"}},null,null,{"$f":"Таблица2[[#This Row],[14]]+Таблица2[[#This Row],[15]]","v":{"v":0,"d":"0.00"}}]
[959,{"$nulls":8},{"$f":"Таблица2[[#This Row],[11]]+Таблица2[[#This Row],[12]]","v":{"v":0,"d":"0.00"}},null,null,{"$f":"Таблица2[[#This Row],[14]]+Таблица2[[#This Row],[15]]","v":{"v":0,"d":"0.00"}}]
[960,{"$nulls":8},{"$f":"Таблица2[[#This Row],[11]]+Таблица2[[#This Row],[12]]","v":{"v":0,"d":"0.00"}},null,null,{"$f":"Таблица2[[#This Row],[14]]+Таблица2[[#This Row],[15]]","v":{"v":0,"d":"0.00"}}]
[961,{"$nulls":8},{"$f":"Таблица2[[#This Row],[11]]+Таблица2[[#This Row],[12]]","v":{"v":0,"d":"0.00"}},null,null,{"$f":"Таблица2[[#This Row],[14]]+Таблица2[[#This Row],[15]]","v":{"v":0,"d":"0.00"}}]
[962,{"$nulls":8},{"$f":"Таблица2[[#This Row],[11]]+Таблица2[[#This Row],[12]]","v":{"v":0,"d":"0.00"}},null,null,{"$f":"Таблица2[[#This Row],[14]]+Таблица2[[#This Row],[15]]","v":{"v":0,"d":"0.00"}}]
[963,{"$nulls":8},{"$f":"Таблица2[[#This Row],[11]]+Таблица2[[#This Row],[12]]","v":{"v":0,"d":"0.00"}},null,null,{"$f":"Таблица2[[#This Row],[14]]+Таблица2[[#This Row],[15]]","v":{"v":0,"d":"0.00"}}]
[964,{"$nulls":8},{"$f":"Таблица2[[#This Row],[11]]+Таблица2[[#This Row],[12]]","v":{"v":0,"d":"0.00"}},null,null,{"$f":"Таблица2[[#This Row],[14]]+Таблица2[[#This Row],[15]]","v":{"v":0,"d":"0.00"}}]
[965,{"$nulls":8},{"$f":"Таблица2[[#This Row],[11]]+Таблица2[[#This Row],[12]]","v":{"v":0,"d":"0.00"}},null,null,{"$f":"Таблица2[[#This Row],[14]]+Таблица2[[#This Row],[15]]","v":{"v":0,"d":"0.00"}}]
[966,{"$nulls":8},{"$f":"Таблица2[[#This Row],[11]]+Таблица2[[#This Row],[12]]","v":{"v":0,"d":"0.00"}},null,null,{"$f":"Таблица2[[#This Row],[14]]+Таблица2[[#This Row],[15]]","v":{"v":0,"d":"0.00"}}]
[967,{"$nulls":8},{"$f":"Таблица2[[#This Row],[11]]+Таблица2[[#This Row],[12]]","v":{"v":0,"d":"0.00"}},null,null,{"$f":"Таблица2[[#This Row],[14]]+Таблица2[[#This Row],[15]]","v":{"v":0,"d":"0.00"}}]
[968,{"$nulls":8},{"$f":"Таблица2[[#This Row],[11]]+Таблица2[[#This Row],[12]]","v":{"v":0,"d":"0.00"}},null,null,{"$f":"Таблица2[[#This Row],[14]]+Таблица2[[#This Row],[15]]","v":{"v":0,"d":"0.00"}}]
[969,{"$nulls":8},{"$f":"Таблица2[[#This Row],[11]]+Таблица2[[#This Row],[12]]","v":{"v":0,"d":"0.00"}},null,null,{"$f":"Таблица2[[#This Row],[14]]+Таблица2[[#This Row],[15]]","v":{"v":0,"d":"0.00"}}]
[970,{"$nulls":8},{"$f":"Таблица2[[#This Row],[11]]+Таблица2[[#This Row],[12]]","v":{"v":0,"d":"0.00"}},null,null,{"$f":"Таблица2[[#This Row],[14]]+Таблица2[[#This Row],[15]]","v":{"v":0,"d":"0.00"}}]
[971,{"$nulls":8},{"$f":"Таблица2[[#This Row],[11]]+Таблица2[[#This Row],[12]]","v":{"v":0,"d":"0.00"}},null,null,{"$f":"Таблица2[[#This Row],[14]]+Таблица2[[#This Row],[15]]","v":{"v":0,"d":"0.00"}}]
[972,{"$nulls":8},{"$f":"Таблица2[[#This Row],[11]]+Таблица2[[#This Row],[12]]","v":{"v":0,"d":"0.00"}},null,null,{"$f":"Таблица2[[#This Row],[14]]+Таблица2[[#This Row],[15]]","v":{"v":0,"d":"0.00"}}]
[973,{"$nulls":8},{"$f":"Таблица2[[#This Row],[11]]+Таблица2[[#This Row],[12]]","v":{"v":0,"d":"0.00"}},null,null,{"$f":"Таблица2[[#This Row],[14]]+Таблица2[[#This Row],[15]]","v":{"v":0,"d":"0.00"}}]
[974,{"$nulls":8},{"$f":"Таблица2[[#This Row],[11]]+Таблица2[[#This Row],[12]]","v":{"v":0,"d":"0.00"}},null,null,{"$f":"Таблица2[[#This Row],[14]]+Таблица2[[#This Row],[15]]","v":{"v":0,"d":"0.00"}}]
[975,{"$nulls":8},{"$f":"Таблица2[[#This Row],[11]]+Таблица2[[#This Row],[12]]","v":{"v":0,"d":"0.00"}},null,null,{"$f":"Таблица2[[#This Row],[14]]+Таблица2[[#This Row],[15]]","v":{"v":0,"d":"0.00"}}]
[976,{"$nulls":8},{"$f":"Таблица2[[#This Row],[11]]+Таблица2[[#This Row],[12]]","v":{"v":0,"d":"0.00"}},null,null,{"$f":"Таблица2[[#This Row],[14]]+Таблица2[[#This Row],[15]]","v":{"v":0,"d":"0.00"}}]
[977,{"$nulls":8},{"$f":"Таблица2[[#This Row],[11]]+Таблица2[[#This Row],[12]]","v":{"v":0,"d":"0.00"}},null,null,{"$f":"Таблица2[[#This Row],[14]]+Таблица2[[#This Row],[15]]","v":{"v":0,"d":"0.00"}}]
[978,{"$nulls":8},{"$f":"Таблица2[[#This Row],[11]]+Таблица2[[#This Row],[12]]","v":{"v":0,"d":"0.00"}},null,null,{"$f":"Таблица2[[#This Row],[14]]+Таблица2[[#This Row],[15]]","v":{"v":0,"d":"0.00"}}]
[979,{"$nulls":8},{"$f":"Таблица2[[#This Row],[11]]+Таблица2[[#This Row],[12]]","v":{"v":0,"d":"0.00"}},null,null,{"$f":"Таблица2[[#This Row],[14]]+Таблица2[[#This Row],[15]]","v":{"v":0,"d":"0.00"}}]
[980,{"$nulls":8},{"$f":"Таблица2[[#This Row],[11]]+Таблица2[[#This Row],[12]]","v":{"v":0,"d":"0.00"}},null,null,{"$f":"Таблица2[[#This Row],[14]]+Таблица2[[#This Row],[15]]","v":{"v":0,"d":"0.00"}}]
[981,{"$nulls":8},{"$f":"Таблица2[[#This Row],[11]]+Таблица2[[#This Row],[12]]","v":{"v":0,"d":"0.00"}},null,null,{"$f":"Таблица2[[#This Row],[14]]+Таблица2[[#This Row],[15]]","v":{"v":0,"d":"0.00"}}]
[982,{"$nulls":8},{"$f":"Таблица2[[#This Row],[11]]+Таблица2[[#This Row],[12]]","v":{"v":0,"d":"0.00"}},null,null,{"$f":"Таблица2[[#This Row],[14]]+Таблица2[[#This Row],[15]]","v":{"v":0,"d":"0.00"}}]
[983,{"$nulls":8},{"$f":"Таблица2[[#This Row],[11]]+Таблица2[[#This Row],[12]]","v":{"v":0,"d":"0.00"}},null,null,{"$f":"Таблица2[[#This Row],[14]]+Таблица2[[#This Row],[15]]","v":{"v":0,"d":"0.00"}}]
[984,{"$nulls":8},{"$f":"Таблица2[[#This Row],[11]]+Таблица2[[#This Row],[12]]","v":{"v":0,"d":"0.00"}},null,null,{"$f":"Таблица2[[#This Row],[14]]+Таблица2[[#This Row],[15]]","v":{"v":0,"d":"0.00"}}]
[985,{"$nulls":8},{"$f":"Таблица2[[#This Row],[11]]+Таблица2[[#This Row],[12]]","v":{"v":0,"d":"0.00"}},null,null,{"$f":"Таблица2[[#This Row],[14]]+Таблица2[[#This Row],[15]]","v":{"v":0,"d":"0.00"}}]
[986,{"$nulls":8},{"$f":"Таблица2[[#This Row],[11]]+Таблица2[[#This Row],[12]]","v":{"v":0,"d":"0.00"}},null,null,{"$f":"Таблица2[[#This Row],[14]]+Таблица2[[#This Row],[15]]","v":{"v":0,"d":"0.00"}}]
[987,{"$nulls":8},{"$f":"Таблица2[[#This Row],[11]]+Таблица2[[#This Row],[12]]","v":{"v":0,"d":"0.00"}},null,null,{"$f":"Таблица2[[#This Row],[14]]+Таблица2[[#This Row],[15]]","v":{"v":0,"d":"0.00"}}]
[988,{"$nulls":8},{"$f":"Таблица2[[#This Row],[11]]+Таблица2[[#This Row],[12]]","v":{"v":0,"d":"0.00"}},null,null,{"$f":"Таблица2[[#This Row],[14]]+Таблица2[[#This Row],[15]]","v":{"v":0,"d":"0.00"}}]
[989,{"$nulls":8},{"$f":"Таблица2[[#This Row],[11]]+Таблица2[[#This Row],[12]]","v":{"v":0,"d":"0.00"}},null,null,{"$f":"Таблица2[[#This Row],[14]]+Таблица2[[#This Row],[15]]","v":{"v":0,"d":"0.00"}}]
[990,{"$nulls":8},{"$f":"Таблица2[[#This Row],[11]]+Таблица2[[#This Row],[12]]","v":{"v":0,"d":"0.00"}},null,null,{"$f":"Таблица2[[#This Row],[14]]+Таблица2[[#This Row],[15]]","v":{"v":0,"d":"0.00"}}]
[991,{"$nulls":8},{"$f":"Таблица2[[#This Row],[11]]+Таблица2[[#This Row],[12]]","v":{"v":0,"d":"0.00"}},null,null,{"$f":"Таблица2[[#This Row],[14]]+Таблица2[[#This Row],[15]]","v":{"v":0,"d":"0.00"}}]
[992,{"$nulls":8},{"$f":"Таблица2[[#This Row],[11]]+Таблица2[[#This Row],[12]]","v":{"v":0,"d":"0.00"}},null,null,{"$f":"Таблица2[[#This Row],[14]]+Таблица2[[#This Row],[15]]","v":{"v":0,"d":"0.00"}}]
[993,{"$nulls":8},{"$f":"Таблица2[[#This Row],[11]]+Таблица2[[#This Row],[12]]","v":{"v":0,"d":"0.00"}},null,null,{"$f":"Таблица2[[#This Row],[14]]+Таблица2[[#This Row],[15]]","v":{"v":0,"d":"0.00"}}]
[994,{"$nulls":8},{"$f":"Таблица2[[#This Row],[11]]+Таблица2[[#This Row],[12]]","v":{"v":0,"d":"0.00"}},null,null,{"$f":"Таблица2[[#This Row],[14]]+Таблица2[[#This Row],[15]]","v":{"v":0,"d":"0.00"}}]
[995,{"$nulls":8},{"$f":"Таблица2[[#This Row],[11]]+Таблица2[[#This Row],[12]]","v":{"v":0,"d":"0.00"}},null,null,{"$f":"Таблица2[[#This Row],[14]]+Таблица2[[#This Row],[15]]","v":{"v":0,"d":"0.00"}}]
[996,{"$nulls":8},{"$f":"Таблица2[[#This Row],[11]]+Таблица2[[#This Row],[12]]","v":{"v":0,"d":"0.00"}},null,null,{"$f":"Таблица2[[#This Row],[14]]+Таблица2[[#This Row],[15]]","v":{"v":0,"d":"0.00"}}]
[997,{"$nulls":8},{"$f":"Таблица2[[#This Row],[11]]+Таблица2[[#This Row],[12]]","v":{"v":0,"d":"0.00"}},null,null,{"$f":"Таблица2[[#This Row],[14]]+Таблица2[[#This Row],[15]]","v":{"v":0,"d":"0.00"}}]
[998,{"$nulls":8},{"$f":"Таблица2[[#This Row],[11]]+Таблица2[[#This Row],[12]]","v":{"v":0,"d":"0.00"}},null,null,{"$f":"Таблица2[[#This Row],[14]]+Таблица2[[#This Row],[15]]","v":{"v":0,"d":"0.00"}}]
[999,{"$nulls":8},{"$f":"Таблица2[[#This Row],[11]]+Таблица2[[#This Row],[12]]","v":{"v":0,"d":"0.00"}},null,null,{"$f":"Таблица2[[#This Row],[14]]+Таблица2[[#This Row],[15]]","v":{"v":0,"d":"0.00"}}]
[1000,{"$nulls":8},{"$f":"Таблица2[[#This Row],[11]]+Таблица2[[#This Row],[12]]","v":{"v":0,"d":"0.00"}},null,null,{"$f":"Таблица2[[#This Row],[14]]+Таблица2[[#This Row],[15]]","v":{"v":0,"d":"0.00"}}]
[1001,{"$nulls":8},{"$f":"Таблица2[[#This Row],[11]]+Таблица2[[#This Row],[12]]","v":{"v":0,"d":"0.00"}},null,null,{"$f":"Таблица2[[#This Row],[14]]+Таблица2[[#This Row],[15]]","v":{"v":0,"d":"0.00"}}]
[1002,{"$nulls":8},{"$f":"Таблица2[[#This Row],[11]]+Таблица2[[#This Row],[12]]","v":{"v":0,"d":"0.00"}},null,null,{"$f":"Таблица2[[#This Row],[14]]+Таблица2[[#This Row],[15]]","v":{"v":0,"d":"0.00"}}]
[1003,{"$nulls":8},{"$f":"Таблица2[[#This Row],[11]]+Таблица2[[#This Row],[12]]","v":{"v":0,"d":"0.00"}},null,null,{"$f":"Таблица2[[#This Row],[14]]+Таблица2[[#This Row],[15]]","v":{"v":0,"d":"0.00"}}]
[1004,{"$nulls":8},{"$f":"Таблица2[[#This Row],[11]]+Таблица2[[#This Row],[12]]","v":{"v":0,"d":"0.00"}},null,null,{"$f":"Таблица2[[#This Row],[14]]+Таблица2[[#This Row],[15]]","v":{"v":0,"d":"0.00"}}]
[1005,{"$nulls":8},{"$f":"Таблица2[[#This Row],[11]]+Таблица2[[#This Row],[12]]","v":{"v":0,"d":"0.00"}},null,null,{"$f":"Таблица2[[#This Row],[14]]+Таблица2[[#This Row],[15]]","v":{"v":0,"d":"0.00"}}]
[1006,{"$nulls":8},{"$f":"Таблица2[[#This Row],[11]]+Таблица2[[#This Row],[12]]","v":{"v":0,"d":"0.00"}},null,null,{"$f":"Таблица2[[#This Row],[14]]+Таблица2[[#This Row],[15]]","v":{"v":0,"d":"0.00"}}]
[1007,{"$nulls":8},{"$f":"Таблица2[[#This Row],[11]]+Таблица2[[#This Row],[12]]","v":{"v":0,"d":"0.00"}},null,null,{"$f":"Таблица2[[#This Row],[14]]+Таблица2[[#This Row],[15]]","v":{"v":0,"d":"0.00"}}]
[1008,{"$nulls":8},{"$f":"Таблица2[[#This Row],[11]]+Таблица2[[#This Row],[12]]","v":{"v":0,"d":"0.00"}},null,null,{"$f":"Таблица2[[#This Row],[14]]+Таблица2[[#This Row],[15]]","v":{"v":0,"d":"0.00"}}]
[1009,{"$nulls":8},{"$f":"Таблица2[[#This Row],[11]]+Таблица2[[#This Row],[12]]","v":{"v":0,"d":"0.00"}},null,null,{"$f":"Таблица2[[#This Row],[14]]+Таблица2[[#This Row],[15]]","v":{"v":0,"d":"0.00"}}]
[1010,{"$nulls":8},{"$f":"Таблица2[[#This Row],[11]]+Таблица2[[#This Row],[12]]","v":{"v":0,"d":"0.00"}},null,null,{"$f":"Таблица2[[#This Row],[14]]+Таблица2[[#This Row],[15]]","v":{"v":0,"d":"0.00"}}]
[1011,{"$nulls":8},{"$f":"Таблица2[[#This Row],[11]]+Таблица2[[#This Row],[12]]","v":{"v":0,"d":"0.00"}},null,null,{"$f":"Таблица2[[#This Row],[14]]+Таблица2[[#This Row],[15]]","v":{"v":0,"d":"0.00"}}]
[1012,{"$nulls":8},{"$f":"Таблица2[[#This Row],[11]]+Таблица2[[#This Row],[12]]","v":{"v":0,"d":"0.00"}},null,null,{"$f":"Таблица2[[#This Row],[14]]+Таблица2[[#This Row],[15]]","v":{"v":0,"d":"0.00"}}]
[1013,{"$nulls":8},{"$f":"Таблица2[[#This Row],[11]]+Таблица2[[#This Row],[12]]","v":{"v":0,"d":"0.00"}},null,null,{"$f":"Таблица2[[#This Row],[14]]+Таблица2[[#This Row],[15]]","v":{"v":0,"d":"0.00"}}]
[1014,{"$nulls":8},{"$f":"Таблица2[[#This Row],[11]]+Таблица2[[#This Row],[12]]","v":{"v":0,"d":"0.00"}},null,null,{"$f":"Таблица2[[#This Row],[14]]+Таблица2[[#This Row],[15]]","v":{"v":0,"d":"0.00"}}]
[1015,{"$nulls":8},{"$f":"Таблица2[[#This Row],[11]]+Таблица2[[#This Row],[12]]","v":{"v":0,"d":"0.00"}},null,null,{"$f":"Таблица2[[#This Row],[14]]+Таблица2[[#This Row],[15]]","v":{"v":0,"d":"0.00"}}]
[1016,{"$nulls":8},{"$f":"Таблица2[[#This Row],[11]]+Таблица2[[#This Row],[12]]","v":{"v":0,"d":"0.00"}},null,null,{"$f":"Таблица2[[#This Row],[14]]+Таблица2[[#This Row],[15]]","v":{"v":0,"d":"0.00"}}]
[1017,{"$nulls":8},{"$f":"Таблица2[[#This Row],[11]]+Таблица2[[#This Row],[12]]","v":{"v":0,"d":"0.00"}},null,null,{"$f":"Таблица2[[#This Row],[14]]+Таблица2[[#This Row],[15]]","v":{"v":0,"d":"0.00"}}]
[1018,{"$nulls":8},{"$f":"Таблица2[[#This Row],[11]]+Таблица2[[#This Row],[12]]","v":{"v":0,"d":"0.00"}},null,null,{"$f":"Таблица2[[#This Row],[14]]+Таблица2[[#This Row],[15]]","v":{"v":0,"d":"0.00"}}]
[1019,{"$nulls":8},{"$f":"Таблица2[[#This Row],[11]]+Таблица2[[#This Row],[12]]","v":{"v":0,"d":"0.00"}},null,null,{"$f":"Таблица2[[#This Row],[14]]+Таблица2[[#This Row],[15]]","v":{"v":0,"d":"0.00"}}]
[1020,{"$nulls":8},{"$f":"Таблица2[[#This Row],[11]]+Таблица2[[#This Row],[12]]","v":{"v":0,"d":"0.00"}},null,null,{"$f":"Таблица2[[#This Row],[14]]+Таблица2[[#This Row],[15]]","v":{"v":0,"d":"0.00"}}]
[1021,{"$nulls":8},{"$f":"Таблица2[[#This Row],[11]]+Таблица2[[#This Row],[12]]","v":{"v":0,"d":"0.00"}},null,null,{"$f":"Таблица2[[#This Row],[14]]+Таблица2[[#This Row],[15]]","v":{"v":0,"d":"0.00"}}]
[1022,{"$nulls":8},{"$f":"Таблица2[[#This Row],[11]]+Таблица2[[#This Row],[12]]","v":{"v":0,"d":"0.00"}},null,null,{"$f":"Таблица2[[#This Row],[14]]+Таблица2[[#This Row],[15]]","v":{"v":0,"d":"0.00"}}]
[1023,{"$nulls":8},{"$f":"Таблица2[[#This Row],[11]]+Таблица2[[#This Row],[12]]","v":{"v":0,"d":"0.00"}},null,null,{"$f":"Таблица2[[#This Row],[14]]+Таблица2[[#This Row],[15]]","v":{"v":0,"d":"0.00"}}]
[1024,{"$nulls":8},{"$f":"Таблица2[[#This Row],[11]]+Таблица2[[#This Row],[12]]","v":{"v":0,"d":"0.00"}},null,null,{"$f":"Таблица2[[#This Row],[14]]+Таблица2[[#This Row],[15]]","v":{"v":0,"d":"0.00"}}]
[1025,{"$nulls":8},{"$f":"Таблица2[[#This Row],[11]]+Таблица2[[#This Row],[12]]","v":{"v":0,"d":"0.00"}},null,null,{"$f":"Таблица2[[#This Row],[14]]+Таблица2[[#This Row],[15]]","v":{"v":0,"d":"0.00"}}]
[1026,{"$nulls":8},{"$f":"Таблица2[[#This Row],[11]]+Таблица2[[#This Row],[12]]","v":{"v":0,"d":"0.00"}},null,null,{"$f":"Таблица2[[#This Row],[14]]+Таблица2[[#This Row],[15]]","v":{"v":0,"d":"0.00"}}]
[1027,{"$nulls":8},{"$f":"Таблица2[[#This Row],[11]]+Таблица2[[#This Row],[12]]","v":{"v":0,"d":"0.00"}},null,null,{"$f":"Таблица2[[#This Row],[14]]+Таблица2[[#This Row],[15]]","v":{"v":0,"d":"0.00"}}]
[1028,{"$nulls":8},{"$f":"Таблица2[[#This Row],[11]]+Таблица2[[#This Row],[12]]","v":{"v":0,"d":"0.00"}},null,null,{"$f":"Таблица2[[#This Row],[14]]+Таблица2[[#This Row],[15]]","v":{"v":0,"d":"0.00"}}]
[1029,{"$nulls":8},{"$f":"Таблица2[[#This Row],[11]]+Таблица2[[#This Row],[12]]","v":{"v":0,"d":"0.00"}},null,null,{"$f":"Таблица2[[#This Row],[14]]+Таблица2[[#This Row],[15]]","v":{"v":0,"d":"0.00"}}]
[1030,{"$nulls":8},{"$f":"Таблица2[[#This Row],[11]]+Таблица2[[#This Row],[12]]","v":{"v":0,"d":"0.00"}},null,null,{"$f":"Таблица2[[#This Row],[14]]+Таблица2[[#This Row],[15]]","v":{"v":0,"d":"0.00"}}]
[1031,{"$nulls":8},{"$f":"Таблица2[[#This Row],[11]]+Таблица2[[#This Row],[12]]","v":{"v":0,"d":"0.00"}},null,null,{"$f":"Таблица2[[#This Row],[14]]+Таблица2[[#This Row],[15]]","v":{"v":0,"d":"0.00"}}]
[1032,{"$nulls":8},{"$f":"Таблица2[[#This Row],[11]]+Таблица2[[#This Row],[12]]","v":{"v":0,"d":"0.00"}},null,null,{"$f":"Таблица2[[#This Row],[14]]+Таблица2[[#This Row],[15]]","v":{"v":0,"d":"0.00"}}]
[1033,{"$nulls":8},{"$f":"Таблица2[[#This Row],[11]]+Таблица2[[#This Row],[12]]","v":{"v":0,"d":"0.00"}},null,null,{"$f":"Таблица2[[#This Row],[14]]+Таблица2[[#This Row],[15]]","v":{"v":0,"d":"0.00"}}]
[1034,{"$nulls":8},{"$f":"Таблица2[[#This Row],[11]]+Таблица2[[#This Row],[12]]","v":{"v":0,"d":"0.00"}},null,null,{"$f":"Таблица2[[#This Row],[14]]+Таблица2[[#This Row],[15]]","v":{"v":0,"d":"0.00"}}]
[1035,{"$nulls":8},{"$f":"Таблица2[[#This Row],[11]]+Таблица2[[#This Row],[12]]","v":{"v":0,"d":"0.00"}},null,null,{"$f":"Таблица2[[#This Row],[14]]+Таблица2[[#This Row],[15]]","v":{"v":0,"d":"0.00"}}]
[1036,{"$nulls":8},{"$f":"Таблица2[[#This Row],[11]]+Таблица2[[#This Row],[12]]","v":{"v":0,"d":"0.00"}},null,null,{"$f":"Таблица2[[#This Row],[14]]+Таблица2[[#This Row],[15]]","v":{"v":0,"d":"0.00"}}]
[1037,{"$nulls":8},{"$f":"Таблица2[[#This Row],[11]]+Таблица2[[#This Row],[12]]","v":{"v":0,"d":"0.00"}},null,null,{"$f":"Таблица2[[#This Row],[14]]+Таблица2[[#This Row],[15]]","v":{"v":0,"d":"0.00"}}]
[1038,{"$nulls":8},{"$f":"Таблица2[[#This Row],[11]]+Таблица2[[#This Row],[12]]","v":{"v":0,"d":"0.00"}},null,null,{"$f":"Таблица2[[#This Row],[14]]+Таблица2[[#This Row],[15]]","v":{"v":0,"d":"0.00"}}]
[1039,{"$nulls":8},{"$f":"Таблица2[[#This Row],[11]]+Таблица2[[#This Row],[12]]","v":{"v":0,"d":"0.00"}},null,null,{"$f":"Таблица2[[#This Row],[14]]+Таблица2[[#This Row],[15]]","v":{"v":0,"d":"0.00"}}]
[1040,{"$nulls":8},{"$f":"Таблица2[[#This Row],[11]]+Таблица2[[#This Row],[12]]","v":{"v":0,"d":"0.00"}},null,null,{"$f":"Таблица2[[#This Row],[14]]+Таблица2[[#This Row],[15]]","v":{"v":0,"d":"0.00"}}]
[1041,{"$nulls":8},{"$f":"Таблица2[[#This Row],[11]]+Таблица2[[#This Row],[12]]","v":{"v":0,"d":"0.00"}},null,null,{"$f":"Таблица2[[#This Row],[14]]+Таблица2[[#This Row],[15]]","v":{"v":0,"d":"0.00"}}]
[1042,{"$nulls":8},{"$f":"Таблица2[[#This Row],[11]]+Таблица2[[#This Row],[12]]","v":{"v":0,"d":"0.00"}},null,null,{"$f":"Таблица2[[#This Row],[14]]+Таблица2[[#This Row],[15]]","v":{"v":0,"d":"0.00"}}]
[1043,{"$nulls":8},{"$f":"Таблица2[[#This Row],[11]]+Таблица2[[#This Row],[12]]","v":{"v":0,"d":"0.00"}},null,null,{"$f":"Таблица2[[#This Row],[14]]+Таблица2[[#This Row],[15]]","v":{"v":0,"d":"0.00"}}]
[1044,{"$nulls":8},{"$f":"Таблица2[[#This Row],[11]]+Таблица2[[#This Row],[12]]","v":{"v":0,"d":"0.00"}},null,null,{"$f":"Таблица2[[#This Row],[14]]+Таблица2[[#This Row],[15]]","v":{"v":0,"d":"0.00"}}]
[1045,{"$nulls":8},{"$f":"Таблица2[[#This Row],[11]]+Таблица2[[#This Row],[12]]","v":{"v":0,"d":"0.00"}},null,null,{"$f":"Таблица2[[#This Row],[14]]+Таблица2[[#This Row],[15]]","v":{"v":0,"d":"0.00"}}]
[1046,{"$nulls":8},{"$f":"Таблица2[[#This Row],[11]]+Таблица2[[#This Row],[12]]","v":{"v":0,"d":"0.00"}},null,null,{"$f":"Таблица2[[#This Row],[14]]+Таблица2[[#This Row],[15]]","v":{"v":0,"d":"0.00"}}]
[1047,{"$nulls":8},{"$f":"Таблица2[[#This Row],[11]]+Таблица2[[#This Row],[12]]","v":{"v":0,"d":"0.00"}},null,null,{"$f":"Таблица2[[#This Row],[14]]+Таблица2[[#This Row],[15]]","v":{"v":0,"d":"0.00"}}]
[1048,{"$nulls":8},{"$f":"Таблица2[[#This Row],[11]]+Таблица2[[#This Row],[12]]","v":{"v":0,"d":"0.00"}},null,null,{"$f":"Таблица2[[#This Row],[14]]+Таблица2[[#This Row],[15]]","v":{"v":0,"d":"0.00"}}]
[1049,{"$nulls":8},{"$f":"Таблица2[[#This Row],[11]]+Таблица2[[#This Row],[12]]","v":{"v":0,"d":"0.00"}},null,null,{"$f":"Таблица2[[#This Row],[14]]+Таблица2[[#This Row],[15]]","v":{"v":0,"d":"0.00"}}]
[1050,{"$nulls":8},{"$f":"Таблица2[[#This Row],[11]]+Таблица2[[#This Row],[12]]","v":{"v":0,"d":"0.00"}},null,null,{"$f":"Таблица2[[#This Row],[14]]+Таблица2[[#This Row],[15]]","v":{"v":0,"d":"0.00"}}]
[1051,{"$nulls":8},{"$f":"Таблица2[[#This Row],[11]]+Таблица2[[#This Row],[12]]","v":{"v":0,"d":"0.00"}},null,null,{"$f":"Таблица2[[#This Row],[14]]+Таблица2[[#This Row],[15]]","v":{"v":0,"d":"0.00"}}]
[1052,{"$nulls":8},{"$f":"Таблица2[[#This Row],[11]]+Таблица2[[#This Row],[12]]","v":{"v":0,"d":"0.00"}},null,null,{"$f":"Таблица2[[#This Row],[14]]+Таблица2[[#This Row],[15]]","v":{"v":0,"d":"0.00"}}]
[1053,{"$nulls":8},{"$f":"Таблица2[[#This Row],[11]]+Таблица2[[#This Row],[12]]","v":{"v":0,"d":"0.00"}},null,null,{"$f":"Таблица2[[#This Row],[14]]+Таблица2[[#This Row],[15]]","v":{"v":0,"d":"0.00"}}]
[1054,{"$nulls":8},{"$f":"Таблица2[[#This Row],[11]]+Таблица2[[#This Row],[12]]","v":{"v":0,"d":"0.00"}},null,null,{"$f":"Таблица2[[#This Row],[14]]+Таблица2[[#This Row],[15]]","v":{"v":0,"d":"0.00"}}]
[1055,{"$nulls":8},{"$f":"Таблица2[[#This Row],[11]]+Таблица2[[#This Row],[12]]","v":{"v":0,"d":"0.00"}},null,null,{"$f":"Таблица2[[#This Row],[14]]+Таблица2[[#This Row],[15]]","v":{"v":0,"d":"0.00"}}]
[1056,{"$nulls":8},{"$f":"Таблица2[[#This Row],[11]]+Таблица2[[#This Row],[12]]","v":{"v":0,"d":"0.00"}},null,null,{"$f":"Таблица2[[#This Row],[14]]+Таблица2[[#This Row],[15]]","v":{"v":0,"d":"0.00"}}]
[1057,{"$nulls":8},{"$f":"Таблица2[[#This Row],[11]]+Таблица2[[#This Row],[12]]","v":{"v":0,"d":"0.00"}},null,null,{"$f":"Таблица2[[#This Row],[14]]+Таблица2[[#This Row],[15]]","v":{"v":0,"d":"0.00"}}]
[1058,{"$nulls":8},{"$f":"Таблица2[[#This Row],[11]]+Таблица2[[#This Row],[12]]","v":{"v":0,"d":"0.00"}},null,null,{"$f":"Таблица2[[#This Row],[14]]+Таблица2[[#This Row],[15]]","v":{"v":0,"d":"0.00"}}]
[1059,{"$nulls":8},{"$f":"Таблица2[[#This Row],[11]]+Таблица2[[#This Row],[12]]","v":{"v":0,"d":"0.00"}},null,null,{"$f":"Таблица2[[#This Row],[14]]+Таблица2[[#This Row],[15]]","v":{"v":0,"d":"0.00"}}]
[1060,{"$nulls":8},{"$f":"Таблица2[[#This Row],[11]]+Таблица2[[#This Row],[12]]","v":{"v":0,"d":"0.00"}},null,null,{"$f":"Таблица2[[#This Row],[14]]+Таблица2[[#This Row],[15]]","v":{"v":0,"d":"0.00"}}]
[1061,{"$nulls":8},{"$f":"Таблица2[[#This Row],[11]]+Таблица2[[#This Row],[12]]","v":{"v":0,"d":"0.00"}},null,null,{"$f":"Таблица2[[#This Row],[14]]+Таблица2[[#This Row],[15]]","v":{"v":0,"d":"0.00"}}]
[1062,{"$nulls":8},{"$f":"Таблица2[[#This Row],[11]]+Таблица2[[#This Row],[12]]","v":{"v":0,"d":"0.00"}},null,null,{"$f":"Таблица2[[#This Row],[14]]+Таблица2[[#This Row],[15]]","v":{"v":0,"d":"0.00"}}]
[1063,{"$nulls":8},{"$f":"Таблица2[[#This Row],[11]]+Таблица2[[#This Row],[12]]","v":{"v":0,"d":"0.00"}},null,null,{"$f":"Таблица2[[#This Row],[14]]+Таблица2[[#This Row],[15]]","v":{"v":0,"d":"0.00"}}]
[1064,{"$nulls":8},{"$f":"Таблица2[[#This Row],[11]]+Таблица2[[#This Row],[12]]","v":{"v":0,"d":"0.00"}},null,null,{"$f":"Таблица2[[#This Row],[14]]+Таблица2[[#This Row],[15]]","v":{"v":0,"d":"0.00"}}]
[1065,{"$nulls":8},{"$f":"Таблица2[[#This Row],[11]]+Таблица2[[#This Row],[12]]","v":{"v":0,"d":"0.00"}},null,null,{"$f":"Таблица2[[#This Row],[14]]+Таблица2[[#This Row],[15]]","v":{"v":0,"d":"0.00"}}]
[1066,{"$nulls":8},{"$f":"Таблица2[[#This Row],[11]]+Таблица2[[#This Row],[12]]","v":{"v":0,"d":"0.00"}},null,null,{"$f":"Таблица2[[#This Row],[14]]+Таблица2[[#This Row],[15]]","v":{"v":0,"d":"0.00"}}]
[1067,{"$nulls":8},{"$f":"Таблица2[[#This Row],[11]]+Таблица2[[#This Row],[12]]","v":{"v":0,"d":"0.00"}},null,null,{"$f":"Таблица2[[#This Row],[14]]+Таблица2[[#This Row],[15]]","v":{"v":0,"d":"0.00"}}]
[1068,{"$nulls":8},{"$f":"Таблица2[[#This Row],[11]]+Таблица2[[#This Row],[12]]","v":{"v":0,"d":"0.00"}},null,null,{"$f":"Таблица2[[#This Row],[14]]+Таблица2[[#This Row],[15]]","v":{"v":0,"d":"0.00"}}]
[1069,{"$nulls":8},{"$f":"Таблица2[[#This Row],[11]]+Таблица2[[#This Row],[12]]","v":{"v":0,"d":"0.00"}},null,null,{"$f":"Таблица2[[#This Row],[14]]+Таблица2[[#This Row],[15]]","v":{"v":0,"d":"0.00"}}]
[1070,{"$nulls":8},{"$f":"Таблица2[[#This Row],[11]]+Таблица2[[#This Row],[12]]","v":{"v":0,"d":"0.00"}},null,null,{"$f":"Таблица2[[#This Row],[14]]+Таблица2[[#This Row],[15]]","v":{"v":0,"d":"0.00"}}]
[1071,{"$nulls":8},{"$f":"Таблица2[[#This Row],[11]]+Таблица2[[#This Row],[12]]","v":{"v":0,"d":"0.00"}},null,null,{"$f":"Таблица2[[#This Row],[14]]+Таблица2[[#This Row],[15]]","v":{"v":0,"d":"0.00"}}]
[1072,{"$nulls":8},{"$f":"Таблица2[[#This Row],[11]]+Таблица2[[#This Row],[12]]","v":{"v":0,"d":"0.00"}},null,null,{"$f":"Таблица2[[#This Row],[14]]+Таблица2[[#This Row],[15]]","v":{"v":0,"d":"0.00"}}]
[1073,{"$nulls":8},{"$f":"Таблица2[[#This Row],[11]]+Таблица2[[#This Row],[12]]","v":{"v":0,"d":"0.00"}},null,null,{"$f":"Таблица2[[#This Row],[14]]+Таблица2[[#This Row],[15]]","v":{"v":0,"d":"0.00"}}]
[1074,{"$nulls":8},{"$f":"Таблица2[[#This Row],[11]]+Таблица2[[#This Row],[12]]","v":{"v":0,"d":"0.00"}},null,null,{"$f":"Таблица2[[#This Row],[14]]+Таблица2[[#This Row],[15]]","v":{"v":0,"d":"0.00"}}]
[1075,{"$nulls":8},{"$f":"Таблица2[[#This Row],[11]]+Таблица2[[#This Row],[12]]","v":{"v":0,"d":"0.00"}},null,null,{"$f":"Таблица2[[#This Row],[14]]+Таблица2[[#This Row],[15]]","v":{"v":0,"d":"0.00"}}]
[1076,{"$nulls":8},{"$f":"Таблица2[[#This Row],[11]]+Таблица2[[#This Row],[12]]","v":{"v":0,"d":"0.00"}},null,null,{"$f":"Таблица2[[#This Row],[14]]+Таблица2[[#This Row],[15]]","v":{"v":0,"d":"0.00"}}]
[1077,{"$nulls":8},{"$f":"Таблица2[[#This Row],[11]]+Таблица2[[#This Row],[12]]","v":{"v":0,"d":"0.00"}},null,null,{"$f":"Таблица2[[#This Row],[14]]+Таблица2[[#This Row],[15]]","v":{"v":0,"d":"0.00"}}]
[1078,{"$nulls":8},{"$f":"Таблица2[[#This Row],[11]]+Таблица2[[#This Row],[12]]","v":{"v":0,"d":"0.00"}},null,null,{"$f":"Таблица2[[#This Row],[14]]+Таблица2[[#This Row],[15]]","v":{"v":0,"d":"0.00"}}]
[1079,{"$nulls":8},{"$f":"Таблица2[[#This Row],[11]]+Таблица2[[#This Row],[12]]","v":{"v":0,"d":"0.00"}},null,null,{"$f":"Таблица2[[#This Row],[14]]+Таблица2[[#This Row],[15]]","v":{"v":0,"d":"0.00"}}]
[1080,{"$nulls":8},{"$f":"Таблица2[[#This Row],[11]]+Таблица2[[#This Row],[12]]","v":{"v":0,"d":"0.00"}},null,null,{"$f":"Таблица2[[#This Row],[14]]+Таблица2[[#This Row],[15]]","v":{"v":0,"d":"0.00"}}]
[1081,{"$nulls":8},{"$f":"Таблица2[[#This Row],[11]]+Таблица2[[#This Row],[12]]","v":{"v":0,"d":"0.00"}},null,null,{"$f":"Таблица2[[#This Row],[14]]+Таблица2[[#This Row],[15]]","v":{"v":0,"d":"0.00"}}]
[1082,{"$nulls":8},{"$f":"Таблица2[[#This Row],[11]]+Таблица2[[#This Row],[12]]","v":{"v":0,"d":"0.00"}},null,null,{"$f":"Таблица2[[#This Row],[14]]+Таблица2[[#This Row],[15]]","v":{"v":0,"d":"0.00"}}]
[1083,{"$nulls":8},{"$f":"Таблица2[[#This Row],[11]]+Таблица2[[#This Row],[12]]","v":{"v":0,"d":"0.00"}},null,null,{"$f":"Таблица2[[#This Row],[14]]+Таблица2[[#This Row],[15]]","v":{"v":0,"d":"0.00"}}]
[1084,{"$nulls":8},{"$f":"Таблица2[[#This Row],[11]]+Таблица2[[#This Row],[12]]","v":{"v":0,"d":"0.00"}},null,null,{"$f":"Таблица2[[#This Row],[14]]+Таблица2[[#This Row],[15]]","v":{"v":0,"d":"0.00"}}]
[1085,{"$nulls":8},{"$f":"Таблица2[[#This Row],[11]]+Таблица2[[#This Row],[12]]","v":{"v":0,"d":"0.00"}},null,null,{"$f":"Таблица2[[#This Row],[14]]+Таблица2[[#This Row],[15]]","v":{"v":0,"d":"0.00"}}]
[1086,{"$nulls":8},{"$f":"Таблица2[[#This Row],[11]]+Таблица2[[#This Row],[12]]","v":{"v":0,"d":"0.00"}},null,null,{"$f":"Таблица2[[#This Row],[14]]+Таблица2[[#This Row],[15]]","v":{"v":0,"d":"0.00"}}]
[1087,{"$nulls":8},{"$f":"Таблица2[[#This Row],[11]]+Таблица2[[#This Row],[12]]","v":{"v":0,"d":"0.00"}},null,null,{"$f":"Таблица2[[#This Row],[14]]+Таблица2[[#This Row],[15]]","v":{"v":0,"d":"0.00"}}]
[1088,{"$nulls":8},{"$f":"Таблица2[[#This Row],[11]]+Таблица2[[#This Row],[12]]","v":{"v":0,"d":"0.00"}},null,null,{"$f":"Таблица2[[#This Row],[14]]+Таблица2[[#This Row],[15]]","v":{"v":0,"d":"0.00"}}]
[1089,{"$nulls":8},{"$f":"Таблица2[[#This Row],[11]]+Таблица2[[#This Row],[12]]","v":{"v":0,"d":"0.00"}},null,null,{"$f":"Таблица2[[#This Row],[14]]+Таблица2[[#This Row],[15]]","v":{"v":0,"d":"0.00"}}]
[1090,{"$nulls":8},{"$f":"Таблица2[[#This Row],[11]]+Таблица2[[#This Row],[12]]","v":{"v":0,"d":"0.00"}},null,null,{"$f":"Таблица2[[#This Row],[14]]+Таблица2[[#This Row],[15]]","v":{"v":0,"d":"0.00"}}]
[1091,{"$nulls":8},{"$f":"Таблица2[[#This Row],[11]]+Таблица2[[#This Row],[12]]","v":{"v":0,"d":"0.00"}},null,null,{"$f":"Таблица2[[#This Row],[14]]+Таблица2[[#This Row],[15]]","v":{"v":0,"d":"0.00"}}]
[1092,{"$nulls":8},{"$f":"Таблица2[[#This Row],[11]]+Таблица2[[#This Row],[12]]","v":{"v":0,"d":"0.00"}},null,null,{"$f":"Таблица2[[#This Row],[14]]+Таблица2[[#This Row],[15]]","v":{"v":0,"d":"0.00"}}]
[1093,{"$nulls":8},{"$f":"Таблица2[[#This Row],[11]]+Таблица2[[#This Row],[12]]","v":{"v":0,"d":"0.00"}},null,null,{"$f":"Таблица2[[#This Row],[14]]+Таблица2[[#This Row],[15]]","v":{"v":0,"d":"0.00"}}]
[1094,{"$nulls":8},{"$f":"Таблица2[[#This Row],[11]]+Таблица2[[#This Row],[12]]","v":{"v":0,"d":"0.00"}},null,null,{"$f":"Таблица2[[#This Row],[14]]+Таблица2[[#This Row],[15]]","v":{"v":0,"d":"0.00"}}]
[1095,{"$nulls":8},{"$f":"Таблица2[[#This Row],[11]]+Таблица2[[#This Row],[12]]","v":{"v":0,"d":"0.00"}},null,null,{"$f":"Таблица2[[#This Row],[14]]+Таблица2[[#This Row],[15]]","v":{"v":0,"d":"0.00"}}]
[1096,{"$nulls":8},{"$f":"Таблица2[[#This Row],[11]]+Таблица2[[#This Row],[12]]","v":{"v":0,"d":"0.00"}},null,null,{"$f":"Таблица2[[#This Row],[14]]+Таблица2[[#This Row],[15]]","v":{"v":0,"d":"0.00"}}]
[1097,{"$nulls":8},{"$f":"Таблица2[[#This Row],[11]]+Таблица2[[#This Row],[12]]","v":{"v":0,"d":"0.00"}},null,null,{"$f":"Таблица2[[#This Row],[14]]+Таблица2[[#This Row],[15]]","v":{"v":0,"d":"0.00"}}]
[1098,{"$nulls":8},{"$f":"Таблица2[[#This Row],[11]]+Таблица2[[#This Row],[12]]","v":{"v":0,"d":"0.00"}},null,null,{"$f":"Таблица2[[#This Row],[14]]+Таблица2[[#This Row],[15]]","v":{"v":0,"d":"0.00"}}]
[1099,{"$nulls":8},{"$f":"Таблица2[[#This Row],[11]]+Таблица2[[#This Row],[12]]","v":{"v":0,"d":"0.00"}},null,null,{"$f":"Таблица2[[#This Row],[14]]+Таблица2[[#This Row],[15]]","v":{"v":0,"d":"0.00"}}]
[1100,{"$nulls":8},{"$f":"Таблица2[[#This Row],[11]]+Таблица2[[#This Row],[12]]","v":{"v":0,"d":"0.00"}},null,null,{"$f":"Таблица2[[#This Row],[14]]+Таблица2[[#This Row],[15]]","v":{"v":0,"d":"0.00"}}]
[1101,{"$nulls":8},{"$f":"Таблица2[[#This Row],[11]]+Таблица2[[#This Row],[12]]","v":{"v":0,"d":"0.00"}},null,null,{"$f":"Таблица2[[#This Row],[14]]+Таблица2[[#This Row],[15]]","v":{"v":0,"d":"0.00"}}]
[1102,{"$nulls":8},{"$f":"Таблица2[[#This Row],[11]]+Таблица2[[#This Row],[12]]","v":{"v":0,"d":"0.00"}},null,null,{"$f":"Таблица2[[#This Row],[14]]+Таблица2[[#This Row],[15]]","v":{"v":0,"d":"0.00"}}]
[1103,{"$nulls":8},{"$f":"Таблица2[[#This Row],[11]]+Таблица2[[#This Row],[12]]","v":{"v":0,"d":"0.00"}},null,null,{"$f":"Таблица2[[#This Row],[14]]+Таблица2[[#This Row],[15]]","v":{"v":0,"d":"0.00"}}]
[1104,{"$nulls":8},{"$f":"Таблица2[[#This Row],[11]]+Таблица2[[#This Row],[12]]","v":{"v":0,"d":"0.00"}},null,null,{"$f":"Таблица2[[#This Row],[14]]+Таблица2[[#This Row],[15]]","v":{"v":0,"d":"0.00"}}]
[1105,{"$nulls":8},{"$f":"Таблица2[[#This Row],[11]]+Таблица2[[#This Row],[12]]","v":{"v":0,"d":"0.00"}},null,null,{"$f":"Таблица2[[#This Row],[14]]+Таблица2[[#This Row],[15]]","v":{"v":0,"d":"0.00"}}]
[1106,{"$nulls":8},{"$f":"Таблица2[[#This Row],[11]]+Таблица2[[#This Row],[12]]","v":{"v":0,"d":"0.00"}},null,null,{"$f":"Таблица2[[#This Row],[14]]+Таблица2[[#This Row],[15]]","v":{"v":0,"d":"0.00"}}]
[1107,{"$nulls":8},{"$f":"Таблица2[[#This Row],[11]]+Таблица2[[#This Row],[12]]","v":{"v":0,"d":"0.00"}},null,null,{"$f":"Таблица2[[#This Row],[14]]+Таблица2[[#This Row],[15]]","v":{"v":0,"d":"0.00"}}]
[1108,{"$nulls":8},{"$f":"Таблица2[[#This Row],[11]]+Таблица2[[#This Row],[12]]","v":{"v":0,"d":"0.00"}},null,null,{"$f":"Таблица2[[#This Row],[14]]+Таблица2[[#This Row],[15]]","v":{"v":0,"d":"0.00"}}]
[1109,{"$nulls":8},{"$f":"Таблица2[[#This Row],[11]]+Таблица2[[#This Row],[12]]","v":{"v":0,"d":"0.00"}},null,null,{"$f":"Таблица2[[#This Row],[14]]+Таблица2[[#This Row],[15]]","v":{"v":0,"d":"0.00"}}]
[1110,{"$nulls":8},{"$f":"Таблица2[[#This Row],[11]]+Таблица2[[#This Row],[12]]","v":{"v":0,"d":"0.00"}},null,null,{"$f":"Таблица2[[#This Row],[14]]+Таблица2[[#This Row],[15]]","v":{"v":0,"d":"0.00"}}]
[1111,{"$nulls":8},{"$f":"Таблица2[[#This Row],[11]]+Таблица2[[#This Row],[12]]","v":{"v":0,"d":"0.00"}},null,null,{"$f":"Таблица2[[#This Row],[14]]+Таблица2[[#This Row],[15]]","v":{"v":0,"d":"0.00"}}]
[1112,{"$nulls":8},{"$f":"Таблица2[[#This Row],[11]]+Таблица2[[#This Row],[12]]","v":{"v":0,"d":"0.00"}},null,null,{"$f":"Таблица2[[#This Row],[14]]+Таблица2[[#This Row],[15]]","v":{"v":0,"d":"0.00"}}]
[1113,{"$nulls":8},{"$f":"Таблица2[[#This Row],[11]]+Таблица2[[#This Row],[12]]","v":{"v":0,"d":"0.00"}},null,null,{"$f":"Таблица2[[#This Row],[14]]+Таблица2[[#This Row],[15]]","v":{"v":0,"d":"0.00"}}]
[1114,{"$nulls":8},{"$f":"Таблица2[[#This Row],[11]]+Таблица2[[#This Row],[12]]","v":{"v":0,"d":"0.00"}},null,null,{"$f":"Таблица2[[#This Row],[14]]+Таблица2[[#This Row],[15]]","v":{"v":0,"d":"0.00"}}]
[1115,{"$nulls":8},{"$f":"Таблица2[[#This Row],[11]]+Таблица2[[#This Row],[12]]","v":{"v":0,"d":"0.00"}},null,null,{"$f":"Таблица2[[#This Row],[14]]+Таблица2[[#This Row],[15]]","v":{"v":0,"d":"0.00"}}]
[1116,{"$nulls":8},{"$f":"Таблица2[[#This Row],[11]]+Таблица2[[#This Row],[12]]","v":{"v":0,"d":"0.00"}},null,null,{"$f":"Таблица2[[#This Row],[14]]+Таблица2[[#This Row],[15]]","v":{"v":0,"d":"0.00"}}]
[1117,{"$nulls":8},{"$f":"Таблица2[[#This Row],[11]]+Таблица2[[#This Row],[12]]","v":{"v":0,"d":"0.00"}},null,null,{"$f":"Таблица2[[#This Row],[14]]+Таблица2[[#This Row],[15]]","v":{"v":0,"d":"0.00"}}]
[1118,{"$nulls":8},{"$f":"Таблица2[[#This Row],[11]]+Таблица2[[#This Row],[12]]","v":{"v":0,"d":"0.00"}},null,null,{"$f":"Таблица2[[#This Row],[14]]+Таблица2[[#This Row],[15]]","v":{"v":0,"d":"0.00"}}]
[1119,{"$nulls":8},{"$f":"Таблица2[[#This Row],[11]]+Таблица2[[#This Row],[12]]","v":{"v":0,"d":"0.00"}},null,null,{"$f":"Таблица2[[#This Row],[14]]+Таблица2[[#This Row],[15]]","v":{"v":0,"d":"0.00"}}]
[1120,{"$nulls":8},{"$f":"Таблица2[[#This Row],[11]]+Таблица2[[#This Row],[12]]","v":{"v":0,"d":"0.00"}},null,null,{"$f":"Таблица2[[#This Row],[14]]+Таблица2[[#This Row],[15]]","v":{"v":0,"d":"0.00"}}]
[1121,{"$nulls":8},{"$f":"Таблица2[[#This Row],[11]]+Таблица2[[#This Row],[12]]","v":{"v":0,"d":"0.00"}},null,null,{"$f":"Таблица2[[#This Row],[14]]+Таблица2[[#This Row],[15]]","v":{"v":0,"d":"0.00"}}]
[1122,{"$nulls":8},{"$f":"Таблица2[[#This Row],[11]]+Таблица2[[#This Row],[12]]","v":{"v":0,"d":"0.00"}},null,null,{"$f":"Таблица2[[#This Row],[14]]+Таблица2[[#This Row],[15]]","v":{"v":0,"d":"0.00"}}]
[1123,{"$nulls":8},{"$f":"Таблица2[[#This Row],[11]]+Таблица2[[#This Row],[12]]","v":{"v":0,"d":"0.00"}},null,null,{"$f":"Таблица2[[#This Row],[14]]+Таблица2[[#This Row],[15]]","v":{"v":0,"d":"0.00"}}]
[1124,{"$nulls":8},{"$f":"Таблица2[[#This Row],[11]]+Таблица2[[#This Row],[12]]","v":{"v":0,"d":"0.00"}},null,null,{"$f":"Таблица2[[#This Row],[14]]+Таблица2[[#This Row],[15]]","v":{"v":0,"d":"0.00"}}]
[1125,{"$nulls":8},{"$f":"Таблица2[[#This Row],[11]]+Таблица2[[#This Row],[12]]","v":{"v":0,"d":"0.00"}},null,null,{"$f":"Таблица2[[#This Row],[14]]+Таблица2[[#This Row],[15]]","v":{"v":0,"d":"0.00"}}]
[1126,{"$nulls":8},{"$f":"Таблица2[[#This Row],[11]]+Таблица2[[#This Row],[12]]","v":{"v":0,"d":"0.00"}},null,null,{"$f":"Таблица2[[#This Row],[14]]+Таблица2[[#This Row],[15]]","v":{"v":0,"d":"0.00"}}]
[1127,{"$nulls":8},{"$f":"Таблица2[[#This Row],[11]]+Таблица2[[#This Row],[12]]","v":{"v":0,"d":"0.00"}},null,null,{"$f":"Таблица2[[#This Row],[14]]+Таблица2[[#This Row],[15]]","v":{"v":0,"d":"0.00"}}]
[1128,{"$nulls":8},{"$f":"Таблица2[[#This Row],[11]]+Таблица2[[#This Row],[12]]","v":{"v":0,"d":"0.00"}},null,null,{"$f":"Таблица2[[#This Row],[14]]+Таблица2[[#This Row],[15]]","v":{"v":0,"d":"0.00"}}]
[1129,{"$nulls":8},{"$f":"Таблица2[[#This Row],[11]]+Таблица2[[#This Row],[12]]","v":{"v":0,"d":"0.00"}},null,null,{"$f":"Таблица2[[#This Row],[14]]+Таблица2[[#This Row],[15]]","v":{"v":0,"d":"0.00"}}]
[1130,{"$nulls":8},{"$f":"Таблица2[[#This Row],[11]]+Таблица2[[#This Row],[12]]","v":{"v":0,"d":"0.00"}},null,null,{"$f":"Таблица2[[#This Row],[14]]+Таблица2[[#This Row],[15]]","v":{"v":0,"d":"0.00"}}]
[1131,{"$nulls":8},{"$f":"Таблица2[[#This Row],[11]]+Таблица2[[#This Row],[12]]","v":{"v":0,"d":"0.00"}},null,null,{"$f":"Таблица2[[#This Row],[14]]+Таблица2[[#This Row],[15]]","v":{"v":0,"d":"0.00"}}]
[1132,{"$nulls":8},{"$f":"Таблица2[[#This Row],[11]]+Таблица2[[#This Row],[12]]","v":{"v":0,"d":"0.00"}},null,null,{"$f":"Таблица2[[#This Row],[14]]+Таблица2[[#This Row],[15]]","v":{"v":0,"d":"0.00"}}]
[1133,{"$nulls":8},{"$f":"Таблица2[[#This Row],[11]]+Таблица2[[#This Row],[12]]","v":{"v":0,"d":"0.00"}},null,null,{"$f":"Таблица2[[#This Row],[14]]+Таблица2[[#This Row],[15]]","v":{"v":0,"d":"0.00"}}]
[1134,{"$nulls":8},{"$f":"Таблица2[[#This Row],[11]]+Таблица2[[#This Row],[12]]","v":{"v":0,"d":"0.00"}},null,null,{"$f":"Таблица2[[#This Row],[14]]+Таблица2[[#This Row],[15]]","v":{"v":0,"d":"0.00"}}]
[1135,{"$nulls":8},{"$f":"Таблица2[[#This Row],[11]]+Таблица2[[#This Row],[12]]","v":{"v":0,"d":"0.00"}},null,null,{"$f":"Таблица2[[#This Row],[14]]+Таблица2[[#This Row],[15]]","v":{"v":0,"d":"0.00"}}]
[1136,{"$nulls":8},{"$f":"Таблица2[[#This Row],[11]]+Таблица2[[#This Row],[12]]","v":{"v":0,"d":"0.00"}},null,null,{"$f":"Таблица2[[#This Row],[14]]+Таблица2[[#This Row],[15]]","v":{"v":0,"d":"0.00"}}]
[1137,{"$nulls":8},{"$f":"Таблица2[[#This Row],[11]]+Таблица2[[#This Row],[12]]","v":{"v":0,"d":"0.00"}},null,null,{"$f":"Таблица2[[#This Row],[14]]+Таблица2[[#This Row],[15]]","v":{"v":0,"d":"0.00"}}]
[1138,{"$nulls":8},{"$f":"Таблица2[[#This Row],[11]]+Таблица2[[#This Row],[12]]","v":{"v":0,"d":"0.00"}},null,null,{"$f":"Таблица2[[#This Row],[14]]+Таблица2[[#This Row],[15]]","v":{"v":0,"d":"0.00"}}]
[1139,{"$nulls":8},{"$f":"Таблица2[[#This Row],[11]]+Таблица2[[#This Row],[12]]","v":{"v":0,"d":"0.00"}},null,null,{"$f":"Таблица2[[#This Row],[14]]+Таблица2[[#This Row],[15]]","v":{"v":0,"d":"0.00"}}]
[1140,{"$nulls":8},{"$f":"Таблица2[[#This Row],[11]]+Таблица2[[#This Row],[12]]","v":{"v":0,"d":"0.00"}},null,null,{"$f":"Таблица2[[#This Row],[14]]+Таблица2[[#This Row],[15]]","v":{"v":0,"d":"0.00"}}]
[1141,{"$nulls":8},{"$f":"Таблица2[[#This Row],[11]]+Таблица2[[#This Row],[12]]","v":{"v":0,"d":"0.00"}},null,null,{"$f":"Таблица2[[#This Row],[14]]+Таблица2[[#This Row],[15]]","v":{"v":0,"d":"0.00"}}]
[1142,{"$nulls":8},{"$f":"Таблица2[[#This Row],[11]]+Таблица2[[#This Row],[12]]","v":{"v":0,"d":"0.00"}},null,null,{"$f":"Таблица2[[#This Row],[14]]+Таблица2[[#This Row],[15]]","v":{"v":0,"d":"0.00"}}]
[1143,{"$nulls":8},{"$f":"Таблица2[[#This Row],[11]]+Таблица2[[#This Row],[12]]","v":{"v":0,"d":"0.00"}},null,null,{"$f":"Таблица2[[#This Row],[14]]+Таблица2[[#This Row],[15]]","v":{"v":0,"d":"0.00"}}]
[1144,{"$nulls":8},{"$f":"Таблица2[[#This Row],[11]]+Таблица2[[#This Row],[12]]","v":{"v":0,"d":"0.00"}},null,null,{"$f":"Таблица2[[#This Row],[14]]+Таблица2[[#This Row],[15]]","v":{"v":0,"d":"0.00"}}]
[1145,{"$nulls":8},{"$f":"Таблица2[[#This Row],[11]]+Таблица2[[#This Row],[12]]","v":{"v":0,"d":"0.00"}},null,null,{"$f":"Таблица2[[#This Row],[14]]+Таблица2[[#This Row],[15]]","v":{"v":0,"d":"0.00"}}]
[1146,{"$nulls":8},{"$f":"Таблица2[[#This Row],[11]]+Таблица2[[#This Row],[12]]","v":{"v":0,"d":"0.00"}},null,null,{"$f":"Таблица2[[#This Row],[14]]+Таблица2[[#This Row],[15]]","v":{"v":0,"d":"0.00"}}]
[1147,{"$nulls":8},{"$f":"Таблица2[[#This Row],[11]]+Таблица2[[#This Row],[12]]","v":{"v":0,"d":"0.00"}},null,null,{"$f":"Таблица2[[#This Row],[14]]+Таблица2[[#This Row],[15]]","v":{"v":0,"d":"0.00"}}]
[1148,{"$nulls":8},{"$f":"Таблица2[[#This Row],[11]]+Таблица2[[#This Row],[12]]","v":{"v":0,"d":"0.00"}},null,null,{"$f":"Таблица2[[#This Row],[14]]+Таблица2[[#This Row],[15]]","v":{"v":0,"d":"0.00"}}]
[1149,{"$nulls":8},{"$f":"Таблица2[[#This Row],[11]]+Таблица2[[#This Row],[12]]","v":{"v":0,"d":"0.00"}},null,null,{"$f":"Таблица2[[#This Row],[14]]+Таблица2[[#This Row],[15]]","v":{"v":0,"d":"0.00"}}]
[1150,{"$nulls":8},{"$f":"Таблица2[[#This Row],[11]]+Таблица2[[#This Row],[12]]","v":{"v":0,"d":"0.00"}},null,null,{"$f":"Таблица2[[#This Row],[14]]+Таблица2[[#This Row],[15]]","v":{"v":0,"d":"0.00"}}]
[1151,{"$nulls":8},{"$f":"Таблица2[[#This Row],[11]]+Таблица2[[#This Row],[12]]","v":{"v":0,"d":"0.00"}},null,null,{"$f":"Таблица2[[#This Row],[14]]+Таблица2[[#This Row],[15]]","v":{"v":0,"d":"0.00"}}]
[1152,{"$nulls":8},{"$f":"Таблица2[[#This Row],[11]]+Таблица2[[#This Row],[12]]","v":{"v":0,"d":"0.00"}},null,null,{"$f":"Таблица2[[#This Row],[14]]+Таблица2[[#This Row],[15]]","v":{"v":0,"d":"0.00"}}]
[1153,{"$nulls":8},{"$f":"Таблица2[[#This Row],[11]]+Таблица2[[#This Row],[12]]","v":{"v":0,"d":"0.00"}},null,null,{"$f":"Таблица2[[#This Row],[14]]+Таблица2[[#This Row],[15]]","v":{"v":0,"d":"0.00"}}]
[1154,{"$nulls":8},{"$f":"Таблица2[[#This Row],[11]]+Таблица2[[#This Row],[12]]","v":{"v":0,"d":"0.00"}},null,null,{"$f":"Таблица2[[#This Row],[14]]+Таблица2[[#This Row],[15]]","v":{"v":0,"d":"0.00"}}]
[1155,{"$nulls":8},{"$f":"Таблица2[[#This Row],[11]]+Таблица2[[#This Row],[12]]","v":{"v":0,"d":"0.00"}},null,null,{"$f":"Таблица2[[#This Row],[14]]+Таблица2[[#This Row],[15]]","v":{"v":0,"d":"0.00"}}]
[1156,{"$nulls":8},{"$f":"Таблица2[[#This Row],[11]]+Таблица2[[#This Row],[12]]","v":{"v":0,"d":"0.00"}},null,null,{"$f":"Таблица2[[#This Row],[14]]+Таблица2[[#This Row],[15]]","v":{"v":0,"d":"0.00"}}]

{"sheet":"Лист2","index":1,"n_rows":61,"n_cols":5,"rows_kept":61}
["Администрация Адмиралтейского района","анализ рынка","Больница","да","проектирование"]
["Администрация Василеостровского района","сметный","Бюро","нет","строительно-монтажные работы"]
["Администрация Выборгского района",null,"Диспансер"]
["Администрация Калининского района",null,"Другие учреждения здравоохранения"]
["Администрация Кировского района",null,"Женская консультация"]
["Администрация Колпинского района",null,"Поликлиника"]
["Администрация Красногвардейского района",null,"Родильный дом"]
["Администрация Красносельского района",null,"Санаторий"]
["Администрация Кронштадтского района",null,"Станция скорой медицинской помощи"]
["Администрация Курортного района",null,"Хоспис"]
["Администрация Московского района",null,"Центр"]
["Администрация Невского района",null,"Центр оздоровления и отдыха"]
["Администрация Петроградского района",null,"Архив"]
["Администрация Петродворцового района",null,"ГУЖА"]
["Администрация Приморского района",null,"Служба заказчика"]
["Администрация Пушкинского района",null,"СПб ГБУ"]
["Администрация Фрунзенского района",null,"СПб ГКУ"]
["Администрация Центрального района",null,"Инспекция"]
["Архивный комитет Санкт-Петербурга",null,"Комитет"]
["Государственная административно-техническая инспекция",null,"Библиотека"]
["Государственная жилищная инспекция Санкт-Петербурга",null,"Дом культуры"]
["Государственная техническая инспекция Санкт-Петербурга (Гостехнадзор Санкт-Петербурга)",null,"Досуговый центр"]
["Жилищный комитет",null,"Кинотеатр"]
["Комитет государственного финансового контроля Санкт-Петербурга",null,"Музей"]
["Комитет имущественных отношений Санкт-Петербурга",null,"Парк"]
["Комитет по благоустройству Санкт-Петербурга",null,"Театр"]
["Комитет по внешним связям Санкт-Петербурга",null,"Дом молодежи"]
["Комитет по вопросам законности, правопорядка и безопасности",null,"ПМК, ПМЦ"]
["Комитет по государственному заказу Санкт-Петербурга",null,"Дошкольная образовательная организация"]
["Комитет по государственному контролю, использованию и охране памятников истории и культуры",null,"Нетиповые образовательные организации"]
["Комитет по градостроительству и архитектуре",null,"Образовательная организация высшего образования"]
["Комитет по делам записи актов гражданского состояния",null,"Образовательные организации дополнительного образования"]
["Комитет по здравоохранению",null,"Общеобразовательная организация"]
["Комитет по инвестициям Санкт-Петербурга",null,"Профессиональная образовательная организация"]
["Комитет по информатизации и связи",null,"Дом ночного пребывания"]
["Комитет по контролю за имуществом Санкт-Петербурга",null,"Интернат"]
["Комитет по культуре Санкт-Петербурга",null,"КЦСОН"]
["Комитет по межнациональным отношениям и реализации миграционной политики в Санкт-Петербурге",null,"Оздоровительный комплекс"]
["Комитет по молодежной политике и взаимодействию с общественными организациями",null,"Приют"]
["Комитет по науке и высшей школе",null,"Пункт учёта"]
["Комитет по образованию",null,"Реабилитационный центр"]
["Комитет по печати и взаимодействию со средствами массовой информации",null,"Специнтернат"]
["Комитет по природопользованию, охране окружающей среды и обеспечению экологической безопасности",null,"Территориальный центр социального обслуживания"]
["Комитет по промышленной политике и инновациям Санкт-Петербурга",null,"Центр социальной помощи семье и детям"]
["Комитет по развитию транспортной инфраструктуры Санкт-Петербурга",null,"Спорт"]
["Комитет по развитию туризма Санкт-Петербурга",null,"Дом ребенка специализированный"]
["Комитет по социальной политике Санкт-Петербурга",null,"Резерв"]
["Комитет по строительству",null,"Станция переливания крови"]
["Комитет по тарифам Санкт-Петербурга",null,"МФЦ"]
["Комитет по транспорту",null,"Поисково-спасательная станция"]
["Комитет по труду и занятости населения Санкт-Петербурга",null,"ПСО"]
["Комитет по физической культуре и спорту",null,"ЦБ Администрации"]
["Комитет по экономической политике и стратегическому планированию Санкт-Петербурга",null,"Администрация"]
["Комитет по энергетике и инженерному обеспечению",null,"Помещения для размещения мировых судей"]
["Комитет Санкт-Петербурга по делам Арктики",null,"Управление"]
["Комитет территориального развития Санкт-Петербурга",null,"Дом ветеранов"]
["Комитет финансов Санкт-Петербурга",null,"Восстановительный центр "]
["Служба государственного строительного надзора и экспертизы Санкт-Петербурга",null,"Дом ветеранов войны и труда"]
["Управление ветеринарии Санкт-Петербурга"]
["Управление по развитию садоводства и огородничества Санкт-Петербурга"]
["Управление социального питания"]

{"sheet":"Лист3","index":2,"n_rows":2818,"n_cols":4,"rows_kept":2818}
["проект","смр","предпис","проверка"]
[{"$f":"IF(ЗАЯВКА!I23=\"проектирование\",ЗАЯВКА!K23,0)","v":0},{"$f":"IF(ЗАЯВКА!I23=\"строительно-монтажные работы\",ЗАЯВКА!K23,0)","v":0},{"$f":"IF(ЗАЯВКА!N23=\"да\",ЗАЯВКА!K23,0)","v":0},{"$f":"ЗАЯВКА!E3+ЗАЯВКА!E4","v":{"v":0,"d":"0.00"}}]
[{"$f":"IF(ЗАЯВКА!I24=\"проектирование\",ЗАЯВКА!K24,0)","v":0},{"$f":"IF(ЗАЯВКА!I24=\"строительно-монтажные работы\",ЗАЯВКА!K24,0)","v":0},{"$f":"IF(ЗАЯВКА!N24=\"да\",ЗАЯВКА!K24,0)","v":0}]
[{"$f":"IF(ЗАЯВКА!I25=\"проектирование\",ЗАЯВКА!K25,0)","v":0},{"$f":"IF(ЗАЯВКА!I25=\"строительно-монтажные работы\",ЗАЯВКА!K25,0)","v":0},{"$f":"IF(ЗАЯВКА!N25=\"да\",ЗАЯВКА!K25,0)","v":0}]
[{"$f":"IF(ЗАЯВКА!I26=\"проектирование\",ЗАЯВКА!K26,0)","v":0},{"$f":"IF(ЗАЯВКА!I26=\"строительно-монтажные работы\",ЗАЯВКА!K26,0)","v":0},{"$f":"IF(ЗАЯВКА!N26=\"да\",ЗАЯВКА!K26,0)","v":0}]
[{"$f":"IF(ЗАЯВКА!I27=\"проектирование\",ЗАЯВКА!K27,0)","v":0},{"$f":"IF(ЗАЯВКА!I27=\"строительно-монтажные работы\",ЗАЯВКА!K27,0)","v":0},{"$f":"IF(ЗАЯВКА!N27=\"да\",ЗАЯВКА!K27,0)","v":0}]
[{"$f":"IF(ЗАЯВКА!I28=\"проектирование\",ЗАЯВКА!K28,0)","v":0},{"$f":"IF(ЗАЯВКА!I28=\"строительно-монтажные работы\",ЗАЯВКА!K28,0)","v":0},{"$f":"IF(ЗАЯВКА!N28=\"да\",ЗАЯВКА!K28,0)","v":0}]
[{"$f":"IF(ЗАЯВКА!I29=\"проектирование\",ЗАЯВКА!K29,0)","v":0},{"$f":"IF(ЗАЯВКА!I29=\"строительно-монтажные работы\",ЗАЯВКА!K29,0)","v":0},{"$f":"IF(ЗАЯВКА!N29=\"да\",ЗАЯВКА!K29,0)","v":0}]
[{"$f":"IF(ЗАЯВКА!I30=\"проектирование\",ЗАЯВКА!K30,0)","v":0},{"$f":"IF(ЗАЯВКА!I30=\"строительно-монтажные работы\",ЗАЯВКА!K30,0)","v":0},{"$f":"IF(ЗАЯВКА!N30=\"да\",ЗАЯВКА!K30,0)","v":0}]
[{"$f":"IF(ЗАЯВКА!I31=\"проектирование\",ЗАЯВКА!K31,0)","v":0},{"$f":"IF(ЗАЯВКА!I31=\"строительно-монтажные работы\",ЗАЯВКА!K31,0)","v":0},{"$f":"IF(ЗАЯВКА!N31=\"да\",ЗАЯВКА!K31,0)","v":0}]
[{"$f":"IF(ЗАЯВКА!I32=\"проектирование\",ЗАЯВКА!K32,0)","v":0},{"$f":"IF(ЗАЯВКА!I32=\"строительно-монтажные работы\",ЗАЯВКА!K32,0)","v":0},{"$f":"IF(ЗАЯВКА!N32=\"да\",ЗАЯВКА!K32,0)","v":0}]
[{"$f":"IF(ЗАЯВКА!I33=\"проектирование\",ЗАЯВКА!K33,0)","v":0},{"$f":"IF(ЗАЯВКА!I33=\"строительно-монтажные работы\",ЗАЯВКА!K33,0)","v":0},{"$f":"IF(ЗАЯВКА!N33=\"да\",ЗАЯВКА!K33,0)","v":0}]
[{"$f":"IF(ЗАЯВКА!I34=\"проектирование\",ЗАЯВКА!K34,0)","v":0},{"$f":"IF(ЗАЯВКА!I34=\"строительно-монтажные работы\",ЗАЯВКА!K34,0)","v":0},{"$f":"IF(ЗАЯВКА!N34=\"да\",ЗАЯВКА!K34,0)","v":0}]
[{"$f":"IF(ЗАЯВКА!I35=\"проектирование\",ЗАЯВКА!K35,0)","v":0},{"$f":"IF(ЗАЯВКА!I35=\"строительно-монтажные работы\",ЗАЯВКА!K35,0)","v":0},{"$f":"IF(ЗАЯВКА!N35=\"да\",ЗАЯВКА!K35,0)","v":0}]
[{"$f":"IF(ЗАЯВКА!I36=\"проектирование\",ЗАЯВКА!K36,0)","v":0},{"$f":"IF(ЗАЯВКА!I36=\"строительно-монтажные работы\",ЗАЯВКА!K36,0)","v":0},{"$f":"IF(ЗАЯВКА!N36=\"да\",ЗАЯВКА!K36,0)","v":0}]
[{"$f":"IF(ЗАЯВКА!I37=\"проектирование\",ЗАЯВКА!K37,0)","v":0},{"$f":"IF(ЗАЯВКА!I37=\"строительно-монтажные работы\",ЗАЯВКА!K37,0)","v":0},{"$f":"IF(ЗАЯВКА!N37=\"да\",ЗАЯВКА!K37,0)","v":0}]
[{"$f":"IF(ЗАЯВКА!I38=\"проектирование\",ЗАЯВКА!K38,0)","v":0},{"$f":"IF(ЗАЯВКА!I38=\"строительно-монтажные работы\",ЗАЯВКА!K38,0)","v":0},{"$f":"IF(ЗАЯВКА!N38=\"да\",ЗАЯВКА!K38,0)","v":0}]
[{"$f":"IF(ЗАЯВКА!I39=\"проектирование\",ЗАЯВКА!K39,0)","v":0},{"$f":"IF(ЗАЯВКА!I39=\"строительно-монтажные работы\",ЗАЯВКА!K39,0)","v":0},{"$f":"IF(ЗАЯВКА!N39=\"да\",ЗАЯВКА!K39,0)","v":0}]
[{"$f":"IF(ЗАЯВКА!I40=\"проектирование\",ЗАЯВКА!K40,0)","v":0},{"$f":"IF(ЗАЯВКА!I40=\"строительно-монтажные работы\",ЗАЯВКА!K40,0)","v":0},{"$f":"IF(ЗАЯВКА!N40=\"да\",ЗАЯВКА!K40,0)","v":0}]
[{"$f":"IF(ЗАЯВКА!I41=\"проектирование\",ЗАЯВКА!K41,0)","v":0},{"$f":"IF(ЗАЯВКА!I41=\"строительно-монтажные работы\",ЗАЯВКА!K41,0)","v":0},{"$f":"IF(ЗАЯВКА!N41=\"да\",ЗАЯВКА!K41,0)","v":0}]
[{"$f":"IF(ЗАЯВКА!I42=\"проектирование\",ЗАЯВКА!K42,0)","v":0},{"$f":"IF(ЗАЯВКА!I42=\"строительно-монтажные работы\",ЗАЯВКА!K42,0)","v":0},{"$f":"IF(ЗАЯВКА!N42=\"да\",ЗАЯВКА!K42,0)","v":0}]
[{"$f":"IF(ЗАЯВКА!I43=\"проектирование\",ЗАЯВКА!K43,0)","v":0},{"$f":"IF(ЗАЯВКА!I43=\"строительно-монтажные работы\",ЗАЯВКА!K43,0)","v":0},{"$f":"IF(ЗАЯВКА!N43=\"да\",ЗАЯВКА!K43,0)","v":0}]
[{"$f":"IF(ЗАЯВКА!I44=\"проектирование\",ЗАЯВКА!K44,0)","v":0},{"$f":"IF(ЗАЯВКА!I44=\"строительно-монтажные работы\",ЗАЯВКА!K44,0)","v":0},{"$f":"IF(ЗАЯВКА!N44=\"да\",ЗАЯВКА!K44,0)","v":0}]
[{"$f":"IF(ЗАЯВКА!I45=\"проектирование\",ЗАЯВКА!K45,0)","v":0},{"$f":"IF(ЗАЯВКА!I45=\"строительно-монтажные работы\",ЗАЯВКА!K45,0)","v":0},{"$f":"IF(ЗАЯВКА!N45=\"да\",ЗАЯВКА!K45,0)","v":0}]
[{"$f":"IF(ЗАЯВКА!I46=\"проектирование\",ЗАЯВКА!K46,0)","v":0},{"$f":"IF(ЗАЯВКА!I46=\"строительно-монтажные работы\",ЗАЯВКА!K46,0)","v":0},{"$f":"IF(ЗАЯВКА!N46=\"да\",ЗАЯВКА!K46,0)","v":0}]
[{"$f":"IF(ЗАЯВКА!I47=\"проектирование\",ЗАЯВКА!K47,0)","v":0},{"$f":"IF(ЗАЯВКА!I47=\"строительно-монтажные работы\",ЗАЯВКА!K47,0)","v":0},{"$f":"IF(ЗАЯВКА!N47=\"да\",ЗАЯВКА!K47,0)","v":0}]
[{"$f":"IF(ЗАЯВКА!I48=\"проектирование\",ЗАЯВКА!K48,0)","v":0},{"$f":"IF(ЗАЯВКА!I48=\"строительно-монтажные работы\",ЗАЯВКА!K48,0)","v":0},{"$f":"IF(ЗАЯВКА!N48=\"да\",ЗАЯВКА!K48,0)","v":0}]
[{"$f":"IF(ЗАЯВКА!I49=\"проектирование\",ЗАЯВКА!K49,0)","v":0},{"$f":"IF(ЗАЯВКА!I49=\"строительно-монтажные работы\",ЗАЯВКА!K49,0)","v":0},{"$f":"IF(ЗАЯВКА!N49=\"да\",ЗАЯВКА!K49,0)","v":0}]
[{"$f":"IF(ЗАЯВКА!I50=\"проектирование\",ЗАЯВКА!K50,0)","v":0},{"$f":"IF(ЗАЯВКА!I50=\"строительно-монтажные работы\",ЗАЯВКА!K50,0)","v":0},{"$f":"IF(ЗАЯВКА!N50=\"да\",ЗАЯВКА!K50,0)","v":0}]
[{"$f":"IF(ЗАЯВКА!I51=\"проектирование\",ЗАЯВКА!K51,0)","v":0},{"$f":"IF(ЗАЯВКА!I51=\"строительно-монтажные работы\",ЗАЯВКА!K51,0)","v":0},{"$f":"IF(ЗАЯВКА!N51=\"да\",ЗАЯВКА!K51,0)","v":0}]
[{"$f":"IF(ЗАЯВКА!I52=\"проектирование\",ЗАЯВКА!K52,0)","v":0},{"$f":"IF(ЗАЯВКА!I52=\"строительно-монтажные работы\",ЗАЯВКА!K52,0)","v":0},{"$f":"IF(ЗАЯВКА!N52=\"да\",ЗАЯВКА!K52,0)","v":0}]
[{"$f":"IF(ЗАЯВКА!I53=\"проектирование\",ЗАЯВКА!K53,0)","v":0},{"$f":"IF(ЗАЯВКА!I53=\"строительно-монтажные работы\",ЗАЯВКА!K53,0)","v":0},{"$f":"IF(ЗАЯВКА!N53=\"да\",ЗАЯВКА!K53,0)","v":0}]
[{"$f":"IF(ЗАЯВКА!I54=\"проектирование\",ЗАЯВКА!K54,0)","v":0},{"$f":"IF(ЗАЯВКА!I54=\"строительно-монтажные работы\",ЗАЯВКА!K54,0)","v":0},{"$f":"IF(ЗАЯВКА!N54=\"да\",ЗАЯВКА!K54,0)","v":0}]
[{"$f":"IF(ЗАЯВКА!I55=\"проектирование\",ЗАЯВКА!K55,0)","v":0},{"$f":"IF(ЗАЯВКА!I55=\"строительно-монтажные работы\",ЗАЯВКА!K55,0)","v":0},{"$f":"IF(ЗАЯВКА!N55=\"да\",ЗАЯВКА!K55,0)","v":0}]
[{"$f":"IF(ЗАЯВКА!I56=\"проектирование\",ЗАЯВКА!K56,0)","v":0},{"$f":"IF(ЗАЯВКА!I56=\"строительно-монтажные работы\",ЗАЯВКА!K56,0)","v":0},{"$f":"IF(ЗАЯВКА!N56=\"да\",ЗАЯВКА!K56,0)","v":0}]
[{"$f":"IF(ЗАЯВКА!I57=\"проектирование\",ЗАЯВКА!K57,0)","v":0},{"$f":"IF(ЗАЯВКА!I57=\"строительно-монтажные работы\",ЗАЯВКА!K57,0)","v":0},{"$f":"IF(ЗАЯВКА!N57=\"да\",ЗАЯВКА!K57,0)","v":0}]
[{"$f":"IF(ЗАЯВКА!I58=\"проектирование\",ЗАЯВКА!K58,0)","v":0},{"$f":"IF(ЗАЯВКА!I58=\"строительно-монтажные работы\",ЗАЯВКА!K58,0)","v":0},{"$f":"IF(ЗАЯВКА!N58=\"да\",ЗАЯВКА!K58,0)","v":0}]
[{"$f":"IF(ЗАЯВКА!I59=\"проектирование\",ЗАЯВКА!K59,0)","v":0},{"$f":"IF(ЗАЯВКА!I59=\"строительно-монтажные работы\",ЗАЯВКА!K59,0)","v":0},{"$f":"IF(ЗАЯВКА!N59=\"да\",ЗАЯВКА!K59,0)","v":0}]
[{"$f":"IF(ЗАЯВКА!I60=\"проектирование\",ЗАЯВКА!K60,0)","v":0},{"$f":"IF(ЗАЯВКА!I60=\"строительно-монтажные работы\",ЗАЯВКА!K60,0)","v":0},{"$f":"IF(ЗАЯВКА!N60=\"да\",ЗАЯВКА!K60,0)","v":0}]
[{"$f":"IF(ЗАЯВКА!I61=\"проектирование\",ЗАЯВКА!K61,0)","v":0},{"$f":"IF(ЗАЯВКА!I61=\"строительно-монтажные работы\",ЗАЯВКА!K61,0)","v":0},{"$f":"IF(ЗАЯВКА!N61=\"да\",ЗАЯВКА!K61,0)","v":0}]
[{"$f":"IF(ЗАЯВКА!I62=\"проектирование\",ЗАЯВКА!K62,0)","v":0},{"$f":"IF(ЗАЯВКА!I62=\"строительно-монтажные работы\",ЗАЯВКА!K62,0)","v":0},{"$f":"IF(ЗАЯВКА!N62=\"да\",ЗАЯВКА!K62,0)","v":0}]
[{"$f":"IF(ЗАЯВКА!I63=\"проектирование\",ЗАЯВКА!K63,0)","v":0},{"$f":"IF(ЗАЯВКА!I63=\"строительно-монтажные работы\",ЗАЯВКА!K63,0)","v":0},{"$f":"IF(ЗАЯВКА!N63=\"да\",ЗАЯВКА!K63,0)","v":0}]
[{"$f":"IF(ЗАЯВКА!I64=\"проектирование\",ЗАЯВКА!K64,0)","v":0},{"$f":"IF(ЗАЯВКА!I64=\"строительно-монтажные работы\",ЗАЯВКА!K64,0)","v":0},{"$f":"IF(ЗАЯВКА!N64=\"да\",ЗАЯВКА!K64,0)","v":0}]
[{"$f":"IF(ЗАЯВКА!I65=\"проектирование\",ЗАЯВКА!K65,0)","v":0},{"$f":"IF(ЗАЯВКА!I65=\"строительно-монтажные работы\",ЗАЯВКА!K65,0)","v":0},{"$f":"IF(ЗАЯВКА!N65=\"да\",ЗАЯВКА!K65,0)","v":0}]
[{"$f":"IF(ЗАЯВКА!I66=\"проектирование\",ЗАЯВКА!K66,0)","v":0},{"$f":"IF(ЗАЯВКА!I66=\"строительно-монтажные работы\",ЗАЯВКА!K66,0)","v":0},{"$f":"IF(ЗАЯВКА!N66=\"да\",ЗАЯВКА!K66,0)","v":0}]
[{"$f":"IF(ЗАЯВКА!I67=\"проектирование\",ЗАЯВКА!K67,0)","v":0},{"$f":"IF(ЗАЯВКА!I67=\"строительно-монтажные работы\",ЗАЯВКА!K67,0)","v":0},{"$f":"IF(ЗАЯВКА!N67=\"да\",ЗАЯВКА!K67,0)","v":0}]
[{"$f":"IF(ЗАЯВКА!I68=\"проектирование\",ЗАЯВКА!K68,0)","v":0},{"$f":"IF(ЗАЯВКА!I68=\"строительно-монтажные работы\",ЗАЯВКА!K68,0)","v":0},{"$f":"IF(ЗАЯВКА!N68=\"да\",ЗАЯВКА!K68,0)","v":0}]
[{"$f":"IF(ЗАЯВКА!I69=\"проектирование\",ЗАЯВКА!K69,0)","v":0},{"$f":"IF(ЗАЯВКА!I69=\"строительно-монтажные работы\",ЗАЯВКА!K69,0)","v":0},{"$f":"IF(ЗАЯВКА!N69=\"да\",ЗАЯВКА!K69,0)","v":0}]
[{"$f":"IF(ЗАЯВКА!I70=\"проектирование\",ЗАЯВКА!K70,0)","v":0},{"$f":"IF(ЗАЯВКА!I70=\"строительно-монтажные работы\",ЗАЯВКА!K70,0)","v":0},{"$f":"IF(ЗАЯВКА!N70=\"да\",ЗАЯВКА!K70,0)","v":0}]
[{"$f":"IF(ЗАЯВКА!I71=\"проектирование\",ЗАЯВКА!K71,0)","v":0},{"$f":"IF(ЗАЯВКА!I71=\"строительно-монтажные работы\",ЗАЯВКА!K71,0)","v":0},{"$f":"IF(ЗАЯВКА!N71=\"да\",ЗАЯВКА!K71,0)","v":0}]
[{"$f":"IF(ЗАЯВКА!I72=\"проектирование\",ЗАЯВКА!K72,0)","v":0},{"$f":"IF(ЗАЯВКА!I72=\"строительно-монтажные работы\",ЗАЯВКА!K72,0)","v":0},{"$f":"IF(ЗАЯВКА!N72=\"да\",ЗАЯВКА!K72,0)","v":0}]
[{"$f":"IF(ЗАЯВКА!I73=\"проектирование\",ЗАЯВКА!K73,0)","v":0},{"$f":"IF(ЗАЯВКА!I73=\"строительно-монтажные работы\",ЗАЯВКА!K73,0)","v":0},{"$f":"IF(ЗАЯВКА!N73=\"да\",ЗАЯВКА!K73,0)","v":0}]
[{"$f":"IF(ЗАЯВКА!I74=\"проектирование\",ЗАЯВКА!K74,0)","v":0},{"$f":"IF(ЗАЯВКА!I74=\"строительно-монтажные работы\",ЗАЯВКА!K74,0)","v":0},{"$f":"IF(ЗАЯВКА!N74=\"да\",ЗАЯВКА!K74,0)","v":0}]
[{"$f":"IF(ЗАЯВКА!I75=\"проектирование\",ЗАЯВКА!K75,0)","v":0},{"$f":"IF(ЗАЯВКА!I75=\"строительно-монтажные работы\",ЗАЯВКА!K75,0)","v":0},{"$f":"IF(ЗАЯВКА!N75=\"да\",ЗАЯВКА!K75,0)","v":0}]
[{"$f":"IF(ЗАЯВКА!I76=\"проектирование\",ЗАЯВКА!K76,0)","v":0},{"$f":"IF(ЗАЯВКА!I76=\"строительно-монтажные работы\",ЗАЯВКА!K76,0)","v":0},{"$f":"IF(ЗАЯВКА!N76=\"да\",ЗАЯВКА!K76,0)","v":0}]
[{"$f":"IF(ЗАЯВКА!I77=\"проектирование\",ЗАЯВКА!K77,0)","v":0},{"$f":"IF(ЗАЯВКА!I77=\"строительно-монтажные работы\",ЗАЯВКА!K77,0)","v":0},{"$f":"IF(ЗАЯВКА!N77=\"да\",ЗАЯВКА!K77,0)","v":0}]
[{"$f":"IF(ЗАЯВКА!I78=\"проектирование\",ЗАЯВКА!K78,0)","v":0},{"$f":"IF(ЗАЯВКА!I78=\"строительно-монтажные работы\",ЗАЯВКА!K78,0)","v":0},{"$f":"IF(ЗАЯВКА!N78=\"да\",ЗАЯВКА!K78,0)","v":0}]
[{"$f":"IF(ЗАЯВКА!I79=\"проектирование\",ЗАЯВКА!K79,0)","v":0},{"$f":"IF(ЗАЯВКА!I79=\"строительно-монтажные работы\",ЗАЯВКА!K79,0)","v":0},{"$f":"IF(ЗАЯВКА!N79=\"да\",ЗАЯВКА!K79,0)","v":0}]
[{"$f":"IF(ЗАЯВКА!I80=\"проектирование\",ЗАЯВКА!K80,0)","v":0},{"$f":"IF(ЗАЯВКА!I80=\"строительно-монтажные работы\",ЗАЯВКА!K80,0)","v":0},{"$f":"IF(ЗАЯВКА!N80=\"да\",ЗАЯВКА!K80,0)","v":0}]
[{"$f":"IF(ЗАЯВКА!I81=\"проектирование\",ЗАЯВКА!K81,0)","v":0},{"$f":"IF(ЗАЯВКА!I81=\"строительно-монтажные работы\",ЗАЯВКА!K81,0)","v":0},{"$f":"IF(ЗАЯВКА!N81=\"да\",ЗАЯВКА!K81,0)","v":0}]
[{"$f":"IF(ЗАЯВКА!I82=\"проектирование\",ЗАЯВКА!K82,0)","v":0},{"$f":"IF(ЗАЯВКА!I82=\"строительно-монтажные работы\",ЗАЯВКА!K82,0)","v":0},{"$f":"IF(ЗАЯВКА!N82=\"да\",ЗАЯВКА!K82,0)","v":0}]
[{"$f":"IF(ЗАЯВКА!I83=\"проектирование\",ЗАЯВКА!K83,0)","v":0},{"$f":"IF(ЗАЯВКА!I83=\"строительно-монтажные работы\",ЗАЯВКА!K83,0)","v":0},{"$f":"IF(ЗАЯВКА!N83=\"да\",ЗАЯВКА!K83,0)","v":0}]
[{"$f":"IF(ЗАЯВКА!I84=\"проектирование\",ЗАЯВКА!K84,0)","v":0},{"$f":"IF(ЗАЯВКА!I84=\"строительно-монтажные работы\",ЗАЯВКА!K84,0)","v":0},{"$f":"IF(ЗАЯВКА!N84=\"да\",ЗАЯВКА!K84,0)","v":0}]
[{"$f":"IF(ЗАЯВКА!I85=\"проектирование\",ЗАЯВКА!K85,0)","v":0},{"$f":"IF(ЗАЯВКА!I85=\"строительно-монтажные работы\",ЗАЯВКА!K85,0)","v":0},{"$f":"IF(ЗАЯВКА!N85=\"да\",ЗАЯВКА!K85,0)","v":0}]
[{"$f":"IF(ЗАЯВКА!I86=\"проектирование\",ЗАЯВКА!K86,0)","v":0},{"$f":"IF(ЗАЯВКА!I86=\"строительно-монтажные работы\",ЗАЯВКА!K86,0)","v":0},{"$f":"IF(ЗАЯВКА!N86=\"да\",ЗАЯВКА!K86,0)","v":0}]
[{"$f":"IF(ЗАЯВКА!I87=\"проектирование\",ЗАЯВКА!K87,0)","v":0},{"$f":"IF(ЗАЯВКА!I87=\"строительно-монтажные работы\",ЗАЯВКА!K87,0)","v":0},{"$f":"IF(ЗАЯВКА!N87=\"да\",ЗАЯВКА!K87,0)","v":0}]
[{"$f":"IF(ЗАЯВКА!I88=\"проектирование\",ЗАЯВКА!K88,0)","v":0},{"$f":"IF(ЗАЯВКА!I88=\"строительно-монтажные работы\",ЗАЯВКА!K88,0)","v":0},{"$f":"IF(ЗАЯВКА!N88=\"да\",ЗАЯВКА!K88,0)","v":0}]
[{"$f":"IF(ЗАЯВКА!I89=\"проектирование\",ЗАЯВКА!K89,0)","v":0},{"$f":"IF(ЗАЯВКА!I89=\"строительно-монтажные работы\",ЗАЯВКА!K89,0)","v":0},{"$f":"IF(ЗАЯВКА!N89=\"да\",ЗАЯВКА!K89,0)","v":0}]
[{"$f":"IF(ЗАЯВКА!I90=\"проектирование\",ЗАЯВКА!K90,0)","v":0},{"$f":"IF(ЗАЯВКА!I90=\"строительно-монтажные работы\",ЗАЯВКА!K90,0)","v":0},{"$f":"IF(ЗАЯВКА!N90=\"да\",ЗАЯВКА!K90,0)","v":0}]
[{"$f":"IF(ЗАЯВКА!I91=\"проектирование\",ЗАЯВКА!K91,0)","v":0},{"$f":"IF(ЗАЯВКА!I91=\"строительно-монтажные работы\",ЗАЯВКА!K91,0)","v":0},{"$f":"IF(ЗАЯВКА!N91=\"да\",ЗАЯВКА!K91,0)","v":0}]
[{"$f":"IF(ЗАЯВКА!I92=\"проектирование\",ЗАЯВКА!K92,0)","v":0},{"$f":"IF(ЗАЯВКА!I92=\"строительно-монтажные работы\",ЗАЯВКА!K92,0)","v":0},{"$f":"IF(ЗАЯВКА!N92=\"да\",ЗАЯВКА!K92,0)","v":0}]
[{"$f":"IF(ЗАЯВКА!I93=\"проектирование\",ЗАЯВКА!K93,0)","v":0},{"$f":"IF(ЗАЯВКА!I93=\"строительно-монтажные работы\",ЗАЯВКА!K93,0)","v":0},{"$f":"IF(ЗАЯВКА!N93=\"да\",ЗАЯВКА!K93,0)","v":0}]
[{"$f":"IF(ЗАЯВКА!I94=\"проектирование\",ЗАЯВКА!K94,0)","v":0},{"$f":"IF(ЗАЯВКА!I94=\"строительно-монтажные работы\",ЗАЯВКА!K94,0)","v":0},{"$f":"IF(ЗАЯВКА!N94=\"да\",ЗАЯВКА!K94,0)","v":0}]
[{"$f":"IF(ЗАЯВКА!I95=\"проектирование\",ЗАЯВКА!K95,0)","v":0},{"$f":"IF(ЗАЯВКА!I95=\"строительно-монтажные работы\",ЗАЯВКА!K95,0)","v":0},{"$f":"IF(ЗАЯВКА!N95=\"да\",ЗАЯВКА!K95,0)","v":0}]
[{"$f":"IF(ЗАЯВКА!I96=\"проектирование\",ЗАЯВКА!K96,0)","v":0},{"$f":"IF(ЗАЯВКА!I96=\"строительно-монтажные работы\",ЗАЯВКА!K96,0)","v":0},{"$f":"IF(ЗАЯВКА!N96=\"да\",ЗАЯВКА!K96,0)","v":0}]
[{"$f":"IF(ЗАЯВКА!I97=\"проектирование\",ЗАЯВКА!K97,0)","v":0},{"$f":"IF(ЗАЯВКА!I97=\"строительно-монтажные работы\",ЗАЯВКА!K97,0)","v":0},{"$f":"IF(ЗАЯВКА!N97=\"да\",ЗАЯВКА!K97,0)","v":0}]
[{"$f":"IF(ЗАЯВКА!I98=\"проектирование\",ЗАЯВКА!K98,0)","v":0},{"$f":"IF(ЗАЯВКА!I98=\"строительно-монтажные работы\",ЗАЯВКА!K98,0)","v":0},{"$f":"IF(ЗАЯВКА!N98=\"да\",ЗАЯВКА!K98,0)","v":0}]
[{"$f":"IF(ЗАЯВКА!I99=\"проектирование\",ЗАЯВКА!K99,0)","v":0},{"$f":"IF(ЗАЯВКА!I99=\"строительно-монтажные работы\",ЗАЯВКА!K99,0)","v":0},{"$f":"IF(ЗАЯВКА!N99=\"да\",ЗАЯВКА!K99,0)","v":0}]
[{"$f":"IF(ЗАЯВКА!I100=\"проектирование\",ЗАЯВКА!K100,0)","v":0},{"$f":"IF(ЗАЯВКА!I100=\"строительно-монтажные работы\",ЗАЯВКА!K100,0)","v":0},{"$f":"IF(ЗАЯВКА!N100=\"да\",ЗАЯВКА!K100,0)","v":0}]
[{"$f":"IF(ЗАЯВКА!I101=\"проектирование\",ЗАЯВКА!K101,0)","v":0},{"$f":"IF(ЗАЯВКА!I101=\"строительно-монтажные работы\",ЗАЯВКА!K101,0)","v":0},{"$f":"IF(ЗАЯВКА!N101=\"да\",ЗАЯВКА!K101,0)","v":0}]
[{"$f":"IF(ЗАЯВКА!I102=\"проектирование\",ЗАЯВКА!K102,0)","v":0},{"$f":"IF(ЗАЯВКА!I102=\"строительно-монтажные работы\",ЗАЯВКА!K102,0)","v":0},{"$f":"IF(ЗАЯВКА!N102=\"да\",ЗАЯВКА!K102,0)","v":0}]
[{"$f":"IF(ЗАЯВКА!I103=\"проектирование\",ЗАЯВКА!K103,0)","v":0},{"$f":"IF(ЗАЯВКА!I103=\"строительно-монтажные работы\",ЗАЯВКА!K103,0)","v":0},{"$f":"IF(ЗАЯВКА!N103=\"да\",ЗАЯВКА!K103,0)","v":0}]
[{"$f":"IF(ЗАЯВКА!I104=\"проектирование\",ЗАЯВКА!K104,0)","v":0},{"$f":"IF(ЗАЯВКА!I104=\"строительно-монтажные работы\",ЗАЯВКА!K104,0)","v":0},{"$f":"IF(ЗАЯВКА!N104=\"да\",ЗАЯВКА!K104,0)","v":0}]
[{"$f":"IF(ЗАЯВКА!I105=\"проектирование\",ЗАЯВКА!K105,0)","v":0},{"$f":"IF(ЗАЯВКА!I105=\"строительно-монтажные работы\",ЗАЯВКА!K105,0)","v":0},{"$f":"IF(ЗАЯВКА!N105=\"да\",ЗАЯВКА!K105,0)","v":0}]
[{"$f":"IF(ЗАЯВКА!I106=\"проектирование\",ЗАЯВКА!K106,0)","v":0},{"$f":"IF(ЗАЯВКА!I106=\"строительно-монтажные работы\",ЗАЯВКА!K106,0)","v":0},{"$f":"IF(ЗАЯВКА!N106=\"да\",ЗАЯВКА!K106,0)","v":0}]
[{"$f":"IF(ЗАЯВКА!I107=\"проектирование\",ЗАЯВКА!K107,0)","v":0},{"$f":"IF(ЗАЯВКА!I107=\"строительно-монтажные работы\",ЗАЯВКА!K107,0)","v":0},{"$f":"IF(ЗАЯВКА!N107=\"да\",ЗАЯВКА!K107,0)","v":0}]
[{"$f":"IF(ЗАЯВКА!I108=\"проектирование\",ЗАЯВКА!K108,0)","v":0},{"$f":"IF(ЗАЯВКА!I108=\"строительно-монтажные работы\",ЗАЯВКА!K108,0)","v":0},{"$f":"IF(ЗАЯВКА!N108=\"да\",ЗАЯВКА!K108,0)","v":0}]
[{"$f":"IF(ЗАЯВКА!I109=\"проектирование\",ЗАЯВКА!K109,0)","v":0},{"$f":"IF(ЗАЯВКА!I109=\"строительно-монтажные работы\",ЗАЯВКА!K109,0)","v":0},{"$f":"IF(ЗАЯВКА!N109=\"да\",ЗАЯВКА!K109,0)","v":0}]
[{"$f":"IF(ЗАЯВКА!I110=\"проектирование\",ЗАЯВКА!K110,0)","v":0},{"$f":"IF(ЗАЯВКА!I110=\"строительно-монтажные работы\",ЗАЯВКА!K110,0)","v":0},{"$f":"IF(ЗАЯВКА!N110=\"да\",ЗАЯВКА!K110,0)","v":0}]
[{"$f":"IF(ЗАЯВКА!I111=\"проектирование\",ЗАЯВКА!K111,0)","v":0},{"$f":"IF(ЗАЯВКА!I111=\"строительно-монтажные работы\",ЗАЯВКА!K111,0)","v":0},{"$f":"IF(ЗАЯВКА!N111=\"да\",ЗАЯВКА!K111,0)","v":0}]
[{"$f":"IF(ЗАЯВКА!I112=\"проектирование\",ЗАЯВКА!K112,0)","v":0},{"$f":"IF(ЗАЯВКА!I112=\"строительно-монтажные работы\",ЗАЯВКА!K112,0)","v":0},{"$f":"IF(ЗАЯВКА!N112=\"да\",ЗАЯВКА!K112,0)","v":0}]
[{"$f":"IF(ЗАЯВКА!I113=\"проектирование\",ЗАЯВКА!K113,0)","v":0},{"$f":"IF(ЗАЯВКА!I113=\"строительно-монтажные работы\",ЗАЯВКА!K113,0)","v":0},{"$f":"IF(ЗАЯВКА!N113=\"да\",ЗАЯВКА!K113,0)","v":0}]
[{"$f":"IF(ЗАЯВКА!I114=\"проектирование\",ЗАЯВКА!K114,0)","v":0},{"$f":"IF(ЗАЯВКА!I114=\"строительно-монтажные работы\",ЗАЯВКА!K114,0)","v":0},{"$f":"IF(ЗАЯВКА!N114=\"да\",ЗАЯВКА!K114,0)","v":0}]
[{"$f":"IF(ЗАЯВКА!I115=\"проектирование\",ЗАЯВКА!K115,0)","v":0},{"$f":"IF(ЗАЯВКА!I115=\"строительно-монтажные работы\",ЗАЯВКА!K115,0)","v":0},{"$f":"IF(ЗАЯВКА!N115=\"да\",ЗАЯВКА!K115,0)","v":0}]
[{"$f":"IF(ЗАЯВКА!I116=\"проектирование\",ЗАЯВКА!K116,0)","v":0},{"$f":"IF(ЗАЯВКА!I116=\"строительно-монтажные работы\",ЗАЯВКА!K116,0)","v":0},{"$f":"IF(ЗАЯВКА!N116=\"да\",ЗАЯВКА!K116,0)","v":0}]
[{"$f":"IF(ЗАЯВКА!I117=\"проектирование\",ЗАЯВКА!K117,0)","v":0},{"$f":"IF(ЗАЯВКА!I117=\"строительно-монтажные работы\",ЗАЯВКА!K117,0)","v":0},{"$f":"IF(ЗАЯВКА!N117=\"да\",ЗАЯВКА!K117,0)","v":0}]
[{"$f":"IF(ЗАЯВКА!I118=\"проектирование\",ЗАЯВКА!K118,0)","v":0},{"$f":"IF(ЗАЯВКА!I118=\"строительно-монтажные работы\",ЗАЯВКА!K118,0)","v":0},{"$f":"IF(ЗАЯВКА!N118=\"да\",ЗАЯВКА!K118,0)","v":0}]
[{"$f":"IF(ЗАЯВКА!I119=\"проектирование\",ЗАЯВКА!K119,0)","v":0},{"$f":"IF(ЗАЯВКА!I119=\"строительно-монтажные работы\",ЗАЯВКА!K119,0)","v":0},{"$f":"IF(ЗАЯВКА!N119=\"да\",ЗАЯВКА!K119,0)","v":0}]
[{"$f":"IF(ЗАЯВКА!I120=\"проектирование\",ЗАЯВКА!K120,0)","v":0},{"$f":"IF(ЗАЯВКА!I120=\"строительно-монтажные работы\",ЗАЯВКА!K120,0)","v":0},{"$f":"IF(ЗАЯВКА!N120=\"да\",ЗАЯВКА!K120,0)","v":0}]
[{"$f":"IF(ЗАЯВКА!I121=\"проектирование\",ЗАЯВКА!K121,0)","v":0},{"$f":"IF(ЗАЯВКА!I121=\"строительно-монтажные работы\",ЗАЯВКА!K121,0)","v":0},{"$f":"IF(ЗАЯВКА!N121=\"да\",ЗАЯВКА!K121,0)","v":0}]
[{"$f":"IF(ЗАЯВКА!I122=\"проектирование\",ЗАЯВКА!K122,0)","v":0},{"$f":"IF(ЗАЯВКА!I122=\"строительно-монтажные работы\",ЗАЯВКА!K122,0)","v":0},{"$f":"IF(ЗАЯВКА!N122=\"да\",ЗАЯВКА!K122,0)","v":0}]
[{"$f":"IF(ЗАЯВКА!I123=\"проектирование\",ЗАЯВКА!K123,0)","v":0},{"$f":"IF(ЗАЯВКА!I123=\"строительно-монтажные работы\",ЗАЯВКА!K123,0)","v":0},{"$f":"IF(ЗАЯВКА!N123=\"да\",ЗАЯВКА!K123,0)","v":0}]
[{"$f":"IF(ЗАЯВКА!I124=\"проектирование\",ЗАЯВКА!K124,0)","v":0},{"$f":"IF(ЗАЯВКА!I124=\"строительно-монтажные работы\",ЗАЯВКА!K124,0)","v":0},{"$f":"IF(ЗАЯВКА!N124=\"да\",ЗАЯВКА!K124,0)","v":0}]
[{"$f":"IF(ЗАЯВКА!I125=\"проектирование\",ЗАЯВКА!K125,0)","v":0},{"$f":"IF(ЗАЯВКА!I125=\"строительно-монтажные работы\",ЗАЯВКА!K125,0)","v":0},{"$f":"IF(ЗАЯВКА!N125=\"да\",ЗАЯВКА!K125,0)","v":0}]
[{"$f":"IF(ЗАЯВКА!I126=\"проектирование\",ЗАЯВКА!K126,0)","v":0},{"$f":"IF(ЗАЯВКА!I126=\"строительно-монтажные работы\",ЗАЯВКА!K126,0)","v":0},{"$f":"IF(ЗАЯВКА!N126=\"да\",ЗАЯВКА!K126,0)","v":0}]
[{"$f":"IF(ЗАЯВКА!I127=\"проектирование\",ЗАЯВКА!K127,0)","v":0},{"$f":"IF(ЗАЯВКА!I127=\"строительно-монтажные работы\",ЗАЯВКА!K127,0)","v":0},{"$f":"IF(ЗАЯВКА!N127=\"да\",ЗАЯВКА!K127,0)","v":0}]
[{"$f":"IF(ЗАЯВКА!I128=\"проектирование\",ЗАЯВКА!K128,0)","v":0},{"$f":"IF(ЗАЯВКА!I128=\"строительно-монтажные работы\",ЗАЯВКА!K128,0)","v":0},{"$f":"IF(ЗАЯВКА!N128=\"да\",ЗАЯВКА!K128,0)","v":0}]
[{"$f":"IF(ЗАЯВКА!I129=\"проектирование\",ЗАЯВКА!K129,0)","v":0},{"$f":"IF(ЗАЯВКА!I129=\"строительно-монтажные работы\",ЗАЯВКА!K129,0)","v":0},{"$f":"IF(ЗАЯВКА!N129=\"да\",ЗАЯВКА!K129,0)","v":0}]
[{"$f":"IF(ЗАЯВКА!I130=\"проектирование\",ЗАЯВКА!K130,0)","v":0},{"$f":"IF(ЗАЯВКА!I130=\"строительно-монтажные работы\",ЗАЯВКА!K130,0)","v":0},{"$f":"IF(ЗАЯВКА!N130=\"да\",ЗАЯВКА!K130,0)","v":0}]
[{"$f":"IF(ЗАЯВКА!I131=\"проектирование\",ЗАЯВКА!K131,0)","v":0},{"$f":"IF(ЗАЯВКА!I131=\"строительно-монтажные работы\",ЗАЯВКА!K131,0)","v":0},{"$f":"IF(ЗАЯВКА!N131=\"да\",ЗАЯВКА!K131,0)","v":0}]
[{"$f":"IF(ЗАЯВКА!I132=\"проектирование\",ЗАЯВКА!K132,0)","v":0},{"$f":"IF(ЗАЯВКА!I132=\"строительно-монтажные работы\",ЗАЯВКА!K132,0)","v":0},{"$f":"IF(ЗАЯВКА!N132=\"да\",ЗАЯВКА!K132,0)","v":0}]
[{"$f":"IF(ЗАЯВКА!I133=\"проектирование\",ЗАЯВКА!K133,0)","v":0},{"$f":"IF(ЗАЯВКА!I133=\"строительно-монтажные работы\",ЗАЯВКА!K133,0)","v":0},{"$f":"IF(ЗАЯВКА!N133=\"да\",ЗАЯВКА!K133,0)","v":0}]
[{"$f":"IF(ЗАЯВКА!I134=\"проектирование\",ЗАЯВКА!K134,0)","v":0},{"$f":"IF(ЗАЯВКА!I134=\"строительно-монтажные работы\",ЗАЯВКА!K134,0)","v":0},{"$f":"IF(ЗАЯВКА!N134=\"да\",ЗАЯВКА!K134,0)","v":0}]
[{"$f":"IF(ЗАЯВКА!I135=\"проектирование\",ЗАЯВКА!K135,0)","v":0},{"$f":"IF(ЗАЯВКА!I135=\"строительно-монтажные работы\",ЗАЯВКА!K135,0)","v":0},{"$f":"IF(ЗАЯВКА!N135=\"да\",ЗАЯВКА!K135,0)","v":0}]
[{"$f":"IF(ЗАЯВКА!I136=\"проектирование\",ЗАЯВКА!K136,0)","v":0},{"$f":"IF(ЗАЯВКА!I136=\"строительно-монтажные работы\",ЗАЯВКА!K136,0)","v":0},{"$f":"IF(ЗАЯВКА!N136=\"да\",ЗАЯВКА!K136,0)","v":0}]
[{"$f":"IF(ЗАЯВКА!I137=\"проектирование\",ЗАЯВКА!K137,0)","v":0},{"$f":"IF(ЗАЯВКА!I137=\"строительно-монтажные работы\",ЗАЯВКА!K137,0)","v":0},{"$f":"IF(ЗАЯВКА!N137=\"да\",ЗАЯВКА!K137,0)","v":0}]
[{"$f":"IF(ЗАЯВКА!I138=\"проектирование\",ЗАЯВКА!K138,0)","v":0},{"$f":"IF(ЗАЯВКА!I138=\"строительно-монтажные работы\",ЗАЯВКА!K138,0)","v":0},{"$f":"IF(ЗАЯВКА!N138=\"да\",ЗАЯВКА!K138,0)","v":0}]
[{"$f":"IF(ЗАЯВКА!I139=\"проектирование\",ЗАЯВКА!K139,0)","v":0},{"$f":"IF(ЗАЯВКА!I139=\"строительно-монтажные работы\",ЗАЯВКА!K139,0)","v":0},{"$f":"IF(ЗАЯВКА!N139=\"да\",ЗАЯВКА!K139,0)","v":0}]
[{"$f":"IF(ЗАЯВКА!I140=\"проектирование\",ЗАЯВКА!K140,0)","v":0},{"$f":"IF(ЗАЯВКА!I140=\"строительно-монтажные работы\",ЗАЯВКА!K140,0)","v":0},{"$f":"IF(ЗАЯВКА!N140=\"да\",ЗАЯВКА!K140,0)","v":0}]
[{"$f":"IF(ЗАЯВКА!I141=\"проектирование\",ЗАЯВКА!K141,0)","v":0},{"$f":"IF(ЗАЯВКА!I141=\"строительно-монтажные работы\",ЗАЯВКА!K141,0)","v":0},{"$f":"IF(ЗАЯВКА!N141=\"да\",ЗАЯВКА!K141,0)","v":0}]
[{"$f":"IF(ЗАЯВКА!I142=\"проектирование\",ЗАЯВКА!K142,0)","v":0},{"$f":"IF(ЗАЯВКА!I142=\"строительно-монтажные работы\",ЗАЯВКА!K142,0)","v":0},{"$f":"IF(ЗАЯВКА!N142=\"да\",ЗАЯВКА!K142,0)","v":0}]
[{"$f":"IF(ЗАЯВКА!I143=\"проектирование\",ЗАЯВКА!K143,0)","v":0},{"$f":"IF(ЗАЯВКА!I143=\"строительно-монтажные работы\",ЗАЯВКА!K143,0)","v":0},{"$f":"IF(ЗАЯВКА!N143=\"да\",ЗАЯВКА!K143,0)","v":0}]
[{"$f":"IF(ЗАЯВКА!I144=\"проектирование\",ЗАЯВКА!K144,0)","v":0},{"$f":"IF(ЗАЯВКА!I144=\"строительно-монтажные работы\",ЗАЯВКА!K144,0)","v":0},{"$f":"IF(ЗАЯВКА!N144=\"да\",ЗАЯВКА!K144,0)","v":0}]
[{"$f":"IF(ЗАЯВКА!I145=\"проектирование\",ЗАЯВКА!K145,0)","v":0},{"$f":"IF(ЗАЯВКА!I145=\"строительно-монтажные работы\",ЗАЯВКА!K145,0)","v":0},{"$f":"IF(ЗАЯВКА!N145=\"да\",ЗАЯВКА!K145,0)","v":0}]
[{"$f":"IF(ЗАЯВКА!I146=\"проектирование\",ЗАЯВКА!K146,0)","v":0},{"$f":"IF(ЗАЯВКА!I146=\"строительно-монтажные работы\",ЗАЯВКА!K146,0)","v":0},{"$f":"IF(ЗАЯВКА!N146=\"да\",ЗАЯВКА!K146,0)","v":0}]
[{"$f":"IF(ЗАЯВКА!I147=\"проектирование\",ЗАЯВКА!K147,0)","v":0},{"$f":"IF(ЗАЯВКА!I147=\"строительно-монтажные работы\",ЗАЯВКА!K147,0)","v":0},{"$f":"IF(ЗАЯВКА!N147=\"да\",ЗАЯВКА!K147,0)","v":0}]
[{"$f":"IF(ЗАЯВКА!I148=\"проектирование\",ЗАЯВКА!K148,0)","v":0},{"$f":"IF(ЗАЯВКА!I148=\"строительно-монтажные работы\",ЗАЯВКА!K148,0)","v":0},{"$f":"IF(ЗАЯВКА!N148=\"да\",ЗАЯВКА!K148,0)","v":0}]
[{"$f":"IF(ЗАЯВКА!I149=\"проектирование\",ЗАЯВКА!K149,0)","v":0},{"$f":"IF(ЗАЯВКА!I149=\"строительно-монтажные работы\",ЗАЯВКА!K149,0)","v":0},{"$f":"IF(ЗАЯВКА!N149=\"да\",ЗАЯВКА!K149,0)","v":0}]
[{"$f":"IF(ЗАЯВКА!I150=\"проектирование\",ЗАЯВКА!K150,0)","v":0},{"$f":"IF(ЗАЯВКА!I150=\"строительно-монтажные работы\",ЗАЯВКА!K150,0)","v":0},{"$f":"IF(ЗАЯВКА!N150=\"да\",ЗАЯВКА!K150,0)","v":0}]
[{"$f":"IF(ЗАЯВКА!I151=\"проектирование\",ЗАЯВКА!K151,0)","v":0},{"$f":"IF(ЗАЯВКА!I151=\"строительно-монтажные работы\",ЗАЯВКА!K151,0)","v":0},{"$f":"IF(ЗАЯВКА!N151=\"да\",ЗАЯВКА!K151,0)","v":0}]
[{"$f":"IF(ЗАЯВКА!I152=\"проектирование\",ЗАЯВКА!K152,0)","v":0},{"$f":"IF(ЗАЯВКА!I152=\"строительно-монтажные работы\",ЗАЯВКА!K152,0)","v":0},{"$f":"IF(ЗАЯВКА!N152=\"да\",ЗАЯВКА!K152,0)","v":0}]
[{"$f":"IF(ЗАЯВКА!I153=\"проектирование\",ЗАЯВКА!K153,0)","v":0},{"$f":"IF(ЗАЯВКА!I153=\"строительно-монтажные работы\",ЗАЯВКА!K153,0)","v":0},{"$f":"IF(ЗАЯВКА!N153=\"да\",ЗАЯВКА!K153,0)","v":0}]
[{"$f":"IF(ЗАЯВКА!I154=\"проектирование\",ЗАЯВКА!K154,0)","v":0},{"$f":"IF(ЗАЯВКА!I154=\"строительно-монтажные работы\",ЗАЯВКА!K154,0)","v":0},{"$f":"IF(ЗАЯВКА!N154=\"да\",ЗАЯВКА!K154,0)","v":0}]
[{"$f":"IF(ЗАЯВКА!I155=\"проектирование\",ЗАЯВКА!K155,0)","v":0},{"$f":"IF(ЗАЯВКА!I155=\"строительно-монтажные работы\",ЗАЯВКА!K155,0)","v":0},{"$f":"IF(ЗАЯВКА!N155=\"да\",ЗАЯВКА!K155,0)","v":0}]
[{"$f":"IF(ЗАЯВКА!I156=\"проектирование\",ЗАЯВКА!K156,0)","v":0},{"$f":"IF(ЗАЯВКА!I156=\"строительно-монтажные работы\",ЗАЯВКА!K156,0)","v":0},{"$f":"IF(ЗАЯВКА!N156=\"да\",ЗАЯВКА!K156,0)","v":0}]
[{"$f":"IF(ЗАЯВКА!I157=\"проектирование\",ЗАЯВКА!K157,0)","v":0},{"$f":"IF(ЗАЯВКА!I157=\"строительно-монтажные работы\",ЗАЯВКА!K157,0)","v":0},{"$f":"IF(ЗАЯВКА!N157=\"да\",ЗАЯВКА!K157,0)","v":0}]
[{"$f":"IF(ЗАЯВКА!I158=\"проектирование\",ЗАЯВКА!K158,0)","v":0},{"$f":"IF(ЗАЯВКА!I158=\"строительно-монтажные работы\",ЗАЯВКА!K158,0)","v":0},{"$f":"IF(ЗАЯВКА!N158=\"да\",ЗАЯВКА!K158,0)","v":0}]
[{"$f":"IF(ЗАЯВКА!I159=\"проектирование\",ЗАЯВКА!K159,0)","v":0},{"$f":"IF(ЗАЯВКА!I159=\"строительно-монтажные работы\",ЗАЯВКА!K159,0)","v":0},{"$f":"IF(ЗАЯВКА!N159=\"да\",ЗАЯВКА!K159,0)","v":0}]
[{"$f":"IF(ЗАЯВКА!I160=\"проектирование\",ЗАЯВКА!K160,0)","v":0},{"$f":"IF(ЗАЯВКА!I160=\"строительно-монтажные работы\",ЗАЯВКА!K160,0)","v":0},{"$f":"IF(ЗАЯВКА!N160=\"да\",ЗАЯВКА!K160,0)","v":0}]
[{"$f":"IF(ЗАЯВКА!I161=\"проектирование\",ЗАЯВКА!K161,0)","v":0},{"$f":"IF(ЗАЯВКА!I161=\"строительно-монтажные работы\",ЗАЯВКА!K161,0)","v":0},{"$f":"IF(ЗАЯВКА!N161=\"да\",ЗАЯВКА!K161,0)","v":0}]
[{"$f":"IF(ЗАЯВКА!I162=\"проектирование\",ЗАЯВКА!K162,0)","v":0},{"$f":"IF(ЗАЯВКА!I162=\"строительно-монтажные работы\",ЗАЯВКА!K162,0)","v":0},{"$f":"IF(ЗАЯВКА!N162=\"да\",ЗАЯВКА!K162,0)","v":0}]
[{"$f":"IF(ЗАЯВКА!I163=\"проектирование\",ЗАЯВКА!K163,0)","v":0},{"$f":"IF(ЗАЯВКА!I163=\"строительно-монтажные работы\",ЗАЯВКА!K163,0)","v":0},{"$f":"IF(ЗАЯВКА!N163=\"да\",ЗАЯВКА!K163,0)","v":0}]
[{"$f":"IF(ЗАЯВКА!I164=\"проектирование\",ЗАЯВКА!K164,0)","v":0},{"$f":"IF(ЗАЯВКА!I164=\"строительно-монтажные работы\",ЗАЯВКА!K164,0)","v":0},{"$f":"IF(ЗАЯВКА!N164=\"да\",ЗАЯВКА!K164,0)","v":0}]
[{"$f":"IF(ЗАЯВКА!I165=\"проектирование\",ЗАЯВКА!K165,0)","v":0},{"$f":"IF(ЗАЯВКА!I165=\"строительно-монтажные работы\",ЗАЯВКА!K165,0)","v":0},{"$f":"IF(ЗАЯВКА!N165=\"да\",ЗАЯВКА!K165,0)","v":0}]
[{"$f":"IF(ЗАЯВКА!I166=\"проектирование\",ЗАЯВКА!K166,0)","v":0},{"$f":"IF(ЗАЯВКА!I166=\"строительно-монтажные работы\",ЗАЯВКА!K166,0)","v":0},{"$f":"IF(ЗАЯВКА!N166=\"да\",ЗАЯВКА!K166,0)","v":0}]
[{"$f":"IF(ЗАЯВКА!I167=\"проектирование\",ЗАЯВКА!K167,0)","v":0},{"$f":"IF(ЗАЯВКА!I167=\"строительно-монтажные работы\",ЗАЯВКА!K167,0)","v":0},{"$f":"IF(ЗАЯВКА!N167=\"да\",ЗАЯВКА!K167,0)","v":0}]
[{"$f":"IF(ЗАЯВКА!I168=\"проектирование\",ЗАЯВКА!K168,0)","v":0},{"$f":"IF(ЗАЯВКА!I168=\"строительно-монтажные работы\",ЗАЯВКА!K168,0)","v":0},{"$f":"IF(ЗАЯВКА!N168=\"да\",ЗАЯВКА!K168,0)","v":0}]
[{"$f":"IF(ЗАЯВКА!I169=\"проектирование\",ЗАЯВКА!K169,0)","v":0},{"$f":"IF(ЗАЯВКА!I169=\"строительно-монтажные работы\",ЗАЯВКА!K169,0)","v":0},{"$f":"IF(ЗАЯВКА!N169=\"да\",ЗАЯВКА!K169,0)","v":0}]
[{"$f":"IF(ЗАЯВКА!I170=\"проектирование\",ЗАЯВКА!K170,0)","v":0},{"$f":"IF(ЗАЯВКА!I170=\"строительно-монтажные работы\",ЗАЯВКА!K170,0)","v":0},{"$f":"IF(ЗАЯВКА!N170=\"да\",ЗАЯВКА!K170,0)","v":0}]
[{"$f":"IF(ЗАЯВКА!I171=\"проектирование\",ЗАЯВКА!K171,0)","v":0},{"$f":"IF(ЗАЯВКА!I171=\"строительно-монтажные работы\",ЗАЯВКА!K171,0)","v":0},{"$f":"IF(ЗАЯВКА!N171=\"да\",ЗАЯВКА!K171,0)","v":0}]
[{"$f":"IF(ЗАЯВКА!I172=\"проектирование\",ЗАЯВКА!K172,0)","v":0},{"$f":"IF(ЗАЯВКА!I172=\"строительно-монтажные работы\",ЗАЯВКА!K172,0)","v":0},{"$f":"IF(ЗАЯВКА!N172=\"да\",ЗАЯВКА!K172,0)","v":0}]
[{"$f":"IF(ЗАЯВКА!I173=\"проектирование\",ЗАЯВКА!K173,0)","v":0},{"$f":"IF(ЗАЯВКА!I173=\"строительно-монтажные работы\",ЗАЯВКА!K173,0)","v":0},{"$f":"IF(ЗАЯВКА!N173=\"да\",ЗАЯВКА!K173,0)","v":0}]
[{"$f":"IF(ЗАЯВКА!I174=\"проектирование\",ЗАЯВКА!K174,0)","v":0},{"$f":"IF(ЗАЯВКА!I174=\"строительно-монтажные работы\",ЗАЯВКА!K174,0)","v":0},{"$f":"IF(ЗАЯВКА!N174=\"да\",ЗАЯВКА!K174,0)","v":0}]
[{"$f":"IF(ЗАЯВКА!I175=\"проектирование\",ЗАЯВКА!K175,0)","v":0},{"$f":"IF(ЗАЯВКА!I175=\"строительно-монтажные работы\",ЗАЯВКА!K175,0)","v":0},{"$f":"IF(ЗАЯВКА!N175=\"да\",ЗАЯВКА!K175,0)","v":0}]
[{"$f":"IF(ЗАЯВКА!I176=\"проектирование\",ЗАЯВКА!K176,0)","v":0},{"$f":"IF(ЗАЯВКА!I176=\"строительно-монтажные работы\",ЗАЯВКА!K176,0)","v":0},{"$f":"IF(ЗАЯВКА!N176=\"да\",ЗАЯВКА!K176,0)","v":0}]
[{"$f":"IF(ЗАЯВКА!I177=\"проектирование\",ЗАЯВКА!K177,0)","v":0},{"$f":"IF(ЗАЯВКА!I177=\"строительно-монтажные работы\",ЗАЯВКА!K177,0)","v":0},{"$f":"IF(ЗАЯВКА!N177=\"да\",ЗАЯВКА!K177,0)","v":0}]
[{"$f":"IF(ЗАЯВКА!I178=\"проектирование\",ЗАЯВКА!K178,0)","v":0},{"$f":"IF(ЗАЯВКА!I178=\"строительно-монтажные работы\",ЗАЯВКА!K178,0)","v":0},{"$f":"IF(ЗАЯВКА!N178=\"да\",ЗАЯВКА!K178,0)","v":0}]
[{"$f":"IF(ЗАЯВКА!I179=\"проектирование\",ЗАЯВКА!K179,0)","v":0},{"$f":"IF(ЗАЯВКА!I179=\"строительно-монтажные работы\",ЗАЯВКА!K179,0)","v":0},{"$f":"IF(ЗАЯВКА!N179=\"да\",ЗАЯВКА!K179,0)","v":0}]
[{"$f":"IF(ЗАЯВКА!I180=\"проектирование\",ЗАЯВКА!K180,0)","v":0},{"$f":"IF(ЗАЯВКА!I180=\"строительно-монтажные работы\",ЗАЯВКА!K180,0)","v":0},{"$f":"IF(ЗАЯВКА!N180=\"да\",ЗАЯВКА!K180,0)","v":0}]
[{"$f":"IF(ЗАЯВКА!I181=\"проектирование\",ЗАЯВКА!K181,0)","v":0},{"$f":"IF(ЗАЯВКА!I181=\"строительно-монтажные работы\",ЗАЯВКА!K181,0)","v":0},{"$f":"IF(ЗАЯВКА!N181=\"да\",ЗАЯВКА!K181,0)","v":0}]
[{"$f":"IF(ЗАЯВКА!I182=\"проектирование\",ЗАЯВКА!K182,0)","v":0},{"$f":"IF(ЗАЯВКА!I182=\"строительно-монтажные работы\",ЗАЯВКА!K182,0)","v":0},{"$f":"IF(ЗАЯВКА!N182=\"да\",ЗАЯВКА!K182,0)","v":0}]
[{"$f":"IF(ЗАЯВКА!I183=\"проектирование\",ЗАЯВКА!K183,0)","v":0},{"$f":"IF(ЗАЯВКА!I183=\"строительно-монтажные работы\",ЗАЯВКА!K183,0)","v":0},{"$f":"IF(ЗАЯВКА!N183=\"да\",ЗАЯВКА!K183,0)","v":0}]
[{"$f":"IF(ЗАЯВКА!I184=\"проектирование\",ЗАЯВКА!K184,0)","v":0},{"$f":"IF(ЗАЯВКА!I184=\"строительно-монтажные работы\",ЗАЯВКА!K184,0)","v":0},{"$f":"IF(ЗАЯВКА!N184=\"да\",ЗАЯВКА!K184,0)","v":0}]
[{"$f":"IF(ЗАЯВКА!I185=\"проектирование\",ЗАЯВКА!K185,0)","v":0},{"$f":"IF(ЗАЯВКА!I185=\"строительно-монтажные работы\",ЗАЯВКА!K185,0)","v":0},{"$f":"IF(ЗАЯВКА!N185=\"да\",ЗАЯВКА!K185,0)","v":0}]
[{"$f":"IF(ЗАЯВКА!I186=\"проектирование\",ЗАЯВКА!K186,0)","v":0},{"$f":"IF(ЗАЯВКА!I186=\"строительно-монтажные работы\",ЗАЯВКА!K186,0)","v":0},{"$f":"IF(ЗАЯВКА!N186=\"да\",ЗАЯВКА!K186,0)","v":0}]
[{"$f":"IF(ЗАЯВКА!I187=\"проектирование\",ЗАЯВКА!K187,0)","v":0},{"$f":"IF(ЗАЯВКА!I187=\"строительно-монтажные работы\",ЗАЯВКА!K187,0)","v":0},{"$f":"IF(ЗАЯВКА!N187=\"да\",ЗАЯВКА!K187,0)","v":0}]
[{"$f":"IF(ЗАЯВКА!I188=\"проектирование\",ЗАЯВКА!K188,0)","v":0},{"$f":"IF(ЗАЯВКА!I188=\"строительно-монтажные работы\",ЗАЯВКА!K188,0)","v":0},{"$f":"IF(ЗАЯВКА!N188=\"да\",ЗАЯВКА!K188,0)","v":0}]
[{"$f":"IF(ЗАЯВКА!I189=\"проектирование\",ЗАЯВКА!K189,0)","v":0},{"$f":"IF(ЗАЯВКА!I189=\"строительно-монтажные работы\",ЗАЯВКА!K189,0)","v":0},{"$f":"IF(ЗАЯВКА!N189=\"да\",ЗАЯВКА!K189,0)","v":0}]
[{"$f":"IF(ЗАЯВКА!I190=\"проектирование\",ЗАЯВКА!K190,0)","v":0},{"$f":"IF(ЗАЯВКА!I190=\"строительно-монтажные работы\",ЗАЯВКА!K190,0)","v":0},{"$f":"IF(ЗАЯВКА!N190=\"да\",ЗАЯВКА!K190,0)","v":0}]
[{"$f":"IF(ЗАЯВКА!I191=\"проектирование\",ЗАЯВКА!K191,0)","v":0},{"$f":"IF(ЗАЯВКА!I191=\"строительно-монтажные работы\",ЗАЯВКА!K191,0)","v":0},{"$f":"IF(ЗАЯВКА!N191=\"да\",ЗАЯВКА!K191,0)","v":0}]
[{"$f":"IF(ЗАЯВКА!I192=\"проектирование\",ЗАЯВКА!K192,0)","v":0},{"$f":"IF(ЗАЯВКА!I192=\"строительно-монтажные работы\",ЗАЯВКА!K192,0)","v":0},{"$f":"IF(ЗАЯВКА!N192=\"да\",ЗАЯВКА!K192,0)","v":0}]
[{"$f":"IF(ЗАЯВКА!I193=\"проектирование\",ЗАЯВКА!K193,0)","v":0},{"$f":"IF(ЗАЯВКА!I193=\"строительно-монтажные работы\",ЗАЯВКА!K193,0)","v":0},{"$f":"IF(ЗАЯВКА!N193=\"да\",ЗАЯВКА!K193,0)","v":0}]
[{"$f":"IF(ЗАЯВКА!I194=\"проектирование\",ЗАЯВКА!K194,0)","v":0},{"$f":"IF(ЗАЯВКА!I194=\"строительно-монтажные работы\",ЗАЯВКА!K194,0)","v":0},{"$f":"IF(ЗАЯВКА!N194=\"да\",ЗАЯВКА!K194,0)","v":0}]
[{"$f":"IF(ЗАЯВКА!I195=\"проектирование\",ЗАЯВКА!K195,0)","v":0},{"$f":"IF(ЗАЯВКА!I195=\"строительно-монтажные работы\",ЗАЯВКА!K195,0)","v":0},{"$f":"IF(ЗАЯВКА!N195=\"да\",ЗАЯВКА!K195,0)","v":0}]
[{"$f":"IF(ЗАЯВКА!I196=\"проектирование\",ЗАЯВКА!K196,0)","v":0},{"$f":"IF(ЗАЯВКА!I196=\"строительно-монтажные работы\",ЗАЯВКА!K196,0)","v":0},{"$f":"IF(ЗАЯВКА!N196=\"да\",ЗАЯВКА!K196,0)","v":0}]
[{"$f":"IF(ЗАЯВКА!I197=\"проектирование\",ЗАЯВКА!K197,0)","v":0},{"$f":"IF(ЗАЯВКА!I197=\"строительно-монтажные работы\",ЗАЯВКА!K197,0)","v":0},{"$f":"IF(ЗАЯВКА!N197=\"да\",ЗАЯВКА!K197,0)","v":0}]
[{"$f":"IF(ЗАЯВКА!I198=\"проектирование\",ЗАЯВКА!K198,0)","v":0},{"$f":"IF(ЗАЯВКА!I198=\"строительно-монтажные работы\",ЗАЯВКА!K198,0)","v":0},{"$f":"IF(ЗАЯВКА!N198=\"да\",ЗАЯВКА!K198,0)","v":0}]
[{"$f":"IF(ЗАЯВКА!I199=\"проектирование\",ЗАЯВКА!K199,0)","v":0},{"$f":"IF(ЗАЯВКА!I199=\"строительно-монтажные работы\",ЗАЯВКА!K199,0)","v":0},{"$f":"IF(ЗАЯВКА!N199=\"да\",ЗАЯВКА!K199,0)","v":0}]
[{"$f":"IF(ЗАЯВКА!I200=\"проектирование\",ЗАЯВКА!K200,0)","v":0},{"$f":"IF(ЗАЯВКА!I200=\"строительно-монтажные работы\",ЗАЯВКА!K200,0)","v":0},{"$f":"IF(ЗАЯВКА!N200=\"да\",ЗАЯВКА!K200,0)","v":0}]
[{"$f":"IF(ЗАЯВКА!I201=\"проектирование\",ЗАЯВКА!K201,0)","v":0},{"$f":"IF(ЗАЯВКА!I201=\"строительно-монтажные работы\",ЗАЯВКА!K201,0)","v":0},{"$f":"IF(ЗАЯВКА!N201=\"да\",ЗАЯВКА!K201,0)","v":0}]
[{"$f":"IF(ЗАЯВКА!I202=\"проектирование\",ЗАЯВКА!K202,0)","v":0},{"$f":"IF(ЗАЯВКА!I202=\"строительно-монтажные работы\",ЗАЯВКА!K202,0)","v":0},{"$f":"IF(ЗАЯВКА!N202=\"да\",ЗАЯВКА!K202,0)","v":0}]
[{"$f":"IF(ЗАЯВКА!I203=\"проектирование\",ЗАЯВКА!K203,0)","v":0},{"$f":"IF(ЗАЯВКА!I203=\"строительно-монтажные работы\",ЗАЯВКА!K203,0)","v":0},{"$f":"IF(ЗАЯВКА!N203=\"да\",ЗАЯВКА!K203,0)","v":0}]
[{"$f":"IF(ЗАЯВКА!I204=\"проектирование\",ЗАЯВКА!K204,0)","v":0},{"$f":"IF(ЗАЯВКА!I204=\"строительно-монтажные работы\",ЗАЯВКА!K204,0)","v":0},{"$f":"IF(ЗАЯВКА!N204=\"да\",ЗАЯВКА!K204,0)","v":0}]
[{"$f":"IF(ЗАЯВКА!I205=\"проектирование\",ЗАЯВКА!K205,0)","v":0},{"$f":"IF(ЗАЯВКА!I205=\"строительно-монтажные работы\",ЗАЯВКА!K205,0)","v":0},{"$f":"IF(ЗАЯВКА!N205=\"да\",ЗАЯВКА!K205,0)","v":0}]
[{"$f":"IF(ЗАЯВКА!I206=\"проектирование\",ЗАЯВКА!K206,0)","v":0},{"$f":"IF(ЗАЯВКА!I206=\"строительно-монтажные работы\",ЗАЯВКА!K206,0)","v":0},{"$f":"IF(ЗАЯВКА!N206=\"да\",ЗАЯВКА!K206,0)","v":0}]
[{"$f":"IF(ЗАЯВКА!I207=\"проектирование\",ЗАЯВКА!K207,0)","v":0},{"$f":"IF(ЗАЯВКА!I207=\"строительно-монтажные работы\",ЗАЯВКА!K207,0)","v":0},{"$f":"IF(ЗАЯВКА!N207=\"да\",ЗАЯВКА!K207,0)","v":0}]
[{"$f":"IF(ЗАЯВКА!I208=\"проектирование\",ЗАЯВКА!K208,0)","v":0},{"$f":"IF(ЗАЯВКА!I208=\"строительно-монтажные работы\",ЗАЯВКА!K208,0)","v":0},{"$f":"IF(ЗАЯВКА!N208=\"да\",ЗАЯВКА!K208,0)","v":0}]
[{"$f":"IF(ЗАЯВКА!I209=\"проектирование\",ЗАЯВКА!K209,0)","v":0},{"$f":"IF(ЗАЯВКА!I209=\"строительно-монтажные работы\",ЗАЯВКА!K209,0)","v":0},{"$f":"IF(ЗАЯВКА!N209=\"да\",ЗАЯВКА!K209,0)","v":0}]
[{"$f":"IF(ЗАЯВКА!I210=\"проектирование\",ЗАЯВКА!K210,0)","v":0},{"$f":"IF(ЗАЯВКА!I210=\"строительно-монтажные работы\",ЗАЯВКА!K210,0)","v":0},{"$f":"IF(ЗАЯВКА!N210=\"да\",ЗАЯВКА!K210,0)","v":0}]
[{"$f":"IF(ЗАЯВКА!I211=\"проектирование\",ЗАЯВКА!K211,0)","v":0},{"$f":"IF(ЗАЯВКА!I211=\"строительно-монтажные работы\",ЗАЯВКА!K211,0)","v":0},{"$f":"IF(ЗАЯВКА!N211=\"да\",ЗАЯВКА!K211,0)","v":0}]
[{"$f":"IF(ЗАЯВКА!I212=\"проектирование\",ЗАЯВКА!K212,0)","v":0},{"$f":"IF(ЗАЯВКА!I212=\"строительно-монтажные работы\",ЗАЯВКА!K212,0)","v":0},{"$f":"IF(ЗАЯВКА!N212=\"да\",ЗАЯВКА!K212,0)","v":0}]
[{"$f":"IF(ЗАЯВКА!I213=\"проектирование\",ЗАЯВКА!K213,0)","v":0},{"$f":"IF(ЗАЯВКА!I213=\"строительно-монтажные работы\",ЗАЯВКА!K213,0)","v":0},{"$f":"IF(ЗАЯВКА!N213=\"да\",ЗАЯВКА!K213,0)","v":0}]
[{"$f":"IF(ЗАЯВКА!I214=\"проектирование\",ЗАЯВКА!K214,0)","v":0},{"$f":"IF(ЗАЯВКА!I214=\"строительно-монтажные работы\",ЗАЯВКА!K214,0)","v":0},{"$f":"IF(ЗАЯВКА!N214=\"да\",ЗАЯВКА!K214,0)","v":0}]
[{"$f":"IF(ЗАЯВКА!I215=\"проектирование\",ЗАЯВКА!K215,0)","v":0},{"$f":"IF(ЗАЯВКА!I215=\"строительно-монтажные работы\",ЗАЯВКА!K215,0)","v":0},{"$f":"IF(ЗАЯВКА!N215=\"да\",ЗАЯВКА!K215,0)","v":0}]
[{"$f":"IF(ЗАЯВКА!I216=\"проектирование\",ЗАЯВКА!K216,0)","v":0},{"$f":"IF(ЗАЯВКА!I216=\"строительно-монтажные работы\",ЗАЯВКА!K216,0)","v":0},{"$f":"IF(ЗАЯВКА!N216=\"да\",ЗАЯВКА!K216,0)","v":0}]
[{"$f":"IF(ЗАЯВКА!I217=\"проектирование\",ЗАЯВКА!K217,0)","v":0},{"$f":"IF(ЗАЯВКА!I217=\"строительно-монтажные работы\",ЗАЯВКА!K217,0)","v":0},{"$f":"IF(ЗАЯВКА!N217=\"да\",ЗАЯВКА!K217,0)","v":0}]
[{"$f":"IF(ЗАЯВКА!I218=\"проектирование\",ЗАЯВКА!K218,0)","v":0},{"$f":"IF(ЗАЯВКА!I218=\"строительно-монтажные работы\",ЗАЯВКА!K218,0)","v":0},{"$f":"IF(ЗАЯВКА!N218=\"да\",ЗАЯВКА!K218,0)","v":0}]
[{"$f":"IF(ЗАЯВКА!I219=\"проектирование\",ЗАЯВКА!K219,0)","v":0},{"$f":"IF(ЗАЯВКА!I219=\"строительно-монтажные работы\",ЗАЯВКА!K219,0)","v":0},{"$f":"IF(ЗАЯВКА!N219=\"да\",ЗАЯВКА!K219,0)","v":0}]
[{"$f":"IF(ЗАЯВКА!I220=\"проектирование\",ЗАЯВКА!K220,0)","v":0},{"$f":"IF(ЗАЯВКА!I220=\"строительно-монтажные работы\",ЗАЯВКА!K220,0)","v":0},{"$f":"IF(ЗАЯВКА!N220=\"да\",ЗАЯВКА!K220,0)","v":0}]
[{"$f":"IF(ЗАЯВКА!I221=\"проектирование\",ЗАЯВКА!K221,0)","v":0},{"$f":"IF(ЗАЯВКА!I221=\"строительно-монтажные работы\",ЗАЯВКА!K221,0)","v":0},{"$f":"IF(ЗАЯВКА!N221=\"да\",ЗАЯВКА!K221,0)","v":0}]
[{"$f":"IF(ЗАЯВКА!I222=\"проектирование\",ЗАЯВКА!K222,0)","v":0},{"$f":"IF(ЗАЯВКА!I222=\"строительно-монтажные работы\",ЗАЯВКА!K222,0)","v":0},{"$f":"IF(ЗАЯВКА!N222=\"да\",ЗАЯВКА!K222,0)","v":0}]
[{"$f":"IF(ЗАЯВКА!I223=\"проектирование\",ЗАЯВКА!K223,0)","v":0},{"$f":"IF(ЗАЯВКА!I223=\"строительно-монтажные работы\",ЗАЯВКА!K223,0)","v":0},{"$f":"IF(ЗАЯВКА!N223=\"да\",ЗАЯВКА!K223,0)","v":0}]
[{"$f":"IF(ЗАЯВКА!I224=\"проектирование\",ЗАЯВКА!K224,0)","v":0},{"$f":"IF(ЗАЯВКА!I224=\"строительно-монтажные работы\",ЗАЯВКА!K224,0)","v":0},{"$f":"IF(ЗАЯВКА!N224=\"да\",ЗАЯВКА!K224,0)","v":0}]
[{"$f":"IF(ЗАЯВКА!I225=\"проектирование\",ЗАЯВКА!K225,0)","v":0},{"$f":"IF(ЗАЯВКА!I225=\"строительно-монтажные работы\",ЗАЯВКА!K225,0)","v":0},{"$f":"IF(ЗАЯВКА!N225=\"да\",ЗАЯВКА!K225,0)","v":0}]
[{"$f":"IF(ЗАЯВКА!I226=\"проектирование\",ЗАЯВКА!K226,0)","v":0},{"$f":"IF(ЗАЯВКА!I226=\"строительно-монтажные работы\",ЗАЯВКА!K226,0)","v":0},{"$f":"IF(ЗАЯВКА!N226=\"да\",ЗАЯВКА!K226,0)","v":0}]
[{"$f":"IF(ЗАЯВКА!I227=\"проектирование\",ЗАЯВКА!K227,0)","v":0},{"$f":"IF(ЗАЯВКА!I227=\"строительно-монтажные работы\",ЗАЯВКА!K227,0)","v":0},{"$f":"IF(ЗАЯВКА!N227=\"да\",ЗАЯВКА!K227,0)","v":0}]
[{"$f":"IF(ЗАЯВКА!I228=\"проектирование\",ЗАЯВКА!K228,0)","v":0},{"$f":"IF(ЗАЯВКА!I228=\"строительно-монтажные работы\",ЗАЯВКА!K228,0)","v":0},{"$f":"IF(ЗАЯВКА!N228=\"да\",ЗАЯВКА!K228,0)","v":0}]
[{"$f":"IF(ЗАЯВКА!I229=\"проектирование\",ЗАЯВКА!K229,0)","v":0},{"$f":"IF(ЗАЯВКА!I229=\"строительно-монтажные работы\",ЗАЯВКА!K229,0)","v":0},{"$f":"IF(ЗАЯВКА!N229=\"да\",ЗАЯВКА!K229,0)","v":0}]
[{"$f":"IF(ЗАЯВКА!I230=\"проектирование\",ЗАЯВКА!K230,0)","v":0},{"$f":"IF(ЗАЯВКА!I230=\"строительно-монтажные работы\",ЗАЯВКА!K230,0)","v":0},{"$f":"IF(ЗАЯВКА!N230=\"да\",ЗАЯВКА!K230,0)","v":0}]
[{"$f":"IF(ЗАЯВКА!I231=\"проектирование\",ЗАЯВКА!K231,0)","v":0},{"$f":"IF(ЗАЯВКА!I231=\"строительно-монтажные работы\",ЗАЯВКА!K231,0)","v":0},{"$f":"IF(ЗАЯВКА!N231=\"да\",ЗАЯВКА!K231,0)","v":0}]
[{"$f":"IF(ЗАЯВКА!I232=\"проектирование\",ЗАЯВКА!K232,0)","v":0},{"$f":"IF(ЗАЯВКА!I232=\"строительно-монтажные работы\",ЗАЯВКА!K232,0)","v":0},{"$f":"IF(ЗАЯВКА!N232=\"да\",ЗАЯВКА!K232,0)","v":0}]
[{"$f":"IF(ЗАЯВКА!I233=\"проектирование\",ЗАЯВКА!K233,0)","v":0},{"$f":"IF(ЗАЯВКА!I233=\"строительно-монтажные работы\",ЗАЯВКА!K233,0)","v":0},{"$f":"IF(ЗАЯВКА!N233=\"да\",ЗАЯВКА!K233,0)","v":0}]
[{"$f":"IF(ЗАЯВКА!I234=\"проектирование\",ЗАЯВКА!K234,0)","v":0},{"$f":"IF(ЗАЯВКА!I234=\"строительно-монтажные работы\",ЗАЯВКА!K234,0)","v":0},{"$f":"IF(ЗАЯВКА!N234=\"да\",ЗАЯВКА!K234,0)","v":0}]
[{"$f":"IF(ЗАЯВКА!I235=\"проектирование\",ЗАЯВКА!K235,0)","v":0},{"$f":"IF(ЗАЯВКА!I235=\"строительно-монтажные работы\",ЗАЯВКА!K235,0)","v":0},{"$f":"IF(ЗАЯВКА!N235=\"да\",ЗАЯВКА!K235,0)","v":0}]
[{"$f":"IF(ЗАЯВКА!I236=\"проектирование\",ЗАЯВКА!K236,0)","v":0},{"$f":"IF(ЗАЯВКА!I236=\"строительно-монтажные работы\",ЗАЯВКА!K236,0)","v":0},{"$f":"IF(ЗАЯВКА!N236=\"да\",ЗАЯВКА!K236,0)","v":0}]
[{"$f":"IF(ЗАЯВКА!#REF!=\"проектирование\",ЗАЯВКА!#REF!,0)","v":{"$error":"#REF!"}},{"$f":"IF(ЗАЯВКА!#REF!=\"строительно-монтажные работы\",ЗАЯВКА!#REF!,0)","v":{"$error":"#REF!"}},{"$f":"IF(ЗАЯВКА!#REF!=\"да\",ЗАЯВКА!#REF!,0)","v":{"$error":"#REF!"}}]
[{"$f":"IF(ЗАЯВКА!#REF!=\"проектирование\",ЗАЯВКА!#REF!,0)","v":{"$error":"#REF!"}},{"$f":"IF(ЗАЯВКА!#REF!=\"строительно-монтажные работы\",ЗАЯВКА!#REF!,0)","v":{"$error":"#REF!"}},{"$f":"IF(ЗАЯВКА!#REF!=\"да\",ЗАЯВКА!#REF!,0)","v":{"$error":"#REF!"}}]
[{"$f":"IF(ЗАЯВКА!I237=\"проектирование\",ЗАЯВКА!K237,0)","v":0},{"$f":"IF(ЗАЯВКА!I237=\"строительно-монтажные работы\",ЗАЯВКА!K237,0)","v":0},{"$f":"IF(ЗАЯВКА!N237=\"да\",ЗАЯВКА!K237,0)","v":0}]
[{"$f":"IF(ЗАЯВКА!I238=\"проектирование\",ЗАЯВКА!K238,0)","v":0},{"$f":"IF(ЗАЯВКА!I238=\"строительно-монтажные работы\",ЗАЯВКА!K238,0)","v":0},{"$f":"IF(ЗАЯВКА!N238=\"да\",ЗАЯВКА!K238,0)","v":0}]
[{"$f":"IF(ЗАЯВКА!I239=\"проектирование\",ЗАЯВКА!K239,0)","v":0},{"$f":"IF(ЗАЯВКА!I239=\"строительно-монтажные работы\",ЗАЯВКА!K239,0)","v":0},{"$f":"IF(ЗАЯВКА!N239=\"да\",ЗАЯВКА!K239,0)","v":0}]
[{"$f":"IF(ЗАЯВКА!I240=\"проектирование\",ЗАЯВКА!K240,0)","v":0},{"$f":"IF(ЗАЯВКА!I240=\"строительно-монтажные работы\",ЗАЯВКА!K240,0)","v":0},{"$f":"IF(ЗАЯВКА!N240=\"да\",ЗАЯВКА!K240,0)","v":0}]
[{"$f":"IF(ЗАЯВКА!I241=\"проектирование\",ЗАЯВКА!K241,0)","v":0},{"$f":"IF(ЗАЯВКА!I241=\"строительно-монтажные работы\",ЗАЯВКА!K241,0)","v":0},{"$f":"IF(ЗАЯВКА!N241=\"да\",ЗАЯВКА!K241,0)","v":0}]
[{"$f":"IF(ЗАЯВКА!I242=\"проектирование\",ЗАЯВКА!K242,0)","v":0},{"$f":"IF(ЗАЯВКА!I242=\"строительно-монтажные работы\",ЗАЯВКА!K242,0)","v":0},{"$f":"IF(ЗАЯВКА!N242=\"да\",ЗАЯВКА!K242,0)","v":0}]
[{"$f":"IF(ЗАЯВКА!I243=\"проектирование\",ЗАЯВКА!K243,0)","v":0},{"$f":"IF(ЗАЯВКА!I243=\"строительно-монтажные работы\",ЗАЯВКА!K243,0)","v":0},{"$f":"IF(ЗАЯВКА!N243=\"да\",ЗАЯВКА!K243,0)","v":0}]
[{"$f":"IF(ЗАЯВКА!I244=\"проектирование\",ЗАЯВКА!K244,0)","v":0},{"$f":"IF(ЗАЯВКА!I244=\"строительно-монтажные работы\",ЗАЯВКА!K244,0)","v":0},{"$f":"IF(ЗАЯВКА!N244=\"да\",ЗАЯВКА!K244,0)","v":0}]
[{"$f":"IF(ЗАЯВКА!I245=\"проектирование\",ЗАЯВКА!K245,0)","v":0},{"$f":"IF(ЗАЯВКА!I245=\"строительно-монтажные работы\",ЗАЯВКА!K245,0)","v":0},{"$f":"IF(ЗАЯВКА!N245=\"да\",ЗАЯВКА!K245,0)","v":0}]
[{"$f":"IF(ЗАЯВКА!I246=\"проектирование\",ЗАЯВКА!K246,0)","v":0},{"$f":"IF(ЗАЯВКА!I246=\"строительно-монтажные работы\",ЗАЯВКА!K246,0)","v":0},{"$f":"IF(ЗАЯВКА!N246=\"да\",ЗАЯВКА!K246,0)","v":0}]
[{"$f":"IF(ЗАЯВКА!I247=\"проектирование\",ЗАЯВКА!K247,0)","v":0},{"$f":"IF(ЗАЯВКА!I247=\"строительно-монтажные работы\",ЗАЯВКА!K247,0)","v":0},{"$f":"IF(ЗАЯВКА!N247=\"да\",ЗАЯВКА!K247,0)","v":0}]
[{"$f":"IF(ЗАЯВКА!I248=\"проектирование\",ЗАЯВКА!K248,0)","v":0},{"$f":"IF(ЗАЯВКА!I248=\"строительно-монтажные работы\",ЗАЯВКА!K248,0)","v":0},{"$f":"IF(ЗАЯВКА!N248=\"да\",ЗАЯВКА!K248,0)","v":0}]
[{"$f":"IF(ЗАЯВКА!I249=\"проектирование\",ЗАЯВКА!K249,0)","v":0},{"$f":"IF(ЗАЯВКА!I249=\"строительно-монтажные работы\",ЗАЯВКА!K249,0)","v":0},{"$f":"IF(ЗАЯВКА!N249=\"да\",ЗАЯВКА!K249,0)","v":0}]
[{"$f":"IF(ЗАЯВКА!I250=\"проектирование\",ЗАЯВКА!K250,0)","v":0},{"$f":"IF(ЗАЯВКА!I250=\"строительно-монтажные работы\",ЗАЯВКА!K250,0)","v":0},{"$f":"IF(ЗАЯВКА!N250=\"да\",ЗАЯВКА!K250,0)","v":0}]
[{"$f":"IF(ЗАЯВКА!I251=\"проектирование\",ЗАЯВКА!K251,0)","v":0},{"$f":"IF(ЗАЯВКА!I251=\"строительно-монтажные работы\",ЗАЯВКА!K251,0)","v":0},{"$f":"IF(ЗАЯВКА!N251=\"да\",ЗАЯВКА!K251,0)","v":0}]
[{"$f":"IF(ЗАЯВКА!I252=\"проектирование\",ЗАЯВКА!K252,0)","v":0},{"$f":"IF(ЗАЯВКА!I252=\"строительно-монтажные работы\",ЗАЯВКА!K252,0)","v":0},{"$f":"IF(ЗАЯВКА!N252=\"да\",ЗАЯВКА!K252,0)","v":0}]
[{"$f":"IF(ЗАЯВКА!I253=\"проектирование\",ЗАЯВКА!K253,0)","v":0},{"$f":"IF(ЗАЯВКА!I253=\"строительно-монтажные работы\",ЗАЯВКА!K253,0)","v":0},{"$f":"IF(ЗАЯВКА!N253=\"да\",ЗАЯВКА!K253,0)","v":0}]
[{"$f":"IF(ЗАЯВКА!I254=\"проектирование\",ЗАЯВКА!K254,0)","v":0},{"$f":"IF(ЗАЯВКА!I254=\"строительно-монтажные работы\",ЗАЯВКА!K254,0)","v":0},{"$f":"IF(ЗАЯВКА!N254=\"да\",ЗАЯВКА!K254,0)","v":0}]
[{"$f":"IF(ЗАЯВКА!I255=\"проектирование\",ЗАЯВКА!K255,0)","v":0},{"$f":"IF(ЗАЯВКА!I255=\"строительно-монтажные работы\",ЗАЯВКА!K255,0)","v":0},{"$f":"IF(ЗАЯВКА!N255=\"да\",ЗАЯВКА!K255,0)","v":0}]
[{"$f":"IF(ЗАЯВКА!I256=\"проектирование\",ЗАЯВКА!K256,0)","v":0},{"$f":"IF(ЗАЯВКА!I256=\"строительно-монтажные работы\",ЗАЯВКА!K256,0)","v":0},{"$f":"IF(ЗАЯВКА!N256=\"да\",ЗАЯВКА!K256,0)","v":0}]
[{"$f":"IF(ЗАЯВКА!I257=\"проектирование\",ЗАЯВКА!K257,0)","v":0},{"$f":"IF(ЗАЯВКА!I257=\"строительно-монтажные работы\",ЗАЯВКА!K257,0)","v":0},{"$f":"IF(ЗАЯВКА!N257=\"да\",ЗАЯВКА!K257,0)","v":0}]
[{"$f":"IF(ЗАЯВКА!I258=\"проектирование\",ЗАЯВКА!K258,0)","v":0},{"$f":"IF(ЗАЯВКА!I258=\"строительно-монтажные работы\",ЗАЯВКА!K258,0)","v":0},{"$f":"IF(ЗАЯВКА!N258=\"да\",ЗАЯВКА!K258,0)","v":0}]
[{"$f":"IF(ЗАЯВКА!I259=\"проектирование\",ЗАЯВКА!K259,0)","v":0},{"$f":"IF(ЗАЯВКА!I259=\"строительно-монтажные работы\",ЗАЯВКА!K259,0)","v":0},{"$f":"IF(ЗАЯВКА!N259=\"да\",ЗАЯВКА!K259,0)","v":0}]
[{"$f":"IF(ЗАЯВКА!I260=\"проектирование\",ЗАЯВКА!K260,0)","v":0},{"$f":"IF(ЗАЯВКА!I260=\"строительно-монтажные работы\",ЗАЯВКА!K260,0)","v":0},{"$f":"IF(ЗАЯВКА!N260=\"да\",ЗАЯВКА!K260,0)","v":0}]
[{"$f":"IF(ЗАЯВКА!I261=\"проектирование\",ЗАЯВКА!K261,0)","v":0},{"$f":"IF(ЗАЯВКА!I261=\"строительно-монтажные работы\",ЗАЯВКА!K261,0)","v":0},{"$f":"IF(ЗАЯВКА!N261=\"да\",ЗАЯВКА!K261,0)","v":0}]
[{"$f":"IF(ЗАЯВКА!I262=\"проектирование\",ЗАЯВКА!K262,0)","v":0},{"$f":"IF(ЗАЯВКА!I262=\"строительно-монтажные работы\",ЗАЯВКА!K262,0)","v":0},{"$f":"IF(ЗАЯВКА!N262=\"да\",ЗАЯВКА!K262,0)","v":0}]
[{"$f":"IF(ЗАЯВКА!I263=\"проектирование\",ЗАЯВКА!K263,0)","v":0},{"$f":"IF(ЗАЯВКА!I263=\"строительно-монтажные работы\",ЗАЯВКА!K263,0)","v":0},{"$f":"IF(ЗАЯВКА!N263=\"да\",ЗАЯВКА!K263,0)","v":0}]
[{"$f":"IF(ЗАЯВКА!I264=\"проектирование\",ЗАЯВКА!K264,0)","v":0},{"$f":"IF(ЗАЯВКА!I264=\"строительно-монтажные работы\",ЗАЯВКА!K264,0)","v":0},{"$f":"IF(ЗАЯВКА!N264=\"да\",ЗАЯВКА!K264,0)","v":0}]
[{"$f":"IF(ЗАЯВКА!I265=\"проектирование\",ЗАЯВКА!K265,0)","v":0},{"$f":"IF(ЗАЯВКА!I265=\"строительно-монтажные работы\",ЗАЯВКА!K265,0)","v":0},{"$f":"IF(ЗАЯВКА!N265=\"да\",ЗАЯВКА!K265,0)","v":0}]
[{"$f":"IF(ЗАЯВКА!I266=\"проектирование\",ЗАЯВКА!K266,0)","v":0},{"$f":"IF(ЗАЯВКА!I266=\"строительно-монтажные работы\",ЗАЯВКА!K266,0)","v":0},{"$f":"IF(ЗАЯВКА!N266=\"да\",ЗАЯВКА!K266,0)","v":0}]
[{"$f":"IF(ЗАЯВКА!I267=\"проектирование\",ЗАЯВКА!K267,0)","v":0},{"$f":"IF(ЗАЯВКА!I267=\"строительно-монтажные работы\",ЗАЯВКА!K267,0)","v":0},{"$f":"IF(ЗАЯВКА!N267=\"да\",ЗАЯВКА!K267,0)","v":0}]
[{"$f":"IF(ЗАЯВКА!I268=\"проектирование\",ЗАЯВКА!K268,0)","v":0},{"$f":"IF(ЗАЯВКА!I268=\"строительно-монтажные работы\",ЗАЯВКА!K268,0)","v":0},{"$f":"IF(ЗАЯВКА!N268=\"да\",ЗАЯВКА!K268,0)","v":0}]
[{"$f":"IF(ЗАЯВКА!I269=\"проектирование\",ЗАЯВКА!K269,0)","v":0},{"$f":"IF(ЗАЯВКА!I269=\"строительно-монтажные работы\",ЗАЯВКА!K269,0)","v":0},{"$f":"IF(ЗАЯВКА!N269=\"да\",ЗАЯВКА!K269,0)","v":0}]
[{"$f":"IF(ЗАЯВКА!I270=\"проектирование\",ЗАЯВКА!K270,0)","v":0},{"$f":"IF(ЗАЯВКА!I270=\"строительно-монтажные работы\",ЗАЯВКА!K270,0)","v":0},{"$f":"IF(ЗАЯВКА!N270=\"да\",ЗАЯВКА!K270,0)","v":0}]
[{"$f":"IF(ЗАЯВКА!I271=\"проектирование\",ЗАЯВКА!K271,0)","v":0},{"$f":"IF(ЗАЯВКА!I271=\"строительно-монтажные работы\",ЗАЯВКА!K271,0)","v":0},{"$f":"IF(ЗАЯВКА!N271=\"да\",ЗАЯВКА!K271,0)","v":0}]
[{"$f":"IF(ЗАЯВКА!I272=\"проектирование\",ЗАЯВКА!K272,0)","v":0},{"$f":"IF(ЗАЯВКА!I272=\"строительно-монтажные работы\",ЗАЯВКА!K272,0)","v":0},{"$f":"IF(ЗАЯВКА!N272=\"да\",ЗАЯВКА!K272,0)","v":0}]
[{"$f":"IF(ЗАЯВКА!I273=\"проектирование\",ЗАЯВКА!K273,0)","v":0},{"$f":"IF(ЗАЯВКА!I273=\"строительно-монтажные работы\",ЗАЯВКА!K273,0)","v":0},{"$f":"IF(ЗАЯВКА!N273=\"да\",ЗАЯВКА!K273,0)","v":0}]
[{"$f":"IF(ЗАЯВКА!I274=\"проектирование\",ЗАЯВКА!K274,0)","v":0},{"$f":"IF(ЗАЯВКА!I274=\"строительно-монтажные работы\",ЗАЯВКА!K274,0)","v":0},{"$f":"IF(ЗАЯВКА!N274=\"да\",ЗАЯВКА!K274,0)","v":0}]
[{"$f":"IF(ЗАЯВКА!I275=\"проектирование\",ЗАЯВКА!K275,0)","v":0},{"$f":"IF(ЗАЯВКА!I275=\"строительно-монтажные работы\",ЗАЯВКА!K275,0)","v":0},{"$f":"IF(ЗАЯВКА!N275=\"да\",ЗАЯВКА!K275,0)","v":0}]
[{"$f":"IF(ЗАЯВКА!I276=\"проектирование\",ЗАЯВКА!K276,0)","v":0},{"$f":"IF(ЗАЯВКА!I276=\"строительно-монтажные работы\",ЗАЯВКА!K276,0)","v":0},{"$f":"IF(ЗАЯВКА!N276=\"да\",ЗАЯВКА!K276,0)","v":0}]
[{"$f":"IF(ЗАЯВКА!I277=\"проектирование\",ЗАЯВКА!K277,0)","v":0},{"$f":"IF(ЗАЯВКА!I277=\"строительно-монтажные работы\",ЗАЯВКА!K277,0)","v":0},{"$f":"IF(ЗАЯВКА!N277=\"да\",ЗАЯВКА!K277,0)","v":0}]
[{"$f":"IF(ЗАЯВКА!I278=\"проектирование\",ЗАЯВКА!K278,0)","v":0},{"$f":"IF(ЗАЯВКА!I278=\"строительно-монтажные работы\",ЗАЯВКА!K278,0)","v":0},{"$f":"IF(ЗАЯВКА!N278=\"да\",ЗАЯВКА!K278,0)","v":0}]
[{"$f":"IF(ЗАЯВКА!I279=\"проектирование\",ЗАЯВКА!K279,0)","v":0},{"$f":"IF(ЗАЯВКА!I279=\"строительно-монтажные работы\",ЗАЯВКА!K279,0)","v":0},{"$f":"IF(ЗАЯВКА!N279=\"да\",ЗАЯВКА!K279,0)","v":0}]
[{"$f":"IF(ЗАЯВКА!I280=\"проектирование\",ЗАЯВКА!K280,0)","v":0},{"$f":"IF(ЗАЯВКА!I280=\"строительно-монтажные работы\",ЗАЯВКА!K280,0)","v":0},{"$f":"IF(ЗАЯВКА!N280=\"да\",ЗАЯВКА!K280,0)","v":0}]
[{"$f":"IF(ЗАЯВКА!I281=\"проектирование\",ЗАЯВКА!K281,0)","v":0},{"$f":"IF(ЗАЯВКА!I281=\"строительно-монтажные работы\",ЗАЯВКА!K281,0)","v":0},{"$f":"IF(ЗАЯВКА!N281=\"да\",ЗАЯВКА!K281,0)","v":0}]
[{"$f":"IF(ЗАЯВКА!I282=\"проектирование\",ЗАЯВКА!K282,0)","v":0},{"$f":"IF(ЗАЯВКА!I282=\"строительно-монтажные работы\",ЗАЯВКА!K282,0)","v":0},{"$f":"IF(ЗАЯВКА!N282=\"да\",ЗАЯВКА!K282,0)","v":0}]
[{"$f":"IF(ЗАЯВКА!I283=\"проектирование\",ЗАЯВКА!K283,0)","v":0},{"$f":"IF(ЗАЯВКА!I283=\"строительно-монтажные работы\",ЗАЯВКА!K283,0)","v":0},{"$f":"IF(ЗАЯВКА!N283=\"да\",ЗАЯВКА!K283,0)","v":0}]
[{"$f":"IF(ЗАЯВКА!I284=\"проектирование\",ЗАЯВКА!K284,0)","v":0},{"$f":"IF(ЗАЯВКА!I284=\"строительно-монтажные работы\",ЗАЯВКА!K284,0)","v":0},{"$f":"IF(ЗАЯВКА!N284=\"да\",ЗАЯВКА!K284,0)","v":0}]
[{"$f":"IF(ЗАЯВКА!I285=\"проектирование\",ЗАЯВКА!K285,0)","v":0},{"$f":"IF(ЗАЯВКА!I285=\"строительно-монтажные работы\",ЗАЯВКА!K285,0)","v":0},{"$f":"IF(ЗАЯВКА!N285=\"да\",ЗАЯВКА!K285,0)","v":0}]
[{"$f":"IF(ЗАЯВКА!I286=\"проектирование\",ЗАЯВКА!K286,0)","v":0},{"$f":"IF(ЗАЯВКА!I286=\"строительно-монтажные работы\",ЗАЯВКА!K286,0)","v":0},{"$f":"IF(ЗАЯВКА!N286=\"да\",ЗАЯВКА!K286,0)","v":0}]
[{"$f":"IF(ЗАЯВКА!I287=\"проектирование\",ЗАЯВКА!K287,0)","v":0},{"$f":"IF(ЗАЯВКА!I287=\"строительно-монтажные работы\",ЗАЯВКА!K287,0)","v":0},{"$f":"IF(ЗАЯВКА!N287=\"да\",ЗАЯВКА!K287,0)","v":0}]
[{"$f":"IF(ЗАЯВКА!I288=\"проектирование\",ЗАЯВКА!K288,0)","v":0},{"$f":"IF(ЗАЯВКА!I288=\"строительно-монтажные работы\",ЗАЯВКА!K288,0)","v":0},{"$f":"IF(ЗАЯВКА!N288=\"да\",ЗАЯВКА!K288,0)","v":0}]
[{"$f":"IF(ЗАЯВКА!I289=\"проектирование\",ЗАЯВКА!K289,0)","v":0},{"$f":"IF(ЗАЯВКА!I289=\"строительно-монтажные работы\",ЗАЯВКА!K289,0)","v":0},{"$f":"IF(ЗАЯВКА!N289=\"да\",ЗАЯВКА!K289,0)","v":0}]
[{"$f":"IF(ЗАЯВКА!I290=\"проектирование\",ЗАЯВКА!K290,0)","v":0},{"$f":"IF(ЗАЯВКА!I290=\"строительно-монтажные работы\",ЗАЯВКА!K290,0)","v":0},{"$f":"IF(ЗАЯВКА!N290=\"да\",ЗАЯВКА!K290,0)","v":0}]
[{"$f":"IF(ЗАЯВКА!I291=\"проектирование\",ЗАЯВКА!K291,0)","v":0},{"$f":"IF(ЗАЯВКА!I291=\"строительно-монтажные работы\",ЗАЯВКА!K291,0)","v":0},{"$f":"IF(ЗАЯВКА!N291=\"да\",ЗАЯВКА!K291,0)","v":0}]
[{"$f":"IF(ЗАЯВКА!I292=\"проектирование\",ЗАЯВКА!K292,0)","v":0},{"$f":"IF(ЗАЯВКА!I292=\"строительно-монтажные работы\",ЗАЯВКА!K292,0)","v":0},{"$f":"IF(ЗАЯВКА!N292=\"да\",ЗАЯВКА!K292,0)","v":0}]
[{"$f":"IF(ЗАЯВКА!I293=\"проектирование\",ЗАЯВКА!K293,0)","v":0},{"$f":"IF(ЗАЯВКА!I293=\"строительно-монтажные работы\",ЗАЯВКА!K293,0)","v":0},{"$f":"IF(ЗАЯВКА!N293=\"да\",ЗАЯВКА!K293,0)","v":0}]
[{"$f":"IF(ЗАЯВКА!I294=\"проектирование\",ЗАЯВКА!K294,0)","v":0},{"$f":"IF(ЗАЯВКА!I294=\"строительно-монтажные работы\",ЗАЯВКА!K294,0)","v":0},{"$f":"IF(ЗАЯВКА!N294=\"да\",ЗАЯВКА!K294,0)","v":0}]
[{"$f":"IF(ЗАЯВКА!I295=\"проектирование\",ЗАЯВКА!K295,0)","v":0},{"$f":"IF(ЗАЯВКА!I295=\"строительно-монтажные работы\",ЗАЯВКА!K295,0)","v":0},{"$f":"IF(ЗАЯВКА!N295=\"да\",ЗАЯВКА!K295,0)","v":0}]
[{"$f":"IF(ЗАЯВКА!I296=\"проектирование\",ЗАЯВКА!K296,0)","v":0},{"$f":"IF(ЗАЯВКА!I296=\"строительно-монтажные работы\",ЗАЯВКА!K296,0)","v":0},{"$f":"IF(ЗАЯВКА!N296=\"да\",ЗАЯВКА!K296,0)","v":0}]
[{"$f":"IF(ЗАЯВКА!I297=\"проектирование\",ЗАЯВКА!K297,0)","v":0},{"$f":"IF(ЗАЯВКА!I297=\"строительно-монтажные работы\",ЗАЯВКА!K297,0)","v":0},{"$f":"IF(ЗАЯВКА!N297=\"да\",ЗАЯВКА!K297,0)","v":0}]
[{"$f":"IF(ЗАЯВКА!I298=\"проектирование\",ЗАЯВКА!K298,0)","v":0},{"$f":"IF(ЗАЯВКА!I298=\"строительно-монтажные работы\",ЗАЯВКА!K298,0)","v":0},{"$f":"IF(ЗАЯВКА!N298=\"да\",ЗАЯВКА!K298,0)","v":0}]
[{"$f":"IF(ЗАЯВКА!I299=\"проектирование\",ЗАЯВКА!K299,0)","v":0},{"$f":"IF(ЗАЯВКА!I299=\"строительно-монтажные работы\",ЗАЯВКА!K299,0)","v":0},{"$f":"IF(ЗАЯВКА!N299=\"да\",ЗАЯВКА!K299,0)","v":0}]
[{"$f":"IF(ЗАЯВКА!I300=\"проектирование\",ЗАЯВКА!K300,0)","v":0},{"$f":"IF(ЗАЯВКА!I300=\"строительно-монтажные работы\",ЗАЯВКА!K300,0)","v":0},{"$f":"IF(ЗАЯВКА!N300=\"да\",ЗАЯВКА!K300,0)","v":0}]
[{"$f":"IF(ЗАЯВКА!I301=\"проектирование\",ЗАЯВКА!K301,0)","v":0},{"$f":"IF(ЗАЯВКА!I301=\"строительно-монтажные работы\",ЗАЯВКА!K301,0)","v":0},{"$f":"IF(ЗАЯВКА!N301=\"да\",ЗАЯВКА!K301,0)","v":0}]
[{"$f":"IF(ЗАЯВКА!I302=\"проектирование\",ЗАЯВКА!K302,0)","v":0},{"$f":"IF(ЗАЯВКА!I302=\"строительно-монтажные работы\",ЗАЯВКА!K302,0)","v":0},{"$f":"IF(ЗАЯВКА!N302=\"да\",ЗАЯВКА!K302,0)","v":0}]
[{"$f":"IF(ЗАЯВКА!I303=\"проектирование\",ЗАЯВКА!K303,0)","v":0},{"$f":"IF(ЗАЯВКА!I303=\"строительно-монтажные работы\",ЗАЯВКА!K303,0)","v":0},{"$f":"IF(ЗАЯВКА!N303=\"да\",ЗАЯВКА!K303,0)","v":0}]
[{"$f":"IF(ЗАЯВКА!I304=\"проектирование\",ЗАЯВКА!K304,0)","v":0},{"$f":"IF(ЗАЯВКА!I304=\"строительно-монтажные работы\",ЗАЯВКА!K304,0)","v":0},{"$f":"IF(ЗАЯВКА!N304=\"да\",ЗАЯВКА!K304,0)","v":0}]
[{"$f":"IF(ЗАЯВКА!I305=\"проектирование\",ЗАЯВКА!K305,0)","v":0},{"$f":"IF(ЗАЯВКА!I305=\"строительно-монтажные работы\",ЗАЯВКА!K305,0)","v":0},{"$f":"IF(ЗАЯВКА!N305=\"да\",ЗАЯВКА!K305,0)","v":0}]
[{"$f":"IF(ЗАЯВКА!I306=\"проектирование\",ЗАЯВКА!K306,0)","v":0},{"$f":"IF(ЗАЯВКА!I306=\"строительно-монтажные работы\",ЗАЯВКА!K306,0)","v":0},{"$f":"IF(ЗАЯВКА!N306=\"да\",ЗАЯВКА!K306,0)","v":0}]
[{"$f":"IF(ЗАЯВКА!I307=\"проектирование\",ЗАЯВКА!K307,0)","v":0},{"$f":"IF(ЗАЯВКА!I307=\"строительно-монтажные работы\",ЗАЯВКА!K307,0)","v":0},{"$f":"IF(ЗАЯВКА!N307=\"да\",ЗАЯВКА!K307,0)","v":0}]
[{"$f":"IF(ЗАЯВКА!I308=\"проектирование\",ЗАЯВКА!K308,0)","v":0},{"$f":"IF(ЗАЯВКА!I308=\"строительно-монтажные работы\",ЗАЯВКА!K308,0)","v":0},{"$f":"IF(ЗАЯВКА!N308=\"да\",ЗАЯВКА!K308,0)","v":0}]
[{"$f":"IF(ЗАЯВКА!I309=\"проектирование\",ЗАЯВКА!K309,0)","v":0},{"$f":"IF(ЗАЯВКА!I309=\"строительно-монтажные работы\",ЗАЯВКА!K309,0)","v":0},{"$f":"IF(ЗАЯВКА!N309=\"да\",ЗАЯВКА!K309,0)","v":0}]
[{"$f":"IF(ЗАЯВКА!I310=\"проектирование\",ЗАЯВКА!K310,0)","v":0},{"$f":"IF(ЗАЯВКА!I310=\"строительно-монтажные работы\",ЗАЯВКА!K310,0)","v":0},{"$f":"IF(ЗАЯВКА!N310=\"да\",ЗАЯВКА!K310,0)","v":0}]
[{"$f":"IF(ЗАЯВКА!I311=\"проектирование\",ЗАЯВКА!K311,0)","v":0},{"$f":"IF(ЗАЯВКА!I311=\"строительно-монтажные работы\",ЗАЯВКА!K311,0)","v":0},{"$f":"IF(ЗАЯВКА!N311=\"да\",ЗАЯВКА!K311,0)","v":0}]
[{"$f":"IF(ЗАЯВКА!I312=\"проектирование\",ЗАЯВКА!K312,0)","v":0},{"$f":"IF(ЗАЯВКА!I312=\"строительно-монтажные работы\",ЗАЯВКА!K312,0)","v":0},{"$f":"IF(ЗАЯВКА!N312=\"да\",ЗАЯВКА!K312,0)","v":0}]
[{"$f":"IF(ЗАЯВКА!I313=\"проектирование\",ЗАЯВКА!K313,0)","v":0},{"$f":"IF(ЗАЯВКА!I313=\"строительно-монтажные работы\",ЗАЯВКА!K313,0)","v":0},{"$f":"IF(ЗАЯВКА!N313=\"да\",ЗАЯВКА!K313,0)","v":0}]
[{"$f":"IF(ЗАЯВКА!I314=\"проектирование\",ЗАЯВКА!K314,0)","v":0},{"$f":"IF(ЗАЯВКА!I314=\"строительно-монтажные работы\",ЗАЯВКА!K314,0)","v":0},{"$f":"IF(ЗАЯВКА!N314=\"да\",ЗАЯВКА!K314,0)","v":0}]
[{"$f":"IF(ЗАЯВКА!I315=\"проектирование\",ЗАЯВКА!K315,0)","v":0},{"$f":"IF(ЗАЯВКА!I315=\"строительно-монтажные работы\",ЗАЯВКА!K315,0)","v":0},{"$f":"IF(ЗАЯВКА!N315=\"да\",ЗАЯВКА!K315,0)","v":0}]
[{"$f":"IF(ЗАЯВКА!I316=\"проектирование\",ЗАЯВКА!K316,0)","v":0},{"$f":"IF(ЗАЯВКА!I316=\"строительно-монтажные работы\",ЗАЯВКА!K316,0)","v":0},{"$f":"IF(ЗАЯВКА!N316=\"да\",ЗАЯВКА!K316,0)","v":0}]
[{"$f":"IF(ЗАЯВКА!I317=\"проектирование\",ЗАЯВКА!K317,0)","v":0},{"$f":"IF(ЗАЯВКА!I317=\"строительно-монтажные работы\",ЗАЯВКА!K317,0)","v":0},{"$f":"IF(ЗАЯВКА!N317=\"да\",ЗАЯВКА!K317,0)","v":0}]
[{"$f":"IF(ЗАЯВКА!I318=\"проектирование\",ЗАЯВКА!K318,0)","v":0},{"$f":"IF(ЗАЯВКА!I318=\"строительно-монтажные работы\",ЗАЯВКА!K318,0)","v":0},{"$f":"IF(ЗАЯВКА!N318=\"да\",ЗАЯВКА!K318,0)","v":0}]
[{"$f":"IF(ЗАЯВКА!I319=\"проектирование\",ЗАЯВКА!K319,0)","v":0},{"$f":"IF(ЗАЯВКА!I319=\"строительно-монтажные работы\",ЗАЯВКА!K319,0)","v":0},{"$f":"IF(ЗАЯВКА!N319=\"да\",ЗАЯВКА!K319,0)","v":0}]
[{"$f":"IF(ЗАЯВКА!I320=\"проектирование\",ЗАЯВКА!K320,0)","v":0},{"$f":"IF(ЗАЯВКА!I320=\"строительно-монтажные работы\",ЗАЯВКА!K320,0)","v":0},{"$f":"IF(ЗАЯВКА!N320=\"да\",ЗАЯВКА!K320,0)","v":0}]
[{"$f":"IF(ЗАЯВКА!I321=\"проектирование\",ЗАЯВКА!K321,0)","v":0},{"$f":"IF(ЗАЯВКА!I321=\"строительно-монтажные работы\",ЗАЯВКА!K321,0)","v":0},{"$f":"IF(ЗАЯВКА!N321=\"да\",ЗАЯВКА!K321,0)","v":0}]
[{"$f":"IF(ЗАЯВКА!I322=\"проектирование\",ЗАЯВКА!K322,0)","v":0},{"$f":"IF(ЗАЯВКА!I322=\"строительно-монтажные работы\",ЗАЯВКА!K322,0)","v":0},{"$f":"IF(ЗАЯВКА!N322=\"да\",ЗАЯВКА!K322,0)","v":0}]
[{"$f":"IF(ЗАЯВКА!I323=\"проектирование\",ЗАЯВКА!K323,0)","v":0},{"$f":"IF(ЗАЯВКА!I323=\"строительно-монтажные работы\",ЗАЯВКА!K323,0)","v":0},{"$f":"IF(ЗАЯВКА!N323=\"да\",ЗАЯВКА!K323,0)","v":0}]
[{"$f":"IF(ЗАЯВКА!I324=\"проектирование\",ЗАЯВКА!K324,0)","v":0},{"$f":"IF(ЗАЯВКА!I324=\"строительно-монтажные работы\",ЗАЯВКА!K324,0)","v":0},{"$f":"IF(ЗАЯВКА!N324=\"да\",ЗАЯВКА!K324,0)","v":0}]
[{"$f":"IF(ЗАЯВКА!I325=\"проектирование\",ЗАЯВКА!K325,0)","v":0},{"$f":"IF(ЗАЯВКА!I325=\"строительно-монтажные работы\",ЗАЯВКА!K325,0)","v":0},{"$f":"IF(ЗАЯВКА!N325=\"да\",ЗАЯВКА!K325,0)","v":0}]
[{"$f":"IF(ЗАЯВКА!I326=\"проектирование\",ЗАЯВКА!K326,0)","v":0},{"$f":"IF(ЗАЯВКА!I326=\"строительно-монтажные работы\",ЗАЯВКА!K326,0)","v":0},{"$f":"IF(ЗАЯВКА!N326=\"да\",ЗАЯВКА!K326,0)","v":0}]
[{"$f":"IF(ЗАЯВКА!I327=\"проектирование\",ЗАЯВКА!K327,0)","v":0},{"$f":"IF(ЗАЯВКА!I327=\"строительно-монтажные работы\",ЗАЯВКА!K327,0)","v":0},{"$f":"IF(ЗАЯВКА!N327=\"да\",ЗАЯВКА!K327,0)","v":0}]
[{"$f":"IF(ЗАЯВКА!I328=\"проектирование\",ЗАЯВКА!K328,0)","v":0},{"$f":"IF(ЗАЯВКА!I328=\"строительно-монтажные работы\",ЗАЯВКА!K328,0)","v":0},{"$f":"IF(ЗАЯВКА!N328=\"да\",ЗАЯВКА!K328,0)","v":0}]
[{"$f":"IF(ЗАЯВКА!I329=\"проектирование\",ЗАЯВКА!K329,0)","v":0},{"$f":"IF(ЗАЯВКА!I329=\"строительно-монтажные работы\",ЗАЯВКА!K329,0)","v":0},{"$f":"IF(ЗАЯВКА!N329=\"да\",ЗАЯВКА!K329,0)","v":0}]
[{"$f":"IF(ЗАЯВКА!I330=\"проектирование\",ЗАЯВКА!K330,0)","v":0},{"$f":"IF(ЗАЯВКА!I330=\"строительно-монтажные работы\",ЗАЯВКА!K330,0)","v":0},{"$f":"IF(ЗАЯВКА!N330=\"да\",ЗАЯВКА!K330,0)","v":0}]
[{"$f":"IF(ЗАЯВКА!I331=\"проектирование\",ЗАЯВКА!K331,0)","v":0},{"$f":"IF(ЗАЯВКА!I331=\"строительно-монтажные работы\",ЗАЯВКА!K331,0)","v":0},{"$f":"IF(ЗАЯВКА!N331=\"да\",ЗАЯВКА!K331,0)","v":0}]
[{"$f":"IF(ЗАЯВКА!I332=\"проектирование\",ЗАЯВКА!K332,0)","v":0},{"$f":"IF(ЗАЯВКА!I332=\"строительно-монтажные работы\",ЗАЯВКА!K332,0)","v":0},{"$f":"IF(ЗАЯВКА!N332=\"да\",ЗАЯВКА!K332,0)","v":0}]
[{"$f":"IF(ЗАЯВКА!I333=\"проектирование\",ЗАЯВКА!K333,0)","v":0},{"$f":"IF(ЗАЯВКА!I333=\"строительно-монтажные работы\",ЗАЯВКА!K333,0)","v":0},{"$f":"IF(ЗАЯВКА!N333=\"да\",ЗАЯВКА!K333,0)","v":0}]
[{"$f":"IF(ЗАЯВКА!I334=\"проектирование\",ЗАЯВКА!K334,0)","v":0},{"$f":"IF(ЗАЯВКА!I334=\"строительно-монтажные работы\",ЗАЯВКА!K334,0)","v":0},{"$f":"IF(ЗАЯВКА!N334=\"да\",ЗАЯВКА!K334,0)","v":0}]
[{"$f":"IF(ЗАЯВКА!I335=\"проектирование\",ЗАЯВКА!K335,0)","v":0},{"$f":"IF(ЗАЯВКА!I335=\"строительно-монтажные работы\",ЗАЯВКА!K335,0)","v":0},{"$f":"IF(ЗАЯВКА!N335=\"да\",ЗАЯВКА!K335,0)","v":0}]
[{"$f":"IF(ЗАЯВКА!I336=\"проектирование\",ЗАЯВКА!K336,0)","v":0},{"$f":"IF(ЗАЯВКА!I336=\"строительно-монтажные работы\",ЗАЯВКА!K336,0)","v":0},{"$f":"IF(ЗАЯВКА!N336=\"да\",ЗАЯВКА!K336,0)","v":0}]
[{"$f":"IF(ЗАЯВКА!I337=\"проектирование\",ЗАЯВКА!K337,0)","v":0},{"$f":"IF(ЗАЯВКА!I337=\"строительно-монтажные работы\",ЗАЯВКА!K337,0)","v":0},{"$f":"IF(ЗАЯВКА!N337=\"да\",ЗАЯВКА!K337,0)","v":0}]
[{"$f":"IF(ЗАЯВКА!I338=\"проектирование\",ЗАЯВКА!K338,0)","v":0},{"$f":"IF(ЗАЯВКА!I338=\"строительно-монтажные работы\",ЗАЯВКА!K338,0)","v":0},{"$f":"IF(ЗАЯВКА!N338=\"да\",ЗАЯВКА!K338,0)","v":0}]
[{"$f":"IF(ЗАЯВКА!I339=\"проектирование\",ЗАЯВКА!K339,0)","v":0},{"$f":"IF(ЗАЯВКА!I339=\"строительно-монтажные работы\",ЗАЯВКА!K339,0)","v":0},{"$f":"IF(ЗАЯВКА!N339=\"да\",ЗАЯВКА!K339,0)","v":0}]
[{"$f":"IF(ЗАЯВКА!I340=\"проектирование\",ЗАЯВКА!K340,0)","v":0},{"$f":"IF(ЗАЯВКА!I340=\"строительно-монтажные работы\",ЗАЯВКА!K340,0)","v":0},{"$f":"IF(ЗАЯВКА!N340=\"да\",ЗАЯВКА!K340,0)","v":0}]
[{"$f":"IF(ЗАЯВКА!I341=\"проектирование\",ЗАЯВКА!K341,0)","v":0},{"$f":"IF(ЗАЯВКА!I341=\"строительно-монтажные работы\",ЗАЯВКА!K341,0)","v":0},{"$f":"IF(ЗАЯВКА!N341=\"да\",ЗАЯВКА!K341,0)","v":0}]
[{"$f":"IF(ЗАЯВКА!I342=\"проектирование\",ЗАЯВКА!K342,0)","v":0},{"$f":"IF(ЗАЯВКА!I342=\"строительно-монтажные работы\",ЗАЯВКА!K342,0)","v":0},{"$f":"IF(ЗАЯВКА!N342=\"да\",ЗАЯВКА!K342,0)","v":0}]
[{"$f":"IF(ЗАЯВКА!I343=\"проектирование\",ЗАЯВКА!K343,0)","v":0},{"$f":"IF(ЗАЯВКА!I343=\"строительно-монтажные работы\",ЗАЯВКА!K343,0)","v":0},{"$f":"IF(ЗАЯВКА!N343=\"да\",ЗАЯВКА!K343,0)","v":0}]
[{"$f":"IF(ЗАЯВКА!I344=\"проектирование\",ЗАЯВКА!K344,0)","v":0},{"$f":"IF(ЗАЯВКА!I344=\"строительно-монтажные работы\",ЗАЯВКА!K344,0)","v":0},{"$f":"IF(ЗАЯВКА!N344=\"да\",ЗАЯВКА!K344,0)","v":0}]
[{"$f":"IF(ЗАЯВКА!I345=\"проектирование\",ЗАЯВКА!K345,0)","v":0},{"$f":"IF(ЗАЯВКА!I345=\"строительно-монтажные работы\",ЗАЯВКА!K345,0)","v":0},{"$f":"IF(ЗАЯВКА!N345=\"да\",ЗАЯВКА!K345,0)","v":0}]
[{"$f":"IF(ЗАЯВКА!I346=\"проектирование\",ЗАЯВКА!K346,0)","v":0},{"$f":"IF(ЗАЯВКА!I346=\"строительно-монтажные работы\",ЗАЯВКА!K346,0)","v":0},{"$f":"IF(ЗАЯВКА!N346=\"да\",ЗАЯВКА!K346,0)","v":0}]
[{"$f":"IF(ЗАЯВКА!I347=\"проектирование\",ЗАЯВКА!K347,0)","v":0},{"$f":"IF(ЗАЯВКА!I347=\"строительно-монтажные работы\",ЗАЯВКА!K347,0)","v":0},{"$f":"IF(ЗАЯВКА!N347=\"да\",ЗАЯВКА!K347,0)","v":0}]
[{"$f":"IF(ЗАЯВКА!I348=\"проектирование\",ЗАЯВКА!K348,0)","v":0},{"$f":"IF(ЗАЯВКА!I348=\"строительно-монтажные работы\",ЗАЯВКА!K348,0)","v":0},{"$f":"IF(ЗАЯВКА!N348=\"да\",ЗАЯВКА!K348,0)","v":0}]
[{"$f":"IF(ЗАЯВКА!I349=\"проектирование\",ЗАЯВКА!K349,0)","v":0},{"$f":"IF(ЗАЯВКА!I349=\"строительно-монтажные работы\",ЗАЯВКА!K349,0)","v":0},{"$f":"IF(ЗАЯВКА!N349=\"да\",ЗАЯВКА!K349,0)","v":0}]
[{"$f":"IF(ЗАЯВКА!I350=\"проектирование\",ЗАЯВКА!K350,0)","v":0},{"$f":"IF(ЗАЯВКА!I350=\"строительно-монтажные работы\",ЗАЯВКА!K350,0)","v":0},{"$f":"IF(ЗАЯВКА!N350=\"да\",ЗАЯВКА!K350,0)","v":0}]
[{"$f":"IF(ЗАЯВКА!I351=\"проектирование\",ЗАЯВКА!K351,0)","v":0},{"$f":"IF(ЗАЯВКА!I351=\"строительно-монтажные работы\",ЗАЯВКА!K351,0)","v":0},{"$f":"IF(ЗАЯВКА!N351=\"да\",ЗАЯВКА!K351,0)","v":0}]
[{"$f":"IF(ЗАЯВКА!I352=\"проектирование\",ЗАЯВКА!K352,0)","v":0},{"$f":"IF(ЗАЯВКА!I352=\"строительно-монтажные работы\",ЗАЯВКА!K352,0)","v":0},{"$f":"IF(ЗАЯВКА!N352=\"да\",ЗАЯВКА!K352,0)","v":0}]
[{"$f":"IF(ЗАЯВКА!I353=\"проектирование\",ЗАЯВКА!K353,0)","v":0},{"$f":"IF(ЗАЯВКА!I353=\"строительно-монтажные работы\",ЗАЯВКА!K353,0)","v":0},{"$f":"IF(ЗАЯВКА!N353=\"да\",ЗАЯВКА!K353,0)","v":0}]
[{"$f":"IF(ЗАЯВКА!I354=\"проектирование\",ЗАЯВКА!K354,0)","v":0},{"$f":"IF(ЗАЯВКА!I354=\"строительно-монтажные работы\",ЗАЯВКА!K354,0)","v":0},{"$f":"IF(ЗАЯВКА!N354=\"да\",ЗАЯВКА!K354,0)","v":0}]
[{"$f":"IF(ЗАЯВКА!I355=\"проектирование\",ЗАЯВКА!K355,0)","v":0},{"$f":"IF(ЗАЯВКА!I355=\"строительно-монтажные работы\",ЗАЯВКА!K355,0)","v":0},{"$f":"IF(ЗАЯВКА!N355=\"да\",ЗАЯВКА!K355,0)","v":0}]
[{"$f":"IF(ЗАЯВКА!I356=\"проектирование\",ЗАЯВКА!K356,0)","v":0},{"$f":"IF(ЗАЯВКА!I356=\"строительно-монтажные работы\",ЗАЯВКА!K356,0)","v":0},{"$f":"IF(ЗАЯВКА!N356=\"да\",ЗАЯВКА!K356,0)","v":0}]
[{"$f":"IF(ЗАЯВКА!I357=\"проектирование\",ЗАЯВКА!K357,0)","v":0},{"$f":"IF(ЗАЯВКА!I357=\"строительно-монтажные работы\",ЗАЯВКА!K357,0)","v":0},{"$f":"IF(ЗАЯВКА!N357=\"да\",ЗАЯВКА!K357,0)","v":0}]
[{"$f":"IF(ЗАЯВКА!I358=\"проектирование\",ЗАЯВКА!K358,0)","v":0},{"$f":"IF(ЗАЯВКА!I358=\"строительно-монтажные работы\",ЗАЯВКА!K358,0)","v":0},{"$f":"IF(ЗАЯВКА!N358=\"да\",ЗАЯВКА!K358,0)","v":0}]
[{"$f":"IF(ЗАЯВКА!I359=\"проектирование\",ЗАЯВКА!K359,0)","v":0},{"$f":"IF(ЗАЯВКА!I359=\"строительно-монтажные работы\",ЗАЯВКА!K359,0)","v":0},{"$f":"IF(ЗАЯВКА!N359=\"да\",ЗАЯВКА!K359,0)","v":0}]
[{"$f":"IF(ЗАЯВКА!I360=\"проектирование\",ЗАЯВКА!K360,0)","v":0},{"$f":"IF(ЗАЯВКА!I360=\"строительно-монтажные работы\",ЗАЯВКА!K360,0)","v":0},{"$f":"IF(ЗАЯВКА!N360=\"да\",ЗАЯВКА!K360,0)","v":0}]
[{"$f":"IF(ЗАЯВКА!I361=\"проектирование\",ЗАЯВКА!K361,0)","v":0},{"$f":"IF(ЗАЯВКА!I361=\"строительно-монтажные работы\",ЗАЯВКА!K361,0)","v":0},{"$f":"IF(ЗАЯВКА!N361=\"да\",ЗАЯВКА!K361,0)","v":0}]
[{"$f":"IF(ЗАЯВКА!I362=\"проектирование\",ЗАЯВКА!K362,0)","v":0},{"$f":"IF(ЗАЯВКА!I362=\"строительно-монтажные работы\",ЗАЯВКА!K362,0)","v":0},{"$f":"IF(ЗАЯВКА!N362=\"да\",ЗАЯВКА!K362,0)","v":0}]
[{"$f":"IF(ЗАЯВКА!I363=\"проектирование\",ЗАЯВКА!K363,0)","v":0},{"$f":"IF(ЗАЯВКА!I363=\"строительно-монтажные работы\",ЗАЯВКА!K363,0)","v":0},{"$f":"IF(ЗАЯВКА!N363=\"да\",ЗАЯВКА!K363,0)","v":0}]
[{"$f":"IF(ЗАЯВКА!I364=\"проектирование\",ЗАЯВКА!K364,0)","v":0},{"$f":"IF(ЗАЯВКА!I364=\"строительно-монтажные работы\",ЗАЯВКА!K364,0)","v":0},{"$f":"IF(ЗАЯВКА!N364=\"да\",ЗАЯВКА!K364,0)","v":0}]
[{"$f":"IF(ЗАЯВКА!I365=\"проектирование\",ЗАЯВКА!K365,0)","v":0},{"$f":"IF(ЗАЯВКА!I365=\"строительно-монтажные работы\",ЗАЯВКА!K365,0)","v":0},{"$f":"IF(ЗАЯВКА!N365=\"да\",ЗАЯВКА!K365,0)","v":0}]
[{"$f":"IF(ЗАЯВКА!I366=\"проектирование\",ЗАЯВКА!K366,0)","v":0},{"$f":"IF(ЗАЯВКА!I366=\"строительно-монтажные работы\",ЗАЯВКА!K366,0)","v":0},{"$f":"IF(ЗАЯВКА!N366=\"да\",ЗАЯВКА!K366,0)","v":0}]
[{"$f":"IF(ЗАЯВКА!I367=\"проектирование\",ЗАЯВКА!K367,0)","v":0},{"$f":"IF(ЗАЯВКА!I367=\"строительно-монтажные работы\",ЗАЯВКА!K367,0)","v":0},{"$f":"IF(ЗАЯВКА!N367=\"да\",ЗАЯВКА!K367,0)","v":0}]
[{"$f":"IF(ЗАЯВКА!I368=\"проектирование\",ЗАЯВКА!K368,0)","v":0},{"$f":"IF(ЗАЯВКА!I368=\"строительно-монтажные работы\",ЗАЯВКА!K368,0)","v":0},{"$f":"IF(ЗАЯВКА!N368=\"да\",ЗАЯВКА!K368,0)","v":0}]
[{"$f":"IF(ЗАЯВКА!I369=\"проектирование\",ЗАЯВКА!K369,0)","v":0},{"$f":"IF(ЗАЯВКА!I369=\"строительно-монтажные работы\",ЗАЯВКА!K369,0)","v":0},{"$f":"IF(ЗАЯВКА!N369=\"да\",ЗАЯВКА!K369,0)","v":0}]
[{"$f":"IF(ЗАЯВКА!I370=\"проектирование\",ЗАЯВКА!K370,0)","v":0},{"$f":"IF(ЗАЯВКА!I370=\"строительно-монтажные работы\",ЗАЯВКА!K370,0)","v":0},{"$f":"IF(ЗАЯВКА!N370=\"да\",ЗАЯВКА!K370,0)","v":0}]
[{"$f":"IF(ЗАЯВКА!I371=\"проектирование\",ЗАЯВКА!K371,0)","v":0},{"$f":"IF(ЗАЯВКА!I371=\"строительно-монтажные работы\",ЗАЯВКА!K371,0)","v":0},{"$f":"IF(ЗАЯВКА!N371=\"да\",ЗАЯВКА!K371,0)","v":0}]
[{"$f":"IF(ЗАЯВКА!I372=\"проектирование\",ЗАЯВКА!K372,0)","v":0},{"$f":"IF(ЗАЯВКА!I372=\"строительно-монтажные работы\",ЗАЯВКА!K372,0)","v":0},{"$f":"IF(ЗАЯВКА!N372=\"да\",ЗАЯВКА!K372,0)","v":0}]
[{"$f":"IF(ЗАЯВКА!I373=\"проектирование\",ЗАЯВКА!K373,0)","v":0},{"$f":"IF(ЗАЯВКА!I373=\"строительно-монтажные работы\",ЗАЯВКА!K373,0)","v":0},{"$f":"IF(ЗАЯВКА!N373=\"да\",ЗАЯВКА!K373,0)","v":0}]
[{"$f":"IF(ЗАЯВКА!I374=\"проектирование\",ЗАЯВКА!K374,0)","v":0},{"$f":"IF(ЗАЯВКА!I374=\"строительно-монтажные работы\",ЗАЯВКА!K374,0)","v":0},{"$f":"IF(ЗАЯВКА!N374=\"да\",ЗАЯВКА!K374,0)","v":0}]
[{"$f":"IF(ЗАЯВКА!I375=\"проектирование\",ЗАЯВКА!K375,0)","v":0},{"$f":"IF(ЗАЯВКА!I375=\"строительно-монтажные работы\",ЗАЯВКА!K375,0)","v":0},{"$f":"IF(ЗАЯВКА!N375=\"да\",ЗАЯВКА!K375,0)","v":0}]
[{"$f":"IF(ЗАЯВКА!#REF!=\"проектирование\",ЗАЯВКА!#REF!,0)","v":{"$error":"#REF!"}},{"$f":"IF(ЗАЯВКА!#REF!=\"строительно-монтажные работы\",ЗАЯВКА!#REF!,0)","v":{"$error":"#REF!"}},{"$f":"IF(ЗАЯВКА!#REF!=\"да\",ЗАЯВКА!#REF!,0)","v":{"$error":"#REF!"}}]
[{"$f":"IF(ЗАЯВКА!I376=\"проектирование\",ЗАЯВКА!K376,0)","v":0},{"$f":"IF(ЗАЯВКА!I376=\"строительно-монтажные работы\",ЗАЯВКА!K376,0)","v":0},{"$f":"IF(ЗАЯВКА!N376=\"да\",ЗАЯВКА!K376,0)","v":0}]
[{"$f":"IF(ЗАЯВКА!I377=\"проектирование\",ЗАЯВКА!K377,0)","v":0},{"$f":"IF(ЗАЯВКА!I377=\"строительно-монтажные работы\",ЗАЯВКА!K377,0)","v":0},{"$f":"IF(ЗАЯВКА!N377=\"да\",ЗАЯВКА!K377,0)","v":0}]
[{"$f":"IF(ЗАЯВКА!#REF!=\"проектирование\",ЗАЯВКА!#REF!,0)","v":{"$error":"#REF!"}},{"$f":"IF(ЗАЯВКА!#REF!=\"строительно-монтажные работы\",ЗАЯВКА!#REF!,0)","v":{"$error":"#REF!"}},{"$f":"IF(ЗАЯВКА!#REF!=\"да\",ЗАЯВКА!#REF!,0)","v":{"$error":"#REF!"}}]
[{"$f":"IF(ЗАЯВКА!I378=\"проектирование\",ЗАЯВКА!K378,0)","v":0},{"$f":"IF(ЗАЯВКА!I378=\"строительно-монтажные работы\",ЗАЯВКА!K378,0)","v":0},{"$f":"IF(ЗАЯВКА!N378=\"да\",ЗАЯВКА!K378,0)","v":0}]
[{"$f":"IF(ЗАЯВКА!I379=\"проектирование\",ЗАЯВКА!K379,0)","v":0},{"$f":"IF(ЗАЯВКА!I379=\"строительно-монтажные работы\",ЗАЯВКА!K379,0)","v":0},{"$f":"IF(ЗАЯВКА!N379=\"да\",ЗАЯВКА!K379,0)","v":0}]
[{"$f":"IF(ЗАЯВКА!#REF!=\"проектирование\",ЗАЯВКА!#REF!,0)","v":{"$error":"#REF!"}},{"$f":"IF(ЗАЯВКА!#REF!=\"строительно-монтажные работы\",ЗАЯВКА!#REF!,0)","v":{"$error":"#REF!"}},{"$f":"IF(ЗАЯВКА!#REF!=\"да\",ЗАЯВКА!#REF!,0)","v":{"$error":"#REF!"}}]
[{"$f":"IF(ЗАЯВКА!I380=\"проектирование\",ЗАЯВКА!K380,0)","v":0},{"$f":"IF(ЗАЯВКА!I380=\"строительно-монтажные работы\",ЗАЯВКА!K380,0)","v":0},{"$f":"IF(ЗАЯВКА!N380=\"да\",ЗАЯВКА!K380,0)","v":0}]
[{"$f":"IF(ЗАЯВКА!I381=\"проектирование\",ЗАЯВКА!K381,0)","v":0},{"$f":"IF(ЗАЯВКА!I381=\"строительно-монтажные работы\",ЗАЯВКА!K381,0)","v":0},{"$f":"IF(ЗАЯВКА!N381=\"да\",ЗАЯВКА!K381,0)","v":0}]
[{"$f":"IF(ЗАЯВКА!I382=\"проектирование\",ЗАЯВКА!K382,0)","v":0},{"$f":"IF(ЗАЯВКА!I382=\"строительно-монтажные работы\",ЗАЯВКА!K382,0)","v":0},{"$f":"IF(ЗАЯВКА!N382=\"да\",ЗАЯВКА!K382,0)","v":0}]
[{"$f":"IF(ЗАЯВКА!I383=\"проектирование\",ЗАЯВКА!K383,0)","v":0},{"$f":"IF(ЗАЯВКА!I383=\"строительно-монтажные работы\",ЗАЯВКА!K383,0)","v":0},{"$f":"IF(ЗАЯВКА!N383=\"да\",ЗАЯВКА!K383,0)","v":0}]
[{"$f":"IF(ЗАЯВКА!I384=\"проектирование\",ЗАЯВКА!K384,0)","v":0},{"$f":"IF(ЗАЯВКА!I384=\"строительно-монтажные работы\",ЗАЯВКА!K384,0)","v":0},{"$f":"IF(ЗАЯВКА!N384=\"да\",ЗАЯВКА!K384,0)","v":0}]
[{"$f":"IF(ЗАЯВКА!I385=\"проектирование\",ЗАЯВКА!K385,0)","v":0},{"$f":"IF(ЗАЯВКА!I385=\"строительно-монтажные работы\",ЗАЯВКА!K385,0)","v":0},{"$f":"IF(ЗАЯВКА!N385=\"да\",ЗАЯВКА!K385,0)","v":0}]
[{"$f":"IF(ЗАЯВКА!I386=\"проектирование\",ЗАЯВКА!K386,0)","v":0},{"$f":"IF(ЗАЯВКА!I386=\"строительно-монтажные работы\",ЗАЯВКА!K386,0)","v":0},{"$f":"IF(ЗАЯВКА!N386=\"да\",ЗАЯВКА!K386,0)","v":0}]
[{"$f":"IF(ЗАЯВКА!I387=\"проектирование\",ЗАЯВКА!K387,0)","v":0},{"$f":"IF(ЗАЯВКА!I387=\"строительно-монтажные работы\",ЗАЯВКА!K387,0)","v":0},{"$f":"IF(ЗАЯВКА!N387=\"да\",ЗАЯВКА!K387,0)","v":0}]
[{"$f":"IF(ЗАЯВКА!I388=\"проектирование\",ЗАЯВКА!K388,0)","v":0},{"$f":"IF(ЗАЯВКА!I388=\"строительно-монтажные работы\",ЗАЯВКА!K388,0)","v":0},{"$f":"IF(ЗАЯВКА!N388=\"да\",ЗАЯВКА!K388,0)","v":0}]
[{"$f":"IF(ЗАЯВКА!I389=\"проектирование\",ЗАЯВКА!K389,0)","v":0},{"$f":"IF(ЗАЯВКА!I389=\"строительно-монтажные работы\",ЗАЯВКА!K389,0)","v":0},{"$f":"IF(ЗАЯВКА!N389=\"да\",ЗАЯВКА!K389,0)","v":0}]
[{"$f":"IF(ЗАЯВКА!I390=\"проектирование\",ЗАЯВКА!K390,0)","v":0},{"$f":"IF(ЗАЯВКА!I390=\"строительно-монтажные работы\",ЗАЯВКА!K390,0)","v":0},{"$f":"IF(ЗАЯВКА!N390=\"да\",ЗАЯВКА!K390,0)","v":0}]
[{"$f":"IF(ЗАЯВКА!I391=\"проектирование\",ЗАЯВКА!K391,0)","v":0},{"$f":"IF(ЗАЯВКА!I391=\"строительно-монтажные работы\",ЗАЯВКА!K391,0)","v":0},{"$f":"IF(ЗАЯВКА!N391=\"да\",ЗАЯВКА!K391,0)","v":0}]
[{"$f":"IF(ЗАЯВКА!I392=\"проектирование\",ЗАЯВКА!K392,0)","v":0},{"$f":"IF(ЗАЯВКА!I392=\"строительно-монтажные работы\",ЗАЯВКА!K392,0)","v":0},{"$f":"IF(ЗАЯВКА!N392=\"да\",ЗАЯВКА!K392,0)","v":0}]
[{"$f":"IF(ЗАЯВКА!I393=\"проектирование\",ЗАЯВКА!K393,0)","v":0},{"$f":"IF(ЗАЯВКА!I393=\"строительно-монтажные работы\",ЗАЯВКА!K393,0)","v":0},{"$f":"IF(ЗАЯВКА!N393=\"да\",ЗАЯВКА!K393,0)","v":0}]
[{"$f":"IF(ЗАЯВКА!I394=\"проектирование\",ЗАЯВКА!K394,0)","v":0},{"$f":"IF(ЗАЯВКА!I394=\"строительно-монтажные работы\",ЗАЯВКА!K394,0)","v":0},{"$f":"IF(ЗАЯВКА!N394=\"да\",ЗАЯВКА!K394,0)","v":0}]
[{"$f":"IF(ЗАЯВКА!I395=\"проектирование\",ЗАЯВКА!K395,0)","v":0},{"$f":"IF(ЗАЯВКА!I395=\"строительно-монтажные работы\",ЗАЯВКА!K395,0)","v":0},{"$f":"IF(ЗАЯВКА!N395=\"да\",ЗАЯВКА!K395,0)","v":0}]
[{"$f":"IF(ЗАЯВКА!I396=\"проектирование\",ЗАЯВКА!K396,0)","v":0},{"$f":"IF(ЗАЯВКА!I396=\"строительно-монтажные работы\",ЗАЯВКА!K396,0)","v":0},{"$f":"IF(ЗАЯВКА!N396=\"да\",ЗАЯВКА!K396,0)","v":0}]
[{"$f":"IF(ЗАЯВКА!I397=\"проектирование\",ЗАЯВКА!K397,0)","v":0},{"$f":"IF(ЗАЯВКА!I397=\"строительно-монтажные работы\",ЗАЯВКА!K397,0)","v":0},{"$f":"IF(ЗАЯВКА!N397=\"да\",ЗАЯВКА!K397,0)","v":0}]
[{"$f":"IF(ЗАЯВКА!I398=\"проектирование\",ЗАЯВКА!K398,0)","v":0},{"$f":"IF(ЗАЯВКА!I398=\"строительно-монтажные работы\",ЗАЯВКА!K398,0)","v":0},{"$f":"IF(ЗАЯВКА!N398=\"да\",ЗАЯВКА!K398,0)","v":0}]
[{"$f":"IF(ЗАЯВКА!I399=\"проектирование\",ЗАЯВКА!K399,0)","v":0},{"$f":"IF(ЗАЯВКА!I399=\"строительно-монтажные работы\",ЗАЯВКА!K399,0)","v":0},{"$f":"IF(ЗАЯВКА!N399=\"да\",ЗАЯВКА!K399,0)","v":0}]
[{"$f":"IF(ЗАЯВКА!I400=\"проектирование\",ЗАЯВКА!K400,0)","v":0},{"$f":"IF(ЗАЯВКА!I400=\"строительно-монтажные работы\",ЗАЯВКА!K400,0)","v":0},{"$f":"IF(ЗАЯВКА!N400=\"да\",ЗАЯВКА!K400,0)","v":0}]
[{"$f":"IF(ЗАЯВКА!I401=\"проектирование\",ЗАЯВКА!K401,0)","v":0},{"$f":"IF(ЗАЯВКА!I401=\"строительно-монтажные работы\",ЗАЯВКА!K401,0)","v":0},{"$f":"IF(ЗАЯВКА!N401=\"да\",ЗАЯВКА!K401,0)","v":0}]
[{"$f":"IF(ЗАЯВКА!I402=\"проектирование\",ЗАЯВКА!K402,0)","v":0},{"$f":"IF(ЗАЯВКА!I402=\"строительно-монтажные работы\",ЗАЯВКА!K402,0)","v":0},{"$f":"IF(ЗАЯВКА!N402=\"да\",ЗАЯВКА!K402,0)","v":0}]
[{"$f":"IF(ЗАЯВКА!I403=\"проектирование\",ЗАЯВКА!K403,0)","v":0},{"$f":"IF(ЗАЯВКА!I403=\"строительно-монтажные работы\",ЗАЯВКА!K403,0)","v":0},{"$f":"IF(ЗАЯВКА!N403=\"да\",ЗАЯВКА!K403,0)","v":0}]
[{"$f":"IF(ЗАЯВКА!I404=\"проектирование\",ЗАЯВКА!K404,0)","v":0},{"$f":"IF(ЗАЯВКА!I404=\"строительно-монтажные работы\",ЗАЯВКА!K404,0)","v":0},{"$f":"IF(ЗАЯВКА!N404=\"да\",ЗАЯВКА!K404,0)","v":0}]
[{"$f":"IF(ЗАЯВКА!I405=\"проектирование\",ЗАЯВКА!K405,0)","v":0},{"$f":"IF(ЗАЯВКА!I405=\"строительно-монтажные работы\",ЗАЯВКА!K405,0)","v":0},{"$f":"IF(ЗАЯВКА!N405=\"да\",ЗАЯВКА!K405,0)","v":0}]
[{"$f":"IF(ЗАЯВКА!I406=\"проектирование\",ЗАЯВКА!K406,0)","v":0},{"$f":"IF(ЗАЯВКА!I406=\"строительно-монтажные работы\",ЗАЯВКА!K406,0)","v":0},{"$f":"IF(ЗАЯВКА!N406=\"да\",ЗАЯВКА!K406,0)","v":0}]
[{"$f":"IF(ЗАЯВКА!I407=\"проектирование\",ЗАЯВКА!K407,0)","v":0},{"$f":"IF(ЗАЯВКА!I407=\"строительно-монтажные работы\",ЗАЯВКА!K407,0)","v":0},{"$f":"IF(ЗАЯВКА!N407=\"да\",ЗАЯВКА!K407,0)","v":0}]
[{"$f":"IF(ЗАЯВКА!I408=\"проектирование\",ЗАЯВКА!K408,0)","v":0},{"$f":"IF(ЗАЯВКА!I408=\"строительно-монтажные работы\",ЗАЯВКА!K408,0)","v":0},{"$f":"IF(ЗАЯВКА!N408=\"да\",ЗАЯВКА!K408,0)","v":0}]
[{"$f":"IF(ЗАЯВКА!I409=\"проектирование\",ЗАЯВКА!K409,0)","v":0},{"$f":"IF(ЗАЯВКА!I409=\"строительно-монтажные работы\",ЗАЯВКА!K409,0)","v":0},{"$f":"IF(ЗАЯВКА!N409=\"да\",ЗАЯВКА!K409,0)","v":0}]
[{"$f":"IF(ЗАЯВКА!I410=\"проектирование\",ЗАЯВКА!K410,0)","v":0},{"$f":"IF(ЗАЯВКА!I410=\"строительно-монтажные работы\",ЗАЯВКА!K410,0)","v":0},{"$f":"IF(ЗАЯВКА!N410=\"да\",ЗАЯВКА!K410,0)","v":0}]
[{"$f":"IF(ЗАЯВКА!I411=\"проектирование\",ЗАЯВКА!K411,0)","v":0},{"$f":"IF(ЗАЯВКА!I411=\"строительно-монтажные работы\",ЗАЯВКА!K411,0)","v":0},{"$f":"IF(ЗАЯВКА!N411=\"да\",ЗАЯВКА!K411,0)","v":0}]
[{"$f":"IF(ЗАЯВКА!I412=\"проектирование\",ЗАЯВКА!K412,0)","v":0},{"$f":"IF(ЗАЯВКА!I412=\"строительно-монтажные работы\",ЗАЯВКА!K412,0)","v":0},{"$f":"IF(ЗАЯВКА!N412=\"да\",ЗАЯВКА!K412,0)","v":0}]
[{"$f":"IF(ЗАЯВКА!I413=\"проектирование\",ЗАЯВКА!K413,0)","v":0},{"$f":"IF(ЗАЯВКА!I413=\"строительно-монтажные работы\",ЗАЯВКА!K413,0)","v":0},{"$f":"IF(ЗАЯВКА!N413=\"да\",ЗАЯВКА!K413,0)","v":0}]
[{"$f":"IF(ЗАЯВКА!I414=\"проектирование\",ЗАЯВКА!K414,0)","v":0},{"$f":"IF(ЗАЯВКА!I414=\"строительно-монтажные работы\",ЗАЯВКА!K414,0)","v":0},{"$f":"IF(ЗАЯВКА!N414=\"да\",ЗАЯВКА!K414,0)","v":0}]
[{"$f":"IF(ЗАЯВКА!I415=\"проектирование\",ЗАЯВКА!K415,0)","v":0},{"$f":"IF(ЗАЯВКА!I415=\"строительно-монтажные работы\",ЗАЯВКА!K415,0)","v":0},{"$f":"IF(ЗАЯВКА!N415=\"да\",ЗАЯВКА!K415,0)","v":0}]
[{"$f":"IF(ЗАЯВКА!I416=\"проектирование\",ЗАЯВКА!K416,0)","v":0},{"$f":"IF(ЗАЯВКА!I416=\"строительно-монтажные работы\",ЗАЯВКА!K416,0)","v":0},{"$f":"IF(ЗАЯВКА!N416=\"да\",ЗАЯВКА!K416,0)","v":0}]
[{"$f":"IF(ЗАЯВКА!#REF!=\"проектирование\",ЗАЯВКА!#REF!,0)","v":{"$error":"#REF!"}},{"$f":"IF(ЗАЯВКА!#REF!=\"строительно-монтажные работы\",ЗАЯВКА!#REF!,0)","v":{"$error":"#REF!"}},{"$f":"IF(ЗАЯВКА!#REF!=\"да\",ЗАЯВКА!#REF!,0)","v":{"$error":"#REF!"}}]
[{"$f":"IF(ЗАЯВКА!I417=\"проектирование\",ЗАЯВКА!K417,0)","v":0},{"$f":"IF(ЗАЯВКА!I417=\"строительно-монтажные работы\",ЗАЯВКА!K417,0)","v":0},{"$f":"IF(ЗАЯВКА!N417=\"да\",ЗАЯВКА!K417,0)","v":0}]
[{"$f":"IF(ЗАЯВКА!I418=\"проектирование\",ЗАЯВКА!K418,0)","v":0},{"$f":"IF(ЗАЯВКА!I418=\"строительно-монтажные работы\",ЗАЯВКА!K418,0)","v":0},{"$f":"IF(ЗАЯВКА!N418=\"да\",ЗАЯВКА!K418,0)","v":0}]
[{"$f":"IF(ЗАЯВКА!I419=\"проектирование\",ЗАЯВКА!K419,0)","v":0},{"$f":"IF(ЗАЯВКА!I419=\"строительно-монтажные работы\",ЗАЯВКА!K419,0)","v":0},{"$f":"IF(ЗАЯВКА!N419=\"да\",ЗАЯВКА!K419,0)","v":0}]
[{"$f":"IF(ЗАЯВКА!I420=\"проектирование\",ЗАЯВКА!K420,0)","v":0},{"$f":"IF(ЗАЯВКА!I420=\"строительно-монтажные работы\",ЗАЯВКА!K420,0)","v":0},{"$f":"IF(ЗАЯВКА!N420=\"да\",ЗАЯВКА!K420,0)","v":0}]
[{"$f":"IF(ЗАЯВКА!I421=\"проектирование\",ЗАЯВКА!K421,0)","v":0},{"$f":"IF(ЗАЯВКА!I421=\"строительно-монтажные работы\",ЗАЯВКА!K421,0)","v":0},{"$f":"IF(ЗАЯВКА!N421=\"да\",ЗАЯВКА!K421,0)","v":0}]
[{"$f":"IF(ЗАЯВКА!I422=\"проектирование\",ЗАЯВКА!K422,0)","v":0},{"$f":"IF(ЗАЯВКА!I422=\"строительно-монтажные работы\",ЗАЯВКА!K422,0)","v":0},{"$f":"IF(ЗАЯВКА!N422=\"да\",ЗАЯВКА!K422,0)","v":0}]
[{"$f":"IF(ЗАЯВКА!I423=\"проектирование\",ЗАЯВКА!K423,0)","v":0},{"$f":"IF(ЗАЯВКА!I423=\"строительно-монтажные работы\",ЗАЯВКА!K423,0)","v":0},{"$f":"IF(ЗАЯВКА!N423=\"да\",ЗАЯВКА!K423,0)","v":0}]
[{"$f":"IF(ЗАЯВКА!I424=\"проектирование\",ЗАЯВКА!K424,0)","v":0},{"$f":"IF(ЗАЯВКА!I424=\"строительно-монтажные работы\",ЗАЯВКА!K424,0)","v":0},{"$f":"IF(ЗАЯВКА!N424=\"да\",ЗАЯВКА!K424,0)","v":0}]
[{"$f":"IF(ЗАЯВКА!I425=\"проектирование\",ЗАЯВКА!K425,0)","v":0},{"$f":"IF(ЗАЯВКА!I425=\"строительно-монтажные работы\",ЗАЯВКА!K425,0)","v":0},{"$f":"IF(ЗАЯВКА!N425=\"да\",ЗАЯВКА!K425,0)","v":0}]
[{"$f":"IF(ЗАЯВКА!I426=\"проектирование\",ЗАЯВКА!K426,0)","v":0},{"$f":"IF(ЗАЯВКА!I426=\"строительно-монтажные работы\",ЗАЯВКА!K426,0)","v":0},{"$f":"IF(ЗАЯВКА!N426=\"да\",ЗАЯВКА!K426,0)","v":0}]
[{"$f":"IF(ЗАЯВКА!I427=\"проектирование\",ЗАЯВКА!K427,0)","v":0},{"$f":"IF(ЗАЯВКА!I427=\"строительно-монтажные работы\",ЗАЯВКА!K427,0)","v":0},{"$f":"IF(ЗАЯВКА!N427=\"да\",ЗАЯВКА!K427,0)","v":0}]
[{"$f":"IF(ЗАЯВКА!I428=\"проектирование\",ЗАЯВКА!K428,0)","v":0},{"$f":"IF(ЗАЯВКА!I428=\"строительно-монтажные работы\",ЗАЯВКА!K428,0)","v":0},{"$f":"IF(ЗАЯВКА!N428=\"да\",ЗАЯВКА!K428,0)","v":0}]
[{"$f":"IF(ЗАЯВКА!I429=\"проектирование\",ЗАЯВКА!K429,0)","v":0},{"$f":"IF(ЗАЯВКА!I429=\"строительно-монтажные работы\",ЗАЯВКА!K429,0)","v":0},{"$f":"IF(ЗАЯВКА!N429=\"да\",ЗАЯВКА!K429,0)","v":0}]
[{"$f":"IF(ЗАЯВКА!I430=\"проектирование\",ЗАЯВКА!K430,0)","v":0},{"$f":"IF(ЗАЯВКА!I430=\"строительно-монтажные работы\",ЗАЯВКА!K430,0)","v":0},{"$f":"IF(ЗАЯВКА!N430=\"да\",ЗАЯВКА!K430,0)","v":0}]
[{"$f":"IF(ЗАЯВКА!I431=\"проектирование\",ЗАЯВКА!K431,0)","v":0},{"$f":"IF(ЗАЯВКА!I431=\"строительно-монтажные работы\",ЗАЯВКА!K431,0)","v":0},{"$f":"IF(ЗАЯВКА!N431=\"да\",ЗАЯВКА!K431,0)","v":0}]
[{"$f":"IF(ЗАЯВКА!I432=\"проектирование\",ЗАЯВКА!K432,0)","v":0},{"$f":"IF(ЗАЯВКА!I432=\"строительно-монтажные работы\",ЗАЯВКА!K432,0)","v":0},{"$f":"IF(ЗАЯВКА!N432=\"да\",ЗАЯВКА!K432,0)","v":0}]
[{"$f":"IF(ЗАЯВКА!I433=\"проектирование\",ЗАЯВКА!K433,0)","v":0},{"$f":"IF(ЗАЯВКА!I433=\"строительно-монтажные работы\",ЗАЯВКА!K433,0)","v":0},{"$f":"IF(ЗАЯВКА!N433=\"да\",ЗАЯВКА!K433,0)","v":0}]
[{"$f":"IF(ЗАЯВКА!I434=\"проектирование\",ЗАЯВКА!K434,0)","v":0},{"$f":"IF(ЗАЯВКА!I434=\"строительно-монтажные работы\",ЗАЯВКА!K434,0)","v":0},{"$f":"IF(ЗАЯВКА!N434=\"да\",ЗАЯВКА!K434,0)","v":0}]
[{"$f":"IF(ЗАЯВКА!I435=\"проектирование\",ЗАЯВКА!K435,0)","v":0},{"$f":"IF(ЗАЯВКА!I435=\"строительно-монтажные работы\",ЗАЯВКА!K435,0)","v":0},{"$f":"IF(ЗАЯВКА!N435=\"да\",ЗАЯВКА!K435,0)","v":0}]
[{"$f":"IF(ЗАЯВКА!I436=\"проектирование\",ЗАЯВКА!K436,0)","v":0},{"$f":"IF(ЗАЯВКА!I436=\"строительно-монтажные работы\",ЗАЯВКА!K436,0)","v":0},{"$f":"IF(ЗАЯВКА!N436=\"да\",ЗАЯВКА!K436,0)","v":0}]
[{"$f":"IF(ЗАЯВКА!I437=\"проектирование\",ЗАЯВКА!K437,0)","v":0},{"$f":"IF(ЗАЯВКА!I437=\"строительно-монтажные работы\",ЗАЯВКА!K437,0)","v":0},{"$f":"IF(ЗАЯВКА!N437=\"да\",ЗАЯВКА!K437,0)","v":0}]
[{"$f":"IF(ЗАЯВКА!I438=\"проектирование\",ЗАЯВКА!K438,0)","v":0},{"$f":"IF(ЗАЯВКА!I438=\"строительно-монтажные работы\",ЗАЯВКА!K438,0)","v":0},{"$f":"IF(ЗАЯВКА!N438=\"да\",ЗАЯВКА!K438,0)","v":0}]
[{"$f":"IF(ЗАЯВКА!I439=\"проектирование\",ЗАЯВКА!K439,0)","v":0},{"$f":"IF(ЗАЯВКА!I439=\"строительно-монтажные работы\",ЗАЯВКА!K439,0)","v":0},{"$f":"IF(ЗАЯВКА!N439=\"да\",ЗАЯВКА!K439,0)","v":0}]
[{"$f":"IF(ЗАЯВКА!I440=\"проектирование\",ЗАЯВКА!K440,0)","v":0},{"$f":"IF(ЗАЯВКА!I440=\"строительно-монтажные работы\",ЗАЯВКА!K440,0)","v":0},{"$f":"IF(ЗАЯВКА!N440=\"да\",ЗАЯВКА!K440,0)","v":0}]
[{"$f":"IF(ЗАЯВКА!I441=\"проектирование\",ЗАЯВКА!K441,0)","v":0},{"$f":"IF(ЗАЯВКА!I441=\"строительно-монтажные работы\",ЗАЯВКА!K441,0)","v":0},{"$f":"IF(ЗАЯВКА!N441=\"да\",ЗАЯВКА!K441,0)","v":0}]
[{"$f":"IF(ЗАЯВКА!I442=\"проектирование\",ЗАЯВКА!K442,0)","v":0},{"$f":"IF(ЗАЯВКА!I442=\"строительно-монтажные работы\",ЗАЯВКА!K442,0)","v":0},{"$f":"IF(ЗАЯВКА!N442=\"да\",ЗАЯВКА!K442,0)","v":0}]
[{"$f":"IF(ЗАЯВКА!I443=\"проектирование\",ЗАЯВКА!K443,0)","v":0},{"$f":"IF(ЗАЯВКА!I443=\"строительно-монтажные работы\",ЗАЯВКА!K443,0)","v":0},{"$f":"IF(ЗАЯВКА!N443=\"да\",ЗАЯВКА!K443,0)","v":0}]
[{"$f":"IF(ЗАЯВКА!I444=\"проектирование\",ЗАЯВКА!K444,0)","v":0},{"$f":"IF(ЗАЯВКА!I444=\"строительно-монтажные работы\",ЗАЯВКА!K444,0)","v":0},{"$f":"IF(ЗАЯВКА!N444=\"да\",ЗАЯВКА!K444,0)","v":0}]
[{"$f":"IF(ЗАЯВКА!I445=\"проектирование\",ЗАЯВКА!K445,0)","v":0},{"$f":"IF(ЗАЯВКА!I445=\"строительно-монтажные работы\",ЗАЯВКА!K445,0)","v":0},{"$f":"IF(ЗАЯВКА!N445=\"да\",ЗАЯВКА!K445,0)","v":0}]
[{"$f":"IF(ЗАЯВКА!I446=\"проектирование\",ЗАЯВКА!K446,0)","v":0},{"$f":"IF(ЗАЯВКА!I446=\"строительно-монтажные работы\",ЗАЯВКА!K446,0)","v":0},{"$f":"IF(ЗАЯВКА!N446=\"да\",ЗАЯВКА!K446,0)","v":0}]
[{"$f":"IF(ЗАЯВКА!I447=\"проектирование\",ЗАЯВКА!K447,0)","v":0},{"$f":"IF(ЗАЯВКА!I447=\"строительно-монтажные работы\",ЗАЯВКА!K447,0)","v":0},{"$f":"IF(ЗАЯВКА!N447=\"да\",ЗАЯВКА!K447,0)","v":0}]
[{"$f":"IF(ЗАЯВКА!#REF!=\"проектирование\",ЗАЯВКА!#REF!,0)","v":{"$error":"#REF!"}},{"$f":"IF(ЗАЯВКА!#REF!=\"строительно-монтажные работы\",ЗАЯВКА!#REF!,0)","v":{"$error":"#REF!"}},{"$f":"IF(ЗАЯВКА!#REF!=\"да\",ЗАЯВКА!#REF!,0)","v":{"$error":"#REF!"}}]
[{"$f":"IF(ЗАЯВКА!I448=\"проектирование\",ЗАЯВКА!K448,0)","v":0},{"$f":"IF(ЗАЯВКА!I448=\"строительно-монтажные работы\",ЗАЯВКА!K448,0)","v":0},{"$f":"IF(ЗАЯВКА!N448=\"да\",ЗАЯВКА!K448,0)","v":0}]
[{"$f":"IF(ЗАЯВКА!I449=\"проектирование\",ЗАЯВКА!K449,0)","v":0},{"$f":"IF(ЗАЯВКА!I449=\"строительно-монтажные работы\",ЗАЯВКА!K449,0)","v":0},{"$f":"IF(ЗАЯВКА!N449=\"да\",ЗАЯВКА!K449,0)","v":0}]
[{"$f":"IF(ЗАЯВКА!I450=\"проектирование\",ЗАЯВКА!K450,0)","v":0},{"$f":"IF(ЗАЯВКА!I450=\"строительно-монтажные работы\",ЗАЯВКА!K450,0)","v":0},{"$f":"IF(ЗАЯВКА!N450=\"да\",ЗАЯВКА!K450,0)","v":0}]
[{"$f":"IF(ЗАЯВКА!I451=\"проектирование\",ЗАЯВКА!K451,0)","v":0},{"$f":"IF(ЗАЯВКА!I451=\"строительно-монтажные работы\",ЗАЯВКА!K451,0)","v":0},{"$f":"IF(ЗАЯВКА!N451=\"да\",ЗАЯВКА!K451,0)","v":0}]
[{"$f":"IF(ЗАЯВКА!I452=\"проектирование\",ЗАЯВКА!K452,0)","v":0},{"$f":"IF(ЗАЯВКА!I452=\"строительно-монтажные работы\",ЗАЯВКА!K452,0)","v":0},{"$f":"IF(ЗАЯВКА!N452=\"да\",ЗАЯВКА!K452,0)","v":0}]
[{"$f":"IF(ЗАЯВКА!I453=\"проектирование\",ЗАЯВКА!K453,0)","v":0},{"$f":"IF(ЗАЯВКА!I453=\"строительно-монтажные работы\",ЗАЯВКА!K453,0)","v":0},{"$f":"IF(ЗАЯВКА!N453=\"да\",ЗАЯВКА!K453,0)","v":0}]
[{"$f":"IF(ЗАЯВКА!I454=\"проектирование\",ЗАЯВКА!K454,0)","v":0},{"$f":"IF(ЗАЯВКА!I454=\"строительно-монтажные работы\",ЗАЯВКА!K454,0)","v":0},{"$f":"IF(ЗАЯВКА!N454=\"да\",ЗАЯВКА!K454,0)","v":0}]
[{"$f":"IF(ЗАЯВКА!I455=\"проектирование\",ЗАЯВКА!K455,0)","v":0},{"$f":"IF(ЗАЯВКА!I455=\"строительно-монтажные работы\",ЗАЯВКА!K455,0)","v":0},{"$f":"IF(ЗАЯВКА!N455=\"да\",ЗАЯВКА!K455,0)","v":0}]
[{"$f":"IF(ЗАЯВКА!I456=\"проектирование\",ЗАЯВКА!K456,0)","v":0},{"$f":"IF(ЗАЯВКА!I456=\"строительно-монтажные работы\",ЗАЯВКА!K456,0)","v":0},{"$f":"IF(ЗАЯВКА!N456=\"да\",ЗАЯВКА!K456,0)","v":0}]
[{"$f":"IF(ЗАЯВКА!I457=\"проектирование\",ЗАЯВКА!K457,0)","v":0},{"$f":"IF(ЗАЯВКА!I457=\"строительно-монтажные работы\",ЗАЯВКА!K457,0)","v":0},{"$f":"IF(ЗАЯВКА!N457=\"да\",ЗАЯВКА!K457,0)","v":0}]
[{"$f":"IF(ЗАЯВКА!I458=\"проектирование\",ЗАЯВКА!K458,0)","v":0},{"$f":"IF(ЗАЯВКА!I458=\"строительно-монтажные работы\",ЗАЯВКА!K458,0)","v":0},{"$f":"IF(ЗАЯВКА!N458=\"да\",ЗАЯВКА!K458,0)","v":0}]
[{"$f":"IF(ЗАЯВКА!I459=\"проектирование\",ЗАЯВКА!K459,0)","v":0},{"$f":"IF(ЗАЯВКА!I459=\"строительно-монтажные работы\",ЗАЯВКА!K459,0)","v":0},{"$f":"IF(ЗАЯВКА!N459=\"да\",ЗАЯВКА!K459,0)","v":0}]
[{"$f":"IF(ЗАЯВКА!I460=\"проектирование\",ЗАЯВКА!K460,0)","v":0},{"$f":"IF(ЗАЯВКА!I460=\"строительно-монтажные работы\",ЗАЯВКА!K460,0)","v":0},{"$f":"IF(ЗАЯВКА!N460=\"да\",ЗАЯВКА!K460,0)","v":0}]
[{"$f":"IF(ЗАЯВКА!I461=\"проектирование\",ЗАЯВКА!K461,0)","v":0},{"$f":"IF(ЗАЯВКА!I461=\"строительно-монтажные работы\",ЗАЯВКА!K461,0)","v":0},{"$f":"IF(ЗАЯВКА!N461=\"да\",ЗАЯВКА!K461,0)","v":0}]
[{"$f":"IF(ЗАЯВКА!I462=\"проектирование\",ЗАЯВКА!K462,0)","v":0},{"$f":"IF(ЗАЯВКА!I462=\"строительно-монтажные работы\",ЗАЯВКА!K462,0)","v":0},{"$f":"IF(ЗАЯВКА!N462=\"да\",ЗАЯВКА!K462,0)","v":0}]
[{"$f":"IF(ЗАЯВКА!I463=\"проектирование\",ЗАЯВКА!K463,0)","v":0},{"$f":"IF(ЗАЯВКА!I463=\"строительно-монтажные работы\",ЗАЯВКА!K463,0)","v":0},{"$f":"IF(ЗАЯВКА!N463=\"да\",ЗАЯВКА!K463,0)","v":0}]
[{"$f":"IF(ЗАЯВКА!I464=\"проектирование\",ЗАЯВКА!K464,0)","v":0},{"$f":"IF(ЗАЯВКА!I464=\"строительно-монтажные работы\",ЗАЯВКА!K464,0)","v":0},{"$f":"IF(ЗАЯВКА!N464=\"да\",ЗАЯВКА!K464,0)","v":0}]
[{"$f":"IF(ЗАЯВКА!I465=\"проектирование\",ЗАЯВКА!K465,0)","v":0},{"$f":"IF(ЗАЯВКА!I465=\"строительно-монтажные работы\",ЗАЯВКА!K465,0)","v":0},{"$f":"IF(ЗАЯВКА!N465=\"да\",ЗАЯВКА!K465,0)","v":0}]
[{"$f":"IF(ЗАЯВКА!I466=\"проектирование\",ЗАЯВКА!K466,0)","v":0},{"$f":"IF(ЗАЯВКА!I466=\"строительно-монтажные работы\",ЗАЯВКА!K466,0)","v":0},{"$f":"IF(ЗАЯВКА!N466=\"да\",ЗАЯВКА!K466,0)","v":0}]
[{"$f":"IF(ЗАЯВКА!I467=\"проектирование\",ЗАЯВКА!K467,0)","v":0},{"$f":"IF(ЗАЯВКА!I467=\"строительно-монтажные работы\",ЗАЯВКА!K467,0)","v":0},{"$f":"IF(ЗАЯВКА!N467=\"да\",ЗАЯВКА!K467,0)","v":0}]
[{"$f":"IF(ЗАЯВКА!I468=\"проектирование\",ЗАЯВКА!K468,0)","v":0},{"$f":"IF(ЗАЯВКА!I468=\"строительно-монтажные работы\",ЗАЯВКА!K468,0)","v":0},{"$f":"IF(ЗАЯВКА!N468=\"да\",ЗАЯВКА!K468,0)","v":0}]
[{"$f":"IF(ЗАЯВКА!I469=\"проектирование\",ЗАЯВКА!K469,0)","v":0},{"$f":"IF(ЗАЯВКА!I469=\"строительно-монтажные работы\",ЗАЯВКА!K469,0)","v":0},{"$f":"IF(ЗАЯВКА!N469=\"да\",ЗАЯВКА!K469,0)","v":0}]
[{"$f":"IF(ЗАЯВКА!I470=\"проектирование\",ЗАЯВКА!K470,0)","v":0},{"$f":"IF(ЗАЯВКА!I470=\"строительно-монтажные работы\",ЗАЯВКА!K470,0)","v":0},{"$f":"IF(ЗАЯВКА!N470=\"да\",ЗАЯВКА!K470,0)","v":0}]
[{"$f":"IF(ЗАЯВКА!I471=\"проектирование\",ЗАЯВКА!K471,0)","v":0},{"$f":"IF(ЗАЯВКА!I471=\"строительно-монтажные работы\",ЗАЯВКА!K471,0)","v":0},{"$f":"IF(ЗАЯВКА!N471=\"да\",ЗАЯВКА!K471,0)","v":0}]
[{"$f":"IF(ЗАЯВКА!I472=\"проектирование\",ЗАЯВКА!K472,0)","v":0},{"$f":"IF(ЗАЯВКА!I472=\"строительно-монтажные работы\",ЗАЯВКА!K472,0)","v":0},{"$f":"IF(ЗАЯВКА!N472=\"да\",ЗАЯВКА!K472,0)","v":0}]
[{"$f":"IF(ЗАЯВКА!I473=\"проектирование\",ЗАЯВКА!K473,0)","v":0},{"$f":"IF(ЗАЯВКА!I473=\"строительно-монтажные работы\",ЗАЯВКА!K473,0)","v":0},{"$f":"IF(ЗАЯВКА!N473=\"да\",ЗАЯВКА!K473,0)","v":0}]
[{"$f":"IF(ЗАЯВКА!I474=\"проектирование\",ЗАЯВКА!K474,0)","v":0},{"$f":"IF(ЗАЯВКА!I474=\"строительно-монтажные работы\",ЗАЯВКА!K474,0)","v":0},{"$f":"IF(ЗАЯВКА!N474=\"да\",ЗАЯВКА!K474,0)","v":0}]
[{"$f":"IF(ЗАЯВКА!I475=\"проектирование\",ЗАЯВКА!K475,0)","v":0},{"$f":"IF(ЗАЯВКА!I475=\"строительно-монтажные работы\",ЗАЯВКА!K475,0)","v":0},{"$f":"IF(ЗАЯВКА!N475=\"да\",ЗАЯВКА!K475,0)","v":0}]
[{"$f":"IF(ЗАЯВКА!I476=\"проектирование\",ЗАЯВКА!K476,0)","v":0},{"$f":"IF(ЗАЯВКА!I476=\"строительно-монтажные работы\",ЗАЯВКА!K476,0)","v":0},{"$f":"IF(ЗАЯВКА!N476=\"да\",ЗАЯВКА!K476,0)","v":0}]
[{"$f":"IF(ЗАЯВКА!I477=\"проектирование\",ЗАЯВКА!K477,0)","v":0},{"$f":"IF(ЗАЯВКА!I477=\"строительно-монтажные работы\",ЗАЯВКА!K477,0)","v":0},{"$f":"IF(ЗАЯВКА!N477=\"да\",ЗАЯВКА!K477,0)","v":0}]
[{"$f":"IF(ЗАЯВКА!I478=\"проектирование\",ЗАЯВКА!K478,0)","v":0},{"$f":"IF(ЗАЯВКА!I478=\"строительно-монтажные работы\",ЗАЯВКА!K478,0)","v":0},{"$f":"IF(ЗАЯВКА!N478=\"да\",ЗАЯВКА!K478,0)","v":0}]
[{"$f":"IF(ЗАЯВКА!I479=\"проектирование\",ЗАЯВКА!K479,0)","v":0},{"$f":"IF(ЗАЯВКА!I479=\"строительно-монтажные работы\",ЗАЯВКА!K479,0)","v":0},{"$f":"IF(ЗАЯВКА!N479=\"да\",ЗАЯВКА!K479,0)","v":0}]
[{"$f":"IF(ЗАЯВКА!I480=\"проектирование\",ЗАЯВКА!K480,0)","v":0},{"$f":"IF(ЗАЯВКА!I480=\"строительно-монтажные работы\",ЗАЯВКА!K480,0)","v":0},{"$f":"IF(ЗАЯВКА!N480=\"да\",ЗАЯВКА!K480,0)","v":0}]
[{"$f":"IF(ЗАЯВКА!I481=\"проектирование\",ЗАЯВКА!K481,0)","v":0},{"$f":"IF(ЗАЯВКА!I481=\"строительно-монтажные работы\",ЗАЯВКА!K481,0)","v":0},{"$f":"IF(ЗАЯВКА!N481=\"да\",ЗАЯВКА!K481,0)","v":0}]
[{"$f":"IF(ЗАЯВКА!I482=\"проектирование\",ЗАЯВКА!K482,0)","v":0},{"$f":"IF(ЗАЯВКА!I482=\"строительно-монтажные работы\",ЗАЯВКА!K482,0)","v":0},{"$f":"IF(ЗАЯВКА!N482=\"да\",ЗАЯВКА!K482,0)","v":0}]
[{"$f":"IF(ЗАЯВКА!I483=\"проектирование\",ЗАЯВКА!K483,0)","v":0},{"$f":"IF(ЗАЯВКА!I483=\"строительно-монтажные работы\",ЗАЯВКА!K483,0)","v":0},{"$f":"IF(ЗАЯВКА!N483=\"да\",ЗАЯВКА!K483,0)","v":0}]
[{"$f":"IF(ЗАЯВКА!I484=\"проектирование\",ЗАЯВКА!K484,0)","v":0},{"$f":"IF(ЗАЯВКА!I484=\"строительно-монтажные работы\",ЗАЯВКА!K484,0)","v":0},{"$f":"IF(ЗАЯВКА!N484=\"да\",ЗАЯВКА!K484,0)","v":0}]
[{"$f":"IF(ЗАЯВКА!I485=\"проектирование\",ЗАЯВКА!K485,0)","v":0},{"$f":"IF(ЗАЯВКА!I485=\"строительно-монтажные работы\",ЗАЯВКА!K485,0)","v":0},{"$f":"IF(ЗАЯВКА!N485=\"да\",ЗАЯВКА!K485,0)","v":0}]
[{"$f":"IF(ЗАЯВКА!I486=\"проектирование\",ЗАЯВКА!K486,0)","v":0},{"$f":"IF(ЗАЯВКА!I486=\"строительно-монтажные работы\",ЗАЯВКА!K486,0)","v":0},{"$f":"IF(ЗАЯВКА!N486=\"да\",ЗАЯВКА!K486,0)","v":0}]
[{"$f":"IF(ЗАЯВКА!I487=\"проектирование\",ЗАЯВКА!K487,0)","v":0},{"$f":"IF(ЗАЯВКА!I487=\"строительно-монтажные работы\",ЗАЯВКА!K487,0)","v":0},{"$f":"IF(ЗАЯВКА!N487=\"да\",ЗАЯВКА!K487,0)","v":0}]
[{"$f":"IF(ЗАЯВКА!I488=\"проектирование\",ЗАЯВКА!K488,0)","v":0},{"$f":"IF(ЗАЯВКА!I488=\"строительно-монтажные работы\",ЗАЯВКА!K488,0)","v":0},{"$f":"IF(ЗАЯВКА!N488=\"да\",ЗАЯВКА!K488,0)","v":0}]
[{"$f":"IF(ЗАЯВКА!I489=\"проектирование\",ЗАЯВКА!K489,0)","v":0},{"$f":"IF(ЗАЯВКА!I489=\"строительно-монтажные работы\",ЗАЯВКА!K489,0)","v":0},{"$f":"IF(ЗАЯВКА!N489=\"да\",ЗАЯВКА!K489,0)","v":0}]
[{"$f":"IF(ЗАЯВКА!I490=\"проектирование\",ЗАЯВКА!K490,0)","v":0},{"$f":"IF(ЗАЯВКА!I490=\"строительно-монтажные работы\",ЗАЯВКА!K490,0)","v":0},{"$f":"IF(ЗАЯВКА!N490=\"да\",ЗАЯВКА!K490,0)","v":0}]
[{"$f":"IF(ЗАЯВКА!I491=\"проектирование\",ЗАЯВКА!K491,0)","v":0},{"$f":"IF(ЗАЯВКА!I491=\"строительно-монтажные работы\",ЗАЯВКА!K491,0)","v":0},{"$f":"IF(ЗАЯВКА!N491=\"да\",ЗАЯВКА!K491,0)","v":0}]
[{"$f":"IF(ЗАЯВКА!I492=\"проектирование\",ЗАЯВКА!K492,0)","v":0},{"$f":"IF(ЗАЯВКА!I492=\"строительно-монтажные работы\",ЗАЯВКА!K492,0)","v":0},{"$f":"IF(ЗАЯВКА!N492=\"да\",ЗАЯВКА!K492,0)","v":0}]
[{"$f":"IF(ЗАЯВКА!I493=\"проектирование\",ЗАЯВКА!K493,0)","v":0},{"$f":"IF(ЗАЯВКА!I493=\"строительно-монтажные работы\",ЗАЯВКА!K493,0)","v":0},{"$f":"IF(ЗАЯВКА!N493=\"да\",ЗАЯВКА!K493,0)","v":0}]
[{"$f":"IF(ЗАЯВКА!I494=\"проектирование\",ЗАЯВКА!K494,0)","v":0},{"$f":"IF(ЗАЯВКА!I494=\"строительно-монтажные работы\",ЗАЯВКА!K494,0)","v":0},{"$f":"IF(ЗАЯВКА!N494=\"да\",ЗАЯВКА!K494,0)","v":0}]
[{"$f":"IF(ЗАЯВКА!I495=\"проектирование\",ЗАЯВКА!K495,0)","v":0},{"$f":"IF(ЗАЯВКА!I495=\"строительно-монтажные работы\",ЗАЯВКА!K495,0)","v":0},{"$f":"IF(ЗАЯВКА!N495=\"да\",ЗАЯВКА!K495,0)","v":0}]
[{"$f":"IF(ЗАЯВКА!I496=\"проектирование\",ЗАЯВКА!K496,0)","v":0},{"$f":"IF(ЗАЯВКА!I496=\"строительно-монтажные работы\",ЗАЯВКА!K496,0)","v":0},{"$f":"IF(ЗАЯВКА!N496=\"да\",ЗАЯВКА!K496,0)","v":0}]
[{"$f":"IF(ЗАЯВКА!I497=\"проектирование\",ЗАЯВКА!K497,0)","v":0},{"$f":"IF(ЗАЯВКА!I497=\"строительно-монтажные работы\",ЗАЯВКА!K497,0)","v":0},{"$f":"IF(ЗАЯВКА!N497=\"да\",ЗАЯВКА!K497,0)","v":0}]
[{"$f":"IF(ЗАЯВКА!I498=\"проектирование\",ЗАЯВКА!K498,0)","v":0},{"$f":"IF(ЗАЯВКА!I498=\"строительно-монтажные работы\",ЗАЯВКА!K498,0)","v":0},{"$f":"IF(ЗАЯВКА!N498=\"да\",ЗАЯВКА!K498,0)","v":0}]
[{"$f":"IF(ЗАЯВКА!#REF!=\"проектирование\",ЗАЯВКА!#REF!,0)","v":{"$error":"#REF!"}},{"$f":"IF(ЗАЯВКА!#REF!=\"строительно-монтажные работы\",ЗАЯВКА!#REF!,0)","v":{"$error":"#REF!"}},{"$f":"IF(ЗАЯВКА!#REF!=\"да\",ЗАЯВКА!#REF!,0)","v":{"$error":"#REF!"}}]
[{"$f":"IF(ЗАЯВКА!I499=\"проектирование\",ЗАЯВКА!K499,0)","v":0},{"$f":"IF(ЗАЯВКА!I499=\"строительно-монтажные работы\",ЗАЯВКА!K499,0)","v":0},{"$f":"IF(ЗАЯВКА!N499=\"да\",ЗАЯВКА!K499,0)","v":0}]
[{"$f":"IF(ЗАЯВКА!I500=\"проектирование\",ЗАЯВКА!K500,0)","v":0},{"$f":"IF(ЗАЯВКА!I500=\"строительно-монтажные работы\",ЗАЯВКА!K500,0)","v":0},{"$f":"IF(ЗАЯВКА!N500=\"да\",ЗАЯВКА!K500,0)","v":0}]
[{"$f":"IF(ЗАЯВКА!I501=\"проектирование\",ЗАЯВКА!K501,0)","v":0},{"$f":"IF(ЗАЯВКА!I501=\"строительно-монтажные работы\",ЗАЯВКА!K501,0)","v":0},{"$f":"IF(ЗАЯВКА!N501=\"да\",ЗАЯВКА!K501,0)","v":0}]
[{"$f":"IF(ЗАЯВКА!I502=\"проектирование\",ЗАЯВКА!K502,0)","v":0},{"$f":"IF(ЗАЯВКА!I502=\"строительно-монтажные работы\",ЗАЯВКА!K502,0)","v":0},{"$f":"IF(ЗАЯВКА!N502=\"да\",ЗАЯВКА!K502,0)","v":0}]
[{"$f":"IF(ЗАЯВКА!I503=\"проектирование\",ЗАЯВКА!K503,0)","v":0},{"$f":"IF(ЗАЯВКА!I503=\"строительно-монтажные работы\",ЗАЯВКА!K503,0)","v":0},{"$f":"IF(ЗАЯВКА!N503=\"да\",ЗАЯВКА!K503,0)","v":0}]
[{"$f":"IF(ЗАЯВКА!I504=\"проектирование\",ЗАЯВКА!K504,0)","v":0},{"$f":"IF(ЗАЯВКА!I504=\"строительно-монтажные работы\",ЗАЯВКА!K504,0)","v":0},{"$f":"IF(ЗАЯВКА!N504=\"да\",ЗАЯВКА!K504,0)","v":0}]
[{"$f":"IF(ЗАЯВКА!I505=\"проектирование\",ЗАЯВКА!K505,0)","v":0},{"$f":"IF(ЗАЯВКА!I505=\"строительно-монтажные работы\",ЗАЯВКА!K505,0)","v":0},{"$f":"IF(ЗАЯВКА!N505=\"да\",ЗАЯВКА!K505,0)","v":0}]
[{"$f":"IF(ЗАЯВКА!I506=\"проектирование\",ЗАЯВКА!K506,0)","v":0},{"$f":"IF(ЗАЯВКА!I506=\"строительно-монтажные работы\",ЗАЯВКА!K506,0)","v":0},{"$f":"IF(ЗАЯВКА!N506=\"да\",ЗАЯВКА!K506,0)","v":0}]
[{"$f":"IF(ЗАЯВКА!I507=\"проектирование\",ЗАЯВКА!K507,0)","v":0},{"$f":"IF(ЗАЯВКА!I507=\"строительно-монтажные работы\",ЗАЯВКА!K507,0)","v":0},{"$f":"IF(ЗАЯВКА!N507=\"да\",ЗАЯВКА!K507,0)","v":0}]
[{"$f":"IF(ЗАЯВКА!I508=\"проектирование\",ЗАЯВКА!K508,0)","v":0},{"$f":"IF(ЗАЯВКА!I508=\"строительно-монтажные работы\",ЗАЯВКА!K508,0)","v":0},{"$f":"IF(ЗАЯВКА!N508=\"да\",ЗАЯВКА!K508,0)","v":0}]
[{"$f":"IF(ЗАЯВКА!I509=\"проектирование\",ЗАЯВКА!K509,0)","v":0},{"$f":"IF(ЗАЯВКА!I509=\"строительно-монтажные работы\",ЗАЯВКА!K509,0)","v":0},{"$f":"IF(ЗАЯВКА!N509=\"да\",ЗАЯВКА!K509,0)","v":0}]
[{"$f":"IF(ЗАЯВКА!I510=\"проектирование\",ЗАЯВКА!K510,0)","v":0},{"$f":"IF(ЗАЯВКА!I510=\"строительно-монтажные работы\",ЗАЯВКА!K510,0)","v":0},{"$f":"IF(ЗАЯВКА!N510=\"да\",ЗАЯВКА!K510,0)","v":0}]
[{"$f":"IF(ЗАЯВКА!I511=\"проектирование\",ЗАЯВКА!K511,0)","v":0},{"$f":"IF(ЗАЯВКА!I511=\"строительно-монтажные работы\",ЗАЯВКА!K511,0)","v":0},{"$f":"IF(ЗАЯВКА!N511=\"да\",ЗАЯВКА!K511,0)","v":0}]
[{"$f":"IF(ЗАЯВКА!I512=\"проектирование\",ЗАЯВКА!K512,0)","v":0},{"$f":"IF(ЗАЯВКА!I512=\"строительно-монтажные работы\",ЗАЯВКА!K512,0)","v":0},{"$f":"IF(ЗАЯВКА!N512=\"да\",ЗАЯВКА!K512,0)","v":0}]
[{"$f":"IF(ЗАЯВКА!I513=\"проектирование\",ЗАЯВКА!K513,0)","v":0},{"$f":"IF(ЗАЯВКА!I513=\"строительно-монтажные работы\",ЗАЯВКА!K513,0)","v":0},{"$f":"IF(ЗАЯВКА!N513=\"да\",ЗАЯВКА!K513,0)","v":0}]
[{"$f":"IF(ЗАЯВКА!I514=\"проектирование\",ЗАЯВКА!K514,0)","v":0},{"$f":"IF(ЗАЯВКА!I514=\"строительно-монтажные работы\",ЗАЯВКА!K514,0)","v":0},{"$f":"IF(ЗАЯВКА!N514=\"да\",ЗАЯВКА!K514,0)","v":0}]
[{"$f":"IF(ЗАЯВКА!I515=\"проектирование\",ЗАЯВКА!K515,0)","v":0},{"$f":"IF(ЗАЯВКА!I515=\"строительно-монтажные работы\",ЗАЯВКА!K515,0)","v":0},{"$f":"IF(ЗАЯВКА!N515=\"да\",ЗАЯВКА!K515,0)","v":0}]
[{"$f":"IF(ЗАЯВКА!I516=\"проектирование\",ЗАЯВКА!K516,0)","v":0},{"$f":"IF(ЗАЯВКА!I516=\"строительно-монтажные работы\",ЗАЯВКА!K516,0)","v":0},{"$f":"IF(ЗАЯВКА!N516=\"да\",ЗАЯВКА!K516,0)","v":0}]
[{"$f":"IF(ЗАЯВКА!I517=\"проектирование\",ЗАЯВКА!K517,0)","v":0},{"$f":"IF(ЗАЯВКА!I517=\"строительно-монтажные работы\",ЗАЯВКА!K517,0)","v":0},{"$f":"IF(ЗАЯВКА!N517=\"да\",ЗАЯВКА!K517,0)","v":0}]
[{"$f":"IF(ЗАЯВКА!I518=\"проектирование\",ЗАЯВКА!K518,0)","v":0},{"$f":"IF(ЗАЯВКА!I518=\"строительно-монтажные работы\",ЗАЯВКА!K518,0)","v":0},{"$f":"IF(ЗАЯВКА!N518=\"да\",ЗАЯВКА!K518,0)","v":0}]
[{"$f":"IF(ЗАЯВКА!I519=\"проектирование\",ЗАЯВКА!K519,0)","v":0},{"$f":"IF(ЗАЯВКА!I519=\"строительно-монтажные работы\",ЗАЯВКА!K519,0)","v":0},{"$f":"IF(ЗАЯВКА!N519=\"да\",ЗАЯВКА!K519,0)","v":0}]
[{"$f":"IF(ЗАЯВКА!I520=\"проектирование\",ЗАЯВКА!K520,0)","v":0},{"$f":"IF(ЗАЯВКА!I520=\"строительно-монтажные работы\",ЗАЯВКА!K520,0)","v":0},{"$f":"IF(ЗАЯВКА!N520=\"да\",ЗАЯВКА!K520,0)","v":0}]
[{"$f":"IF(ЗАЯВКА!I521=\"проектирование\",ЗАЯВКА!K521,0)","v":0},{"$f":"IF(ЗАЯВКА!I521=\"строительно-монтажные работы\",ЗАЯВКА!K521,0)","v":0},{"$f":"IF(ЗАЯВКА!N521=\"да\",ЗАЯВКА!K521,0)","v":0}]
[{"$f":"IF(ЗАЯВКА!I522=\"проектирование\",ЗАЯВКА!K522,0)","v":0},{"$f":"IF(ЗАЯВКА!I522=\"строительно-монтажные работы\",ЗАЯВКА!K522,0)","v":0},{"$f":"IF(ЗАЯВКА!N522=\"да\",ЗАЯВКА!K522,0)","v":0}]
[{"$f":"IF(ЗАЯВКА!I523=\"проектирование\",ЗАЯВКА!K523,0)","v":0},{"$f":"IF(ЗАЯВКА!I523=\"строительно-монтажные работы\",ЗАЯВКА!K523,0)","v":0},{"$f":"IF(ЗАЯВКА!N523=\"да\",ЗАЯВКА!K523,0)","v":0}]
[{"$f":"IF(ЗАЯВКА!I524=\"проектирование\",ЗАЯВКА!K524,0)","v":0},{"$f":"IF(ЗАЯВКА!I524=\"строительно-монтажные работы\",ЗАЯВКА!K524,0)","v":0},{"$f":"IF(ЗАЯВКА!N524=\"да\",ЗАЯВКА!K524,0)","v":0}]
[{"$f":"IF(ЗАЯВКА!I525=\"проектирование\",ЗАЯВКА!K525,0)","v":0},{"$f":"IF(ЗАЯВКА!I525=\"строительно-монтажные работы\",ЗАЯВКА!K525,0)","v":0},{"$f":"IF(ЗАЯВКА!N525=\"да\",ЗАЯВКА!K525,0)","v":0}]
[{"$f":"IF(ЗАЯВКА!I526=\"проектирование\",ЗАЯВКА!K526,0)","v":0},{"$f":"IF(ЗАЯВКА!I526=\"строительно-монтажные работы\",ЗАЯВКА!K526,0)","v":0},{"$f":"IF(ЗАЯВКА!N526=\"да\",ЗАЯВКА!K526,0)","v":0}]
[{"$f":"IF(ЗАЯВКА!I527=\"проектирование\",ЗАЯВКА!K527,0)","v":0},{"$f":"IF(ЗАЯВКА!I527=\"строительно-монтажные работы\",ЗАЯВКА!K527,0)","v":0},{"$f":"IF(ЗАЯВКА!N527=\"да\",ЗАЯВКА!K527,0)","v":0}]
[{"$f":"IF(ЗАЯВКА!I528=\"проектирование\",ЗАЯВКА!K528,0)","v":0},{"$f":"IF(ЗАЯВКА!I528=\"строительно-монтажные работы\",ЗАЯВКА!K528,0)","v":0},{"$f":"IF(ЗАЯВКА!N528=\"да\",ЗАЯВКА!K528,0)","v":0}]
[{"$f":"IF(ЗАЯВКА!I529=\"проектирование\",ЗАЯВКА!K529,0)","v":0},{"$f":"IF(ЗАЯВКА!I529=\"строительно-монтажные работы\",ЗАЯВКА!K529,0)","v":0},{"$f":"IF(ЗАЯВКА!N529=\"да\",ЗАЯВКА!K529,0)","v":0}]
[{"$f":"IF(ЗАЯВКА!I530=\"проектирование\",ЗАЯВКА!K530,0)","v":0},{"$f":"IF(ЗАЯВКА!I530=\"строительно-монтажные работы\",ЗАЯВКА!K530,0)","v":0},{"$f":"IF(ЗАЯВКА!N530=\"да\",ЗАЯВКА!K530,0)","v":0}]
[{"$f":"IF(ЗАЯВКА!I531=\"проектирование\",ЗАЯВКА!K531,0)","v":0},{"$f":"IF(ЗАЯВКА!I531=\"строительно-монтажные работы\",ЗАЯВКА!K531,0)","v":0},{"$f":"IF(ЗАЯВКА!N531=\"да\",ЗАЯВКА!K531,0)","v":0}]
[{"$f":"IF(ЗАЯВКА!I532=\"проектирование\",ЗАЯВКА!K532,0)","v":0},{"$f":"IF(ЗАЯВКА!I532=\"строительно-монтажные работы\",ЗАЯВКА!K532,0)","v":0},{"$f":"IF(ЗАЯВКА!N532=\"да\",ЗАЯВКА!K532,0)","v":0}]
[{"$f":"IF(ЗАЯВКА!I533=\"проектирование\",ЗАЯВКА!K533,0)","v":0},{"$f":"IF(ЗАЯВКА!I533=\"строительно-монтажные работы\",ЗАЯВКА!K533,0)","v":0},{"$f":"IF(ЗАЯВКА!N533=\"да\",ЗАЯВКА!K533,0)","v":0}]
[{"$f":"IF(ЗАЯВКА!I534=\"проектирование\",ЗАЯВКА!K534,0)","v":0},{"$f":"IF(ЗАЯВКА!I534=\"строительно-монтажные работы\",ЗАЯВКА!K534,0)","v":0},{"$f":"IF(ЗАЯВКА!N534=\"да\",ЗАЯВКА!K534,0)","v":0}]
[{"$f":"IF(ЗАЯВКА!I535=\"проектирование\",ЗАЯВКА!K535,0)","v":0},{"$f":"IF(ЗАЯВКА!I535=\"строительно-монтажные работы\",ЗАЯВКА!K535,0)","v":0},{"$f":"IF(ЗАЯВКА!N535=\"да\",ЗАЯВКА!K535,0)","v":0}]
[{"$f":"IF(ЗАЯВКА!I536=\"проектирование\",ЗАЯВКА!K536,0)","v":0},{"$f":"IF(ЗАЯВКА!I536=\"строительно-монтажные работы\",ЗАЯВКА!K536,0)","v":0},{"$f":"IF(ЗАЯВКА!N536=\"да\",ЗАЯВКА!K536,0)","v":0}]
[{"$f":"IF(ЗАЯВКА!I537=\"проектирование\",ЗАЯВКА!K537,0)","v":0},{"$f":"IF(ЗАЯВКА!I537=\"строительно-монтажные работы\",ЗАЯВКА!K537,0)","v":0},{"$f":"IF(ЗАЯВКА!N537=\"да\",ЗАЯВКА!K537,0)","v":0}]
[{"$f":"IF(ЗАЯВКА!I538=\"проектирование\",ЗАЯВКА!K538,0)","v":0},{"$f":"IF(ЗАЯВКА!I538=\"строительно-монтажные работы\",ЗАЯВКА!K538,0)","v":0},{"$f":"IF(ЗАЯВКА!N538=\"да\",ЗАЯВКА!K538,0)","v":0}]
[{"$f":"IF(ЗАЯВКА!I539=\"проектирование\",ЗАЯВКА!K539,0)","v":0},{"$f":"IF(ЗАЯВКА!I539=\"строительно-монтажные работы\",ЗАЯВКА!K539,0)","v":0},{"$f":"IF(ЗАЯВКА!N539=\"да\",ЗАЯВКА!K539,0)","v":0}]
[{"$f":"IF(ЗАЯВКА!I540=\"проектирование\",ЗАЯВКА!K540,0)","v":0},{"$f":"IF(ЗАЯВКА!I540=\"строительно-монтажные работы\",ЗАЯВКА!K540,0)","v":0},{"$f":"IF(ЗАЯВКА!N540=\"да\",ЗАЯВКА!K540,0)","v":0}]
[{"$f":"IF(ЗАЯВКА!I541=\"проектирование\",ЗАЯВКА!K541,0)","v":0},{"$f":"IF(ЗАЯВКА!I541=\"строительно-монтажные работы\",ЗАЯВКА!K541,0)","v":0},{"$f":"IF(ЗАЯВКА!N541=\"да\",ЗАЯВКА!K541,0)","v":0}]
[{"$f":"IF(ЗАЯВКА!I542=\"проектирование\",ЗАЯВКА!K542,0)","v":0},{"$f":"IF(ЗАЯВКА!I542=\"строительно-монтажные работы\",ЗАЯВКА!K542,0)","v":0},{"$f":"IF(ЗАЯВКА!N542=\"да\",ЗАЯВКА!K542,0)","v":0}]
[{"$f":"IF(ЗАЯВКА!I543=\"проектирование\",ЗАЯВКА!K543,0)","v":0},{"$f":"IF(ЗАЯВКА!I543=\"строительно-монтажные работы\",ЗАЯВКА!K543,0)","v":0},{"$f":"IF(ЗАЯВКА!N543=\"да\",ЗАЯВКА!K543,0)","v":0}]
[{"$f":"IF(ЗАЯВКА!I544=\"проектирование\",ЗАЯВКА!K544,0)","v":0},{"$f":"IF(ЗАЯВКА!I544=\"строительно-монтажные работы\",ЗАЯВКА!K544,0)","v":0},{"$f":"IF(ЗАЯВКА!N544=\"да\",ЗАЯВКА!K544,0)","v":0}]
[{"$f":"IF(ЗАЯВКА!I545=\"проектирование\",ЗАЯВКА!K545,0)","v":0},{"$f":"IF(ЗАЯВКА!I545=\"строительно-монтажные работы\",ЗАЯВКА!K545,0)","v":0},{"$f":"IF(ЗАЯВКА!N545=\"да\",ЗАЯВКА!K545,0)","v":0}]
[{"$f":"IF(ЗАЯВКА!I546=\"проектирование\",ЗАЯВКА!K546,0)","v":0},{"$f":"IF(ЗАЯВКА!I546=\"строительно-монтажные работы\",ЗАЯВКА!K546,0)","v":0},{"$f":"IF(ЗАЯВКА!N546=\"да\",ЗАЯВКА!K546,0)","v":0}]
[{"$f":"IF(ЗАЯВКА!I547=\"проектирование\",ЗАЯВКА!K547,0)","v":0},{"$f":"IF(ЗАЯВКА!I547=\"строительно-монтажные работы\",ЗАЯВКА!K547,0)","v":0},{"$f":"IF(ЗАЯВКА!N547=\"да\",ЗАЯВКА!K547,0)","v":0}]
[{"$f":"IF(ЗАЯВКА!I548=\"проектирование\",ЗАЯВКА!K548,0)","v":0},{"$f":"IF(ЗАЯВКА!I548=\"строительно-монтажные работы\",ЗАЯВКА!K548,0)","v":0},{"$f":"IF(ЗАЯВКА!N548=\"да\",ЗАЯВКА!K548,0)","v":0}]
[{"$f":"IF(ЗАЯВКА!I549=\"проектирование\",ЗАЯВКА!K549,0)","v":0},{"$f":"IF(ЗАЯВКА!I549=\"строительно-монтажные работы\",ЗАЯВКА!K549,0)","v":0},{"$f":"IF(ЗАЯВКА!N549=\"да\",ЗАЯВКА!K549,0)","v":0}]
[{"$f":"IF(ЗАЯВКА!I550=\"проектирование\",ЗАЯВКА!K550,0)","v":0},{"$f":"IF(ЗАЯВКА!I550=\"строительно-монтажные работы\",ЗАЯВКА!K550,0)","v":0},{"$f":"IF(ЗАЯВКА!N550=\"да\",ЗАЯВКА!K550,0)","v":0}]
[{"$f":"IF(ЗАЯВКА!I551=\"проектирование\",ЗАЯВКА!K551,0)","v":0},{"$f":"IF(ЗАЯВКА!I551=\"строительно-монтажные работы\",ЗАЯВКА!K551,0)","v":0},{"$f":"IF(ЗАЯВКА!N551=\"да\",ЗАЯВКА!K551,0)","v":0}]
[{"$f":"IF(ЗАЯВКА!I552=\"проектирование\",ЗАЯВКА!K552,0)","v":0},{"$f":"IF(ЗАЯВКА!I552=\"строительно-монтажные работы\",ЗАЯВКА!K552,0)","v":0},{"$f":"IF(ЗАЯВКА!N552=\"да\",ЗАЯВКА!K552,0)","v":0}]
[{"$f":"IF(ЗАЯВКА!I553=\"проектирование\",ЗАЯВКА!K553,0)","v":0},{"$f":"IF(ЗАЯВКА!I553=\"строительно-монтажные работы\",ЗАЯВКА!K553,0)","v":0},{"$f":"IF(ЗАЯВКА!N553=\"да\",ЗАЯВКА!K553,0)","v":0}]
[{"$f":"IF(ЗАЯВКА!I554=\"проектирование\",ЗАЯВКА!K554,0)","v":0},{"$f":"IF(ЗАЯВКА!I554=\"строительно-монтажные работы\",ЗАЯВКА!K554,0)","v":0},{"$f":"IF(ЗАЯВКА!N554=\"да\",ЗАЯВКА!K554,0)","v":0}]
[{"$f":"IF(ЗАЯВКА!I555=\"проектирование\",ЗАЯВКА!K555,0)","v":0},{"$f":"IF(ЗАЯВКА!I555=\"строительно-монтажные работы\",ЗАЯВКА!K555,0)","v":0},{"$f":"IF(ЗАЯВКА!N555=\"да\",ЗАЯВКА!K555,0)","v":0}]
[{"$f":"IF(ЗАЯВКА!I556=\"проектирование\",ЗАЯВКА!K556,0)","v":0},{"$f":"IF(ЗАЯВКА!I556=\"строительно-монтажные работы\",ЗАЯВКА!K556,0)","v":0},{"$f":"IF(ЗАЯВКА!N556=\"да\",ЗАЯВКА!K556,0)","v":0}]
[{"$f":"IF(ЗАЯВКА!I557=\"проектирование\",ЗАЯВКА!K557,0)","v":0},{"$f":"IF(ЗАЯВКА!I557=\"строительно-монтажные работы\",ЗАЯВКА!K557,0)","v":0},{"$f":"IF(ЗАЯВКА!N557=\"да\",ЗАЯВКА!K557,0)","v":0}]
[{"$f":"IF(ЗАЯВКА!I558=\"проектирование\",ЗАЯВКА!K558,0)","v":0},{"$f":"IF(ЗАЯВКА!I558=\"строительно-монтажные работы\",ЗАЯВКА!K558,0)","v":0},{"$f":"IF(ЗАЯВКА!N558=\"да\",ЗАЯВКА!K558,0)","v":0}]
[{"$f":"IF(ЗАЯВКА!I559=\"проектирование\",ЗАЯВКА!K559,0)","v":0},{"$f":"IF(ЗАЯВКА!I559=\"строительно-монтажные работы\",ЗАЯВКА!K559,0)","v":0},{"$f":"IF(ЗАЯВКА!N559=\"да\",ЗАЯВКА!K559,0)","v":0}]
[{"$f":"IF(ЗАЯВКА!I560=\"проектирование\",ЗАЯВКА!K560,0)","v":0},{"$f":"IF(ЗАЯВКА!I560=\"строительно-монтажные работы\",ЗАЯВКА!K560,0)","v":0},{"$f":"IF(ЗАЯВКА!N560=\"да\",ЗАЯВКА!K560,0)","v":0}]
[{"$f":"IF(ЗАЯВКА!I561=\"проектирование\",ЗАЯВКА!K561,0)","v":0},{"$f":"IF(ЗАЯВКА!I561=\"строительно-монтажные работы\",ЗАЯВКА!K561,0)","v":0},{"$f":"IF(ЗАЯВКА!N561=\"да\",ЗАЯВКА!K561,0)","v":0}]
[{"$f":"IF(ЗАЯВКА!I562=\"проектирование\",ЗАЯВКА!K562,0)","v":0},{"$f":"IF(ЗАЯВКА!I562=\"строительно-монтажные работы\",ЗАЯВКА!K562,0)","v":0},{"$f":"IF(ЗАЯВКА!N562=\"да\",ЗАЯВКА!K562,0)","v":0}]
[{"$f":"IF(ЗАЯВКА!I563=\"проектирование\",ЗАЯВКА!K563,0)","v":0},{"$f":"IF(ЗАЯВКА!I563=\"строительно-монтажные работы\",ЗАЯВКА!K563,0)","v":0},{"$f":"IF(ЗАЯВКА!N563=\"да\",ЗАЯВКА!K563,0)","v":0}]
[{"$f":"IF(ЗАЯВКА!I564=\"проектирование\",ЗАЯВКА!K564,0)","v":0},{"$f":"IF(ЗАЯВКА!I564=\"строительно-монтажные работы\",ЗАЯВКА!K564,0)","v":0},{"$f":"IF(ЗАЯВКА!N564=\"да\",ЗАЯВКА!K564,0)","v":0}]
[{"$f":"IF(ЗАЯВКА!I565=\"проектирование\",ЗАЯВКА!K565,0)","v":0},{"$f":"IF(ЗАЯВКА!I565=\"строительно-монтажные работы\",ЗАЯВКА!K565,0)","v":0},{"$f":"IF(ЗАЯВКА!N565=\"да\",ЗАЯВКА!K565,0)","v":0}]
[{"$f":"IF(ЗАЯВКА!I566=\"проектирование\",ЗАЯВКА!K566,0)","v":0},{"$f":"IF(ЗАЯВКА!I566=\"строительно-монтажные работы\",ЗАЯВКА!K566,0)","v":0},{"$f":"IF(ЗАЯВКА!N566=\"да\",ЗАЯВКА!K566,0)","v":0}]
[{"$f":"IF(ЗАЯВКА!I567=\"проектирование\",ЗАЯВКА!K567,0)","v":0},{"$f":"IF(ЗАЯВКА!I567=\"строительно-монтажные работы\",ЗАЯВКА!K567,0)","v":0},{"$f":"IF(ЗАЯВКА!N567=\"да\",ЗАЯВКА!K567,0)","v":0}]
[{"$f":"IF(ЗАЯВКА!I568=\"проектирование\",ЗАЯВКА!K568,0)","v":0},{"$f":"IF(ЗАЯВКА!I568=\"строительно-монтажные работы\",ЗАЯВКА!K568,0)","v":0},{"$f":"IF(ЗАЯВКА!N568=\"да\",ЗАЯВКА!K568,0)","v":0}]
[{"$f":"IF(ЗАЯВКА!I569=\"проектирование\",ЗАЯВКА!K569,0)","v":0},{"$f":"IF(ЗАЯВКА!I569=\"строительно-монтажные работы\",ЗАЯВКА!K569,0)","v":0},{"$f":"IF(ЗАЯВКА!N569=\"да\",ЗАЯВКА!K569,0)","v":0}]
[{"$f":"IF(ЗАЯВКА!I570=\"проектирование\",ЗАЯВКА!K570,0)","v":0},{"$f":"IF(ЗАЯВКА!I570=\"строительно-монтажные работы\",ЗАЯВКА!K570,0)","v":0},{"$f":"IF(ЗАЯВКА!N570=\"да\",ЗАЯВКА!K570,0)","v":0}]
[{"$f":"IF(ЗАЯВКА!I571=\"проектирование\",ЗАЯВКА!K571,0)","v":0},{"$f":"IF(ЗАЯВКА!I571=\"строительно-монтажные работы\",ЗАЯВКА!K571,0)","v":0},{"$f":"IF(ЗАЯВКА!N571=\"да\",ЗАЯВКА!K571,0)","v":0}]
[{"$f":"IF(ЗАЯВКА!I572=\"проектирование\",ЗАЯВКА!K572,0)","v":0},{"$f":"IF(ЗАЯВКА!I572=\"строительно-монтажные работы\",ЗАЯВКА!K572,0)","v":0},{"$f":"IF(ЗАЯВКА!N572=\"да\",ЗАЯВКА!K572,0)","v":0}]
[{"$f":"IF(ЗАЯВКА!I573=\"проектирование\",ЗАЯВКА!K573,0)","v":0},{"$f":"IF(ЗАЯВКА!I573=\"строительно-монтажные работы\",ЗАЯВКА!K573,0)","v":0},{"$f":"IF(ЗАЯВКА!N573=\"да\",ЗАЯВКА!K573,0)","v":0}]
[{"$f":"IF(ЗАЯВКА!I574=\"проектирование\",ЗАЯВКА!K574,0)","v":0},{"$f":"IF(ЗАЯВКА!I574=\"строительно-монтажные работы\",ЗАЯВКА!K574,0)","v":0},{"$f":"IF(ЗАЯВКА!N574=\"да\",ЗАЯВКА!K574,0)","v":0}]
[{"$f":"IF(ЗАЯВКА!I575=\"проектирование\",ЗАЯВКА!K575,0)","v":0},{"$f":"IF(ЗАЯВКА!I575=\"строительно-монтажные работы\",ЗАЯВКА!K575,0)","v":0},{"$f":"IF(ЗАЯВКА!N575=\"да\",ЗАЯВКА!K575,0)","v":0}]
[{"$f":"IF(ЗАЯВКА!I576=\"проектирование\",ЗАЯВКА!K576,0)","v":0},{"$f":"IF(ЗАЯВКА!I576=\"строительно-монтажные работы\",ЗАЯВКА!K576,0)","v":0},{"$f":"IF(ЗАЯВКА!N576=\"да\",ЗАЯВКА!K576,0)","v":0}]
[{"$f":"IF(ЗАЯВКА!#REF!=\"проектирование\",ЗАЯВКА!#REF!,0)","v":{"$error":"#REF!"}},{"$f":"IF(ЗАЯВКА!#REF!=\"строительно-монтажные работы\",ЗАЯВКА!#REF!,0)","v":{"$error":"#REF!"}},{"$f":"IF(ЗАЯВКА!#REF!=\"да\",ЗАЯВКА!#REF!,0)","v":{"$error":"#REF!"}}]
[{"$f":"IF(ЗАЯВКА!#REF!=\"проектирование\",ЗАЯВКА!#REF!,0)","v":{"$error":"#REF!"}},{"$f":"IF(ЗАЯВКА!#REF!=\"строительно-монтажные работы\",ЗАЯВКА!#REF!,0)","v":{"$error":"#REF!"}},{"$f":"IF(ЗАЯВКА!#REF!=\"да\",ЗАЯВКА!#REF!,0)","v":{"$error":"#REF!"}}]
[{"$f":"IF(ЗАЯВКА!#REF!=\"проектирование\",ЗАЯВКА!#REF!,0)","v":{"$error":"#REF!"}},{"$f":"IF(ЗАЯВКА!#REF!=\"строительно-монтажные работы\",ЗАЯВКА!#REF!,0)","v":{"$error":"#REF!"}},{"$f":"IF(ЗАЯВКА!#REF!=\"да\",ЗАЯВКА!#REF!,0)","v":{"$error":"#REF!"}}]
[{"$f":"IF(ЗАЯВКА!#REF!=\"проектирование\",ЗАЯВКА!#REF!,0)","v":{"$error":"#REF!"}},{"$f":"IF(ЗАЯВКА!#REF!=\"строительно-монтажные работы\",ЗАЯВКА!#REF!,0)","v":{"$error":"#REF!"}},{"$f":"IF(ЗАЯВКА!#REF!=\"да\",ЗАЯВКА!#REF!,0)","v":{"$error":"#REF!"}}]
[{"$f":"IF(ЗАЯВКА!#REF!=\"проектирование\",ЗАЯВКА!#REF!,0)","v":{"$error":"#REF!"}},{"$f":"IF(ЗАЯВКА!#REF!=\"строительно-монтажные работы\",ЗАЯВКА!#REF!,0)","v":{"$error":"#REF!"}},{"$f":"IF(ЗАЯВКА!#REF!=\"да\",ЗАЯВКА!#REF!,0)","v":{"$error":"#REF!"}}]
[{"$f":"IF(ЗАЯВКА!#REF!=\"проектирование\",ЗАЯВКА!#REF!,0)","v":{"$error":"#REF!"}},{"$f":"IF(ЗАЯВКА!#REF!=\"строительно-монтажные работы\",ЗАЯВКА!#REF!,0)","v":{"$error":"#REF!"}},{"$f":"IF(ЗАЯВКА!#REF!=\"да\",ЗАЯВКА!#REF!,0)","v":{"$error":"#REF!"}}]
[{"$f":"IF(ЗАЯВКА!I577=\"проектирование\",ЗАЯВКА!K577,0)","v":0},{"$f":"IF(ЗАЯВКА!I577=\"строительно-монтажные работы\",ЗАЯВКА!K577,0)","v":0},{"$f":"IF(ЗАЯВКА!N577=\"да\",ЗАЯВКА!K577,0)","v":0}]
[{"$f":"IF(ЗАЯВКА!I578=\"проектирование\",ЗАЯВКА!K578,0)","v":0},{"$f":"IF(ЗАЯВКА!I578=\"строительно-монтажные работы\",ЗАЯВКА!K578,0)","v":0},{"$f":"IF(ЗАЯВКА!N578=\"да\",ЗАЯВКА!K578,0)","v":0}]
[{"$f":"IF(ЗАЯВКА!I579=\"проектирование\",ЗАЯВКА!K579,0)","v":0},{"$f":"IF(ЗАЯВКА!I579=\"строительно-монтажные работы\",ЗАЯВКА!K579,0)","v":0},{"$f":"IF(ЗАЯВКА!N579=\"да\",ЗАЯВКА!K579,0)","v":0}]
[{"$f":"IF(ЗАЯВКА!I580=\"проектирование\",ЗАЯВКА!K580,0)","v":0},{"$f":"IF(ЗАЯВКА!I580=\"строительно-монтажные работы\",ЗАЯВКА!K580,0)","v":0},{"$f":"IF(ЗАЯВКА!N580=\"да\",ЗАЯВКА!K580,0)","v":0}]
[{"$f":"IF(ЗАЯВКА!I581=\"проектирование\",ЗАЯВКА!K581,0)","v":0},{"$f":"IF(ЗАЯВКА!I581=\"строительно-монтажные работы\",ЗАЯВКА!K581,0)","v":0},{"$f":"IF(ЗАЯВКА!N581=\"да\",ЗАЯВКА!K581,0)","v":0}]
[{"$f":"IF(ЗАЯВКА!I582=\"проектирование\",ЗАЯВКА!K582,0)","v":0},{"$f":"IF(ЗАЯВКА!I582=\"строительно-монтажные работы\",ЗАЯВКА!K582,0)","v":0},{"$f":"IF(ЗАЯВКА!N582=\"да\",ЗАЯВКА!K582,0)","v":0}]
[{"$f":"IF(ЗАЯВКА!I583=\"проектирование\",ЗАЯВКА!K583,0)","v":0},{"$f":"IF(ЗАЯВКА!I583=\"строительно-монтажные работы\",ЗАЯВКА!K583,0)","v":0},{"$f":"IF(ЗАЯВКА!N583=\"да\",ЗАЯВКА!K583,0)","v":0}]
[{"$f":"IF(ЗАЯВКА!I584=\"проектирование\",ЗАЯВКА!K584,0)","v":0},{"$f":"IF(ЗАЯВКА!I584=\"строительно-монтажные работы\",ЗАЯВКА!K584,0)","v":0},{"$f":"IF(ЗАЯВКА!N584=\"да\",ЗАЯВКА!K584,0)","v":0}]
[{"$f":"IF(ЗАЯВКА!I585=\"проектирование\",ЗАЯВКА!K585,0)","v":0},{"$f":"IF(ЗАЯВКА!I585=\"строительно-монтажные работы\",ЗАЯВКА!K585,0)","v":0},{"$f":"IF(ЗАЯВКА!N585=\"да\",ЗАЯВКА!K585,0)","v":0}]
[{"$f":"IF(ЗАЯВКА!I586=\"проектирование\",ЗАЯВКА!K586,0)","v":0},{"$f":"IF(ЗАЯВКА!I586=\"строительно-монтажные работы\",ЗАЯВКА!K586,0)","v":0},{"$f":"IF(ЗАЯВКА!N586=\"да\",ЗАЯВКА!K586,0)","v":0}]
[{"$f":"IF(ЗАЯВКА!I587=\"проектирование\",ЗАЯВКА!K587,0)","v":0},{"$f":"IF(ЗАЯВКА!I587=\"строительно-монтажные работы\",ЗАЯВКА!K587,0)","v":0},{"$f":"IF(ЗАЯВКА!N587=\"да\",ЗАЯВКА!K587,0)","v":0}]
[{"$f":"IF(ЗАЯВКА!I588=\"проектирование\",ЗАЯВКА!K588,0)","v":0},{"$f":"IF(ЗАЯВКА!I588=\"строительно-монтажные работы\",ЗАЯВКА!K588,0)","v":0},{"$f":"IF(ЗАЯВКА!N588=\"да\",ЗАЯВКА!K588,0)","v":0}]
[{"$f":"IF(ЗАЯВКА!I589=\"проектирование\",ЗАЯВКА!K589,0)","v":0},{"$f":"IF(ЗАЯВКА!I589=\"строительно-монтажные работы\",ЗАЯВКА!K589,0)","v":0},{"$f":"IF(ЗАЯВКА!N589=\"да\",ЗАЯВКА!K589,0)","v":0}]
[{"$f":"IF(ЗАЯВКА!I590=\"проектирование\",ЗАЯВКА!K590,0)","v":0},{"$f":"IF(ЗАЯВКА!I590=\"строительно-монтажные работы\",ЗАЯВКА!K590,0)","v":0},{"$f":"IF(ЗАЯВКА!N590=\"да\",ЗАЯВКА!K590,0)","v":0}]
[{"$f":"IF(ЗАЯВКА!I591=\"проектирование\",ЗАЯВКА!K591,0)","v":0},{"$f":"IF(ЗАЯВКА!I591=\"строительно-монтажные работы\",ЗАЯВКА!K591,0)","v":0},{"$f":"IF(ЗАЯВКА!N591=\"да\",ЗАЯВКА!K591,0)","v":0}]
[{"$f":"IF(ЗАЯВКА!I592=\"проектирование\",ЗАЯВКА!K592,0)","v":0},{"$f":"IF(ЗАЯВКА!I592=\"строительно-монтажные работы\",ЗАЯВКА!K592,0)","v":0},{"$f":"IF(ЗАЯВКА!N592=\"да\",ЗАЯВКА!K592,0)","v":0}]
[{"$f":"IF(ЗАЯВКА!I593=\"проектирование\",ЗАЯВКА!K593,0)","v":0},{"$f":"IF(ЗАЯВКА!I593=\"строительно-монтажные работы\",ЗАЯВКА!K593,0)","v":0},{"$f":"IF(ЗАЯВКА!N593=\"да\",ЗАЯВКА!K593,0)","v":0}]
[{"$f":"IF(ЗАЯВКА!I594=\"проектирование\",ЗАЯВКА!K594,0)","v":0},{"$f":"IF(ЗАЯВКА!I594=\"строительно-монтажные работы\",ЗАЯВКА!K594,0)","v":0},{"$f":"IF(ЗАЯВКА!N594=\"да\",ЗАЯВКА!K594,0)","v":0}]
[{"$f":"IF(ЗАЯВКА!I595=\"проектирование\",ЗАЯВКА!K595,0)","v":0},{"$f":"IF(ЗАЯВКА!I595=\"строительно-монтажные работы\",ЗАЯВКА!K595,0)","v":0},{"$f":"IF(ЗАЯВКА!N595=\"да\",ЗАЯВКА!K595,0)","v":0}]
[{"$f":"IF(ЗАЯВКА!I596=\"проектирование\",ЗАЯВКА!K596,0)","v":0},{"$f":"IF(ЗАЯВКА!I596=\"строительно-монтажные работы\",ЗАЯВКА!K596,0)","v":0},{"$f":"IF(ЗАЯВКА!N596=\"да\",ЗАЯВКА!K596,0)","v":0}]
[{"$f":"IF(ЗАЯВКА!I597=\"проектирование\",ЗАЯВКА!K597,0)","v":0},{"$f":"IF(ЗАЯВКА!I597=\"строительно-монтажные работы\",ЗАЯВКА!K597,0)","v":0},{"$f":"IF(ЗАЯВКА!N597=\"да\",ЗАЯВКА!K597,0)","v":0}]
[{"$f":"IF(ЗАЯВКА!I598=\"проектирование\",ЗАЯВКА!K598,0)","v":0},{"$f":"IF(ЗАЯВКА!I598=\"строительно-монтажные работы\",ЗАЯВКА!K598,0)","v":0},{"$f":"IF(ЗАЯВКА!N598=\"да\",ЗАЯВКА!K598,0)","v":0}]
[{"$f":"IF(ЗАЯВКА!I599=\"проектирование\",ЗАЯВКА!K599,0)","v":0},{"$f":"IF(ЗАЯВКА!I599=\"строительно-монтажные работы\",ЗАЯВКА!K599,0)","v":0},{"$f":"IF(ЗАЯВКА!N599=\"да\",ЗАЯВКА!K599,0)","v":0}]
[{"$f":"IF(ЗАЯВКА!I600=\"проектирование\",ЗАЯВКА!K600,0)","v":0},{"$f":"IF(ЗАЯВКА!I600=\"строительно-монтажные работы\",ЗАЯВКА!K600,0)","v":0},{"$f":"IF(ЗАЯВКА!N600=\"да\",ЗАЯВКА!K600,0)","v":0}]
[{"$f":"IF(ЗАЯВКА!I601=\"проектирование\",ЗАЯВКА!K601,0)","v":0},{"$f":"IF(ЗАЯВКА!I601=\"строительно-монтажные работы\",ЗАЯВКА!K601,0)","v":0},{"$f":"IF(ЗАЯВКА!N601=\"да\",ЗАЯВКА!K601,0)","v":0}]
[{"$f":"IF(ЗАЯВКА!I602=\"проектирование\",ЗАЯВКА!K602,0)","v":0},{"$f":"IF(ЗАЯВКА!I602=\"строительно-монтажные работы\",ЗАЯВКА!K602,0)","v":0},{"$f":"IF(ЗАЯВКА!N602=\"да\",ЗАЯВКА!K602,0)","v":0}]
[{"$f":"IF(ЗАЯВКА!I603=\"проектирование\",ЗАЯВКА!K603,0)","v":0},{"$f":"IF(ЗАЯВКА!I603=\"строительно-монтажные работы\",ЗАЯВКА!K603,0)","v":0},{"$f":"IF(ЗАЯВКА!N603=\"да\",ЗАЯВКА!K603,0)","v":0}]
[{"$f":"IF(ЗАЯВКА!I604=\"проектирование\",ЗАЯВКА!K604,0)","v":0},{"$f":"IF(ЗАЯВКА!I604=\"строительно-монтажные работы\",ЗАЯВКА!K604,0)","v":0},{"$f":"IF(ЗАЯВКА!N604=\"да\",ЗАЯВКА!K604,0)","v":0}]
[{"$f":"IF(ЗАЯВКА!I605=\"проектирование\",ЗАЯВКА!K605,0)","v":0},{"$f":"IF(ЗАЯВКА!I605=\"строительно-монтажные работы\",ЗАЯВКА!K605,0)","v":0},{"$f":"IF(ЗАЯВКА!N605=\"да\",ЗАЯВКА!K605,0)","v":0}]
[{"$f":"IF(ЗАЯВКА!I606=\"проектирование\",ЗАЯВКА!K606,0)","v":0},{"$f":"IF(ЗАЯВКА!I606=\"строительно-монтажные работы\",ЗАЯВКА!K606,0)","v":0},{"$f":"IF(ЗАЯВКА!N606=\"да\",ЗАЯВКА!K606,0)","v":0}]
[{"$f":"IF(ЗАЯВКА!I607=\"проектирование\",ЗАЯВКА!K607,0)","v":0},{"$f":"IF(ЗАЯВКА!I607=\"строительно-монтажные работы\",ЗАЯВКА!K607,0)","v":0},{"$f":"IF(ЗАЯВКА!N607=\"да\",ЗАЯВКА!K607,0)","v":0}]
[{"$f":"IF(ЗАЯВКА!I608=\"проектирование\",ЗАЯВКА!K608,0)","v":0},{"$f":"IF(ЗАЯВКА!I608=\"строительно-монтажные работы\",ЗАЯВКА!K608,0)","v":0},{"$f":"IF(ЗАЯВКА!N608=\"да\",ЗАЯВКА!K608,0)","v":0}]
[{"$f":"IF(ЗАЯВКА!I609=\"проектирование\",ЗАЯВКА!K609,0)","v":0},{"$f":"IF(ЗАЯВКА!I609=\"строительно-монтажные работы\",ЗАЯВКА!K609,0)","v":0},{"$f":"IF(ЗАЯВКА!N609=\"да\",ЗАЯВКА!K609,0)","v":0}]
[{"$f":"IF(ЗАЯВКА!I610=\"проектирование\",ЗАЯВКА!K610,0)","v":0},{"$f":"IF(ЗАЯВКА!I610=\"строительно-монтажные работы\",ЗАЯВКА!K610,0)","v":0},{"$f":"IF(ЗАЯВКА!N610=\"да\",ЗАЯВКА!K610,0)","v":0}]
[{"$f":"IF(ЗАЯВКА!I611=\"проектирование\",ЗАЯВКА!K611,0)","v":0},{"$f":"IF(ЗАЯВКА!I611=\"строительно-монтажные работы\",ЗАЯВКА!K611,0)","v":0},{"$f":"IF(ЗАЯВКА!N611=\"да\",ЗАЯВКА!K611,0)","v":0}]
[{"$f":"IF(ЗАЯВКА!I612=\"проектирование\",ЗАЯВКА!K612,0)","v":0},{"$f":"IF(ЗАЯВКА!I612=\"строительно-монтажные работы\",ЗАЯВКА!K612,0)","v":0},{"$f":"IF(ЗАЯВКА!N612=\"да\",ЗАЯВКА!K612,0)","v":0}]
[{"$f":"IF(ЗАЯВКА!I613=\"проектирование\",ЗАЯВКА!K613,0)","v":0},{"$f":"IF(ЗАЯВКА!I613=\"строительно-монтажные работы\",ЗАЯВКА!K613,0)","v":0},{"$f":"IF(ЗАЯВКА!N613=\"да\",ЗАЯВКА!K613,0)","v":0}]
[{"$f":"IF(ЗАЯВКА!I614=\"проектирование\",ЗАЯВКА!K614,0)","v":0},{"$f":"IF(ЗАЯВКА!I614=\"строительно-монтажные работы\",ЗАЯВКА!K614,0)","v":0},{"$f":"IF(ЗАЯВКА!N614=\"да\",ЗАЯВКА!K614,0)","v":0}]
[{"$f":"IF(ЗАЯВКА!I615=\"проектирование\",ЗАЯВКА!K615,0)","v":0},{"$f":"IF(ЗАЯВКА!I615=\"строительно-монтажные работы\",ЗАЯВКА!K615,0)","v":0},{"$f":"IF(ЗАЯВКА!N615=\"да\",ЗАЯВКА!K615,0)","v":0}]
[{"$f":"IF(ЗАЯВКА!I616=\"проектирование\",ЗАЯВКА!K616,0)","v":0},{"$f":"IF(ЗАЯВКА!I616=\"строительно-монтажные работы\",ЗАЯВКА!K616,0)","v":0},{"$f":"IF(ЗАЯВКА!N616=\"да\",ЗАЯВКА!K616,0)","v":0}]
[{"$f":"IF(ЗАЯВКА!I617=\"проектирование\",ЗАЯВКА!K617,0)","v":0},{"$f":"IF(ЗАЯВКА!I617=\"строительно-монтажные работы\",ЗАЯВКА!K617,0)","v":0},{"$f":"IF(ЗАЯВКА!N617=\"да\",ЗАЯВКА!K617,0)","v":0}]
[{"$f":"IF(ЗАЯВКА!I618=\"проектирование\",ЗАЯВКА!K618,0)","v":0},{"$f":"IF(ЗАЯВКА!I618=\"строительно-монтажные работы\",ЗАЯВКА!K618,0)","v":0},{"$f":"IF(ЗАЯВКА!N618=\"да\",ЗАЯВКА!K618,0)","v":0}]
[{"$f":"IF(ЗАЯВКА!I619=\"проектирование\",ЗАЯВКА!K619,0)","v":0},{"$f":"IF(ЗАЯВКА!I619=\"строительно-монтажные работы\",ЗАЯВКА!K619,0)","v":0},{"$f":"IF(ЗАЯВКА!N619=\"да\",ЗАЯВКА!K619,0)","v":0}]
[{"$f":"IF(ЗАЯВКА!I620=\"проектирование\",ЗАЯВКА!K620,0)","v":0},{"$f":"IF(ЗАЯВКА!I620=\"строительно-монтажные работы\",ЗАЯВКА!K620,0)","v":0},{"$f":"IF(ЗАЯВКА!N620=\"да\",ЗАЯВКА!K620,0)","v":0}]
[{"$f":"IF(ЗАЯВКА!I621=\"проектирование\",ЗАЯВКА!K621,0)","v":0},{"$f":"IF(ЗАЯВКА!I621=\"строительно-монтажные работы\",ЗАЯВКА!K621,0)","v":0},{"$f":"IF(ЗАЯВКА!N621=\"да\",ЗАЯВКА!K621,0)","v":0}]
[{"$f":"IF(ЗАЯВКА!I622=\"проектирование\",ЗАЯВКА!K622,0)","v":0},{"$f":"IF(ЗАЯВКА!I622=\"строительно-монтажные работы\",ЗАЯВКА!K622,0)","v":0},{"$f":"IF(ЗАЯВКА!N622=\"да\",ЗАЯВКА!K622,0)","v":0}]
[{"$f":"IF(ЗАЯВКА!I623=\"проектирование\",ЗАЯВКА!K623,0)","v":0},{"$f":"IF(ЗАЯВКА!I623=\"строительно-монтажные работы\",ЗАЯВКА!K623,0)","v":0},{"$f":"IF(ЗАЯВКА!N623=\"да\",ЗАЯВКА!K623,0)","v":0}]
[{"$f":"IF(ЗАЯВКА!I624=\"проектирование\",ЗАЯВКА!K624,0)","v":0},{"$f":"IF(ЗАЯВКА!I624=\"строительно-монтажные работы\",ЗАЯВКА!K624,0)","v":0},{"$f":"IF(ЗАЯВКА!N624=\"да\",ЗАЯВКА!K624,0)","v":0}]
[{"$f":"IF(ЗАЯВКА!I625=\"проектирование\",ЗАЯВКА!K625,0)","v":0},{"$f":"IF(ЗАЯВКА!I625=\"строительно-монтажные работы\",ЗАЯВКА!K625,0)","v":0},{"$f":"IF(ЗАЯВКА!N625=\"да\",ЗАЯВКА!K625,0)","v":0}]
[{"$f":"IF(ЗАЯВКА!I626=\"проектирование\",ЗАЯВКА!K626,0)","v":0},{"$f":"IF(ЗАЯВКА!I626=\"строительно-монтажные работы\",ЗАЯВКА!K626,0)","v":0},{"$f":"IF(ЗАЯВКА!N626=\"да\",ЗАЯВКА!K626,0)","v":0}]
[{"$f":"IF(ЗАЯВКА!I627=\"проектирование\",ЗАЯВКА!K627,0)","v":0},{"$f":"IF(ЗАЯВКА!I627=\"строительно-монтажные работы\",ЗАЯВКА!K627,0)","v":0},{"$f":"IF(ЗАЯВКА!N627=\"да\",ЗАЯВКА!K627,0)","v":0}]
[{"$f":"IF(ЗАЯВКА!I628=\"проектирование\",ЗАЯВКА!K628,0)","v":0},{"$f":"IF(ЗАЯВКА!I628=\"строительно-монтажные работы\",ЗАЯВКА!K628,0)","v":0},{"$f":"IF(ЗАЯВКА!N628=\"да\",ЗАЯВКА!K628,0)","v":0}]
[{"$f":"IF(ЗАЯВКА!I629=\"проектирование\",ЗАЯВКА!K629,0)","v":0},{"$f":"IF(ЗАЯВКА!I629=\"строительно-монтажные работы\",ЗАЯВКА!K629,0)","v":0},{"$f":"IF(ЗАЯВКА!N629=\"да\",ЗАЯВКА!K629,0)","v":0}]
[{"$f":"IF(ЗАЯВКА!I630=\"проектирование\",ЗАЯВКА!K630,0)","v":0},{"$f":"IF(ЗАЯВКА!I630=\"строительно-монтажные работы\",ЗАЯВКА!K630,0)","v":0},{"$f":"IF(ЗАЯВКА!N630=\"да\",ЗАЯВКА!K630,0)","v":0}]
[{"$f":"IF(ЗАЯВКА!I631=\"проектирование\",ЗАЯВКА!K631,0)","v":0},{"$f":"IF(ЗАЯВКА!I631=\"строительно-монтажные работы\",ЗАЯВКА!K631,0)","v":0},{"$f":"IF(ЗАЯВКА!N631=\"да\",ЗАЯВКА!K631,0)","v":0}]
[{"$f":"IF(ЗАЯВКА!I632=\"проектирование\",ЗАЯВКА!K632,0)","v":0},{"$f":"IF(ЗАЯВКА!I632=\"строительно-монтажные работы\",ЗАЯВКА!K632,0)","v":0},{"$f":"IF(ЗАЯВКА!N632=\"да\",ЗАЯВКА!K632,0)","v":0}]
[{"$f":"IF(ЗАЯВКА!I633=\"проектирование\",ЗАЯВКА!K633,0)","v":0},{"$f":"IF(ЗАЯВКА!I633=\"строительно-монтажные работы\",ЗАЯВКА!K633,0)","v":0},{"$f":"IF(ЗАЯВКА!N633=\"да\",ЗАЯВКА!K633,0)","v":0}]
[{"$f":"IF(ЗАЯВКА!I634=\"проектирование\",ЗАЯВКА!K634,0)","v":0},{"$f":"IF(ЗАЯВКА!I634=\"строительно-монтажные работы\",ЗАЯВКА!K634,0)","v":0},{"$f":"IF(ЗАЯВКА!N634=\"да\",ЗАЯВКА!K634,0)","v":0}]
[{"$f":"IF(ЗАЯВКА!I635=\"проектирование\",ЗАЯВКА!K635,0)","v":0},{"$f":"IF(ЗАЯВКА!I635=\"строительно-монтажные работы\",ЗАЯВКА!K635,0)","v":0},{"$f":"IF(ЗАЯВКА!N635=\"да\",ЗАЯВКА!K635,0)","v":0}]
[{"$f":"IF(ЗАЯВКА!I636=\"проектирование\",ЗАЯВКА!K636,0)","v":0},{"$f":"IF(ЗАЯВКА!I636=\"строительно-монтажные работы\",ЗАЯВКА!K636,0)","v":0},{"$f":"IF(ЗАЯВКА!N636=\"да\",ЗАЯВКА!K636,0)","v":0}]
[{"$f":"IF(ЗАЯВКА!I637=\"проектирование\",ЗАЯВКА!K637,0)","v":0},{"$f":"IF(ЗАЯВКА!I637=\"строительно-монтажные работы\",ЗАЯВКА!K637,0)","v":0},{"$f":"IF(ЗАЯВКА!N637=\"да\",ЗАЯВКА!K637,0)","v":0}]
[{"$f":"IF(ЗАЯВКА!I638=\"проектирование\",ЗАЯВКА!K638,0)","v":0},{"$f":"IF(ЗАЯВКА!I638=\"строительно-монтажные работы\",ЗАЯВКА!K638,0)","v":0},{"$f":"IF(ЗАЯВКА!N638=\"да\",ЗАЯВКА!K638,0)","v":0}]
[{"$f":"IF(ЗАЯВКА!I639=\"проектирование\",ЗАЯВКА!K639,0)","v":0},{"$f":"IF(ЗАЯВКА!I639=\"строительно-монтажные работы\",ЗАЯВКА!K639,0)","v":0},{"$f":"IF(ЗАЯВКА!N639=\"да\",ЗАЯВКА!K639,0)","v":0}]
[{"$f":"IF(ЗАЯВКА!I640=\"проектирование\",ЗАЯВКА!K640,0)","v":0},{"$f":"IF(ЗАЯВКА!I640=\"строительно-монтажные работы\",ЗАЯВКА!K640,0)","v":0},{"$f":"IF(ЗАЯВКА!N640=\"да\",ЗАЯВКА!K640,0)","v":0}]
[{"$f":"IF(ЗАЯВКА!I641=\"проектирование\",ЗАЯВКА!K641,0)","v":0},{"$f":"IF(ЗАЯВКА!I641=\"строительно-монтажные работы\",ЗАЯВКА!K641,0)","v":0},{"$f":"IF(ЗАЯВКА!N641=\"да\",ЗАЯВКА!K641,0)","v":0}]
[{"$f":"IF(ЗАЯВКА!I642=\"проектирование\",ЗАЯВКА!K642,0)","v":0},{"$f":"IF(ЗАЯВКА!I642=\"строительно-монтажные работы\",ЗАЯВКА!K642,0)","v":0},{"$f":"IF(ЗАЯВКА!N642=\"да\",ЗАЯВКА!K642,0)","v":0}]
[{"$f":"IF(ЗАЯВКА!I643=\"проектирование\",ЗАЯВКА!K643,0)","v":0},{"$f":"IF(ЗАЯВКА!I643=\"строительно-монтажные работы\",ЗАЯВКА!K643,0)","v":0},{"$f":"IF(ЗАЯВКА!N643=\"да\",ЗАЯВКА!K643,0)","v":0}]
[{"$f":"IF(ЗАЯВКА!I644=\"проектирование\",ЗАЯВКА!K644,0)","v":0},{"$f":"IF(ЗАЯВКА!I644=\"строительно-монтажные работы\",ЗАЯВКА!K644,0)","v":0},{"$f":"IF(ЗАЯВКА!N644=\"да\",ЗАЯВКА!K644,0)","v":0}]
[{"$f":"IF(ЗАЯВКА!I645=\"проектирование\",ЗАЯВКА!K645,0)","v":0},{"$f":"IF(ЗАЯВКА!I645=\"строительно-монтажные работы\",ЗАЯВКА!K645,0)","v":0},{"$f":"IF(ЗАЯВКА!N645=\"да\",ЗАЯВКА!K645,0)","v":0}]
[{"$f":"IF(ЗАЯВКА!I646=\"проектирование\",ЗАЯВКА!K646,0)","v":0},{"$f":"IF(ЗАЯВКА!I646=\"строительно-монтажные работы\",ЗАЯВКА!K646,0)","v":0},{"$f":"IF(ЗАЯВКА!N646=\"да\",ЗАЯВКА!K646,0)","v":0}]
[{"$f":"IF(ЗАЯВКА!I647=\"проектирование\",ЗАЯВКА!K647,0)","v":0},{"$f":"IF(ЗАЯВКА!I647=\"строительно-монтажные работы\",ЗАЯВКА!K647,0)","v":0},{"$f":"IF(ЗАЯВКА!N647=\"да\",ЗАЯВКА!K647,0)","v":0}]
[{"$f":"IF(ЗАЯВКА!I648=\"проектирование\",ЗАЯВКА!K648,0)","v":0},{"$f":"IF(ЗАЯВКА!I648=\"строительно-монтажные работы\",ЗАЯВКА!K648,0)","v":0},{"$f":"IF(ЗАЯВКА!N648=\"да\",ЗАЯВКА!K648,0)","v":0}]
[{"$f":"IF(ЗАЯВКА!I649=\"проектирование\",ЗАЯВКА!K649,0)","v":0},{"$f":"IF(ЗАЯВКА!I649=\"строительно-монтажные работы\",ЗАЯВКА!K649,0)","v":0},{"$f":"IF(ЗАЯВКА!N649=\"да\",ЗАЯВКА!K649,0)","v":0}]
[{"$f":"IF(ЗАЯВКА!I650=\"проектирование\",ЗАЯВКА!K650,0)","v":0},{"$f":"IF(ЗАЯВКА!I650=\"строительно-монтажные работы\",ЗАЯВКА!K650,0)","v":0},{"$f":"IF(ЗАЯВКА!N650=\"да\",ЗАЯВКА!K650,0)","v":0}]
[{"$f":"IF(ЗАЯВКА!I651=\"проектирование\",ЗАЯВКА!K651,0)","v":0},{"$f":"IF(ЗАЯВКА!I651=\"строительно-монтажные работы\",ЗАЯВКА!K651,0)","v":0},{"$f":"IF(ЗАЯВКА!N651=\"да\",ЗАЯВКА!K651,0)","v":0}]
[{"$f":"IF(ЗАЯВКА!I652=\"проектирование\",ЗАЯВКА!K652,0)","v":0},{"$f":"IF(ЗАЯВКА!I652=\"строительно-монтажные работы\",ЗАЯВКА!K652,0)","v":0},{"$f":"IF(ЗАЯВКА!N652=\"да\",ЗАЯВКА!K652,0)","v":0}]
[{"$f":"IF(ЗАЯВКА!I653=\"проектирование\",ЗАЯВКА!K653,0)","v":0},{"$f":"IF(ЗАЯВКА!I653=\"строительно-монтажные работы\",ЗАЯВКА!K653,0)","v":0},{"$f":"IF(ЗАЯВКА!N653=\"да\",ЗАЯВКА!K653,0)","v":0}]
[{"$f":"IF(ЗАЯВКА!I654=\"проектирование\",ЗАЯВКА!K654,0)","v":0},{"$f":"IF(ЗАЯВКА!I654=\"строительно-монтажные работы\",ЗАЯВКА!K654,0)","v":0},{"$f":"IF(ЗАЯВКА!N654=\"да\",ЗАЯВКА!K654,0)","v":0}]
[{"$f":"IF(ЗАЯВКА!I655=\"проектирование\",ЗАЯВКА!K655,0)","v":0},{"$f":"IF(ЗАЯВКА!I655=\"строительно-монтажные работы\",ЗАЯВКА!K655,0)","v":0},{"$f":"IF(ЗАЯВКА!N655=\"да\",ЗАЯВКА!K655,0)","v":0}]
[{"$f":"IF(ЗАЯВКА!I656=\"проектирование\",ЗАЯВКА!K656,0)","v":0},{"$f":"IF(ЗАЯВКА!I656=\"строительно-монтажные работы\",ЗАЯВКА!K656,0)","v":0},{"$f":"IF(ЗАЯВКА!N656=\"да\",ЗАЯВКА!K656,0)","v":0}]
[{"$f":"IF(ЗАЯВКА!I657=\"проектирование\",ЗАЯВКА!K657,0)","v":0},{"$f":"IF(ЗАЯВКА!I657=\"строительно-монтажные работы\",ЗАЯВКА!K657,0)","v":0},{"$f":"IF(ЗАЯВКА!N657=\"да\",ЗАЯВКА!K657,0)","v":0}]
[{"$f":"IF(ЗАЯВКА!I658=\"проектирование\",ЗАЯВКА!K658,0)","v":0},{"$f":"IF(ЗАЯВКА!I658=\"строительно-монтажные работы\",ЗАЯВКА!K658,0)","v":0},{"$f":"IF(ЗАЯВКА!N658=\"да\",ЗАЯВКА!K658,0)","v":0}]
[{"$f":"IF(ЗАЯВКА!I659=\"проектирование\",ЗАЯВКА!K659,0)","v":0},{"$f":"IF(ЗАЯВКА!I659=\"строительно-монтажные работы\",ЗАЯВКА!K659,0)","v":0},{"$f":"IF(ЗАЯВКА!N659=\"да\",ЗАЯВКА!K659,0)","v":0}]
[{"$f":"IF(ЗАЯВКА!I660=\"проектирование\",ЗАЯВКА!K660,0)","v":0},{"$f":"IF(ЗАЯВКА!I660=\"строительно-монтажные работы\",ЗАЯВКА!K660,0)","v":0},{"$f":"IF(ЗАЯВКА!N660=\"да\",ЗАЯВКА!K660,0)","v":0}]
[{"$f":"IF(ЗАЯВКА!I661=\"проектирование\",ЗАЯВКА!K661,0)","v":0},{"$f":"IF(ЗАЯВКА!I661=\"строительно-монтажные работы\",ЗАЯВКА!K661,0)","v":0},{"$f":"IF(ЗАЯВКА!N661=\"да\",ЗАЯВКА!K661,0)","v":0}]
[{"$f":"IF(ЗАЯВКА!I662=\"проектирование\",ЗАЯВКА!K662,0)","v":0},{"$f":"IF(ЗАЯВКА!I662=\"строительно-монтажные работы\",ЗАЯВКА!K662,0)","v":0},{"$f":"IF(ЗАЯВКА!N662=\"да\",ЗАЯВКА!K662,0)","v":0}]
[{"$f":"IF(ЗАЯВКА!I663=\"проектирование\",ЗАЯВКА!K663,0)","v":0},{"$f":"IF(ЗАЯВКА!I663=\"строительно-монтажные работы\",ЗАЯВКА!K663,0)","v":0},{"$f":"IF(ЗАЯВКА!N663=\"да\",ЗАЯВКА!K663,0)","v":0}]
[{"$f":"IF(ЗАЯВКА!I664=\"проектирование\",ЗАЯВКА!K664,0)","v":0},{"$f":"IF(ЗАЯВКА!I664=\"строительно-монтажные работы\",ЗАЯВКА!K664,0)","v":0},{"$f":"IF(ЗАЯВКА!N664=\"да\",ЗАЯВКА!K664,0)","v":0}]
[{"$f":"IF(ЗАЯВКА!I665=\"проектирование\",ЗАЯВКА!K665,0)","v":0},{"$f":"IF(ЗАЯВКА!I665=\"строительно-монтажные работы\",ЗАЯВКА!K665,0)","v":0},{"$f":"IF(ЗАЯВКА!N665=\"да\",ЗАЯВКА!K665,0)","v":0}]
[{"$f":"IF(ЗАЯВКА!I666=\"проектирование\",ЗАЯВКА!K666,0)","v":0},{"$f":"IF(ЗАЯВКА!I666=\"строительно-монтажные работы\",ЗАЯВКА!K666,0)","v":0},{"$f":"IF(ЗАЯВКА!N666=\"да\",ЗАЯВКА!K666,0)","v":0}]
[{"$f":"IF(ЗАЯВКА!I667=\"проектирование\",ЗАЯВКА!K667,0)","v":0},{"$f":"IF(ЗАЯВКА!I667=\"строительно-монтажные работы\",ЗАЯВКА!K667,0)","v":0},{"$f":"IF(ЗАЯВКА!N667=\"да\",ЗАЯВКА!K667,0)","v":0}]
[{"$f":"IF(ЗАЯВКА!I668=\"проектирование\",ЗАЯВКА!K668,0)","v":0},{"$f":"IF(ЗАЯВКА!I668=\"строительно-монтажные работы\",ЗАЯВКА!K668,0)","v":0},{"$f":"IF(ЗАЯВКА!N668=\"да\",ЗАЯВКА!K668,0)","v":0}]
[{"$f":"IF(ЗАЯВКА!I669=\"проектирование\",ЗАЯВКА!K669,0)","v":0},{"$f":"IF(ЗАЯВКА!I669=\"строительно-монтажные работы\",ЗАЯВКА!K669,0)","v":0},{"$f":"IF(ЗАЯВКА!N669=\"да\",ЗАЯВКА!K669,0)","v":0}]
[{"$f":"IF(ЗАЯВКА!I670=\"проектирование\",ЗАЯВКА!K670,0)","v":0},{"$f":"IF(ЗАЯВКА!I670=\"строительно-монтажные работы\",ЗАЯВКА!K670,0)","v":0},{"$f":"IF(ЗАЯВКА!N670=\"да\",ЗАЯВКА!K670,0)","v":0}]
[{"$f":"IF(ЗАЯВКА!I671=\"проектирование\",ЗАЯВКА!K671,0)","v":0},{"$f":"IF(ЗАЯВКА!I671=\"строительно-монтажные работы\",ЗАЯВКА!K671,0)","v":0},{"$f":"IF(ЗАЯВКА!N671=\"да\",ЗАЯВКА!K671,0)","v":0}]
[{"$f":"IF(ЗАЯВКА!I672=\"проектирование\",ЗАЯВКА!K672,0)","v":0},{"$f":"IF(ЗАЯВКА!I672=\"строительно-монтажные работы\",ЗАЯВКА!K672,0)","v":0},{"$f":"IF(ЗАЯВКА!N672=\"да\",ЗАЯВКА!K672,0)","v":0}]
[{"$f":"IF(ЗАЯВКА!I673=\"проектирование\",ЗАЯВКА!K673,0)","v":0},{"$f":"IF(ЗАЯВКА!I673=\"строительно-монтажные работы\",ЗАЯВКА!K673,0)","v":0},{"$f":"IF(ЗАЯВКА!N673=\"да\",ЗАЯВКА!K673,0)","v":0}]
[{"$f":"IF(ЗАЯВКА!I674=\"проектирование\",ЗАЯВКА!K674,0)","v":0},{"$f":"IF(ЗАЯВКА!I674=\"строительно-монтажные работы\",ЗАЯВКА!K674,0)","v":0},{"$f":"IF(ЗАЯВКА!N674=\"да\",ЗАЯВКА!K674,0)","v":0}]
[{"$f":"IF(ЗАЯВКА!I675=\"проектирование\",ЗАЯВКА!K675,0)","v":0},{"$f":"IF(ЗАЯВКА!I675=\"строительно-монтажные работы\",ЗАЯВКА!K675,0)","v":0},{"$f":"IF(ЗАЯВКА!N675=\"да\",ЗАЯВКА!K675,0)","v":0}]
[{"$f":"IF(ЗАЯВКА!I676=\"проектирование\",ЗАЯВКА!K676,0)","v":0},{"$f":"IF(ЗАЯВКА!I676=\"строительно-монтажные работы\",ЗАЯВКА!K676,0)","v":0},{"$f":"IF(ЗАЯВКА!N676=\"да\",ЗАЯВКА!K676,0)","v":0}]
[{"$f":"IF(ЗАЯВКА!I677=\"проектирование\",ЗАЯВКА!K677,0)","v":0},{"$f":"IF(ЗАЯВКА!I677=\"строительно-монтажные работы\",ЗАЯВКА!K677,0)","v":0},{"$f":"IF(ЗАЯВКА!N677=\"да\",ЗАЯВКА!K677,0)","v":0}]
[{"$f":"IF(ЗАЯВКА!I678=\"проектирование\",ЗАЯВКА!K678,0)","v":0},{"$f":"IF(ЗАЯВКА!I678=\"строительно-монтажные работы\",ЗАЯВКА!K678,0)","v":0},{"$f":"IF(ЗАЯВКА!N678=\"да\",ЗАЯВКА!K678,0)","v":0}]
[{"$f":"IF(ЗАЯВКА!I679=\"проектирование\",ЗАЯВКА!K679,0)","v":0},{"$f":"IF(ЗАЯВКА!I679=\"строительно-монтажные работы\",ЗАЯВКА!K679,0)","v":0},{"$f":"IF(ЗАЯВКА!N679=\"да\",ЗАЯВКА!K679,0)","v":0}]
[{"$f":"IF(ЗАЯВКА!I680=\"проектирование\",ЗАЯВКА!K680,0)","v":0},{"$f":"IF(ЗАЯВКА!I680=\"строительно-монтажные работы\",ЗАЯВКА!K680,0)","v":0},{"$f":"IF(ЗАЯВКА!N680=\"да\",ЗАЯВКА!K680,0)","v":0}]
[{"$f":"IF(ЗАЯВКА!I681=\"проектирование\",ЗАЯВКА!K681,0)","v":0},{"$f":"IF(ЗАЯВКА!I681=\"строительно-монтажные работы\",ЗАЯВКА!K681,0)","v":0},{"$f":"IF(ЗАЯВКА!N681=\"да\",ЗАЯВКА!K681,0)","v":0}]
[{"$f":"IF(ЗАЯВКА!I682=\"проектирование\",ЗАЯВКА!K682,0)","v":0},{"$f":"IF(ЗАЯВКА!I682=\"строительно-монтажные работы\",ЗАЯВКА!K682,0)","v":0},{"$f":"IF(ЗАЯВКА!N682=\"да\",ЗАЯВКА!K682,0)","v":0}]
[{"$f":"IF(ЗАЯВКА!I683=\"проектирование\",ЗАЯВКА!K683,0)","v":0},{"$f":"IF(ЗАЯВКА!I683=\"строительно-монтажные работы\",ЗАЯВКА!K683,0)","v":0},{"$f":"IF(ЗАЯВКА!N683=\"да\",ЗАЯВКА!K683,0)","v":0}]
[{"$f":"IF(ЗАЯВКА!I684=\"проектирование\",ЗАЯВКА!K684,0)","v":0},{"$f":"IF(ЗАЯВКА!I684=\"строительно-монтажные работы\",ЗАЯВКА!K684,0)","v":0},{"$f":"IF(ЗАЯВКА!N684=\"да\",ЗАЯВКА!K684,0)","v":0}]
[{"$f":"IF(ЗАЯВКА!I685=\"проектирование\",ЗАЯВКА!K685,0)","v":0},{"$f":"IF(ЗАЯВКА!I685=\"строительно-монтажные работы\",ЗАЯВКА!K685,0)","v":0},{"$f":"IF(ЗАЯВКА!N685=\"да\",ЗАЯВКА!K685,0)","v":0}]
[{"$f":"IF(ЗАЯВКА!I686=\"проектирование\",ЗАЯВКА!K686,0)","v":0},{"$f":"IF(ЗАЯВКА!I686=\"строительно-монтажные работы\",ЗАЯВКА!K686,0)","v":0},{"$f":"IF(ЗАЯВКА!N686=\"да\",ЗАЯВКА!K686,0)","v":0}]
[{"$f":"IF(ЗАЯВКА!I687=\"проектирование\",ЗАЯВКА!K687,0)","v":0},{"$f":"IF(ЗАЯВКА!I687=\"строительно-монтажные работы\",ЗАЯВКА!K687,0)","v":0},{"$f":"IF(ЗАЯВКА!N687=\"да\",ЗАЯВКА!K687,0)","v":0}]
[{"$f":"IF(ЗАЯВКА!I688=\"проектирование\",ЗАЯВКА!K688,0)","v":0},{"$f":"IF(ЗАЯВКА!I688=\"строительно-монтажные работы\",ЗАЯВКА!K688,0)","v":0},{"$f":"IF(ЗАЯВКА!N688=\"да\",ЗАЯВКА!K688,0)","v":0}]
[{"$f":"IF(ЗАЯВКА!I689=\"проектирование\",ЗАЯВКА!K689,0)","v":0},{"$f":"IF(ЗАЯВКА!I689=\"строительно-монтажные работы\",ЗАЯВКА!K689,0)","v":0},{"$f":"IF(ЗАЯВКА!N689=\"да\",ЗАЯВКА!K689,0)","v":0}]
[{"$f":"IF(ЗАЯВКА!I690=\"проектирование\",ЗАЯВКА!K690,0)","v":0},{"$f":"IF(ЗАЯВКА!I690=\"строительно-монтажные работы\",ЗАЯВКА!K690,0)","v":0},{"$f":"IF(ЗАЯВКА!N690=\"да\",ЗАЯВКА!K690,0)","v":0}]
[{"$f":"IF(ЗАЯВКА!I691=\"проектирование\",ЗАЯВКА!K691,0)","v":0},{"$f":"IF(ЗАЯВКА!I691=\"строительно-монтажные работы\",ЗАЯВКА!K691,0)","v":0},{"$f":"IF(ЗАЯВКА!N691=\"да\",ЗАЯВКА!K691,0)","v":0}]
[{"$f":"IF(ЗАЯВКА!I692=\"проектирование\",ЗАЯВКА!K692,0)","v":0},{"$f":"IF(ЗАЯВКА!I692=\"строительно-монтажные работы\",ЗАЯВКА!K692,0)","v":0},{"$f":"IF(ЗАЯВКА!N692=\"да\",ЗАЯВКА!K692,0)","v":0}]
[{"$f":"IF(ЗАЯВКА!I693=\"проектирование\",ЗАЯВКА!K693,0)","v":0},{"$f":"IF(ЗАЯВКА!I693=\"строительно-монтажные работы\",ЗАЯВКА!K693,0)","v":0},{"$f":"IF(ЗАЯВКА!N693=\"да\",ЗАЯВКА!K693,0)","v":0}]
[{"$f":"IF(ЗАЯВКА!I694=\"проектирование\",ЗАЯВКА!K694,0)","v":0},{"$f":"IF(ЗАЯВКА!I694=\"строительно-монтажные работы\",ЗАЯВКА!K694,0)","v":0},{"$f":"IF(ЗАЯВКА!N694=\"да\",ЗАЯВКА!K694,0)","v":0}]
[{"$f":"IF(ЗАЯВКА!I695=\"проектирование\",ЗАЯВКА!K695,0)","v":0},{"$f":"IF(ЗАЯВКА!I695=\"строительно-монтажные работы\",ЗАЯВКА!K695,0)","v":0},{"$f":"IF(ЗАЯВКА!N695=\"да\",ЗАЯВКА!K695,0)","v":0}]
[{"$f":"IF(ЗАЯВКА!I696=\"проектирование\",ЗАЯВКА!K696,0)","v":0},{"$f":"IF(ЗАЯВКА!I696=\"строительно-монтажные работы\",ЗАЯВКА!K696,0)","v":0},{"$f":"IF(ЗАЯВКА!N696=\"да\",ЗАЯВКА!K696,0)","v":0}]
[{"$f":"IF(ЗАЯВКА!I697=\"проектирование\",ЗАЯВКА!K697,0)","v":0},{"$f":"IF(ЗАЯВКА!I697=\"строительно-монтажные работы\",ЗАЯВКА!K697,0)","v":0},{"$f":"IF(ЗАЯВКА!N697=\"да\",ЗАЯВКА!K697,0)","v":0}]
[{"$f":"IF(ЗАЯВКА!I698=\"проектирование\",ЗАЯВКА!K698,0)","v":0},{"$f":"IF(ЗАЯВКА!I698=\"строительно-монтажные работы\",ЗАЯВКА!K698,0)","v":0},{"$f":"IF(ЗАЯВКА!N698=\"да\",ЗАЯВКА!K698,0)","v":0}]
[{"$f":"IF(ЗАЯВКА!I699=\"проектирование\",ЗАЯВКА!K699,0)","v":0},{"$f":"IF(ЗАЯВКА!I699=\"строительно-монтажные работы\",ЗАЯВКА!K699,0)","v":0},{"$f":"IF(ЗАЯВКА!N699=\"да\",ЗАЯВКА!K699,0)","v":0}]
[{"$f":"IF(ЗАЯВКА!I700=\"проектирование\",ЗАЯВКА!K700,0)","v":0},{"$f":"IF(ЗАЯВКА!I700=\"строительно-монтажные работы\",ЗАЯВКА!K700,0)","v":0},{"$f":"IF(ЗАЯВКА!N700=\"да\",ЗАЯВКА!K700,0)","v":0}]
[{"$f":"IF(ЗАЯВКА!I701=\"проектирование\",ЗАЯВКА!K701,0)","v":0},{"$f":"IF(ЗАЯВКА!I701=\"строительно-монтажные работы\",ЗАЯВКА!K701,0)","v":0},{"$f":"IF(ЗАЯВКА!N701=\"да\",ЗАЯВКА!K701,0)","v":0}]
[{"$f":"IF(ЗАЯВКА!I702=\"проектирование\",ЗАЯВКА!K702,0)","v":0},{"$f":"IF(ЗАЯВКА!I702=\"строительно-монтажные работы\",ЗАЯВКА!K702,0)","v":0},{"$f":"IF(ЗАЯВКА!N702=\"да\",ЗАЯВКА!K702,0)","v":0}]
[{"$f":"IF(ЗАЯВКА!I703=\"проектирование\",ЗАЯВКА!K703,0)","v":0},{"$f":"IF(ЗАЯВКА!I703=\"строительно-монтажные работы\",ЗАЯВКА!K703,0)","v":0},{"$f":"IF(ЗАЯВКА!N703=\"да\",ЗАЯВКА!K703,0)","v":0}]
[{"$f":"IF(ЗАЯВКА!I704=\"проектирование\",ЗАЯВКА!K704,0)","v":0},{"$f":"IF(ЗАЯВКА!I704=\"строительно-монтажные работы\",ЗАЯВКА!K704,0)","v":0},{"$f":"IF(ЗАЯВКА!N704=\"да\",ЗАЯВКА!K704,0)","v":0}]
[{"$f":"IF(ЗАЯВКА!I705=\"проектирование\",ЗАЯВКА!K705,0)","v":0},{"$f":"IF(ЗАЯВКА!I705=\"строительно-монтажные работы\",ЗАЯВКА!K705,0)","v":0},{"$f":"IF(ЗАЯВКА!N705=\"да\",ЗАЯВКА!K705,0)","v":0}]
[{"$f":"IF(ЗАЯВКА!I706=\"проектирование\",ЗАЯВКА!K706,0)","v":0},{"$f":"IF(ЗАЯВКА!I706=\"строительно-монтажные работы\",ЗАЯВКА!K706,0)","v":0},{"$f":"IF(ЗАЯВКА!N706=\"да\",ЗАЯВКА!K706,0)","v":0}]
[{"$f":"IF(ЗАЯВКА!I707=\"проектирование\",ЗАЯВКА!K707,0)","v":0},{"$f":"IF(ЗАЯВКА!I707=\"строительно-монтажные работы\",ЗАЯВКА!K707,0)","v":0},{"$f":"IF(ЗАЯВКА!N707=\"да\",ЗАЯВКА!K707,0)","v":0}]
[{"$f":"IF(ЗАЯВКА!I708=\"проектирование\",ЗАЯВКА!K708,0)","v":0},{"$f":"IF(ЗАЯВКА!I708=\"строительно-монтажные работы\",ЗАЯВКА!K708,0)","v":0},{"$f":"IF(ЗАЯВКА!N708=\"да\",ЗАЯВКА!K708,0)","v":0}]
[{"$f":"IF(ЗАЯВКА!I709=\"проектирование\",ЗАЯВКА!K709,0)","v":0},{"$f":"IF(ЗАЯВКА!I709=\"строительно-монтажные работы\",ЗАЯВКА!K709,0)","v":0},{"$f":"IF(ЗАЯВКА!N709=\"да\",ЗАЯВКА!K709,0)","v":0}]
[{"$f":"IF(ЗАЯВКА!I710=\"проектирование\",ЗАЯВКА!K710,0)","v":0},{"$f":"IF(ЗАЯВКА!I710=\"строительно-монтажные работы\",ЗАЯВКА!K710,0)","v":0},{"$f":"IF(ЗАЯВКА!N710=\"да\",ЗАЯВКА!K710,0)","v":0}]
[{"$f":"IF(ЗАЯВКА!I711=\"проектирование\",ЗАЯВКА!K711,0)","v":0},{"$f":"IF(ЗАЯВКА!I711=\"строительно-монтажные работы\",ЗАЯВКА!K711,0)","v":0},{"$f":"IF(ЗАЯВКА!N711=\"да\",ЗАЯВКА!K711,0)","v":0}]
[{"$f":"IF(ЗАЯВКА!I712=\"проектирование\",ЗАЯВКА!K712,0)","v":0},{"$f":"IF(ЗАЯВКА!I712=\"строительно-монтажные работы\",ЗАЯВКА!K712,0)","v":0},{"$f":"IF(ЗАЯВКА!N712=\"да\",ЗАЯВКА!K712,0)","v":0}]
[{"$f":"IF(ЗАЯВКА!I713=\"проектирование\",ЗАЯВКА!K713,0)","v":0},{"$f":"IF(ЗАЯВКА!I713=\"строительно-монтажные работы\",ЗАЯВКА!K713,0)","v":0},{"$f":"IF(ЗАЯВКА!N713=\"да\",ЗАЯВКА!K713,0)","v":0}]
[{"$f":"IF(ЗАЯВКА!I714=\"проектирование\",ЗАЯВКА!K714,0)","v":0},{"$f":"IF(ЗАЯВКА!I714=\"строительно-монтажные работы\",ЗАЯВКА!K714,0)","v":0},{"$f":"IF(ЗАЯВКА!N714=\"да\",ЗАЯВКА!K714,0)","v":0}]
[{"$f":"IF(ЗАЯВКА!I715=\"проектирование\",ЗАЯВКА!K715,0)","v":0},{"$f":"IF(ЗАЯВКА!I715=\"строительно-монтажные работы\",ЗАЯВКА!K715,0)","v":0},{"$f":"IF(ЗАЯВКА!N715=\"да\",ЗАЯВКА!K715,0)","v":0}]
[{"$f":"IF(ЗАЯВКА!I716=\"проектирование\",ЗАЯВКА!K716,0)","v":0},{"$f":"IF(ЗАЯВКА!I716=\"строительно-монтажные работы\",ЗАЯВКА!K716,0)","v":0},{"$f":"IF(ЗАЯВКА!N716=\"да\",ЗАЯВКА!K716,0)","v":0}]
[{"$f":"IF(ЗАЯВКА!I717=\"проектирование\",ЗАЯВКА!K717,0)","v":0},{"$f":"IF(ЗАЯВКА!I717=\"строительно-монтажные работы\",ЗАЯВКА!K717,0)","v":0},{"$f":"IF(ЗАЯВКА!N717=\"да\",ЗАЯВКА!K717,0)","v":0}]
[{"$f":"IF(ЗАЯВКА!I718=\"проектирование\",ЗАЯВКА!K718,0)","v":0},{"$f":"IF(ЗАЯВКА!I718=\"строительно-монтажные работы\",ЗАЯВКА!K718,0)","v":0},{"$f":"IF(ЗАЯВКА!N718=\"да\",ЗАЯВКА!K718,0)","v":0}]
[{"$f":"IF(ЗАЯВКА!I719=\"проектирование\",ЗАЯВКА!K719,0)","v":0},{"$f":"IF(ЗАЯВКА!I719=\"строительно-монтажные работы\",ЗАЯВКА!K719,0)","v":0},{"$f":"IF(ЗАЯВКА!N719=\"да\",ЗАЯВКА!K719,0)","v":0}]
[{"$f":"IF(ЗАЯВКА!I720=\"проектирование\",ЗАЯВКА!K720,0)","v":0},{"$f":"IF(ЗАЯВКА!I720=\"строительно-монтажные работы\",ЗАЯВКА!K720,0)","v":0},{"$f":"IF(ЗАЯВКА!N720=\"да\",ЗАЯВКА!K720,0)","v":0}]
[{"$f":"IF(ЗАЯВКА!I721=\"проектирование\",ЗАЯВКА!K721,0)","v":0},{"$f":"IF(ЗАЯВКА!I721=\"строительно-монтажные работы\",ЗАЯВКА!K721,0)","v":0},{"$f":"IF(ЗАЯВКА!N721=\"да\",ЗАЯВКА!K721,0)","v":0}]
[{"$f":"IF(ЗАЯВКА!I722=\"проектирование\",ЗАЯВКА!K722,0)","v":0},{"$f":"IF(ЗАЯВКА!I722=\"строительно-монтажные работы\",ЗАЯВКА!K722,0)","v":0},{"$f":"IF(ЗАЯВКА!N722=\"да\",ЗАЯВКА!K722,0)","v":0}]
[{"$f":"IF(ЗАЯВКА!I723=\"проектирование\",ЗАЯВКА!K723,0)","v":0},{"$f":"IF(ЗАЯВКА!I723=\"строительно-монтажные работы\",ЗАЯВКА!K723,0)","v":0},{"$f":"IF(ЗАЯВКА!N723=\"да\",ЗАЯВКА!K723,0)","v":0}]
[{"$f":"IF(ЗАЯВКА!I724=\"проектирование\",ЗАЯВКА!K724,0)","v":0},{"$f":"IF(ЗАЯВКА!I724=\"строительно-монтажные работы\",ЗАЯВКА!K724,0)","v":0},{"$f":"IF(ЗАЯВКА!N724=\"да\",ЗАЯВКА!K724,0)","v":0}]
[{"$f":"IF(ЗАЯВКА!I725=\"проектирование\",ЗАЯВКА!K725,0)","v":0},{"$f":"IF(ЗАЯВКА!I725=\"строительно-монтажные работы\",ЗАЯВКА!K725,0)","v":0},{"$f":"IF(ЗАЯВКА!N725=\"да\",ЗАЯВКА!K725,0)","v":0}]
[{"$f":"IF(ЗАЯВКА!I726=\"проектирование\",ЗАЯВКА!K726,0)","v":0},{"$f":"IF(ЗАЯВКА!I726=\"строительно-монтажные работы\",ЗАЯВКА!K726,0)","v":0},{"$f":"IF(ЗАЯВКА!N726=\"да\",ЗАЯВКА!K726,0)","v":0}]
[{"$f":"IF(ЗАЯВКА!I727=\"проектирование\",ЗАЯВКА!K727,0)","v":0},{"$f":"IF(ЗАЯВКА!I727=\"строительно-монтажные работы\",ЗАЯВКА!K727,0)","v":0},{"$f":"IF(ЗАЯВКА!N727=\"да\",ЗАЯВКА!K727,0)","v":0}]
[{"$f":"IF(ЗАЯВКА!I728=\"проектирование\",ЗАЯВКА!K728,0)","v":0},{"$f":"IF(ЗАЯВКА!I728=\"строительно-монтажные работы\",ЗАЯВКА!K728,0)","v":0},{"$f":"IF(ЗАЯВКА!N728=\"да\",ЗАЯВКА!K728,0)","v":0}]
[{"$f":"IF(ЗАЯВКА!I729=\"проектирование\",ЗАЯВКА!K729,0)","v":0},{"$f":"IF(ЗАЯВКА!I729=\"строительно-монтажные работы\",ЗАЯВКА!K729,0)","v":0},{"$f":"IF(ЗАЯВКА!N729=\"да\",ЗАЯВКА!K729,0)","v":0}]
[{"$f":"IF(ЗАЯВКА!I730=\"проектирование\",ЗАЯВКА!K730,0)","v":0},{"$f":"IF(ЗАЯВКА!I730=\"строительно-монтажные работы\",ЗАЯВКА!K730,0)","v":0},{"$f":"IF(ЗАЯВКА!N730=\"да\",ЗАЯВКА!K730,0)","v":0}]
[{"$f":"IF(ЗАЯВКА!I731=\"проектирование\",ЗАЯВКА!K731,0)","v":0},{"$f":"IF(ЗАЯВКА!I731=\"строительно-монтажные работы\",ЗАЯВКА!K731,0)","v":0},{"$f":"IF(ЗАЯВКА!N731=\"да\",ЗАЯВКА!K731,0)","v":0}]
[{"$f":"IF(ЗАЯВКА!I732=\"проектирование\",ЗАЯВКА!K732,0)","v":0},{"$f":"IF(ЗАЯВКА!I732=\"строительно-монтажные работы\",ЗАЯВКА!K732,0)","v":0},{"$f":"IF(ЗАЯВКА!N732=\"да\",ЗАЯВКА!K732,0)","v":0}]
[{"$f":"IF(ЗАЯВКА!I733=\"проектирование\",ЗАЯВКА!K733,0)","v":0},{"$f":"IF(ЗАЯВКА!I733=\"строительно-монтажные работы\",ЗАЯВКА!K733,0)","v":0},{"$f":"IF(ЗАЯВКА!N733=\"да\",ЗАЯВКА!K733,0)","v":0}]
[{"$f":"IF(ЗАЯВКА!I734=\"проектирование\",ЗАЯВКА!K734,0)","v":0},{"$f":"IF(ЗАЯВКА!I734=\"строительно-монтажные работы\",ЗАЯВКА!K734,0)","v":0},{"$f":"IF(ЗАЯВКА!N734=\"да\",ЗАЯВКА!K734,0)","v":0}]
[{"$f":"IF(ЗАЯВКА!I735=\"проектирование\",ЗАЯВКА!K735,0)","v":0},{"$f":"IF(ЗАЯВКА!I735=\"строительно-монтажные работы\",ЗАЯВКА!K735,0)","v":0},{"$f":"IF(ЗАЯВКА!N735=\"да\",ЗАЯВКА!K735,0)","v":0}]
[{"$f":"IF(ЗАЯВКА!I736=\"проектирование\",ЗАЯВКА!K736,0)","v":0},{"$f":"IF(ЗАЯВКА!I736=\"строительно-монтажные работы\",ЗАЯВКА!K736,0)","v":0},{"$f":"IF(ЗАЯВКА!N736=\"да\",ЗАЯВКА!K736,0)","v":0}]
[{"$f":"IF(ЗАЯВКА!I737=\"проектирование\",ЗАЯВКА!K737,0)","v":0},{"$f":"IF(ЗАЯВКА!I737=\"строительно-монтажные работы\",ЗАЯВКА!K737,0)","v":0},{"$f":"IF(ЗАЯВКА!N737=\"да\",ЗАЯВКА!K737,0)","v":0}]
[{"$f":"IF(ЗАЯВКА!I738=\"проектирование\",ЗАЯВКА!K738,0)","v":0},{"$f":"IF(ЗАЯВКА!I738=\"строительно-монтажные работы\",ЗАЯВКА!K738,0)","v":0},{"$f":"IF(ЗАЯВКА!N738=\"да\",ЗАЯВКА!K738,0)","v":0}]
[{"$f":"IF(ЗАЯВКА!I739=\"проектирование\",ЗАЯВКА!K739,0)","v":0},{"$f":"IF(ЗАЯВКА!I739=\"строительно-монтажные работы\",ЗАЯВКА!K739,0)","v":0},{"$f":"IF(ЗАЯВКА!N739=\"да\",ЗАЯВКА!K739,0)","v":0}]
[{"$f":"IF(ЗАЯВКА!I740=\"проектирование\",ЗАЯВКА!K740,0)","v":0},{"$f":"IF(ЗАЯВКА!I740=\"строительно-монтажные работы\",ЗАЯВКА!K740,0)","v":0},{"$f":"IF(ЗАЯВКА!N740=\"да\",ЗАЯВКА!K740,0)","v":0}]
[{"$f":"IF(ЗАЯВКА!I741=\"проектирование\",ЗАЯВКА!K741,0)","v":0},{"$f":"IF(ЗАЯВКА!I741=\"строительно-монтажные работы\",ЗАЯВКА!K741,0)","v":0},{"$f":"IF(ЗАЯВКА!N741=\"да\",ЗАЯВКА!K741,0)","v":0}]
[{"$f":"IF(ЗАЯВКА!I742=\"проектирование\",ЗАЯВКА!K742,0)","v":0},{"$f":"IF(ЗАЯВКА!I742=\"строительно-монтажные работы\",ЗАЯВКА!K742,0)","v":0},{"$f":"IF(ЗАЯВКА!N742=\"да\",ЗАЯВКА!K742,0)","v":0}]
[{"$f":"IF(ЗАЯВКА!I743=\"проектирование\",ЗАЯВКА!K743,0)","v":0},{"$f":"IF(ЗАЯВКА!I743=\"строительно-монтажные работы\",ЗАЯВКА!K743,0)","v":0},{"$f":"IF(ЗАЯВКА!N743=\"да\",ЗАЯВКА!K743,0)","v":0}]
[{"$f":"IF(ЗАЯВКА!I744=\"проектирование\",ЗАЯВКА!K744,0)","v":0},{"$f":"IF(ЗАЯВКА!I744=\"строительно-монтажные работы\",ЗАЯВКА!K744,0)","v":0},{"$f":"IF(ЗАЯВКА!N744=\"да\",ЗАЯВКА!K744,0)","v":0}]
[{"$f":"IF(ЗАЯВКА!I745=\"проектирование\",ЗАЯВКА!K745,0)","v":0},{"$f":"IF(ЗАЯВКА!I745=\"строительно-монтажные работы\",ЗАЯВКА!K745,0)","v":0},{"$f":"IF(ЗАЯВКА!N745=\"да\",ЗАЯВКА!K745,0)","v":0}]
[{"$f":"IF(ЗАЯВКА!I746=\"проектирование\",ЗАЯВКА!K746,0)","v":0},{"$f":"IF(ЗАЯВКА!I746=\"строительно-монтажные работы\",ЗАЯВКА!K746,0)","v":0},{"$f":"IF(ЗАЯВКА!N746=\"да\",ЗАЯВКА!K746,0)","v":0}]
[{"$f":"IF(ЗАЯВКА!I747=\"проектирование\",ЗАЯВКА!K747,0)","v":0},{"$f":"IF(ЗАЯВКА!I747=\"строительно-монтажные работы\",ЗАЯВКА!K747,0)","v":0},{"$f":"IF(ЗАЯВКА!N747=\"да\",ЗАЯВКА!K747,0)","v":0}]
[{"$f":"IF(ЗАЯВКА!I748=\"проектирование\",ЗАЯВКА!K748,0)","v":0},{"$f":"IF(ЗАЯВКА!I748=\"строительно-монтажные работы\",ЗАЯВКА!K748,0)","v":0},{"$f":"IF(ЗАЯВКА!N748=\"да\",ЗАЯВКА!K748,0)","v":0}]
[{"$f":"IF(ЗАЯВКА!I749=\"проектирование\",ЗАЯВКА!K749,0)","v":0},{"$f":"IF(ЗАЯВКА!I749=\"строительно-монтажные работы\",ЗАЯВКА!K749,0)","v":0},{"$f":"IF(ЗАЯВКА!N749=\"да\",ЗАЯВКА!K749,0)","v":0}]
[{"$f":"IF(ЗАЯВКА!I750=\"проектирование\",ЗАЯВКА!K750,0)","v":0},{"$f":"IF(ЗАЯВКА!I750=\"строительно-монтажные работы\",ЗАЯВКА!K750,0)","v":0},{"$f":"IF(ЗАЯВКА!N750=\"да\",ЗАЯВКА!K750,0)","v":0}]
[{"$f":"IF(ЗАЯВКА!I751=\"проектирование\",ЗАЯВКА!K751,0)","v":0},{"$f":"IF(ЗАЯВКА!I751=\"строительно-монтажные работы\",ЗАЯВКА!K751,0)","v":0},{"$f":"IF(ЗАЯВКА!N751=\"да\",ЗАЯВКА!K751,0)","v":0}]
[{"$f":"IF(ЗАЯВКА!I752=\"проектирование\",ЗАЯВКА!K752,0)","v":0},{"$f":"IF(ЗАЯВКА!I752=\"строительно-монтажные работы\",ЗАЯВКА!K752,0)","v":0},{"$f":"IF(ЗАЯВКА!N752=\"да\",ЗАЯВКА!K752,0)","v":0}]
[{"$f":"IF(ЗАЯВКА!I753=\"проектирование\",ЗАЯВКА!K753,0)","v":0},{"$f":"IF(ЗАЯВКА!I753=\"строительно-монтажные работы\",ЗАЯВКА!K753,0)","v":0},{"$f":"IF(ЗАЯВКА!N753=\"да\",ЗАЯВКА!K753,0)","v":0}]
[{"$f":"IF(ЗАЯВКА!I754=\"проектирование\",ЗАЯВКА!K754,0)","v":0},{"$f":"IF(ЗАЯВКА!I754=\"строительно-монтажные работы\",ЗАЯВКА!K754,0)","v":0},{"$f":"IF(ЗАЯВКА!N754=\"да\",ЗАЯВКА!K754,0)","v":0}]
[{"$f":"IF(ЗАЯВКА!I755=\"проектирование\",ЗАЯВКА!K755,0)","v":0},{"$f":"IF(ЗАЯВКА!I755=\"строительно-монтажные работы\",ЗАЯВКА!K755,0)","v":0},{"$f":"IF(ЗАЯВКА!N755=\"да\",ЗАЯВКА!K755,0)","v":0}]
[{"$f":"IF(ЗАЯВКА!I756=\"проектирование\",ЗАЯВКА!K756,0)","v":0},{"$f":"IF(ЗАЯВКА!I756=\"строительно-монтажные работы\",ЗАЯВКА!K756,0)","v":0},{"$f":"IF(ЗАЯВКА!N756=\"да\",ЗАЯВКА!K756,0)","v":0}]
[{"$f":"IF(ЗАЯВКА!I757=\"проектирование\",ЗАЯВКА!K757,0)","v":0},{"$f":"IF(ЗАЯВКА!I757=\"строительно-монтажные работы\",ЗАЯВКА!K757,0)","v":0},{"$f":"IF(ЗАЯВКА!N757=\"да\",ЗАЯВКА!K757,0)","v":0}]
[{"$f":"IF(ЗАЯВКА!I758=\"проектирование\",ЗАЯВКА!K758,0)","v":0},{"$f":"IF(ЗАЯВКА!I758=\"строительно-монтажные работы\",ЗАЯВКА!K758,0)","v":0},{"$f":"IF(ЗАЯВКА!N758=\"да\",ЗАЯВКА!K758,0)","v":0}]
[{"$f":"IF(ЗАЯВКА!I759=\"проектирование\",ЗАЯВКА!K759,0)","v":0},{"$f":"IF(ЗАЯВКА!I759=\"строительно-монтажные работы\",ЗАЯВКА!K759,0)","v":0},{"$f":"IF(ЗАЯВКА!N759=\"да\",ЗАЯВКА!K759,0)","v":0}]
[{"$f":"IF(ЗАЯВКА!I760=\"проектирование\",ЗАЯВКА!K760,0)","v":0},{"$f":"IF(ЗАЯВКА!I760=\"строительно-монтажные работы\",ЗАЯВКА!K760,0)","v":0},{"$f":"IF(ЗАЯВКА!N760=\"да\",ЗАЯВКА!K760,0)","v":0}]
[{"$f":"IF(ЗАЯВКА!I761=\"проектирование\",ЗАЯВКА!K761,0)","v":0},{"$f":"IF(ЗАЯВКА!I761=\"строительно-монтажные работы\",ЗАЯВКА!K761,0)","v":0},{"$f":"IF(ЗАЯВКА!N761=\"да\",ЗАЯВКА!K761,0)","v":0}]
[{"$f":"IF(ЗАЯВКА!I762=\"проектирование\",ЗАЯВКА!K762,0)","v":0},{"$f":"IF(ЗАЯВКА!I762=\"строительно-монтажные работы\",ЗАЯВКА!K762,0)","v":0},{"$f":"IF(ЗАЯВКА!N762=\"да\",ЗАЯВКА!K762,0)","v":0}]
[{"$f":"IF(ЗАЯВКА!I763=\"проектирование\",ЗАЯВКА!K763,0)","v":0},{"$f":"IF(ЗАЯВКА!I763=\"строительно-монтажные работы\",ЗАЯВКА!K763,0)","v":0},{"$f":"IF(ЗАЯВКА!N763=\"да\",ЗАЯВКА!K763,0)","v":0}]
[{"$f":"IF(ЗАЯВКА!I764=\"проектирование\",ЗАЯВКА!K764,0)","v":0},{"$f":"IF(ЗАЯВКА!I764=\"строительно-монтажные работы\",ЗАЯВКА!K764,0)","v":0},{"$f":"IF(ЗАЯВКА!N764=\"да\",ЗАЯВКА!K764,0)","v":0}]
[{"$f":"IF(ЗАЯВКА!I765=\"проектирование\",ЗАЯВКА!K765,0)","v":0},{"$f":"IF(ЗАЯВКА!I765=\"строительно-монтажные работы\",ЗАЯВКА!K765,0)","v":0},{"$f":"IF(ЗАЯВКА!N765=\"да\",ЗАЯВКА!K765,0)","v":0}]
[{"$f":"IF(ЗАЯВКА!I766=\"проектирование\",ЗАЯВКА!K766,0)","v":0},{"$f":"IF(ЗАЯВКА!I766=\"строительно-монтажные работы\",ЗАЯВКА!K766,0)","v":0},{"$f":"IF(ЗАЯВКА!N766=\"да\",ЗАЯВКА!K766,0)","v":0}]
[{"$f":"IF(ЗАЯВКА!I767=\"проектирование\",ЗАЯВКА!K767,0)","v":0},{"$f":"IF(ЗАЯВКА!I767=\"строительно-монтажные работы\",ЗАЯВКА!K767,0)","v":0},{"$f":"IF(ЗАЯВКА!N767=\"да\",ЗАЯВКА!K767,0)","v":0}]
[{"$f":"IF(ЗАЯВКА!I768=\"проектирование\",ЗАЯВКА!K768,0)","v":0},{"$f":"IF(ЗАЯВКА!I768=\"строительно-монтажные работы\",ЗАЯВКА!K768,0)","v":0},{"$f":"IF(ЗАЯВКА!N768=\"да\",ЗАЯВКА!K768,0)","v":0}]
[{"$f":"IF(ЗАЯВКА!I769=\"проектирование\",ЗАЯВКА!K769,0)","v":0},{"$f":"IF(ЗАЯВКА!I769=\"строительно-монтажные работы\",ЗАЯВКА!K769,0)","v":0},{"$f":"IF(ЗАЯВКА!N769=\"да\",ЗАЯВКА!K769,0)","v":0}]
[{"$f":"IF(ЗАЯВКА!I770=\"проектирование\",ЗАЯВКА!K770,0)","v":0},{"$f":"IF(ЗАЯВКА!I770=\"строительно-монтажные работы\",ЗАЯВКА!K770,0)","v":0},{"$f":"IF(ЗАЯВКА!N770=\"да\",ЗАЯВКА!K770,0)","v":0}]
[{"$f":"IF(ЗАЯВКА!I771=\"проектирование\",ЗАЯВКА!K771,0)","v":0},{"$f":"IF(ЗАЯВКА!I771=\"строительно-монтажные работы\",ЗАЯВКА!K771,0)","v":0},{"$f":"IF(ЗАЯВКА!N771=\"да\",ЗАЯВКА!K771,0)","v":0}]
[{"$f":"IF(ЗАЯВКА!I772=\"проектирование\",ЗАЯВКА!K772,0)","v":0},{"$f":"IF(ЗАЯВКА!I772=\"строительно-монтажные работы\",ЗАЯВКА!K772,0)","v":0},{"$f":"IF(ЗАЯВКА!N772=\"да\",ЗАЯВКА!K772,0)","v":0}]
[{"$f":"IF(ЗАЯВКА!I773=\"проектирование\",ЗАЯВКА!K773,0)","v":0},{"$f":"IF(ЗАЯВКА!I773=\"строительно-монтажные работы\",ЗАЯВКА!K773,0)","v":0},{"$f":"IF(ЗАЯВКА!N773=\"да\",ЗАЯВКА!K773,0)","v":0}]
[{"$f":"IF(ЗАЯВКА!I774=\"проектирование\",ЗАЯВКА!K774,0)","v":0},{"$f":"IF(ЗАЯВКА!I774=\"строительно-монтажные работы\",ЗАЯВКА!K774,0)","v":0},{"$f":"IF(ЗАЯВКА!N774=\"да\",ЗАЯВКА!K774,0)","v":0}]
[{"$f":"IF(ЗАЯВКА!I775=\"проектирование\",ЗАЯВКА!K775,0)","v":0},{"$f":"IF(ЗАЯВКА!I775=\"строительно-монтажные работы\",ЗАЯВКА!K775,0)","v":0},{"$f":"IF(ЗАЯВКА!N775=\"да\",ЗАЯВКА!K775,0)","v":0}]
[{"$f":"IF(ЗАЯВКА!I776=\"проектирование\",ЗАЯВКА!K776,0)","v":0},{"$f":"IF(ЗАЯВКА!I776=\"строительно-монтажные работы\",ЗАЯВКА!K776,0)","v":0},{"$f":"IF(ЗАЯВКА!N776=\"да\",ЗАЯВКА!K776,0)","v":0}]
[{"$f":"IF(ЗАЯВКА!I777=\"проектирование\",ЗАЯВКА!K777,0)","v":0},{"$f":"IF(ЗАЯВКА!I777=\"строительно-монтажные работы\",ЗАЯВКА!K777,0)","v":0},{"$f":"IF(ЗАЯВКА!N777=\"да\",ЗАЯВКА!K777,0)","v":0}]
[{"$f":"IF(ЗАЯВКА!I778=\"проектирование\",ЗАЯВКА!K778,0)","v":0},{"$f":"IF(ЗАЯВКА!I778=\"строительно-монтажные работы\",ЗАЯВКА!K778,0)","v":0},{"$f":"IF(ЗАЯВКА!N778=\"да\",ЗАЯВКА!K778,0)","v":0}]
[{"$f":"IF(ЗАЯВКА!I779=\"проектирование\",ЗАЯВКА!K779,0)","v":0},{"$f":"IF(ЗАЯВКА!I779=\"строительно-монтажные работы\",ЗАЯВКА!K779,0)","v":0},{"$f":"IF(ЗАЯВКА!N779=\"да\",ЗАЯВКА!K779,0)","v":0}]
[{"$f":"IF(ЗАЯВКА!I780=\"проектирование\",ЗАЯВКА!K780,0)","v":0},{"$f":"IF(ЗАЯВКА!I780=\"строительно-монтажные работы\",ЗАЯВКА!K780,0)","v":0},{"$f":"IF(ЗАЯВКА!N780=\"да\",ЗАЯВКА!K780,0)","v":0}]
[{"$f":"IF(ЗАЯВКА!I781=\"проектирование\",ЗАЯВКА!K781,0)","v":0},{"$f":"IF(ЗАЯВКА!I781=\"строительно-монтажные работы\",ЗАЯВКА!K781,0)","v":0},{"$f":"IF(ЗАЯВКА!N781=\"да\",ЗАЯВКА!K781,0)","v":0}]
[{"$f":"IF(ЗАЯВКА!I782=\"проектирование\",ЗАЯВКА!K782,0)","v":0},{"$f":"IF(ЗАЯВКА!I782=\"строительно-монтажные работы\",ЗАЯВКА!K782,0)","v":0},{"$f":"IF(ЗАЯВКА!N782=\"да\",ЗАЯВКА!K782,0)","v":0}]
[{"$f":"IF(ЗАЯВКА!I783=\"проектирование\",ЗАЯВКА!K783,0)","v":0},{"$f":"IF(ЗАЯВКА!I783=\"строительно-монтажные работы\",ЗАЯВКА!K783,0)","v":0},{"$f":"IF(ЗАЯВКА!N783=\"да\",ЗАЯВКА!K783,0)","v":0}]
[{"$f":"IF(ЗАЯВКА!I784=\"проектирование\",ЗАЯВКА!K784,0)","v":0},{"$f":"IF(ЗАЯВКА!I784=\"строительно-монтажные работы\",ЗАЯВКА!K784,0)","v":0},{"$f":"IF(ЗАЯВКА!N784=\"да\",ЗАЯВКА!K784,0)","v":0}]
[{"$f":"IF(ЗАЯВКА!I785=\"проектирование\",ЗАЯВКА!K785,0)","v":0},{"$f":"IF(ЗАЯВКА!I785=\"строительно-монтажные работы\",ЗАЯВКА!K785,0)","v":0},{"$f":"IF(ЗАЯВКА!N785=\"да\",ЗАЯВКА!K785,0)","v":0}]
[{"$f":"IF(ЗАЯВКА!I786=\"проектирование\",ЗАЯВКА!K786,0)","v":0},{"$f":"IF(ЗАЯВКА!I786=\"строительно-монтажные работы\",ЗАЯВКА!K786,0)","v":0},{"$f":"IF(ЗАЯВКА!N786=\"да\",ЗАЯВКА!K786,0)","v":0}]
[{"$f":"IF(ЗАЯВКА!I787=\"проектирование\",ЗАЯВКА!K787,0)","v":0},{"$f":"IF(ЗАЯВКА!I787=\"строительно-монтажные работы\",ЗАЯВКА!K787,0)","v":0},{"$f":"IF(ЗАЯВКА!N787=\"да\",ЗАЯВКА!K787,0)","v":0}]
[{"$f":"IF(ЗАЯВКА!I788=\"проектирование\",ЗАЯВКА!K788,0)","v":0},{"$f":"IF(ЗАЯВКА!I788=\"строительно-монтажные работы\",ЗАЯВКА!K788,0)","v":0},{"$f":"IF(ЗАЯВКА!N788=\"да\",ЗАЯВКА!K788,0)","v":0}]
[{"$f":"IF(ЗАЯВКА!I789=\"проектирование\",ЗАЯВКА!K789,0)","v":0},{"$f":"IF(ЗАЯВКА!I789=\"строительно-монтажные работы\",ЗАЯВКА!K789,0)","v":0},{"$f":"IF(ЗАЯВКА!N789=\"да\",ЗАЯВКА!K789,0)","v":0}]
[{"$f":"IF(ЗАЯВКА!I790=\"проектирование\",ЗАЯВКА!K790,0)","v":0},{"$f":"IF(ЗАЯВКА!I790=\"строительно-монтажные работы\",ЗАЯВКА!K790,0)","v":0},{"$f":"IF(ЗАЯВКА!N790=\"да\",ЗАЯВКА!K790,0)","v":0}]
[{"$f":"IF(ЗАЯВКА!I791=\"проектирование\",ЗАЯВКА!K791,0)","v":0},{"$f":"IF(ЗАЯВКА!I791=\"строительно-монтажные работы\",ЗАЯВКА!K791,0)","v":0},{"$f":"IF(ЗАЯВКА!N791=\"да\",ЗАЯВКА!K791,0)","v":0}]
[{"$f":"IF(ЗАЯВКА!I792=\"проектирование\",ЗАЯВКА!K792,0)","v":0},{"$f":"IF(ЗАЯВКА!I792=\"строительно-монтажные работы\",ЗАЯВКА!K792,0)","v":0},{"$f":"IF(ЗАЯВКА!N792=\"да\",ЗАЯВКА!K792,0)","v":0}]
[{"$f":"IF(ЗАЯВКА!I793=\"проектирование\",ЗАЯВКА!K793,0)","v":0},{"$f":"IF(ЗАЯВКА!I793=\"строительно-монтажные работы\",ЗАЯВКА!K793,0)","v":0},{"$f":"IF(ЗАЯВКА!N793=\"да\",ЗАЯВКА!K793,0)","v":0}]
[{"$f":"IF(ЗАЯВКА!I794=\"проектирование\",ЗАЯВКА!K794,0)","v":0},{"$f":"IF(ЗАЯВКА!I794=\"строительно-монтажные работы\",ЗАЯВКА!K794,0)","v":0},{"$f":"IF(ЗАЯВКА!N794=\"да\",ЗАЯВКА!K794,0)","v":0}]
[{"$f":"IF(ЗАЯВКА!I795=\"проектирование\",ЗАЯВКА!K795,0)","v":0},{"$f":"IF(ЗАЯВКА!I795=\"строительно-монтажные работы\",ЗАЯВКА!K795,0)","v":0},{"$f":"IF(ЗАЯВКА!N795=\"да\",ЗАЯВКА!K795,0)","v":0}]
[{"$f":"IF(ЗАЯВКА!I796=\"проектирование\",ЗАЯВКА!K796,0)","v":0},{"$f":"IF(ЗАЯВКА!I796=\"строительно-монтажные работы\",ЗАЯВКА!K796,0)","v":0},{"$f":"IF(ЗАЯВКА!N796=\"да\",ЗАЯВКА!K796,0)","v":0}]
[{"$f":"IF(ЗАЯВКА!I797=\"проектирование\",ЗАЯВКА!K797,0)","v":0},{"$f":"IF(ЗАЯВКА!I797=\"строительно-монтажные работы\",ЗАЯВКА!K797,0)","v":0},{"$f":"IF(ЗАЯВКА!N797=\"да\",ЗАЯВКА!K797,0)","v":0}]
[{"$f":"IF(ЗАЯВКА!I798=\"проектирование\",ЗАЯВКА!K798,0)","v":0},{"$f":"IF(ЗАЯВКА!I798=\"строительно-монтажные работы\",ЗАЯВКА!K798,0)","v":0},{"$f":"IF(ЗАЯВКА!N798=\"да\",ЗАЯВКА!K798,0)","v":0}]
[{"$f":"IF(ЗАЯВКА!I799=\"проектирование\",ЗАЯВКА!K799,0)","v":0},{"$f":"IF(ЗАЯВКА!I799=\"строительно-монтажные работы\",ЗАЯВКА!K799,0)","v":0},{"$f":"IF(ЗАЯВКА!N799=\"да\",ЗАЯВКА!K799,0)","v":0}]
[{"$f":"IF(ЗАЯВКА!I800=\"проектирование\",ЗАЯВКА!K800,0)","v":0},{"$f":"IF(ЗАЯВКА!I800=\"строительно-монтажные работы\",ЗАЯВКА!K800,0)","v":0},{"$f":"IF(ЗАЯВКА!N800=\"да\",ЗАЯВКА!K800,0)","v":0}]
[{"$f":"IF(ЗАЯВКА!I801=\"проектирование\",ЗАЯВКА!K801,0)","v":0},{"$f":"IF(ЗАЯВКА!I801=\"строительно-монтажные работы\",ЗАЯВКА!K801,0)","v":0},{"$f":"IF(ЗАЯВКА!N801=\"да\",ЗАЯВКА!K801,0)","v":0}]
[{"$f":"IF(ЗАЯВКА!I802=\"проектирование\",ЗАЯВКА!K802,0)","v":0},{"$f":"IF(ЗАЯВКА!I802=\"строительно-монтажные работы\",ЗАЯВКА!K802,0)","v":0},{"$f":"IF(ЗАЯВКА!N802=\"да\",ЗАЯВКА!K802,0)","v":0}]
[{"$f":"IF(ЗАЯВКА!I803=\"проектирование\",ЗАЯВКА!K803,0)","v":0},{"$f":"IF(ЗАЯВКА!I803=\"строительно-монтажные работы\",ЗАЯВКА!K803,0)","v":0},{"$f":"IF(ЗАЯВКА!N803=\"да\",ЗАЯВКА!K803,0)","v":0}]
[{"$f":"IF(ЗАЯВКА!I804=\"проектирование\",ЗАЯВКА!K804,0)","v":0},{"$f":"IF(ЗАЯВКА!I804=\"строительно-монтажные работы\",ЗАЯВКА!K804,0)","v":0},{"$f":"IF(ЗАЯВКА!N804=\"да\",ЗАЯВКА!K804,0)","v":0}]
[{"$f":"IF(ЗАЯВКА!I805=\"проектирование\",ЗАЯВКА!K805,0)","v":0},{"$f":"IF(ЗАЯВКА!I805=\"строительно-монтажные работы\",ЗАЯВКА!K805,0)","v":0},{"$f":"IF(ЗАЯВКА!N805=\"да\",ЗАЯВКА!K805,0)","v":0}]
[{"$f":"IF(ЗАЯВКА!I806=\"проектирование\",ЗАЯВКА!K806,0)","v":0},{"$f":"IF(ЗАЯВКА!I806=\"строительно-монтажные работы\",ЗАЯВКА!K806,0)","v":0},{"$f":"IF(ЗАЯВКА!N806=\"да\",ЗАЯВКА!K806,0)","v":0}]
[{"$f":"IF(ЗАЯВКА!I807=\"проектирование\",ЗАЯВКА!K807,0)","v":0},{"$f":"IF(ЗАЯВКА!I807=\"строительно-монтажные работы\",ЗАЯВКА!K807,0)","v":0},{"$f":"IF(ЗАЯВКА!N807=\"да\",ЗАЯВКА!K807,0)","v":0}]
[{"$f":"IF(ЗАЯВКА!I808=\"проектирование\",ЗАЯВКА!K808,0)","v":0},{"$f":"IF(ЗАЯВКА!I808=\"строительно-монтажные работы\",ЗАЯВКА!K808,0)","v":0},{"$f":"IF(ЗАЯВКА!N808=\"да\",ЗАЯВКА!K808,0)","v":0}]
[{"$f":"IF(ЗАЯВКА!I809=\"проектирование\",ЗАЯВКА!K809,0)","v":0},{"$f":"IF(ЗАЯВКА!I809=\"строительно-монтажные работы\",ЗАЯВКА!K809,0)","v":0},{"$f":"IF(ЗАЯВКА!N809=\"да\",ЗАЯВКА!K809,0)","v":0}]
[{"$f":"IF(ЗАЯВКА!I810=\"проектирование\",ЗАЯВКА!K810,0)","v":0},{"$f":"IF(ЗАЯВКА!I810=\"строительно-монтажные работы\",ЗАЯВКА!K810,0)","v":0},{"$f":"IF(ЗАЯВКА!N810=\"да\",ЗАЯВКА!K810,0)","v":0}]
[{"$f":"IF(ЗАЯВКА!I811=\"проектирование\",ЗАЯВКА!K811,0)","v":0},{"$f":"IF(ЗАЯВКА!I811=\"строительно-монтажные работы\",ЗАЯВКА!K811,0)","v":0},{"$f":"IF(ЗАЯВКА!N811=\"да\",ЗАЯВКА!K811,0)","v":0}]
[{"$f":"IF(ЗАЯВКА!I812=\"проектирование\",ЗАЯВКА!K812,0)","v":0},{"$f":"IF(ЗАЯВКА!I812=\"строительно-монтажные работы\",ЗАЯВКА!K812,0)","v":0},{"$f":"IF(ЗАЯВКА!N812=\"да\",ЗАЯВКА!K812,0)","v":0}]
[{"$f":"IF(ЗАЯВКА!I813=\"проектирование\",ЗАЯВКА!K813,0)","v":0},{"$f":"IF(ЗАЯВКА!I813=\"строительно-монтажные работы\",ЗАЯВКА!K813,0)","v":0},{"$f":"IF(ЗАЯВКА!N813=\"да\",ЗАЯВКА!K813,0)","v":0}]
[{"$f":"IF(ЗАЯВКА!I814=\"проектирование\",ЗАЯВКА!K814,0)","v":0},{"$f":"IF(ЗАЯВКА!I814=\"строительно-монтажные работы\",ЗАЯВКА!K814,0)","v":0},{"$f":"IF(ЗАЯВКА!N814=\"да\",ЗАЯВКА!K814,0)","v":0}]
[{"$f":"IF(ЗАЯВКА!I815=\"проектирование\",ЗАЯВКА!K815,0)","v":0},{"$f":"IF(ЗАЯВКА!I815=\"строительно-монтажные работы\",ЗАЯВКА!K815,0)","v":0},{"$f":"IF(ЗАЯВКА!N815=\"да\",ЗАЯВКА!K815,0)","v":0}]
[{"$f":"IF(ЗАЯВКА!I816=\"проектирование\",ЗАЯВКА!K816,0)","v":0},{"$f":"IF(ЗАЯВКА!I816=\"строительно-монтажные работы\",ЗАЯВКА!K816,0)","v":0},{"$f":"IF(ЗАЯВКА!N816=\"да\",ЗАЯВКА!K816,0)","v":0}]
[{"$f":"IF(ЗАЯВКА!I817=\"проектирование\",ЗАЯВКА!K817,0)","v":0},{"$f":"IF(ЗАЯВКА!I817=\"строительно-монтажные работы\",ЗАЯВКА!K817,0)","v":0},{"$f":"IF(ЗАЯВКА!N817=\"да\",ЗАЯВКА!K817,0)","v":0}]
[{"$f":"IF(ЗАЯВКА!I818=\"проектирование\",ЗАЯВКА!K818,0)","v":0},{"$f":"IF(ЗАЯВКА!I818=\"строительно-монтажные работы\",ЗАЯВКА!K818,0)","v":0},{"$f":"IF(ЗАЯВКА!N818=\"да\",ЗАЯВКА!K818,0)","v":0}]
[{"$f":"IF(ЗАЯВКА!I819=\"проектирование\",ЗАЯВКА!K819,0)","v":0},{"$f":"IF(ЗАЯВКА!I819=\"строительно-монтажные работы\",ЗАЯВКА!K819,0)","v":0},{"$f":"IF(ЗАЯВКА!N819=\"да\",ЗАЯВКА!K819,0)","v":0}]
[{"$f":"IF(ЗАЯВКА!I820=\"проектирование\",ЗАЯВКА!K820,0)","v":0},{"$f":"IF(ЗАЯВКА!I820=\"строительно-монтажные работы\",ЗАЯВКА!K820,0)","v":0},{"$f":"IF(ЗАЯВКА!N820=\"да\",ЗАЯВКА!K820,0)","v":0}]
[{"$f":"IF(ЗАЯВКА!I821=\"проектирование\",ЗАЯВКА!K821,0)","v":0},{"$f":"IF(ЗАЯВКА!I821=\"строительно-монтажные работы\",ЗАЯВКА!K821,0)","v":0},{"$f":"IF(ЗАЯВКА!N821=\"да\",ЗАЯВКА!K821,0)","v":0}]
[{"$f":"IF(ЗАЯВКА!I822=\"проектирование\",ЗАЯВКА!K822,0)","v":0},{"$f":"IF(ЗАЯВКА!I822=\"строительно-монтажные работы\",ЗАЯВКА!K822,0)","v":0},{"$f":"IF(ЗАЯВКА!N822=\"да\",ЗАЯВКА!K822,0)","v":0}]
[{"$f":"IF(ЗАЯВКА!I823=\"проектирование\",ЗАЯВКА!K823,0)","v":0},{"$f":"IF(ЗАЯВКА!I823=\"строительно-монтажные работы\",ЗАЯВКА!K823,0)","v":0},{"$f":"IF(ЗАЯВКА!N823=\"да\",ЗАЯВКА!K823,0)","v":0}]
[{"$f":"IF(ЗАЯВКА!I824=\"проектирование\",ЗАЯВКА!K824,0)","v":0},{"$f":"IF(ЗАЯВКА!I824=\"строительно-монтажные работы\",ЗАЯВКА!K824,0)","v":0},{"$f":"IF(ЗАЯВКА!N824=\"да\",ЗАЯВКА!K824,0)","v":0}]
[{"$f":"IF(ЗАЯВКА!I825=\"проектирование\",ЗАЯВКА!K825,0)","v":0},{"$f":"IF(ЗАЯВКА!I825=\"строительно-монтажные работы\",ЗАЯВКА!K825,0)","v":0},{"$f":"IF(ЗАЯВКА!N825=\"да\",ЗАЯВКА!K825,0)","v":0}]
[{"$f":"IF(ЗАЯВКА!I826=\"проектирование\",ЗАЯВКА!K826,0)","v":0},{"$f":"IF(ЗАЯВКА!I826=\"строительно-монтажные работы\",ЗАЯВКА!K826,0)","v":0},{"$f":"IF(ЗАЯВКА!N826=\"да\",ЗАЯВКА!K826,0)","v":0}]
[{"$f":"IF(ЗАЯВКА!I827=\"проектирование\",ЗАЯВКА!K827,0)","v":0},{"$f":"IF(ЗАЯВКА!I827=\"строительно-монтажные работы\",ЗАЯВКА!K827,0)","v":0},{"$f":"IF(ЗАЯВКА!N827=\"да\",ЗАЯВКА!K827,0)","v":0}]
[{"$f":"IF(ЗАЯВКА!I828=\"проектирование\",ЗАЯВКА!K828,0)","v":0},{"$f":"IF(ЗАЯВКА!I828=\"строительно-монтажные работы\",ЗАЯВКА!K828,0)","v":0},{"$f":"IF(ЗАЯВКА!N828=\"да\",ЗАЯВКА!K828,0)","v":0}]
[{"$f":"IF(ЗАЯВКА!I829=\"проектирование\",ЗАЯВКА!K829,0)","v":0},{"$f":"IF(ЗАЯВКА!I829=\"строительно-монтажные работы\",ЗАЯВКА!K829,0)","v":0},{"$f":"IF(ЗАЯВКА!N829=\"да\",ЗАЯВКА!K829,0)","v":0}]
[{"$f":"IF(ЗАЯВКА!I830=\"проектирование\",ЗАЯВКА!K830,0)","v":0},{"$f":"IF(ЗАЯВКА!I830=\"строительно-монтажные работы\",ЗАЯВКА!K830,0)","v":0},{"$f":"IF(ЗАЯВКА!N830=\"да\",ЗАЯВКА!K830,0)","v":0}]
[{"$f":"IF(ЗАЯВКА!I831=\"проектирование\",ЗАЯВКА!K831,0)","v":0},{"$f":"IF(ЗАЯВКА!I831=\"строительно-монтажные работы\",ЗАЯВКА!K831,0)","v":0},{"$f":"IF(ЗАЯВКА!N831=\"да\",ЗАЯВКА!K831,0)","v":0}]
[{"$f":"IF(ЗАЯВКА!I832=\"проектирование\",ЗАЯВКА!K832,0)","v":0},{"$f":"IF(ЗАЯВКА!I832=\"строительно-монтажные работы\",ЗАЯВКА!K832,0)","v":0},{"$f":"IF(ЗАЯВКА!N832=\"да\",ЗАЯВКА!K832,0)","v":0}]
[{"$f":"IF(ЗАЯВКА!I833=\"проектирование\",ЗАЯВКА!K833,0)","v":0},{"$f":"IF(ЗАЯВКА!I833=\"строительно-монтажные работы\",ЗАЯВКА!K833,0)","v":0},{"$f":"IF(ЗАЯВКА!N833=\"да\",ЗАЯВКА!K833,0)","v":0}]
[{"$f":"IF(ЗАЯВКА!I834=\"проектирование\",ЗАЯВКА!K834,0)","v":0},{"$f":"IF(ЗАЯВКА!I834=\"строительно-монтажные работы\",ЗАЯВКА!K834,0)","v":0},{"$f":"IF(ЗАЯВКА!N834=\"да\",ЗАЯВКА!K834,0)","v":0}]
[{"$f":"IF(ЗАЯВКА!I835=\"проектирование\",ЗАЯВКА!K835,0)","v":0},{"$f":"IF(ЗАЯВКА!I835=\"строительно-монтажные работы\",ЗАЯВКА!K835,0)","v":0},{"$f":"IF(ЗАЯВКА!N835=\"да\",ЗАЯВКА!K835,0)","v":0}]
[{"$f":"IF(ЗАЯВКА!I836=\"проектирование\",ЗАЯВКА!K836,0)","v":0},{"$f":"IF(ЗАЯВКА!I836=\"строительно-монтажные работы\",ЗАЯВКА!K836,0)","v":0},{"$f":"IF(ЗАЯВКА!N836=\"да\",ЗАЯВКА!K836,0)","v":0}]
[{"$f":"IF(ЗАЯВКА!I837=\"проектирование\",ЗАЯВКА!K837,0)","v":0},{"$f":"IF(ЗАЯВКА!I837=\"строительно-монтажные работы\",ЗАЯВКА!K837,0)","v":0},{"$f":"IF(ЗАЯВКА!N837=\"да\",ЗАЯВКА!K837,0)","v":0}]
[{"$f":"IF(ЗАЯВКА!I838=\"проектирование\",ЗАЯВКА!K838,0)","v":0},{"$f":"IF(ЗАЯВКА!I838=\"строительно-монтажные работы\",ЗАЯВКА!K838,0)","v":0},{"$f":"IF(ЗАЯВКА!N838=\"да\",ЗАЯВКА!K838,0)","v":0}]
[{"$f":"IF(ЗАЯВКА!I839=\"проектирование\",ЗАЯВКА!K839,0)","v":0},{"$f":"IF(ЗАЯВКА!I839=\"строительно-монтажные работы\",ЗАЯВКА!K839,0)","v":0},{"$f":"IF(ЗАЯВКА!N839=\"да\",ЗАЯВКА!K839,0)","v":0}]
[{"$f":"IF(ЗАЯВКА!I840=\"проектирование\",ЗАЯВКА!K840,0)","v":0},{"$f":"IF(ЗАЯВКА!I840=\"строительно-монтажные работы\",ЗАЯВКА!K840,0)","v":0},{"$f":"IF(ЗАЯВКА!N840=\"да\",ЗАЯВКА!K840,0)","v":0}]
[{"$f":"IF(ЗАЯВКА!I841=\"проектирование\",ЗАЯВКА!K841,0)","v":0},{"$f":"IF(ЗАЯВКА!I841=\"строительно-монтажные работы\",ЗАЯВКА!K841,0)","v":0},{"$f":"IF(ЗАЯВКА!N841=\"да\",ЗАЯВКА!K841,0)","v":0}]
[{"$f":"IF(ЗАЯВКА!I842=\"проектирование\",ЗАЯВКА!K842,0)","v":0},{"$f":"IF(ЗАЯВКА!I842=\"строительно-монтажные работы\",ЗАЯВКА!K842,0)","v":0},{"$f":"IF(ЗАЯВКА!N842=\"да\",ЗАЯВКА!K842,0)","v":0}]
[{"$f":"IF(ЗАЯВКА!I843=\"проектирование\",ЗАЯВКА!K843,0)","v":0},{"$f":"IF(ЗАЯВКА!I843=\"строительно-монтажные работы\",ЗАЯВКА!K843,0)","v":0},{"$f":"IF(ЗАЯВКА!N843=\"да\",ЗАЯВКА!K843,0)","v":0}]
[{"$f":"IF(ЗАЯВКА!I844=\"проектирование\",ЗАЯВКА!K844,0)","v":0},{"$f":"IF(ЗАЯВКА!I844=\"строительно-монтажные работы\",ЗАЯВКА!K844,0)","v":0},{"$f":"IF(ЗАЯВКА!N844=\"да\",ЗАЯВКА!K844,0)","v":0}]
[{"$f":"IF(ЗАЯВКА!I845=\"проектирование\",ЗАЯВКА!K845,0)","v":0},{"$f":"IF(ЗАЯВКА!I845=\"строительно-монтажные работы\",ЗАЯВКА!K845,0)","v":0},{"$f":"IF(ЗАЯВКА!N845=\"да\",ЗАЯВКА!K845,0)","v":0}]
[{"$f":"IF(ЗАЯВКА!I846=\"проектирование\",ЗАЯВКА!K846,0)","v":0},{"$f":"IF(ЗАЯВКА!I846=\"строительно-монтажные работы\",ЗАЯВКА!K846,0)","v":0},{"$f":"IF(ЗАЯВКА!N846=\"да\",ЗАЯВКА!K846,0)","v":0}]
[{"$f":"IF(ЗАЯВКА!I847=\"проектирование\",ЗАЯВКА!K847,0)","v":0},{"$f":"IF(ЗАЯВКА!I847=\"строительно-монтажные работы\",ЗАЯВКА!K847,0)","v":0},{"$f":"IF(ЗАЯВКА!N847=\"да\",ЗАЯВКА!K847,0)","v":0}]
[{"$f":"IF(ЗАЯВКА!I848=\"проектирование\",ЗАЯВКА!K848,0)","v":0},{"$f":"IF(ЗАЯВКА!I848=\"строительно-монтажные работы\",ЗАЯВКА!K848,0)","v":0},{"$f":"IF(ЗАЯВКА!N848=\"да\",ЗАЯВКА!K848,0)","v":0}]
[{"$f":"IF(ЗАЯВКА!I849=\"проектирование\",ЗАЯВКА!K849,0)","v":0},{"$f":"IF(ЗАЯВКА!I849=\"строительно-монтажные работы\",ЗАЯВКА!K849,0)","v":0},{"$f":"IF(ЗАЯВКА!N849=\"да\",ЗАЯВКА!K849,0)","v":0}]
[{"$f":"IF(ЗАЯВКА!I850=\"проектирование\",ЗАЯВКА!K850,0)","v":0},{"$f":"IF(ЗАЯВКА!I850=\"строительно-монтажные работы\",ЗАЯВКА!K850,0)","v":0},{"$f":"IF(ЗАЯВКА!N850=\"да\",ЗАЯВКА!K850,0)","v":0}]
[{"$f":"IF(ЗАЯВКА!I851=\"проектирование\",ЗАЯВКА!K851,0)","v":0},{"$f":"IF(ЗАЯВКА!I851=\"строительно-монтажные работы\",ЗАЯВКА!K851,0)","v":0},{"$f":"IF(ЗАЯВКА!N851=\"да\",ЗАЯВКА!K851,0)","v":0}]
[{"$f":"IF(ЗАЯВКА!I852=\"проектирование\",ЗАЯВКА!K852,0)","v":0},{"$f":"IF(ЗАЯВКА!I852=\"строительно-монтажные работы\",ЗАЯВКА!K852,0)","v":0},{"$f":"IF(ЗАЯВКА!N852=\"да\",ЗАЯВКА!K852,0)","v":0}]
[{"$f":"IF(ЗАЯВКА!I853=\"проектирование\",ЗАЯВКА!K853,0)","v":0},{"$f":"IF(ЗАЯВКА!I853=\"строительно-монтажные работы\",ЗАЯВКА!K853,0)","v":0},{"$f":"IF(ЗАЯВКА!N853=\"да\",ЗАЯВКА!K853,0)","v":0}]
[{"$f":"IF(ЗАЯВКА!I854=\"проектирование\",ЗАЯВКА!K854,0)","v":0},{"$f":"IF(ЗАЯВКА!I854=\"строительно-монтажные работы\",ЗАЯВКА!K854,0)","v":0},{"$f":"IF(ЗАЯВКА!N854=\"да\",ЗАЯВКА!K854,0)","v":0}]
[{"$f":"IF(ЗАЯВКА!I855=\"проектирование\",ЗАЯВКА!K855,0)","v":0},{"$f":"IF(ЗАЯВКА!I855=\"строительно-монтажные работы\",ЗАЯВКА!K855,0)","v":0},{"$f":"IF(ЗАЯВКА!N855=\"да\",ЗАЯВКА!K855,0)","v":0}]
[{"$f":"IF(ЗАЯВКА!I856=\"проектирование\",ЗАЯВКА!K856,0)","v":0},{"$f":"IF(ЗАЯВКА!I856=\"строительно-монтажные работы\",ЗАЯВКА!K856,0)","v":0},{"$f":"IF(ЗАЯВКА!N856=\"да\",ЗАЯВКА!K856,0)","v":0}]
[{"$f":"IF(ЗАЯВКА!I857=\"проектирование\",ЗАЯВКА!K857,0)","v":0},{"$f":"IF(ЗАЯВКА!I857=\"строительно-монтажные работы\",ЗАЯВКА!K857,0)","v":0},{"$f":"IF(ЗАЯВКА!N857=\"да\",ЗАЯВКА!K857,0)","v":0}]
[{"$f":"IF(ЗАЯВКА!I858=\"проектирование\",ЗАЯВКА!K858,0)","v":0},{"$f":"IF(ЗАЯВКА!I858=\"строительно-монтажные работы\",ЗАЯВКА!K858,0)","v":0},{"$f":"IF(ЗАЯВКА!N858=\"да\",ЗАЯВКА!K858,0)","v":0}]
[{"$f":"IF(ЗАЯВКА!I859=\"проектирование\",ЗАЯВКА!K859,0)","v":0},{"$f":"IF(ЗАЯВКА!I859=\"строительно-монтажные работы\",ЗАЯВКА!K859,0)","v":0},{"$f":"IF(ЗАЯВКА!N859=\"да\",ЗАЯВКА!K859,0)","v":0}]
[{"$f":"IF(ЗАЯВКА!I860=\"проектирование\",ЗАЯВКА!K860,0)","v":0},{"$f":"IF(ЗАЯВКА!I860=\"строительно-монтажные работы\",ЗАЯВКА!K860,0)","v":0},{"$f":"IF(ЗАЯВКА!N860=\"да\",ЗАЯВКА!K860,0)","v":0}]
[{"$f":"IF(ЗАЯВКА!I861=\"проектирование\",ЗАЯВКА!K861,0)","v":0},{"$f":"IF(ЗАЯВКА!I861=\"строительно-монтажные работы\",ЗАЯВКА!K861,0)","v":0},{"$f":"IF(ЗАЯВКА!N861=\"да\",ЗАЯВКА!K861,0)","v":0}]
[{"$f":"IF(ЗАЯВКА!I862=\"проектирование\",ЗАЯВКА!K862,0)","v":0},{"$f":"IF(ЗАЯВКА!I862=\"строительно-монтажные работы\",ЗАЯВКА!K862,0)","v":0},{"$f":"IF(ЗАЯВКА!N862=\"да\",ЗАЯВКА!K862,0)","v":0}]
[{"$f":"IF(ЗАЯВКА!I863=\"проектирование\",ЗАЯВКА!K863,0)","v":0},{"$f":"IF(ЗАЯВКА!I863=\"строительно-монтажные работы\",ЗАЯВКА!K863,0)","v":0},{"$f":"IF(ЗАЯВКА!N863=\"да\",ЗАЯВКА!K863,0)","v":0}]
[{"$f":"IF(ЗАЯВКА!I864=\"проектирование\",ЗАЯВКА!K864,0)","v":0},{"$f":"IF(ЗАЯВКА!I864=\"строительно-монтажные работы\",ЗАЯВКА!K864,0)","v":0},{"$f":"IF(ЗАЯВКА!N864=\"да\",ЗАЯВКА!K864,0)","v":0}]
[{"$f":"IF(ЗАЯВКА!I865=\"проектирование\",ЗАЯВКА!K865,0)","v":0},{"$f":"IF(ЗАЯВКА!I865=\"строительно-монтажные работы\",ЗАЯВКА!K865,0)","v":0},{"$f":"IF(ЗАЯВКА!N865=\"да\",ЗАЯВКА!K865,0)","v":0}]
[{"$f":"IF(ЗАЯВКА!I866=\"проектирование\",ЗАЯВКА!K866,0)","v":0},{"$f":"IF(ЗАЯВКА!I866=\"строительно-монтажные работы\",ЗАЯВКА!K866,0)","v":0},{"$f":"IF(ЗАЯВКА!N866=\"да\",ЗАЯВКА!K866,0)","v":0}]
[{"$f":"IF(ЗАЯВКА!I867=\"проектирование\",ЗАЯВКА!K867,0)","v":0},{"$f":"IF(ЗАЯВКА!I867=\"строительно-монтажные работы\",ЗАЯВКА!K867,0)","v":0},{"$f":"IF(ЗАЯВКА!N867=\"да\",ЗАЯВКА!K867,0)","v":0}]
[{"$f":"IF(ЗАЯВКА!I868=\"проектирование\",ЗАЯВКА!K868,0)","v":0},{"$f":"IF(ЗАЯВКА!I868=\"строительно-монтажные работы\",ЗАЯВКА!K868,0)","v":0},{"$f":"IF(ЗАЯВКА!N868=\"да\",ЗАЯВКА!K868,0)","v":0}]
[{"$f":"IF(ЗАЯВКА!I869=\"проектирование\",ЗАЯВКА!K869,0)","v":0},{"$f":"IF(ЗАЯВКА!I869=\"строительно-монтажные работы\",ЗАЯВКА!K869,0)","v":0},{"$f":"IF(ЗАЯВКА!N869=\"да\",ЗАЯВКА!K869,0)","v":0}]
[{"$f":"IF(ЗАЯВКА!I870=\"проектирование\",ЗАЯВКА!K870,0)","v":0},{"$f":"IF(ЗАЯВКА!I870=\"строительно-монтажные работы\",ЗАЯВКА!K870,0)","v":0},{"$f":"IF(ЗАЯВКА!N870=\"да\",ЗАЯВКА!K870,0)","v":0}]
[{"$f":"IF(ЗАЯВКА!I871=\"проектирование\",ЗАЯВКА!K871,0)","v":0},{"$f":"IF(ЗАЯВКА!I871=\"строительно-монтажные работы\",ЗАЯВКА!K871,0)","v":0},{"$f":"IF(ЗАЯВКА!N871=\"да\",ЗАЯВКА!K871,0)","v":0}]
[{"$f":"IF(ЗАЯВКА!I872=\"проектирование\",ЗАЯВКА!K872,0)","v":0},{"$f":"IF(ЗАЯВКА!I872=\"строительно-монтажные работы\",ЗАЯВКА!K872,0)","v":0},{"$f":"IF(ЗАЯВКА!N872=\"да\",ЗАЯВКА!K872,0)","v":0}]
[{"$f":"IF(ЗАЯВКА!I873=\"проектирование\",ЗАЯВКА!K873,0)","v":0},{"$f":"IF(ЗАЯВКА!I873=\"строительно-монтажные работы\",ЗАЯВКА!K873,0)","v":0},{"$f":"IF(ЗАЯВКА!N873=\"да\",ЗАЯВКА!K873,0)","v":0}]
[{"$f":"IF(ЗАЯВКА!I874=\"проектирование\",ЗАЯВКА!K874,0)","v":0},{"$f":"IF(ЗАЯВКА!I874=\"строительно-монтажные работы\",ЗАЯВКА!K874,0)","v":0},{"$f":"IF(ЗАЯВКА!N874=\"да\",ЗАЯВКА!K874,0)","v":0}]
[{"$f":"IF(ЗАЯВКА!I875=\"проектирование\",ЗАЯВКА!K875,0)","v":0},{"$f":"IF(ЗАЯВКА!I875=\"строительно-монтажные работы\",ЗАЯВКА!K875,0)","v":0},{"$f":"IF(ЗАЯВКА!N875=\"да\",ЗАЯВКА!K875,0)","v":0}]
[{"$f":"IF(ЗАЯВКА!I876=\"проектирование\",ЗАЯВКА!K876,0)","v":0},{"$f":"IF(ЗАЯВКА!I876=\"строительно-монтажные работы\",ЗАЯВКА!K876,0)","v":0},{"$f":"IF(ЗАЯВКА!N876=\"да\",ЗАЯВКА!K876,0)","v":0}]
[{"$f":"IF(ЗАЯВКА!I877=\"проектирование\",ЗАЯВКА!K877,0)","v":0},{"$f":"IF(ЗАЯВКА!I877=\"строительно-монтажные работы\",ЗАЯВКА!K877,0)","v":0},{"$f":"IF(ЗАЯВКА!N877=\"да\",ЗАЯВКА!K877,0)","v":0}]
[{"$f":"IF(ЗАЯВКА!I878=\"проектирование\",ЗАЯВКА!K878,0)","v":0},{"$f":"IF(ЗАЯВКА!I878=\"строительно-монтажные работы\",ЗАЯВКА!K878,0)","v":0},{"$f":"IF(ЗАЯВКА!N878=\"да\",ЗАЯВКА!K878,0)","v":0}]
[{"$f":"IF(ЗАЯВКА!I879=\"проектирование\",ЗАЯВКА!K879,0)","v":0},{"$f":"IF(ЗАЯВКА!I879=\"строительно-монтажные работы\",ЗАЯВКА!K879,0)","v":0},{"$f":"IF(ЗАЯВКА!N879=\"да\",ЗАЯВКА!K879,0)","v":0}]
[{"$f":"IF(ЗАЯВКА!I880=\"проектирование\",ЗАЯВКА!K880,0)","v":0},{"$f":"IF(ЗАЯВКА!I880=\"строительно-монтажные работы\",ЗАЯВКА!K880,0)","v":0},{"$f":"IF(ЗАЯВКА!N880=\"да\",ЗАЯВКА!K880,0)","v":0}]
[{"$f":"IF(ЗАЯВКА!I881=\"проектирование\",ЗАЯВКА!K881,0)","v":0},{"$f":"IF(ЗАЯВКА!I881=\"строительно-монтажные работы\",ЗАЯВКА!K881,0)","v":0},{"$f":"IF(ЗАЯВКА!N881=\"да\",ЗАЯВКА!K881,0)","v":0}]
[{"$f":"IF(ЗАЯВКА!I882=\"проектирование\",ЗАЯВКА!K882,0)","v":0},{"$f":"IF(ЗАЯВКА!I882=\"строительно-монтажные работы\",ЗАЯВКА!K882,0)","v":0},{"$f":"IF(ЗАЯВКА!N882=\"да\",ЗАЯВКА!K882,0)","v":0}]
[{"$f":"IF(ЗАЯВКА!I883=\"проектирование\",ЗАЯВКА!K883,0)","v":0},{"$f":"IF(ЗАЯВКА!I883=\"строительно-монтажные работы\",ЗАЯВКА!K883,0)","v":0},{"$f":"IF(ЗАЯВКА!N883=\"да\",ЗАЯВКА!K883,0)","v":0}]
[{"$f":"IF(ЗАЯВКА!I884=\"проектирование\",ЗАЯВКА!K884,0)","v":0},{"$f":"IF(ЗАЯВКА!I884=\"строительно-монтажные работы\",ЗАЯВКА!K884,0)","v":0},{"$f":"IF(ЗАЯВКА!N884=\"да\",ЗАЯВКА!K884,0)","v":0}]
[{"$f":"IF(ЗАЯВКА!I885=\"проектирование\",ЗАЯВКА!K885,0)","v":0},{"$f":"IF(ЗАЯВКА!I885=\"строительно-монтажные работы\",ЗАЯВКА!K885,0)","v":0},{"$f":"IF(ЗАЯВКА!N885=\"да\",ЗАЯВКА!K885,0)","v":0}]
[{"$f":"IF(ЗАЯВКА!I886=\"проектирование\",ЗАЯВКА!K886,0)","v":0},{"$f":"IF(ЗАЯВКА!I886=\"строительно-монтажные работы\",ЗАЯВКА!K886,0)","v":0},{"$f":"IF(ЗАЯВКА!N886=\"да\",ЗАЯВКА!K886,0)","v":0}]
[{"$f":"IF(ЗАЯВКА!I887=\"проектирование\",ЗАЯВКА!K887,0)","v":0},{"$f":"IF(ЗАЯВКА!I887=\"строительно-монтажные работы\",ЗАЯВКА!K887,0)","v":0},{"$f":"IF(ЗАЯВКА!N887=\"да\",ЗАЯВКА!K887,0)","v":0}]
[{"$f":"IF(ЗАЯВКА!I888=\"проектирование\",ЗАЯВКА!K888,0)","v":0},{"$f":"IF(ЗАЯВКА!I888=\"строительно-монтажные работы\",ЗАЯВКА!K888,0)","v":0},{"$f":"IF(ЗАЯВКА!N888=\"да\",ЗАЯВКА!K888,0)","v":0}]
[{"$f":"IF(ЗАЯВКА!I889=\"проектирование\",ЗАЯВКА!K889,0)","v":0},{"$f":"IF(ЗАЯВКА!I889=\"строительно-монтажные работы\",ЗАЯВКА!K889,0)","v":0},{"$f":"IF(ЗАЯВКА!N889=\"да\",ЗАЯВКА!K889,0)","v":0}]
[{"$f":"IF(ЗАЯВКА!I890=\"проектирование\",ЗАЯВКА!K890,0)","v":0},{"$f":"IF(ЗАЯВКА!I890=\"строительно-монтажные работы\",ЗАЯВКА!K890,0)","v":0},{"$f":"IF(ЗАЯВКА!N890=\"да\",ЗАЯВКА!K890,0)","v":0}]
[{"$f":"IF(ЗАЯВКА!I891=\"проектирование\",ЗАЯВКА!K891,0)","v":0},{"$f":"IF(ЗАЯВКА!I891=\"строительно-монтажные работы\",ЗАЯВКА!K891,0)","v":0},{"$f":"IF(ЗАЯВКА!N891=\"да\",ЗАЯВКА!K891,0)","v":0}]
[{"$f":"IF(ЗАЯВКА!I892=\"проектирование\",ЗАЯВКА!K892,0)","v":0},{"$f":"IF(ЗАЯВКА!I892=\"строительно-монтажные работы\",ЗАЯВКА!K892,0)","v":0},{"$f":"IF(ЗАЯВКА!N892=\"да\",ЗАЯВКА!K892,0)","v":0}]
[{"$f":"IF(ЗАЯВКА!I893=\"проектирование\",ЗАЯВКА!K893,0)","v":0},{"$f":"IF(ЗАЯВКА!I893=\"строительно-монтажные работы\",ЗАЯВКА!K893,0)","v":0},{"$f":"IF(ЗАЯВКА!N893=\"да\",ЗАЯВКА!K893,0)","v":0}]
[{"$f":"IF(ЗАЯВКА!I894=\"проектирование\",ЗАЯВКА!K894,0)","v":0},{"$f":"IF(ЗАЯВКА!I894=\"строительно-монтажные работы\",ЗАЯВКА!K894,0)","v":0},{"$f":"IF(ЗАЯВКА!N894=\"да\",ЗАЯВКА!K894,0)","v":0}]
[{"$f":"IF(ЗАЯВКА!I895=\"проектирование\",ЗАЯВКА!K895,0)","v":0},{"$f":"IF(ЗАЯВКА!I895=\"строительно-монтажные работы\",ЗАЯВКА!K895,0)","v":0},{"$f":"IF(ЗАЯВКА!N895=\"да\",ЗАЯВКА!K895,0)","v":0}]
[{"$f":"IF(ЗАЯВКА!I896=\"проектирование\",ЗАЯВКА!K896,0)","v":0},{"$f":"IF(ЗАЯВКА!I896=\"строительно-монтажные работы\",ЗАЯВКА!K896,0)","v":0},{"$f":"IF(ЗАЯВКА!N896=\"да\",ЗАЯВКА!K896,0)","v":0}]
[{"$f":"IF(ЗАЯВКА!I897=\"проектирование\",ЗАЯВКА!K897,0)","v":0},{"$f":"IF(ЗАЯВКА!I897=\"строительно-монтажные работы\",ЗАЯВКА!K897,0)","v":0},{"$f":"IF(ЗАЯВКА!N897=\"да\",ЗАЯВКА!K897,0)","v":0}]
[{"$f":"IF(ЗАЯВКА!I898=\"проектирование\",ЗАЯВКА!K898,0)","v":0},{"$f":"IF(ЗАЯВКА!I898=\"строительно-монтажные работы\",ЗАЯВКА!K898,0)","v":0},{"$f":"IF(ЗАЯВКА!N898=\"да\",ЗАЯВКА!K898,0)","v":0}]
[{"$f":"IF(ЗАЯВКА!I899=\"проектирование\",ЗАЯВКА!K899,0)","v":0},{"$f":"IF(ЗАЯВКА!I899=\"строительно-монтажные работы\",ЗАЯВКА!K899,0)","v":0},{"$f":"IF(ЗАЯВКА!N899=\"да\",ЗАЯВКА!K899,0)","v":0}]
[{"$f":"IF(ЗАЯВКА!I900=\"проектирование\",ЗАЯВКА!K900,0)","v":0},{"$f":"IF(ЗАЯВКА!I900=\"строительно-монтажные работы\",ЗАЯВКА!K900,0)","v":0},{"$f":"IF(ЗАЯВКА!N900=\"да\",ЗАЯВКА!K900,0)","v":0}]
[{"$f":"IF(ЗАЯВКА!I901=\"проектирование\",ЗАЯВКА!K901,0)","v":0},{"$f":"IF(ЗАЯВКА!I901=\"строительно-монтажные работы\",ЗАЯВКА!K901,0)","v":0},{"$f":"IF(ЗАЯВКА!N901=\"да\",ЗАЯВКА!K901,0)","v":0}]
[{"$f":"IF(ЗАЯВКА!I902=\"проектирование\",ЗАЯВКА!K902,0)","v":0},{"$f":"IF(ЗАЯВКА!I902=\"строительно-монтажные работы\",ЗАЯВКА!K902,0)","v":0},{"$f":"IF(ЗАЯВКА!N902=\"да\",ЗАЯВКА!K902,0)","v":0}]
[{"$f":"IF(ЗАЯВКА!I903=\"проектирование\",ЗАЯВКА!K903,0)","v":0},{"$f":"IF(ЗАЯВКА!I903=\"строительно-монтажные работы\",ЗАЯВКА!K903,0)","v":0},{"$f":"IF(ЗАЯВКА!N903=\"да\",ЗАЯВКА!K903,0)","v":0}]
[{"$f":"IF(ЗАЯВКА!I904=\"проектирование\",ЗАЯВКА!K904,0)","v":0},{"$f":"IF(ЗАЯВКА!I904=\"строительно-монтажные работы\",ЗАЯВКА!K904,0)","v":0},{"$f":"IF(ЗАЯВКА!N904=\"да\",ЗАЯВКА!K904,0)","v":0}]
[{"$f":"IF(ЗАЯВКА!I905=\"проектирование\",ЗАЯВКА!K905,0)","v":0},{"$f":"IF(ЗАЯВКА!I905=\"строительно-монтажные работы\",ЗАЯВКА!K905,0)","v":0},{"$f":"IF(ЗАЯВКА!N905=\"да\",ЗАЯВКА!K905,0)","v":0}]
[{"$f":"IF(ЗАЯВКА!I906=\"проектирование\",ЗАЯВКА!K906,0)","v":0},{"$f":"IF(ЗАЯВКА!I906=\"строительно-монтажные работы\",ЗАЯВКА!K906,0)","v":0},{"$f":"IF(ЗАЯВКА!N906=\"да\",ЗАЯВКА!K906,0)","v":0}]
[{"$f":"IF(ЗАЯВКА!I907=\"проектирование\",ЗАЯВКА!K907,0)","v":0},{"$f":"IF(ЗАЯВКА!I907=\"строительно-монтажные работы\",ЗАЯВКА!K907,0)","v":0},{"$f":"IF(ЗАЯВКА!N907=\"да\",ЗАЯВКА!K907,0)","v":0}]
[{"$f":"IF(ЗАЯВКА!I908=\"проектирование\",ЗАЯВКА!K908,0)","v":0},{"$f":"IF(ЗАЯВКА!I908=\"строительно-монтажные работы\",ЗАЯВКА!K908,0)","v":0},{"$f":"IF(ЗАЯВКА!N908=\"да\",ЗАЯВКА!K908,0)","v":0}]
[{"$f":"IF(ЗАЯВКА!I909=\"проектирование\",ЗАЯВКА!K909,0)","v":0},{"$f":"IF(ЗАЯВКА!I909=\"строительно-монтажные работы\",ЗАЯВКА!K909,0)","v":0},{"$f":"IF(ЗАЯВКА!N909=\"да\",ЗАЯВКА!K909,0)","v":0}]
[{"$f":"IF(ЗАЯВКА!I910=\"проектирование\",ЗАЯВКА!K910,0)","v":0},{"$f":"IF(ЗАЯВКА!I910=\"строительно-монтажные работы\",ЗАЯВКА!K910,0)","v":0},{"$f":"IF(ЗАЯВКА!N910=\"да\",ЗАЯВКА!K910,0)","v":0}]
[{"$f":"IF(ЗАЯВКА!I911=\"проектирование\",ЗАЯВКА!K911,0)","v":0},{"$f":"IF(ЗАЯВКА!I911=\"строительно-монтажные работы\",ЗАЯВКА!K911,0)","v":0},{"$f":"IF(ЗАЯВКА!N911=\"да\",ЗАЯВКА!K911,0)","v":0}]
[{"$f":"IF(ЗАЯВКА!I912=\"проектирование\",ЗАЯВКА!K912,0)","v":0},{"$f":"IF(ЗАЯВКА!I912=\"строительно-монтажные работы\",ЗАЯВКА!K912,0)","v":0},{"$f":"IF(ЗАЯВКА!N912=\"да\",ЗАЯВКА!K912,0)","v":0}]
[{"$f":"IF(ЗАЯВКА!I913=\"проектирование\",ЗАЯВКА!K913,0)","v":0},{"$f":"IF(ЗАЯВКА!I913=\"строительно-монтажные работы\",ЗАЯВКА!K913,0)","v":0},{"$f":"IF(ЗАЯВКА!N913=\"да\",ЗАЯВКА!K913,0)","v":0}]
[{"$f":"IF(ЗАЯВКА!I914=\"проектирование\",ЗАЯВКА!K914,0)","v":0},{"$f":"IF(ЗАЯВКА!I914=\"строительно-монтажные работы\",ЗАЯВКА!K914,0)","v":0},{"$f":"IF(ЗАЯВКА!N914=\"да\",ЗАЯВКА!K914,0)","v":0}]
[{"$f":"IF(ЗАЯВКА!I915=\"проектирование\",ЗАЯВКА!K915,0)","v":0},{"$f":"IF(ЗАЯВКА!I915=\"строительно-монтажные работы\",ЗАЯВКА!K915,0)","v":0},{"$f":"IF(ЗАЯВКА!N915=\"да\",ЗАЯВКА!K915,0)","v":0}]
[{"$f":"IF(ЗАЯВКА!I916=\"проектирование\",ЗАЯВКА!K916,0)","v":0},{"$f":"IF(ЗАЯВКА!I916=\"строительно-монтажные работы\",ЗАЯВКА!K916,0)","v":0},{"$f":"IF(ЗАЯВКА!N916=\"да\",ЗАЯВКА!K916,0)","v":0}]
[{"$f":"IF(ЗАЯВКА!I917=\"проектирование\",ЗАЯВКА!K917,0)","v":0},{"$f":"IF(ЗАЯВКА!I917=\"строительно-монтажные работы\",ЗАЯВКА!K917,0)","v":0},{"$f":"IF(ЗАЯВКА!N917=\"да\",ЗАЯВКА!K917,0)","v":0}]
[{"$f":"IF(ЗАЯВКА!I918=\"проектирование\",ЗАЯВКА!K918,0)","v":0},{"$f":"IF(ЗАЯВКА!I918=\"строительно-монтажные работы\",ЗАЯВКА!K918,0)","v":0},{"$f":"IF(ЗАЯВКА!N918=\"да\",ЗАЯВКА!K918,0)","v":0}]
[{"$f":"IF(ЗАЯВКА!I919=\"проектирование\",ЗАЯВКА!K919,0)","v":0},{"$f":"IF(ЗАЯВКА!I919=\"строительно-монтажные работы\",ЗАЯВКА!K919,0)","v":0},{"$f":"IF(ЗАЯВКА!N919=\"да\",ЗАЯВКА!K919,0)","v":0}]
[{"$f":"IF(ЗАЯВКА!I920=\"проектирование\",ЗАЯВКА!K920,0)","v":0},{"$f":"IF(ЗАЯВКА!I920=\"строительно-монтажные работы\",ЗАЯВКА!K920,0)","v":0},{"$f":"IF(ЗАЯВКА!N920=\"да\",ЗАЯВКА!K920,0)","v":0}]
[{"$f":"IF(ЗАЯВКА!I921=\"проектирование\",ЗАЯВКА!K921,0)","v":0},{"$f":"IF(ЗАЯВКА!I921=\"строительно-монтажные работы\",ЗАЯВКА!K921,0)","v":0},{"$f":"IF(ЗАЯВКА!N921=\"да\",ЗАЯВКА!K921,0)","v":0}]
[{"$f":"IF(ЗАЯВКА!I922=\"проектирование\",ЗАЯВКА!K922,0)","v":0},{"$f":"IF(ЗАЯВКА!I922=\"строительно-монтажные работы\",ЗАЯВКА!K922,0)","v":0},{"$f":"IF(ЗАЯВКА!N922=\"да\",ЗАЯВКА!K922,0)","v":0}]
[{"$f":"IF(ЗАЯВКА!I923=\"проектирование\",ЗАЯВКА!K923,0)","v":0},{"$f":"IF(ЗАЯВКА!I923=\"строительно-монтажные работы\",ЗАЯВКА!K923,0)","v":0},{"$f":"IF(ЗАЯВКА!N923=\"да\",ЗАЯВКА!K923,0)","v":0}]
[{"$f":"IF(ЗАЯВКА!I924=\"проектирование\",ЗАЯВКА!K924,0)","v":0},{"$f":"IF(ЗАЯВКА!I924=\"строительно-монтажные работы\",ЗАЯВКА!K924,0)","v":0},{"$f":"IF(ЗАЯВКА!N924=\"да\",ЗАЯВКА!K924,0)","v":0}]
[{"$f":"IF(ЗАЯВКА!I925=\"проектирование\",ЗАЯВКА!K925,0)","v":0},{"$f":"IF(ЗАЯВКА!I925=\"строительно-монтажные работы\",ЗАЯВКА!K925,0)","v":0},{"$f":"IF(ЗАЯВКА!N925=\"да\",ЗАЯВКА!K925,0)","v":0}]
[{"$f":"IF(ЗАЯВКА!I926=\"проектирование\",ЗАЯВКА!K926,0)","v":0},{"$f":"IF(ЗАЯВКА!I926=\"строительно-монтажные работы\",ЗАЯВКА!K926,0)","v":0},{"$f":"IF(ЗАЯВКА!N926=\"да\",ЗАЯВКА!K926,0)","v":0}]
[{"$f":"IF(ЗАЯВКА!I927=\"проектирование\",ЗАЯВКА!K927,0)","v":0},{"$f":"IF(ЗАЯВКА!I927=\"строительно-монтажные работы\",ЗАЯВКА!K927,0)","v":0},{"$f":"IF(ЗАЯВКА!N927=\"да\",ЗАЯВКА!K927,0)","v":0}]
[{"$f":"IF(ЗАЯВКА!I928=\"проектирование\",ЗАЯВКА!K928,0)","v":0},{"$f":"IF(ЗАЯВКА!I928=\"строительно-монтажные работы\",ЗАЯВКА!K928,0)","v":0},{"$f":"IF(ЗАЯВКА!N928=\"да\",ЗАЯВКА!K928,0)","v":0}]
[{"$f":"IF(ЗАЯВКА!I929=\"проектирование\",ЗАЯВКА!K929,0)","v":0},{"$f":"IF(ЗАЯВКА!I929=\"строительно-монтажные работы\",ЗАЯВКА!K929,0)","v":0},{"$f":"IF(ЗАЯВКА!N929=\"да\",ЗАЯВКА!K929,0)","v":0}]
[{"$f":"IF(ЗАЯВКА!I930=\"проектирование\",ЗАЯВКА!K930,0)","v":0},{"$f":"IF(ЗАЯВКА!I930=\"строительно-монтажные работы\",ЗАЯВКА!K930,0)","v":0},{"$f":"IF(ЗАЯВКА!N930=\"да\",ЗАЯВКА!K930,0)","v":0}]
[{"$f":"IF(ЗАЯВКА!I931=\"проектирование\",ЗАЯВКА!K931,0)","v":0},{"$f":"IF(ЗАЯВКА!I931=\"строительно-монтажные работы\",ЗАЯВКА!K931,0)","v":0},{"$f":"IF(ЗАЯВКА!N931=\"да\",ЗАЯВКА!K931,0)","v":0}]
[{"$f":"IF(ЗАЯВКА!I932=\"проектирование\",ЗАЯВКА!K932,0)","v":0},{"$f":"IF(ЗАЯВКА!I932=\"строительно-монтажные работы\",ЗАЯВКА!K932,0)","v":0},{"$f":"IF(ЗАЯВКА!N932=\"да\",ЗАЯВКА!K932,0)","v":0}]
[{"$f":"IF(ЗАЯВКА!I933=\"проектирование\",ЗАЯВКА!K933,0)","v":0},{"$f":"IF(ЗАЯВКА!I933=\"строительно-монтажные работы\",ЗАЯВКА!K933,0)","v":0},{"$f":"IF(ЗАЯВКА!N933=\"да\",ЗАЯВКА!K933,0)","v":0}]
[{"$f":"IF(ЗАЯВКА!I934=\"проектирование\",ЗАЯВКА!K934,0)","v":0},{"$f":"IF(ЗАЯВКА!I934=\"строительно-монтажные работы\",ЗАЯВКА!K934,0)","v":0},{"$f":"IF(ЗАЯВКА!N934=\"да\",ЗАЯВКА!K934,0)","v":0}]
[{"$f":"IF(ЗАЯВКА!I935=\"проектирование\",ЗАЯВКА!K935,0)","v":0},{"$f":"IF(ЗАЯВКА!I935=\"строительно-монтажные работы\",ЗАЯВКА!K935,0)","v":0},{"$f":"IF(ЗАЯВКА!N935=\"да\",ЗАЯВКА!K935,0)","v":0}]
[{"$f":"IF(ЗАЯВКА!I936=\"проектирование\",ЗАЯВКА!K936,0)","v":0},{"$f":"IF(ЗАЯВКА!I936=\"строительно-монтажные работы\",ЗАЯВКА!K936,0)","v":0},{"$f":"IF(ЗАЯВКА!N936=\"да\",ЗАЯВКА!K936,0)","v":0}]
[{"$f":"IF(ЗАЯВКА!I937=\"проектирование\",ЗАЯВКА!K937,0)","v":0},{"$f":"IF(ЗАЯВКА!I937=\"строительно-монтажные работы\",ЗАЯВКА!K937,0)","v":0},{"$f":"IF(ЗАЯВКА!N937=\"да\",ЗАЯВКА!K937,0)","v":0}]
[{"$f":"IF(ЗАЯВКА!I938=\"проектирование\",ЗАЯВКА!K938,0)","v":0},{"$f":"IF(ЗАЯВКА!I938=\"строительно-монтажные работы\",ЗАЯВКА!K938,0)","v":0},{"$f":"IF(ЗАЯВКА!N938=\"да\",ЗАЯВКА!K938,0)","v":0}]
[{"$f":"IF(ЗАЯВКА!I939=\"проектирование\",ЗАЯВКА!K939,0)","v":0},{"$f":"IF(ЗАЯВКА!I939=\"строительно-монтажные работы\",ЗАЯВКА!K939,0)","v":0},{"$f":"IF(ЗАЯВКА!N939=\"да\",ЗАЯВКА!K939,0)","v":0}]
[{"$f":"IF(ЗАЯВКА!I940=\"проектирование\",ЗАЯВКА!K940,0)","v":0},{"$f":"IF(ЗАЯВКА!I940=\"строительно-монтажные работы\",ЗАЯВКА!K940,0)","v":0},{"$f":"IF(ЗАЯВКА!N940=\"да\",ЗАЯВКА!K940,0)","v":0}]
[{"$f":"IF(ЗАЯВКА!I941=\"проектирование\",ЗАЯВКА!K941,0)","v":0},{"$f":"IF(ЗАЯВКА!I941=\"строительно-монтажные работы\",ЗАЯВКА!K941,0)","v":0},{"$f":"IF(ЗАЯВКА!N941=\"да\",ЗАЯВКА!K941,0)","v":0}]
[{"$f":"IF(ЗАЯВКА!I942=\"проектирование\",ЗАЯВКА!K942,0)","v":0},{"$f":"IF(ЗАЯВКА!I942=\"строительно-монтажные работы\",ЗАЯВКА!K942,0)","v":0},{"$f":"IF(ЗАЯВКА!N942=\"да\",ЗАЯВКА!K942,0)","v":0}]
[{"$f":"IF(ЗАЯВКА!I943=\"проектирование\",ЗАЯВКА!K943,0)","v":0},{"$f":"IF(ЗАЯВКА!I943=\"строительно-монтажные работы\",ЗАЯВКА!K943,0)","v":0},{"$f":"IF(ЗАЯВКА!N943=\"да\",ЗАЯВКА!K943,0)","v":0}]
[{"$f":"IF(ЗАЯВКА!I944=\"проектирование\",ЗАЯВКА!K944,0)","v":0},{"$f":"IF(ЗАЯВКА!I944=\"строительно-монтажные работы\",ЗАЯВКА!K944,0)","v":0},{"$f":"IF(ЗАЯВКА!N944=\"да\",ЗАЯВКА!K944,0)","v":0}]
[{"$f":"IF(ЗАЯВКА!I945=\"проектирование\",ЗАЯВКА!K945,0)","v":0},{"$f":"IF(ЗАЯВКА!I945=\"строительно-монтажные работы\",ЗАЯВКА!K945,0)","v":0},{"$f":"IF(ЗАЯВКА!N945=\"да\",ЗАЯВКА!K945,0)","v":0}]
[{"$f":"IF(ЗАЯВКА!I946=\"проектирование\",ЗАЯВКА!K946,0)","v":0},{"$f":"IF(ЗАЯВКА!I946=\"строительно-монтажные работы\",ЗАЯВКА!K946,0)","v":0},{"$f":"IF(ЗАЯВКА!N946=\"да\",ЗАЯВКА!K946,0)","v":0}]
[{"$f":"IF(ЗАЯВКА!I947=\"проектирование\",ЗАЯВКА!K947,0)","v":0},{"$f":"IF(ЗАЯВКА!I947=\"строительно-монтажные работы\",ЗАЯВКА!K947,0)","v":0},{"$f":"IF(ЗАЯВКА!N947=\"да\",ЗАЯВКА!K947,0)","v":0}]
[{"$f":"IF(ЗАЯВКА!I948=\"проектирование\",ЗАЯВКА!K948,0)","v":0},{"$f":"IF(ЗАЯВКА!I948=\"строительно-монтажные работы\",ЗАЯВКА!K948,0)","v":0},{"$f":"IF(ЗАЯВКА!N948=\"да\",ЗАЯВКА!K948,0)","v":0}]
[{"$f":"IF(ЗАЯВКА!I949=\"проектирование\",ЗАЯВКА!K949,0)","v":0},{"$f":"IF(ЗАЯВКА!I949=\"строительно-монтажные работы\",ЗАЯВКА!K949,0)","v":0},{"$f":"IF(ЗАЯВКА!N949=\"да\",ЗАЯВКА!K949,0)","v":0}]
[{"$f":"IF(ЗАЯВКА!I950=\"проектирование\",ЗАЯВКА!K950,0)","v":0},{"$f":"IF(ЗАЯВКА!I950=\"строительно-монтажные работы\",ЗАЯВКА!K950,0)","v":0},{"$f":"IF(ЗАЯВКА!N950=\"да\",ЗАЯВКА!K950,0)","v":0}]
[{"$f":"IF(ЗАЯВКА!I951=\"проектирование\",ЗАЯВКА!K951,0)","v":0},{"$f":"IF(ЗАЯВКА!I951=\"строительно-монтажные работы\",ЗАЯВКА!K951,0)","v":0},{"$f":"IF(ЗАЯВКА!N951=\"да\",ЗАЯВКА!K951,0)","v":0}]
[{"$f":"IF(ЗАЯВКА!I952=\"проектирование\",ЗАЯВКА!K952,0)","v":0},{"$f":"IF(ЗАЯВКА!I952=\"строительно-монтажные работы\",ЗАЯВКА!K952,0)","v":0},{"$f":"IF(ЗАЯВКА!N952=\"да\",ЗАЯВКА!K952,0)","v":0}]
[{"$f":"IF(ЗАЯВКА!I953=\"проектирование\",ЗАЯВКА!K953,0)","v":0},{"$f":"IF(ЗАЯВКА!I953=\"строительно-монтажные работы\",ЗАЯВКА!K953,0)","v":0},{"$f":"IF(ЗАЯВКА!N953=\"да\",ЗАЯВКА!K953,0)","v":0}]
[{"$f":"IF(ЗАЯВКА!I954=\"проектирование\",ЗАЯВКА!K954,0)","v":0},{"$f":"IF(ЗАЯВКА!I954=\"строительно-монтажные работы\",ЗАЯВКА!K954,0)","v":0},{"$f":"IF(ЗАЯВКА!N954=\"да\",ЗАЯВКА!K954,0)","v":0}]
[{"$f":"IF(ЗАЯВКА!I955=\"проектирование\",ЗАЯВКА!K955,0)","v":0},{"$f":"IF(ЗАЯВКА!I955=\"строительно-монтажные работы\",ЗАЯВКА!K955,0)","v":0},{"$f":"IF(ЗАЯВКА!N955=\"да\",ЗАЯВКА!K955,0)","v":0}]
[{"$f":"IF(ЗАЯВКА!I956=\"проектирование\",ЗАЯВКА!K956,0)","v":0},{"$f":"IF(ЗАЯВКА!I956=\"строительно-монтажные работы\",ЗАЯВКА!K956,0)","v":0},{"$f":"IF(ЗАЯВКА!N956=\"да\",ЗАЯВКА!K956,0)","v":0}]
[{"$f":"IF(ЗАЯВКА!I957=\"проектирование\",ЗАЯВКА!K957,0)","v":0},{"$f":"IF(ЗАЯВКА!I957=\"строительно-монтажные работы\",ЗАЯВКА!K957,0)","v":0},{"$f":"IF(ЗАЯВКА!N957=\"да\",ЗАЯВКА!K957,0)","v":0}]
[{"$f":"IF(ЗАЯВКА!I958=\"проектирование\",ЗАЯВКА!K958,0)","v":0},{"$f":"IF(ЗАЯВКА!I958=\"строительно-монтажные работы\",ЗАЯВКА!K958,0)","v":0},{"$f":"IF(ЗАЯВКА!N958=\"да\",ЗАЯВКА!K958,0)","v":0}]
[{"$f":"IF(ЗАЯВКА!I959=\"проектирование\",ЗАЯВКА!K959,0)","v":0},{"$f":"IF(ЗАЯВКА!I959=\"строительно-монтажные работы\",ЗАЯВКА!K959,0)","v":0},{"$f":"IF(ЗАЯВКА!N959=\"да\",ЗАЯВКА!K959,0)","v":0}]
[{"$f":"IF(ЗАЯВКА!I960=\"проектирование\",ЗАЯВКА!K960,0)","v":0},{"$f":"IF(ЗАЯВКА!I960=\"строительно-монтажные работы\",ЗАЯВКА!K960,0)","v":0},{"$f":"IF(ЗАЯВКА!N960=\"да\",ЗАЯВКА!K960,0)","v":0}]
[{"$f":"IF(ЗАЯВКА!I961=\"проектирование\",ЗАЯВКА!K961,0)","v":0},{"$f":"IF(ЗАЯВКА!I961=\"строительно-монтажные работы\",ЗАЯВКА!K961,0)","v":0},{"$f":"IF(ЗАЯВКА!N961=\"да\",ЗАЯВКА!K961,0)","v":0}]
[{"$f":"IF(ЗАЯВКА!I962=\"проектирование\",ЗАЯВКА!K962,0)","v":0},{"$f":"IF(ЗАЯВКА!I962=\"строительно-монтажные работы\",ЗАЯВКА!K962,0)","v":0},{"$f":"IF(ЗАЯВКА!N962=\"да\",ЗАЯВКА!K962,0)","v":0}]
[{"$f":"IF(ЗАЯВКА!I963=\"проектирование\",ЗАЯВКА!K963,0)","v":0},{"$f":"IF(ЗАЯВКА!I963=\"строительно-монтажные работы\",ЗАЯВКА!K963,0)","v":0},{"$f":"IF(ЗАЯВКА!N963=\"да\",ЗАЯВКА!K963,0)","v":0}]
[{"$f":"IF(ЗАЯВКА!I964=\"проектирование\",ЗАЯВКА!K964,0)","v":0},{"$f":"IF(ЗАЯВКА!I964=\"строительно-монтажные работы\",ЗАЯВКА!K964,0)","v":0},{"$f":"IF(ЗАЯВКА!N964=\"да\",ЗАЯВКА!K964,0)","v":0}]
[{"$f":"IF(ЗАЯВКА!I965=\"проектирование\",ЗАЯВКА!K965,0)","v":0},{"$f":"IF(ЗАЯВКА!I965=\"строительно-монтажные работы\",ЗАЯВКА!K965,0)","v":0},{"$f":"IF(ЗАЯВКА!N965=\"да\",ЗАЯВКА!K965,0)","v":0}]
[{"$f":"IF(ЗАЯВКА!I966=\"проектирование\",ЗАЯВКА!K966,0)","v":0},{"$f":"IF(ЗАЯВКА!I966=\"строительно-монтажные работы\",ЗАЯВКА!K966,0)","v":0},{"$f":"IF(ЗАЯВКА!N966=\"да\",ЗАЯВКА!K966,0)","v":0}]
[{"$f":"IF(ЗАЯВКА!I967=\"проектирование\",ЗАЯВКА!K967,0)","v":0},{"$f":"IF(ЗАЯВКА!I967=\"строительно-монтажные работы\",ЗАЯВКА!K967,0)","v":0},{"$f":"IF(ЗАЯВКА!N967=\"да\",ЗАЯВКА!K967,0)","v":0}]
[{"$f":"IF(ЗАЯВКА!I968=\"проектирование\",ЗАЯВКА!K968,0)","v":0},{"$f":"IF(ЗАЯВКА!I968=\"строительно-монтажные работы\",ЗАЯВКА!K968,0)","v":0},{"$f":"IF(ЗАЯВКА!N968=\"да\",ЗАЯВКА!K968,0)","v":0}]
[{"$f":"IF(ЗАЯВКА!I969=\"проектирование\",ЗАЯВКА!K969,0)","v":0},{"$f":"IF(ЗАЯВКА!I969=\"строительно-монтажные работы\",ЗАЯВКА!K969,0)","v":0},{"$f":"IF(ЗАЯВКА!N969=\"да\",ЗАЯВКА!K969,0)","v":0}]
[{"$f":"IF(ЗАЯВКА!I970=\"проектирование\",ЗАЯВКА!K970,0)","v":0},{"$f":"IF(ЗАЯВКА!I970=\"строительно-монтажные работы\",ЗАЯВКА!K970,0)","v":0},{"$f":"IF(ЗАЯВКА!N970=\"да\",ЗАЯВКА!K970,0)","v":0}]
[{"$f":"IF(ЗАЯВКА!I971=\"проектирование\",ЗАЯВКА!K971,0)","v":0},{"$f":"IF(ЗАЯВКА!I971=\"строительно-монтажные работы\",ЗАЯВКА!K971,0)","v":0},{"$f":"IF(ЗАЯВКА!N971=\"да\",ЗАЯВКА!K971,0)","v":0}]
[{"$f":"IF(ЗАЯВКА!I972=\"проектирование\",ЗАЯВКА!K972,0)","v":0},{"$f":"IF(ЗАЯВКА!I972=\"строительно-монтажные работы\",ЗАЯВКА!K972,0)","v":0},{"$f":"IF(ЗАЯВКА!N972=\"да\",ЗАЯВКА!K972,0)","v":0}]
[{"$f":"IF(ЗАЯВКА!I973=\"проектирование\",ЗАЯВКА!K973,0)","v":0},{"$f":"IF(ЗАЯВКА!I973=\"строительно-монтажные работы\",ЗАЯВКА!K973,0)","v":0},{"$f":"IF(ЗАЯВКА!N973=\"да\",ЗАЯВКА!K973,0)","v":0}]
[{"$f":"IF(ЗАЯВКА!I974=\"проектирование\",ЗАЯВКА!K974,0)","v":0},{"$f":"IF(ЗАЯВКА!I974=\"строительно-монтажные работы\",ЗАЯВКА!K974,0)","v":0},{"$f":"IF(ЗАЯВКА!N974=\"да\",ЗАЯВКА!K974,0)","v":0}]
[{"$f":"IF(ЗАЯВКА!I975=\"проектирование\",ЗАЯВКА!K975,0)","v":0},{"$f":"IF(ЗАЯВКА!I975=\"строительно-монтажные работы\",ЗАЯВКА!K975,0)","v":0},{"$f":"IF(ЗАЯВКА!N975=\"да\",ЗАЯВКА!K975,0)","v":0}]
[{"$f":"IF(ЗАЯВКА!I976=\"проектирование\",ЗАЯВКА!K976,0)","v":0},{"$f":"IF(ЗАЯВКА!I976=\"строительно-монтажные работы\",ЗАЯВКА!K976,0)","v":0},{"$f":"IF(ЗАЯВКА!N976=\"да\",ЗАЯВКА!K976,0)","v":0}]
[{"$f":"IF(ЗАЯВКА!I977=\"проектирование\",ЗАЯВКА!K977,0)","v":0},{"$f":"IF(ЗАЯВКА!I977=\"строительно-монтажные работы\",ЗАЯВКА!K977,0)","v":0},{"$f":"IF(ЗАЯВКА!N977=\"да\",ЗАЯВКА!K977,0)","v":0}]
[{"$f":"IF(ЗАЯВКА!I978=\"проектирование\",ЗАЯВКА!K978,0)","v":0},{"$f":"IF(ЗАЯВКА!I978=\"строительно-монтажные работы\",ЗАЯВКА!K978,0)","v":0},{"$f":"IF(ЗАЯВКА!N978=\"да\",ЗАЯВКА!K978,0)","v":0}]
[{"$f":"IF(ЗАЯВКА!I979=\"проектирование\",ЗАЯВКА!K979,0)","v":0},{"$f":"IF(ЗАЯВКА!I979=\"строительно-монтажные работы\",ЗАЯВКА!K979,0)","v":0},{"$f":"IF(ЗАЯВКА!N979=\"да\",ЗАЯВКА!K979,0)","v":0}]
[{"$f":"IF(ЗАЯВКА!I980=\"проектирование\",ЗАЯВКА!K980,0)","v":0},{"$f":"IF(ЗАЯВКА!I980=\"строительно-монтажные работы\",ЗАЯВКА!K980,0)","v":0},{"$f":"IF(ЗАЯВКА!N980=\"да\",ЗАЯВКА!K980,0)","v":0}]
[{"$f":"IF(ЗАЯВКА!I981=\"проектирование\",ЗАЯВКА!K981,0)","v":0},{"$f":"IF(ЗАЯВКА!I981=\"строительно-монтажные работы\",ЗАЯВКА!K981,0)","v":0},{"$f":"IF(ЗАЯВКА!N981=\"да\",ЗАЯВКА!K981,0)","v":0}]
[{"$f":"IF(ЗАЯВКА!I982=\"проектирование\",ЗАЯВКА!K982,0)","v":0},{"$f":"IF(ЗАЯВКА!I982=\"строительно-монтажные работы\",ЗАЯВКА!K982,0)","v":0},{"$f":"IF(ЗАЯВКА!N982=\"да\",ЗАЯВКА!K982,0)","v":0}]
[{"$f":"IF(ЗАЯВКА!I983=\"проектирование\",ЗАЯВКА!K983,0)","v":0},{"$f":"IF(ЗАЯВКА!I983=\"строительно-монтажные работы\",ЗАЯВКА!K983,0)","v":0},{"$f":"IF(ЗАЯВКА!N983=\"да\",ЗАЯВКА!K983,0)","v":0}]
[{"$f":"IF(ЗАЯВКА!I984=\"проектирование\",ЗАЯВКА!K984,0)","v":0},{"$f":"IF(ЗАЯВКА!I984=\"строительно-монтажные работы\",ЗАЯВКА!K984,0)","v":0},{"$f":"IF(ЗАЯВКА!N984=\"да\",ЗАЯВКА!K984,0)","v":0}]
[{"$f":"IF(ЗАЯВКА!I985=\"проектирование\",ЗАЯВКА!K985,0)","v":0},{"$f":"IF(ЗАЯВКА!I985=\"строительно-монтажные работы\",ЗАЯВКА!K985,0)","v":0},{"$f":"IF(ЗАЯВКА!N985=\"да\",ЗАЯВКА!K985,0)","v":0}]
[{"$f":"IF(ЗАЯВКА!I986=\"проектирование\",ЗАЯВКА!K986,0)","v":0},{"$f":"IF(ЗАЯВКА!I986=\"строительно-монтажные работы\",ЗАЯВКА!K986,0)","v":0},{"$f":"IF(ЗАЯВКА!N986=\"да\",ЗАЯВКА!K986,0)","v":0}]
[{"$f":"IF(ЗАЯВКА!I987=\"проектирование\",ЗАЯВКА!K987,0)","v":0},{"$f":"IF(ЗАЯВКА!I987=\"строительно-монтажные работы\",ЗАЯВКА!K987,0)","v":0},{"$f":"IF(ЗАЯВКА!N987=\"да\",ЗАЯВКА!K987,0)","v":0}]
[{"$f":"IF(ЗАЯВКА!I988=\"проектирование\",ЗАЯВКА!K988,0)","v":0},{"$f":"IF(ЗАЯВКА!I988=\"строительно-монтажные работы\",ЗАЯВКА!K988,0)","v":0},{"$f":"IF(ЗАЯВКА!N988=\"да\",ЗАЯВКА!K988,0)","v":0}]
[{"$f":"IF(ЗАЯВКА!I989=\"проектирование\",ЗАЯВКА!K989,0)","v":0},{"$f":"IF(ЗАЯВКА!I989=\"строительно-монтажные работы\",ЗАЯВКА!K989,0)","v":0},{"$f":"IF(ЗАЯВКА!N989=\"да\",ЗАЯВКА!K989,0)","v":0}]
[{"$f":"IF(ЗАЯВКА!I990=\"проектирование\",ЗАЯВКА!K990,0)","v":0},{"$f":"IF(ЗАЯВКА!I990=\"строительно-монтажные работы\",ЗАЯВКА!K990,0)","v":0},{"$f":"IF(ЗАЯВКА!N990=\"да\",ЗАЯВКА!K990,0)","v":0}]
[{"$f":"IF(ЗАЯВКА!I991=\"проектирование\",ЗАЯВКА!K991,0)","v":0},{"$f":"IF(ЗАЯВКА!I991=\"строительно-монтажные работы\",ЗАЯВКА!K991,0)","v":0},{"$f":"IF(ЗАЯВКА!N991=\"да\",ЗАЯВКА!K991,0)","v":0}]
[{"$f":"IF(ЗАЯВКА!I992=\"проектирование\",ЗАЯВКА!K992,0)","v":0},{"$f":"IF(ЗАЯВКА!I992=\"строительно-монтажные работы\",ЗАЯВКА!K992,0)","v":0},{"$f":"IF(ЗАЯВКА!N992=\"да\",ЗАЯВКА!K992,0)","v":0}]
[{"$f":"IF(ЗАЯВКА!I993=\"проектирование\",ЗАЯВКА!K993,0)","v":0},{"$f":"IF(ЗАЯВКА!I993=\"строительно-монтажные работы\",ЗАЯВКА!K993,0)","v":0},{"$f":"IF(ЗАЯВКА!N993=\"да\",ЗАЯВКА!K993,0)","v":0}]
[{"$f":"IF(ЗАЯВКА!I994=\"проектирование\",ЗАЯВКА!K994,0)","v":0},{"$f":"IF(ЗАЯВКА!I994=\"строительно-монтажные работы\",ЗАЯВКА!K994,0)","v":0},{"$f":"IF(ЗАЯВКА!N994=\"да\",ЗАЯВКА!K994,0)","v":0}]
[{"$f":"IF(ЗАЯВКА!I995=\"проектирование\",ЗАЯВКА!K995,0)","v":0},{"$f":"IF(ЗАЯВКА!I995=\"строительно-монтажные работы\",ЗАЯВКА!K995,0)","v":0},{"$f":"IF(ЗАЯВКА!N995=\"да\",ЗАЯВКА!K995,0)","v":0}]
[{"$f":"IF(ЗАЯВКА!I996=\"проектирование\",ЗАЯВКА!K996,0)","v":0},{"$f":"IF(ЗАЯВКА!I996=\"строительно-монтажные работы\",ЗАЯВКА!K996,0)","v":0},{"$f":"IF(ЗАЯВКА!N996=\"да\",ЗАЯВКА!K996,0)","v":0}]
[{"$f":"IF(ЗАЯВКА!I997=\"проектирование\",ЗАЯВКА!K997,0)","v":0},{"$f":"IF(ЗАЯВКА!I997=\"строительно-монтажные работы\",ЗАЯВКА!K997,0)","v":0},{"$f":"IF(ЗАЯВКА!N997=\"да\",ЗАЯВКА!K997,0)","v":0}]
[{"$f":"IF(ЗАЯВКА!I998=\"проектирование\",ЗАЯВКА!K998,0)","v":0},{"$f":"IF(ЗАЯВКА!I998=\"строительно-монтажные работы\",ЗАЯВКА!K998,0)","v":0},{"$f":"IF(ЗАЯВКА!N998=\"да\",ЗАЯВКА!K998,0)","v":0}]
[{"$f":"IF(ЗАЯВКА!I999=\"проектирование\",ЗАЯВКА!K999,0)","v":0},{"$f":"IF(ЗАЯВКА!I999=\"строительно-монтажные работы\",ЗАЯВКА!K999,0)","v":0},{"$f":"IF(ЗАЯВКА!N999=\"да\",ЗАЯВКА!K999,0)","v":0}]
[{"$f":"IF(ЗАЯВКА!I1000=\"проектирование\",ЗАЯВКА!K1000,0)","v":0},{"$f":"IF(ЗАЯВКА!I1000=\"строительно-монтажные работы\",ЗАЯВКА!K1000,0)","v":0},{"$f":"IF(ЗАЯВКА!N1000=\"да\",ЗАЯВКА!K1000,0)","v":0}]
[{"$f":"IF(ЗАЯВКА!I1001=\"проектирование\",ЗАЯВКА!K1001,0)","v":0},{"$f":"IF(ЗАЯВКА!I1001=\"строительно-монтажные работы\",ЗАЯВКА!K1001,0)","v":0},{"$f":"IF(ЗАЯВКА!N1001=\"да\",ЗАЯВКА!K1001,0)","v":0}]
[{"$f":"IF(ЗАЯВКА!I1002=\"проектирование\",ЗАЯВКА!K1002,0)","v":0},{"$f":"IF(ЗАЯВКА!I1002=\"строительно-монтажные работы\",ЗАЯВКА!K1002,0)","v":0},{"$f":"IF(ЗАЯВКА!N1002=\"да\",ЗАЯВКА!K1002,0)","v":0}]
[{"$f":"IF(ЗАЯВКА!I1003=\"проектирование\",ЗАЯВКА!K1003,0)","v":0},{"$f":"IF(ЗАЯВКА!I1003=\"строительно-монтажные работы\",ЗАЯВКА!K1003,0)","v":0},{"$f":"IF(ЗАЯВКА!N1003=\"да\",ЗАЯВКА!K1003,0)","v":0}]
[{"$f":"IF(ЗАЯВКА!I1004=\"проектирование\",ЗАЯВКА!K1004,0)","v":0},{"$f":"IF(ЗАЯВКА!I1004=\"строительно-монтажные работы\",ЗАЯВКА!K1004,0)","v":0},{"$f":"IF(ЗАЯВКА!N1004=\"да\",ЗАЯВКА!K1004,0)","v":0}]
[{"$f":"IF(ЗАЯВКА!I1005=\"проектирование\",ЗАЯВКА!K1005,0)","v":0},{"$f":"IF(ЗАЯВКА!I1005=\"строительно-монтажные работы\",ЗАЯВКА!K1005,0)","v":0},{"$f":"IF(ЗАЯВКА!N1005=\"да\",ЗАЯВКА!K1005,0)","v":0}]
[{"$f":"IF(ЗАЯВКА!I1006=\"проектирование\",ЗАЯВКА!K1006,0)","v":0},{"$f":"IF(ЗАЯВКА!I1006=\"строительно-монтажные работы\",ЗАЯВКА!K1006,0)","v":0},{"$f":"IF(ЗАЯВКА!N1006=\"да\",ЗАЯВКА!K1006,0)","v":0}]
[{"$f":"IF(ЗАЯВКА!I1007=\"проектирование\",ЗАЯВКА!K1007,0)","v":0},{"$f":"IF(ЗАЯВКА!I1007=\"строительно-монтажные работы\",ЗАЯВКА!K1007,0)","v":0},{"$f":"IF(ЗАЯВКА!N1007=\"да\",ЗАЯВКА!K1007,0)","v":0}]
[{"$f":"IF(ЗАЯВКА!I1008=\"проектирование\",ЗАЯВКА!K1008,0)","v":0},{"$f":"IF(ЗАЯВКА!I1008=\"строительно-монтажные работы\",ЗАЯВКА!K1008,0)","v":0},{"$f":"IF(ЗАЯВКА!N1008=\"да\",ЗАЯВКА!K1008,0)","v":0}]
[{"$f":"IF(ЗАЯВКА!I1009=\"проектирование\",ЗАЯВКА!K1009,0)","v":0},{"$f":"IF(ЗАЯВКА!I1009=\"строительно-монтажные работы\",ЗАЯВКА!K1009,0)","v":0},{"$f":"IF(ЗАЯВКА!N1009=\"да\",ЗАЯВКА!K1009,0)","v":0}]
[{"$f":"IF(ЗАЯВКА!I1010=\"проектирование\",ЗАЯВКА!K1010,0)","v":0},{"$f":"IF(ЗАЯВКА!I1010=\"строительно-монтажные работы\",ЗАЯВКА!K1010,0)","v":0},{"$f":"IF(ЗАЯВКА!N1010=\"да\",ЗАЯВКА!K1010,0)","v":0}]
[{"$f":"IF(ЗАЯВКА!I1011=\"проектирование\",ЗАЯВКА!K1011,0)","v":0},{"$f":"IF(ЗАЯВКА!I1011=\"строительно-монтажные работы\",ЗАЯВКА!K1011,0)","v":0},{"$f":"IF(ЗАЯВКА!N1011=\"да\",ЗАЯВКА!K1011,0)","v":0}]
[{"$f":"IF(ЗАЯВКА!I1012=\"проектирование\",ЗАЯВКА!K1012,0)","v":0},{"$f":"IF(ЗАЯВКА!I1012=\"строительно-монтажные работы\",ЗАЯВКА!K1012,0)","v":0},{"$f":"IF(ЗАЯВКА!N1012=\"да\",ЗАЯВКА!K1012,0)","v":0}]
[{"$f":"IF(ЗАЯВКА!I1013=\"проектирование\",ЗАЯВКА!K1013,0)","v":0},{"$f":"IF(ЗАЯВКА!I1013=\"строительно-монтажные работы\",ЗАЯВКА!K1013,0)","v":0},{"$f":"IF(ЗАЯВКА!N1013=\"да\",ЗАЯВКА!K1013,0)","v":0}]
[{"$f":"IF(ЗАЯВКА!I1014=\"проектирование\",ЗАЯВКА!K1014,0)","v":0},{"$f":"IF(ЗАЯВКА!I1014=\"строительно-монтажные работы\",ЗАЯВКА!K1014,0)","v":0},{"$f":"IF(ЗАЯВКА!N1014=\"да\",ЗАЯВКА!K1014,0)","v":0}]
[{"$f":"IF(ЗАЯВКА!I1015=\"проектирование\",ЗАЯВКА!K1015,0)","v":0},{"$f":"IF(ЗАЯВКА!I1015=\"строительно-монтажные работы\",ЗАЯВКА!K1015,0)","v":0},{"$f":"IF(ЗАЯВКА!N1015=\"да\",ЗАЯВКА!K1015,0)","v":0}]
[{"$f":"IF(ЗАЯВКА!I1016=\"проектирование\",ЗАЯВКА!K1016,0)","v":0},{"$f":"IF(ЗАЯВКА!I1016=\"строительно-монтажные работы\",ЗАЯВКА!K1016,0)","v":0},{"$f":"IF(ЗАЯВКА!N1016=\"да\",ЗАЯВКА!K1016,0)","v":0}]
[{"$f":"IF(ЗАЯВКА!I1017=\"проектирование\",ЗАЯВКА!K1017,0)","v":0},{"$f":"IF(ЗАЯВКА!I1017=\"строительно-монтажные работы\",ЗАЯВКА!K1017,0)","v":0},{"$f":"IF(ЗАЯВКА!N1017=\"да\",ЗАЯВКА!K1017,0)","v":0}]
[{"$f":"IF(ЗАЯВКА!I1018=\"проектирование\",ЗАЯВКА!K1018,0)","v":0},{"$f":"IF(ЗАЯВКА!I1018=\"строительно-монтажные работы\",ЗАЯВКА!K1018,0)","v":0},{"$f":"IF(ЗАЯВКА!N1018=\"да\",ЗАЯВКА!K1018,0)","v":0}]
[{"$f":"IF(ЗАЯВКА!I1019=\"проектирование\",ЗАЯВКА!K1019,0)","v":0},{"$f":"IF(ЗАЯВКА!I1019=\"строительно-монтажные работы\",ЗАЯВКА!K1019,0)","v":0},{"$f":"IF(ЗАЯВКА!N1019=\"да\",ЗАЯВКА!K1019,0)","v":0}]
[{"$f":"IF(ЗАЯВКА!I1020=\"проектирование\",ЗАЯВКА!K1020,0)","v":0},{"$f":"IF(ЗАЯВКА!I1020=\"строительно-монтажные работы\",ЗАЯВКА!K1020,0)","v":0},{"$f":"IF(ЗАЯВКА!N1020=\"да\",ЗАЯВКА!K1020,0)","v":0}]
[{"$f":"IF(ЗАЯВКА!I1021=\"проектирование\",ЗАЯВКА!K1021,0)","v":0},{"$f":"IF(ЗАЯВКА!I1021=\"строительно-монтажные работы\",ЗАЯВКА!K1021,0)","v":0},{"$f":"IF(ЗАЯВКА!N1021=\"да\",ЗАЯВКА!K1021,0)","v":0}]
[{"$f":"IF(ЗАЯВКА!I1022=\"проектирование\",ЗАЯВКА!K1022,0)","v":0},{"$f":"IF(ЗАЯВКА!I1022=\"строительно-монтажные работы\",ЗАЯВКА!K1022,0)","v":0},{"$f":"IF(ЗАЯВКА!N1022=\"да\",ЗАЯВКА!K1022,0)","v":0}]
[{"$f":"IF(ЗАЯВКА!I1023=\"проектирование\",ЗАЯВКА!K1023,0)","v":0},{"$f":"IF(ЗАЯВКА!I1023=\"строительно-монтажные работы\",ЗАЯВКА!K1023,0)","v":0},{"$f":"IF(ЗАЯВКА!N1023=\"да\",ЗАЯВКА!K1023,0)","v":0}]
[{"$f":"IF(ЗАЯВКА!I1024=\"проектирование\",ЗАЯВКА!K1024,0)","v":0},{"$f":"IF(ЗАЯВКА!I1024=\"строительно-монтажные работы\",ЗАЯВКА!K1024,0)","v":0},{"$f":"IF(ЗАЯВКА!N1024=\"да\",ЗАЯВКА!K1024,0)","v":0}]
[{"$f":"IF(ЗАЯВКА!I1025=\"проектирование\",ЗАЯВКА!K1025,0)","v":0},{"$f":"IF(ЗАЯВКА!I1025=\"строительно-монтажные работы\",ЗАЯВКА!K1025,0)","v":0},{"$f":"IF(ЗАЯВКА!N1025=\"да\",ЗАЯВКА!K1025,0)","v":0}]
[{"$f":"IF(ЗАЯВКА!I1026=\"проектирование\",ЗАЯВКА!K1026,0)","v":0},{"$f":"IF(ЗАЯВКА!I1026=\"строительно-монтажные работы\",ЗАЯВКА!K1026,0)","v":0},{"$f":"IF(ЗАЯВКА!N1026=\"да\",ЗАЯВКА!K1026,0)","v":0}]
[{"$f":"IF(ЗАЯВКА!I1027=\"проектирование\",ЗАЯВКА!K1027,0)","v":0},{"$f":"IF(ЗАЯВКА!I1027=\"строительно-монтажные работы\",ЗАЯВКА!K1027,0)","v":0},{"$f":"IF(ЗАЯВКА!N1027=\"да\",ЗАЯВКА!K1027,0)","v":0}]
[{"$f":"IF(ЗАЯВКА!I1028=\"проектирование\",ЗАЯВКА!K1028,0)","v":0},{"$f":"IF(ЗАЯВКА!I1028=\"строительно-монтажные работы\",ЗАЯВКА!K1028,0)","v":0},{"$f":"IF(ЗАЯВКА!N1028=\"да\",ЗАЯВКА!K1028,0)","v":0}]
[{"$f":"IF(ЗАЯВКА!I1029=\"проектирование\",ЗАЯВКА!K1029,0)","v":0},{"$f":"IF(ЗАЯВКА!I1029=\"строительно-монтажные работы\",ЗАЯВКА!K1029,0)","v":0},{"$f":"IF(ЗАЯВКА!N1029=\"да\",ЗАЯВКА!K1029,0)","v":0}]
[{"$f":"IF(ЗАЯВКА!I1030=\"проектирование\",ЗАЯВКА!K1030,0)","v":0},{"$f":"IF(ЗАЯВКА!I1030=\"строительно-монтажные работы\",ЗАЯВКА!K1030,0)","v":0},{"$f":"IF(ЗАЯВКА!N1030=\"да\",ЗАЯВКА!K1030,0)","v":0}]
[{"$f":"IF(ЗАЯВКА!I1031=\"проектирование\",ЗАЯВКА!K1031,0)","v":0},{"$f":"IF(ЗАЯВКА!I1031=\"строительно-монтажные работы\",ЗАЯВКА!K1031,0)","v":0},{"$f":"IF(ЗАЯВКА!N1031=\"да\",ЗАЯВКА!K1031,0)","v":0}]
[{"$f":"IF(ЗАЯВКА!I1032=\"проектирование\",ЗАЯВКА!K1032,0)","v":0},{"$f":"IF(ЗАЯВКА!I1032=\"строительно-монтажные работы\",ЗАЯВКА!K1032,0)","v":0},{"$f":"IF(ЗАЯВКА!N1032=\"да\",ЗАЯВКА!K1032,0)","v":0}]
[{"$f":"IF(ЗАЯВКА!I1033=\"проектирование\",ЗАЯВКА!K1033,0)","v":0},{"$f":"IF(ЗАЯВКА!I1033=\"строительно-монтажные работы\",ЗАЯВКА!K1033,0)","v":0},{"$f":"IF(ЗАЯВКА!N1033=\"да\",ЗАЯВКА!K1033,0)","v":0}]
[{"$f":"IF(ЗАЯВКА!I1034=\"проектирование\",ЗАЯВКА!K1034,0)","v":0},{"$f":"IF(ЗАЯВКА!I1034=\"строительно-монтажные работы\",ЗАЯВКА!K1034,0)","v":0},{"$f":"IF(ЗАЯВКА!N1034=\"да\",ЗАЯВКА!K1034,0)","v":0}]
[{"$f":"IF(ЗАЯВКА!I1035=\"проектирование\",ЗАЯВКА!K1035,0)","v":0},{"$f":"IF(ЗАЯВКА!I1035=\"строительно-монтажные работы\",ЗАЯВКА!K1035,0)","v":0},{"$f":"IF(ЗАЯВКА!N1035=\"да\",ЗАЯВКА!K1035,0)","v":0}]
[{"$f":"IF(ЗАЯВКА!I1036=\"проектирование\",ЗАЯВКА!K1036,0)","v":0},{"$f":"IF(ЗАЯВКА!I1036=\"строительно-монтажные работы\",ЗАЯВКА!K1036,0)","v":0},{"$f":"IF(ЗАЯВКА!N1036=\"да\",ЗАЯВКА!K1036,0)","v":0}]
[{"$f":"IF(ЗАЯВКА!I1037=\"проектирование\",ЗАЯВКА!K1037,0)","v":0},{"$f":"IF(ЗАЯВКА!I1037=\"строительно-монтажные работы\",ЗАЯВКА!K1037,0)","v":0},{"$f":"IF(ЗАЯВКА!N1037=\"да\",ЗАЯВКА!K1037,0)","v":0}]
[{"$f":"IF(ЗАЯВКА!I1038=\"проектирование\",ЗАЯВКА!K1038,0)","v":0},{"$f":"IF(ЗАЯВКА!I1038=\"строительно-монтажные работы\",ЗАЯВКА!K1038,0)","v":0},{"$f":"IF(ЗАЯВКА!N1038=\"да\",ЗАЯВКА!K1038,0)","v":0}]
[{"$f":"IF(ЗАЯВКА!I1039=\"проектирование\",ЗАЯВКА!K1039,0)","v":0},{"$f":"IF(ЗАЯВКА!I1039=\"строительно-монтажные работы\",ЗАЯВКА!K1039,0)","v":0},{"$f":"IF(ЗАЯВКА!N1039=\"да\",ЗАЯВКА!K1039,0)","v":0}]
[{"$f":"IF(ЗАЯВКА!I1040=\"проектирование\",ЗАЯВКА!K1040,0)","v":0},{"$f":"IF(ЗАЯВКА!I1040=\"строительно-монтажные работы\",ЗАЯВКА!K1040,0)","v":0},{"$f":"IF(ЗАЯВКА!N1040=\"да\",ЗАЯВКА!K1040,0)","v":0}]
[{"$f":"IF(ЗАЯВКА!I1041=\"проектирование\",ЗАЯВКА!K1041,0)","v":0},{"$f":"IF(ЗАЯВКА!I1041=\"строительно-монтажные работы\",ЗАЯВКА!K1041,0)","v":0},{"$f":"IF(ЗАЯВКА!N1041=\"да\",ЗАЯВКА!K1041,0)","v":0}]
[{"$f":"IF(ЗАЯВКА!I1042=\"проектирование\",ЗАЯВКА!K1042,0)","v":0},{"$f":"IF(ЗАЯВКА!I1042=\"строительно-монтажные работы\",ЗАЯВКА!K1042,0)","v":0},{"$f":"IF(ЗАЯВКА!N1042=\"да\",ЗАЯВКА!K1042,0)","v":0}]
[{"$f":"IF(ЗАЯВКА!I1043=\"проектирование\",ЗАЯВКА!K1043,0)","v":0},{"$f":"IF(ЗАЯВКА!I1043=\"строительно-монтажные работы\",ЗАЯВКА!K1043,0)","v":0},{"$f":"IF(ЗАЯВКА!N1043=\"да\",ЗАЯВКА!K1043,0)","v":0}]
[{"$f":"IF(ЗАЯВКА!I1044=\"проектирование\",ЗАЯВКА!K1044,0)","v":0},{"$f":"IF(ЗАЯВКА!I1044=\"строительно-монтажные работы\",ЗАЯВКА!K1044,0)","v":0},{"$f":"IF(ЗАЯВКА!N1044=\"да\",ЗАЯВКА!K1044,0)","v":0}]
[{"$f":"IF(ЗАЯВКА!I1045=\"проектирование\",ЗАЯВКА!K1045,0)","v":0},{"$f":"IF(ЗАЯВКА!I1045=\"строительно-монтажные работы\",ЗАЯВКА!K1045,0)","v":0},{"$f":"IF(ЗАЯВКА!N1045=\"да\",ЗАЯВКА!K1045,0)","v":0}]
[{"$f":"IF(ЗАЯВКА!I1046=\"проектирование\",ЗАЯВКА!K1046,0)","v":0},{"$f":"IF(ЗАЯВКА!I1046=\"строительно-монтажные работы\",ЗАЯВКА!K1046,0)","v":0},{"$f":"IF(ЗАЯВКА!N1046=\"да\",ЗАЯВКА!K1046,0)","v":0}]
[{"$f":"IF(ЗАЯВКА!I1047=\"проектирование\",ЗАЯВКА!K1047,0)","v":0},{"$f":"IF(ЗАЯВКА!I1047=\"строительно-монтажные работы\",ЗАЯВКА!K1047,0)","v":0},{"$f":"IF(ЗАЯВКА!N1047=\"да\",ЗАЯВКА!K1047,0)","v":0}]
[{"$f":"IF(ЗАЯВКА!I1048=\"проектирование\",ЗАЯВКА!K1048,0)","v":0},{"$f":"IF(ЗАЯВКА!I1048=\"строительно-монтажные работы\",ЗАЯВКА!K1048,0)","v":0},{"$f":"IF(ЗАЯВКА!N1048=\"да\",ЗАЯВКА!K1048,0)","v":0}]
[{"$f":"IF(ЗАЯВКА!#REF!=\"проектирование\",ЗАЯВКА!#REF!,0)","v":{"$error":"#REF!"}},{"$f":"IF(ЗАЯВКА!#REF!=\"строительно-монтажные работы\",ЗАЯВКА!#REF!,0)","v":{"$error":"#REF!"}},{"$f":"IF(ЗАЯВКА!#REF!=\"да\",ЗАЯВКА!#REF!,0)","v":{"$error":"#REF!"}}]
[{"$f":"IF(ЗАЯВКА!#REF!=\"проектирование\",ЗАЯВКА!#REF!,0)","v":{"$error":"#REF!"}},{"$f":"IF(ЗАЯВКА!#REF!=\"строительно-монтажные работы\",ЗАЯВКА!#REF!,0)","v":{"$error":"#REF!"}},{"$f":"IF(ЗАЯВКА!#REF!=\"да\",ЗАЯВКА!#REF!,0)","v":{"$error":"#REF!"}}]
[{"$f":"IF(ЗАЯВКА!#REF!=\"проектирование\",ЗАЯВКА!#REF!,0)","v":{"$error":"#REF!"}},{"$f":"IF(ЗАЯВКА!#REF!=\"строительно-монтажные работы\",ЗАЯВКА!#REF!,0)","v":{"$error":"#REF!"}},{"$f":"IF(ЗАЯВКА!#REF!=\"да\",ЗАЯВКА!#REF!,0)","v":{"$error":"#REF!"}}]
[{"$f":"IF(ЗАЯВКА!I1049=\"проектирование\",ЗАЯВКА!K1049,0)","v":0},{"$f":"IF(ЗАЯВКА!I1049=\"строительно-монтажные работы\",ЗАЯВКА!K1049,0)","v":0},{"$f":"IF(ЗАЯВКА!N1049=\"да\",ЗАЯВКА!K1049,0)","v":0}]
[{"$f":"IF(ЗАЯВКА!I1050=\"проектирование\",ЗАЯВКА!K1050,0)","v":0},{"$f":"IF(ЗАЯВКА!I1050=\"строительно-монтажные работы\",ЗАЯВКА!K1050,0)","v":0},{"$f":"IF(ЗАЯВКА!N1050=\"да\",ЗАЯВКА!K1050,0)","v":0}]
[{"$f":"IF(ЗАЯВКА!I1051=\"проектирование\",ЗАЯВКА!K1051,0)","v":0},{"$f":"IF(ЗАЯВКА!I1051=\"строительно-монтажные работы\",ЗАЯВКА!K1051,0)","v":0},{"$f":"IF(ЗАЯВКА!N1051=\"да\",ЗАЯВКА!K1051,0)","v":0}]
[{"$f":"IF(ЗАЯВКА!I1052=\"проектирование\",ЗАЯВКА!K1052,0)","v":0},{"$f":"IF(ЗАЯВКА!I1052=\"строительно-монтажные работы\",ЗАЯВКА!K1052,0)","v":0},{"$f":"IF(ЗАЯВКА!N1052=\"да\",ЗАЯВКА!K1052,0)","v":0}]
[{"$f":"IF(ЗАЯВКА!#REF!=\"проектирование\",ЗАЯВКА!#REF!,0)","v":{"$error":"#REF!"}},{"$f":"IF(ЗАЯВКА!#REF!=\"строительно-монтажные работы\",ЗАЯВКА!#REF!,0)","v":{"$error":"#REF!"}},{"$f":"IF(ЗАЯВКА!#REF!=\"да\",ЗАЯВКА!#REF!,0)","v":{"$error":"#REF!"}}]
[{"$f":"IF(ЗАЯВКА!#REF!=\"проектирование\",ЗАЯВКА!#REF!,0)","v":{"$error":"#REF!"}},{"$f":"IF(ЗАЯВКА!#REF!=\"строительно-монтажные работы\",ЗАЯВКА!#REF!,0)","v":{"$error":"#REF!"}},{"$f":"IF(ЗАЯВКА!#REF!=\"да\",ЗАЯВКА!#REF!,0)","v":{"$error":"#REF!"}}]
[{"$f":"IF(ЗАЯВКА!#REF!=\"проектирование\",ЗАЯВКА!#REF!,0)","v":{"$error":"#REF!"}},{"$f":"IF(ЗАЯВКА!#REF!=\"строительно-монтажные работы\",ЗАЯВКА!#REF!,0)","v":{"$error":"#REF!"}},{"$f":"IF(ЗАЯВКА!#REF!=\"да\",ЗАЯВКА!#REF!,0)","v":{"$error":"#REF!"}}]
[{"$f":"IF(ЗАЯВКА!#REF!=\"проектирование\",ЗАЯВКА!#REF!,0)","v":{"$error":"#REF!"}},{"$f":"IF(ЗАЯВКА!#REF!=\"строительно-монтажные работы\",ЗАЯВКА!#REF!,0)","v":{"$error":"#REF!"}},{"$f":"IF(ЗАЯВКА!#REF!=\"да\",ЗАЯВКА!#REF!,0)","v":{"$error":"#REF!"}}]
[{"$f":"IF(ЗАЯВКА!#REF!=\"проектирование\",ЗАЯВКА!#REF!,0)","v":{"$error":"#REF!"}},{"$f":"IF(ЗАЯВКА!#REF!=\"строительно-монтажные работы\",ЗАЯВКА!#REF!,0)","v":{"$error":"#REF!"}},{"$f":"IF(ЗАЯВКА!#REF!=\"да\",ЗАЯВКА!#REF!,0)","v":{"$error":"#REF!"}}]
[{"$f":"IF(ЗАЯВКА!#REF!=\"проектирование\",ЗАЯВКА!#REF!,0)","v":{"$error":"#REF!"}},{"$f":"IF(ЗАЯВКА!#REF!=\"строительно-монтажные работы\",ЗАЯВКА!#REF!,0)","v":{"$error":"#REF!"}},{"$f":"IF(ЗАЯВКА!#REF!=\"да\",ЗАЯВКА!#REF!,0)","v":{"$error":"#REF!"}}]
[{"$f":"IF(ЗАЯВКА!#REF!=\"проектирование\",ЗАЯВКА!#REF!,0)","v":{"$error":"#REF!"}},{"$f":"IF(ЗАЯВКА!#REF!=\"строительно-монтажные работы\",ЗАЯВКА!#REF!,0)","v":{"$error":"#REF!"}},{"$f":"IF(ЗАЯВКА!#REF!=\"да\",ЗАЯВКА!#REF!,0)","v":{"$error":"#REF!"}}]
[{"$f":"IF(ЗАЯВКА!#REF!=\"проектирование\",ЗАЯВКА!#REF!,0)","v":{"$error":"#REF!"}},{"$f":"IF(ЗАЯВКА!#REF!=\"строительно-монтажные работы\",ЗАЯВКА!#REF!,0)","v":{"$error":"#REF!"}},{"$f":"IF(ЗАЯВКА!#REF!=\"да\",ЗАЯВКА!#REF!,0)","v":{"$error":"#REF!"}}]
[{"$f":"IF(ЗАЯВКА!#REF!=\"проектирование\",ЗАЯВКА!#REF!,0)","v":{"$error":"#REF!"}},{"$f":"IF(ЗАЯВКА!#REF!=\"строительно-монтажные работы\",ЗАЯВКА!#REF!,0)","v":{"$error":"#REF!"}},{"$f":"IF(ЗАЯВКА!#REF!=\"да\",ЗАЯВКА!#REF!,0)","v":{"$error":"#REF!"}}]
[{"$f":"IF(ЗАЯВКА!#REF!=\"проектирование\",ЗАЯВКА!#REF!,0)","v":{"$error":"#REF!"}},{"$f":"IF(ЗАЯВКА!#REF!=\"строительно-монтажные работы\",ЗАЯВКА!#REF!,0)","v":{"$error":"#REF!"}},{"$f":"IF(ЗАЯВКА!#REF!=\"да\",ЗАЯВКА!#REF!,0)","v":{"$error":"#REF!"}}]
[{"$f":"IF(ЗАЯВКА!#REF!=\"проектирование\",ЗАЯВКА!#REF!,0)","v":{"$error":"#REF!"}},{"$f":"IF(ЗАЯВКА!#REF!=\"строительно-монтажные работы\",ЗАЯВКА!#REF!,0)","v":{"$error":"#REF!"}},{"$f":"IF(ЗАЯВКА!#REF!=\"да\",ЗАЯВКА!#REF!,0)","v":{"$error":"#REF!"}}]
[{"$f":"IF(ЗАЯВКА!#REF!=\"проектирование\",ЗАЯВКА!#REF!,0)","v":{"$error":"#REF!"}},{"$f":"IF(ЗАЯВКА!#REF!=\"строительно-монтажные работы\",ЗАЯВКА!#REF!,0)","v":{"$error":"#REF!"}},{"$f":"IF(ЗАЯВКА!#REF!=\"да\",ЗАЯВКА!#REF!,0)","v":{"$error":"#REF!"}}]
[{"$f":"IF(ЗАЯВКА!#REF!=\"проектирование\",ЗАЯВКА!#REF!,0)","v":{"$error":"#REF!"}},{"$f":"IF(ЗАЯВКА!#REF!=\"строительно-монтажные работы\",ЗАЯВКА!#REF!,0)","v":{"$error":"#REF!"}},{"$f":"IF(ЗАЯВКА!#REF!=\"да\",ЗАЯВКА!#REF!,0)","v":{"$error":"#REF!"}}]
[{"$f":"IF(ЗАЯВКА!#REF!=\"проектирование\",ЗАЯВКА!#REF!,0)","v":{"$error":"#REF!"}},{"$f":"IF(ЗАЯВКА!#REF!=\"строительно-монтажные работы\",ЗАЯВКА!#REF!,0)","v":{"$error":"#REF!"}},{"$f":"IF(ЗАЯВКА!#REF!=\"да\",ЗАЯВКА!#REF!,0)","v":{"$error":"#REF!"}}]
[{"$f":"IF(ЗАЯВКА!#REF!=\"проектирование\",ЗАЯВКА!#REF!,0)","v":{"$error":"#REF!"}},{"$f":"IF(ЗАЯВКА!#REF!=\"строительно-монтажные работы\",ЗАЯВКА!#REF!,0)","v":{"$error":"#REF!"}},{"$f":"IF(ЗАЯВКА!#REF!=\"да\",ЗАЯВКА!#REF!,0)","v":{"$error":"#REF!"}}]
[{"$f":"IF(ЗАЯВКА!#REF!=\"проектирование\",ЗАЯВКА!#REF!,0)","v":{"$error":"#REF!"}},{"$f":"IF(ЗАЯВКА!#REF!=\"строительно-монтажные работы\",ЗАЯВКА!#REF!,0)","v":{"$error":"#REF!"}},{"$f":"IF(ЗАЯВКА!#REF!=\"да\",ЗАЯВКА!#REF!,0)","v":{"$error":"#REF!"}}]
[{"$f":"IF(ЗАЯВКА!#REF!=\"проектирование\",ЗАЯВКА!#REF!,0)","v":{"$error":"#REF!"}},{"$f":"IF(ЗАЯВКА!#REF!=\"строительно-монтажные работы\",ЗАЯВКА!#REF!,0)","v":{"$error":"#REF!"}},{"$f":"IF(ЗАЯВКА!#REF!=\"да\",ЗАЯВКА!#REF!,0)","v":{"$error":"#REF!"}}]
[{"$f":"IF(ЗАЯВКА!#REF!=\"проектирование\",ЗАЯВКА!#REF!,0)","v":{"$error":"#REF!"}},{"$f":"IF(ЗАЯВКА!#REF!=\"строительно-монтажные работы\",ЗАЯВКА!#REF!,0)","v":{"$error":"#REF!"}},{"$f":"IF(ЗАЯВКА!#REF!=\"да\",ЗАЯВКА!#REF!,0)","v":{"$error":"#REF!"}}]
[{"$f":"IF(ЗАЯВКА!#REF!=\"проектирование\",ЗАЯВКА!#REF!,0)","v":{"$error":"#REF!"}},{"$f":"IF(ЗАЯВКА!#REF!=\"строительно-монтажные работы\",ЗАЯВКА!#REF!,0)","v":{"$error":"#REF!"}},{"$f":"IF(ЗАЯВКА!#REF!=\"да\",ЗАЯВКА!#REF!,0)","v":{"$error":"#REF!"}}]
[{"$f":"IF(ЗАЯВКА!#REF!=\"проектирование\",ЗАЯВКА!#REF!,0)","v":{"$error":"#REF!"}},{"$f":"IF(ЗАЯВКА!#REF!=\"строительно-монтажные работы\",ЗАЯВКА!#REF!,0)","v":{"$error":"#REF!"}},{"$f":"IF(ЗАЯВКА!#REF!=\"да\",ЗАЯВКА!#REF!,0)","v":{"$error":"#REF!"}}]
[{"$f":"IF(ЗАЯВКА!#REF!=\"проектирование\",ЗАЯВКА!#REF!,0)","v":{"$error":"#REF!"}},{"$f":"IF(ЗАЯВКА!#REF!=\"строительно-монтажные работы\",ЗАЯВКА!#REF!,0)","v":{"$error":"#REF!"}},{"$f":"IF(ЗАЯВКА!#REF!=\"да\",ЗАЯВКА!#REF!,0)","v":{"$error":"#REF!"}}]
[{"$f":"IF(ЗАЯВКА!#REF!=\"проектирование\",ЗАЯВКА!#REF!,0)","v":{"$error":"#REF!"}},{"$f":"IF(ЗАЯВКА!#REF!=\"строительно-монтажные работы\",ЗАЯВКА!#REF!,0)","v":{"$error":"#REF!"}},{"$f":"IF(ЗАЯВКА!#REF!=\"да\",ЗАЯВКА!#REF!,0)","v":{"$error":"#REF!"}}]
[{"$f":"IF(ЗАЯВКА!#REF!=\"проектирование\",ЗАЯВКА!#REF!,0)","v":{"$error":"#REF!"}},{"$f":"IF(ЗАЯВКА!#REF!=\"строительно-монтажные работы\",ЗАЯВКА!#REF!,0)","v":{"$error":"#REF!"}},{"$f":"IF(ЗАЯВКА!#REF!=\"да\",ЗАЯВКА!#REF!,0)","v":{"$error":"#REF!"}}]
[{"$f":"IF(ЗАЯВКА!#REF!=\"проектирование\",ЗАЯВКА!#REF!,0)","v":{"$error":"#REF!"}},{"$f":"IF(ЗАЯВКА!#REF!=\"строительно-монтажные работы\",ЗАЯВКА!#REF!,0)","v":{"$error":"#REF!"}},{"$f":"IF(ЗАЯВКА!#REF!=\"да\",ЗАЯВКА!#REF!,0)","v":{"$error":"#REF!"}}]
[{"$f":"IF(ЗАЯВКА!#REF!=\"проектирование\",ЗАЯВКА!#REF!,0)","v":{"$error":"#REF!"}},{"$f":"IF(ЗАЯВКА!#REF!=\"строительно-монтажные работы\",ЗАЯВКА!#REF!,0)","v":{"$error":"#REF!"}},{"$f":"IF(ЗАЯВКА!#REF!=\"да\",ЗАЯВКА!#REF!,0)","v":{"$error":"#REF!"}}]
[{"$f":"IF(ЗАЯВКА!#REF!=\"проектирование\",ЗАЯВКА!#REF!,0)","v":{"$error":"#REF!"}},{"$f":"IF(ЗАЯВКА!#REF!=\"строительно-монтажные работы\",ЗАЯВКА!#REF!,0)","v":{"$error":"#REF!"}},{"$f":"IF(ЗАЯВКА!#REF!=\"да\",ЗАЯВКА!#REF!,0)","v":{"$error":"#REF!"}}]
[{"$f":"IF(ЗАЯВКА!#REF!=\"проектирование\",ЗАЯВКА!#REF!,0)","v":{"$error":"#REF!"}},{"$f":"IF(ЗАЯВКА!#REF!=\"строительно-монтажные работы\",ЗАЯВКА!#REF!,0)","v":{"$error":"#REF!"}},{"$f":"IF(ЗАЯВКА!#REF!=\"да\",ЗАЯВКА!#REF!,0)","v":{"$error":"#REF!"}}]
[{"$f":"IF(ЗАЯВКА!#REF!=\"проектирование\",ЗАЯВКА!#REF!,0)","v":{"$error":"#REF!"}},{"$f":"IF(ЗАЯВКА!#REF!=\"строительно-монтажные работы\",ЗАЯВКА!#REF!,0)","v":{"$error":"#REF!"}},{"$f":"IF(ЗАЯВКА!#REF!=\"да\",ЗАЯВКА!#REF!,0)","v":{"$error":"#REF!"}}]
[{"$f":"IF(ЗАЯВКА!#REF!=\"проектирование\",ЗАЯВКА!#REF!,0)","v":{"$error":"#REF!"}},{"$f":"IF(ЗАЯВКА!#REF!=\"строительно-монтажные работы\",ЗАЯВКА!#REF!,0)","v":{"$error":"#REF!"}},{"$f":"IF(ЗАЯВКА!#REF!=\"да\",ЗАЯВКА!#REF!,0)","v":{"$error":"#REF!"}}]
[{"$f":"IF(ЗАЯВКА!#REF!=\"проектирование\",ЗАЯВКА!#REF!,0)","v":{"$error":"#REF!"}},{"$f":"IF(ЗАЯВКА!#REF!=\"строительно-монтажные работы\",ЗАЯВКА!#REF!,0)","v":{"$error":"#REF!"}},{"$f":"IF(ЗАЯВКА!#REF!=\"да\",ЗАЯВКА!#REF!,0)","v":{"$error":"#REF!"}}]
[{"$f":"IF(ЗАЯВКА!#REF!=\"проектирование\",ЗАЯВКА!#REF!,0)","v":{"$error":"#REF!"}},{"$f":"IF(ЗАЯВКА!#REF!=\"строительно-монтажные работы\",ЗАЯВКА!#REF!,0)","v":{"$error":"#REF!"}},{"$f":"IF(ЗАЯВКА!#REF!=\"да\",ЗАЯВКА!#REF!,0)","v":{"$error":"#REF!"}}]
[{"$f":"IF(ЗАЯВКА!#REF!=\"проектирование\",ЗАЯВКА!#REF!,0)","v":{"$error":"#REF!"}},{"$f":"IF(ЗАЯВКА!#REF!=\"строительно-монтажные работы\",ЗАЯВКА!#REF!,0)","v":{"$error":"#REF!"}},{"$f":"IF(ЗАЯВКА!#REF!=\"да\",ЗАЯВКА!#REF!,0)","v":{"$error":"#REF!"}}]
[{"$f":"IF(ЗАЯВКА!#REF!=\"проектирование\",ЗАЯВКА!#REF!,0)","v":{"$error":"#REF!"}},{"$f":"IF(ЗАЯВКА!#REF!=\"строительно-монтажные работы\",ЗАЯВКА!#REF!,0)","v":{"$error":"#REF!"}},{"$f":"IF(ЗАЯВКА!#REF!=\"да\",ЗАЯВКА!#REF!,0)","v":{"$error":"#REF!"}}]
[{"$f":"IF(ЗАЯВКА!#REF!=\"проектирование\",ЗАЯВКА!#REF!,0)","v":{"$error":"#REF!"}},{"$f":"IF(ЗАЯВКА!#REF!=\"строительно-монтажные работы\",ЗАЯВКА!#REF!,0)","v":{"$error":"#REF!"}},{"$f":"IF(ЗАЯВКА!#REF!=\"да\",ЗАЯВКА!#REF!,0)","v":{"$error":"#REF!"}}]
[{"$f":"IF(ЗАЯВКА!#REF!=\"проектирование\",ЗАЯВКА!#REF!,0)","v":{"$error":"#REF!"}},{"$f":"IF(ЗАЯВКА!#REF!=\"строительно-монтажные работы\",ЗАЯВКА!#REF!,0)","v":{"$error":"#REF!"}},{"$f":"IF(ЗАЯВКА!#REF!=\"да\",ЗАЯВКА!#REF!,0)","v":{"$error":"#REF!"}}]
[{"$f":"IF(ЗАЯВКА!#REF!=\"проектирование\",ЗАЯВКА!#REF!,0)","v":{"$error":"#REF!"}},{"$f":"IF(ЗАЯВКА!#REF!=\"строительно-монтажные работы\",ЗАЯВКА!#REF!,0)","v":{"$error":"#REF!"}},{"$f":"IF(ЗАЯВКА!#REF!=\"да\",ЗАЯВКА!#REF!,0)","v":{"$error":"#REF!"}}]
[{"$f":"IF(ЗАЯВКА!#REF!=\"проектирование\",ЗАЯВКА!#REF!,0)","v":{"$error":"#REF!"}},{"$f":"IF(ЗАЯВКА!#REF!=\"строительно-монтажные работы\",ЗАЯВКА!#REF!,0)","v":{"$error":"#REF!"}},{"$f":"IF(ЗАЯВКА!#REF!=\"да\",ЗАЯВКА!#REF!,0)","v":{"$error":"#REF!"}}]
[{"$f":"IF(ЗАЯВКА!#REF!=\"проектирование\",ЗАЯВКА!#REF!,0)","v":{"$error":"#REF!"}},{"$f":"IF(ЗАЯВКА!#REF!=\"строительно-монтажные работы\",ЗАЯВКА!#REF!,0)","v":{"$error":"#REF!"}},{"$f":"IF(ЗАЯВКА!#REF!=\"да\",ЗАЯВКА!#REF!,0)","v":{"$error":"#REF!"}}]
[{"$f":"IF(ЗАЯВКА!#REF!=\"проектирование\",ЗАЯВКА!#REF!,0)","v":{"$error":"#REF!"}},{"$f":"IF(ЗАЯВКА!#REF!=\"строительно-монтажные работы\",ЗАЯВКА!#REF!,0)","v":{"$error":"#REF!"}},{"$f":"IF(ЗАЯВКА!#REF!=\"да\",ЗАЯВКА!#REF!,0)","v":{"$error":"#REF!"}}]
[{"$f":"IF(ЗАЯВКА!#REF!=\"проектирование\",ЗАЯВКА!#REF!,0)","v":{"$error":"#REF!"}},{"$f":"IF(ЗАЯВКА!#REF!=\"строительно-монтажные работы\",ЗАЯВКА!#REF!,0)","v":{"$error":"#REF!"}},{"$f":"IF(ЗАЯВКА!#REF!=\"да\",ЗАЯВКА!#REF!,0)","v":{"$error":"#REF!"}}]
[{"$f":"IF(ЗАЯВКА!#REF!=\"проектирование\",ЗАЯВКА!#REF!,0)","v":{"$error":"#REF!"}},{"$f":"IF(ЗАЯВКА!#REF!=\"строительно-монтажные работы\",ЗАЯВКА!#REF!,0)","v":{"$error":"#REF!"}},{"$f":"IF(ЗАЯВКА!#REF!=\"да\",ЗАЯВКА!#REF!,0)","v":{"$error":"#REF!"}}]
[{"$f":"IF(ЗАЯВКА!#REF!=\"проектирование\",ЗАЯВКА!#REF!,0)","v":{"$error":"#REF!"}},{"$f":"IF(ЗАЯВКА!#REF!=\"строительно-монтажные работы\",ЗАЯВКА!#REF!,0)","v":{"$error":"#REF!"}},{"$f":"IF(ЗАЯВКА!#REF!=\"да\",ЗАЯВКА!#REF!,0)","v":{"$error":"#REF!"}}]
[{"$f":"IF(ЗАЯВКА!#REF!=\"проектирование\",ЗАЯВКА!#REF!,0)","v":{"$error":"#REF!"}},{"$f":"IF(ЗАЯВКА!#REF!=\"строительно-монтажные работы\",ЗАЯВКА!#REF!,0)","v":{"$error":"#REF!"}},{"$f":"IF(ЗАЯВКА!#REF!=\"да\",ЗАЯВКА!#REF!,0)","v":{"$error":"#REF!"}}]
[{"$f":"IF(ЗАЯВКА!#REF!=\"проектирование\",ЗАЯВКА!#REF!,0)","v":{"$error":"#REF!"}},{"$f":"IF(ЗАЯВКА!#REF!=\"строительно-монтажные работы\",ЗАЯВКА!#REF!,0)","v":{"$error":"#REF!"}},{"$f":"IF(ЗАЯВКА!#REF!=\"да\",ЗАЯВКА!#REF!,0)","v":{"$error":"#REF!"}}]
[{"$f":"IF(ЗАЯВКА!#REF!=\"проектирование\",ЗАЯВКА!#REF!,0)","v":{"$error":"#REF!"}},{"$f":"IF(ЗАЯВКА!#REF!=\"строительно-монтажные работы\",ЗАЯВКА!#REF!,0)","v":{"$error":"#REF!"}},{"$f":"IF(ЗАЯВКА!#REF!=\"да\",ЗАЯВКА!#REF!,0)","v":{"$error":"#REF!"}}]
[{"$f":"IF(ЗАЯВКА!#REF!=\"проектирование\",ЗАЯВКА!#REF!,0)","v":{"$error":"#REF!"}},{"$f":"IF(ЗАЯВКА!#REF!=\"строительно-монтажные работы\",ЗАЯВКА!#REF!,0)","v":{"$error":"#REF!"}},{"$f":"IF(ЗАЯВКА!#REF!=\"да\",ЗАЯВКА!#REF!,0)","v":{"$error":"#REF!"}}]
[{"$f":"IF(ЗАЯВКА!#REF!=\"проектирование\",ЗАЯВКА!#REF!,0)","v":{"$error":"#REF!"}},{"$f":"IF(ЗАЯВКА!#REF!=\"строительно-монтажные работы\",ЗАЯВКА!#REF!,0)","v":{"$error":"#REF!"}},{"$f":"IF(ЗАЯВКА!#REF!=\"да\",ЗАЯВКА!#REF!,0)","v":{"$error":"#REF!"}}]
[{"$f":"IF(ЗАЯВКА!#REF!=\"проектирование\",ЗАЯВКА!#REF!,0)","v":{"$error":"#REF!"}},{"$f":"IF(ЗАЯВКА!#REF!=\"строительно-монтажные работы\",ЗАЯВКА!#REF!,0)","v":{"$error":"#REF!"}},{"$f":"IF(ЗАЯВКА!#REF!=\"да\",ЗАЯВКА!#REF!,0)","v":{"$error":"#REF!"}}]
[{"$f":"IF(ЗАЯВКА!#REF!=\"проектирование\",ЗАЯВКА!#REF!,0)","v":{"$error":"#REF!"}},{"$f":"IF(ЗАЯВКА!#REF!=\"строительно-монтажные работы\",ЗАЯВКА!#REF!,0)","v":{"$error":"#REF!"}},{"$f":"IF(ЗАЯВКА!#REF!=\"да\",ЗАЯВКА!#REF!,0)","v":{"$error":"#REF!"}}]
[{"$f":"IF(ЗАЯВКА!#REF!=\"проектирование\",ЗАЯВКА!#REF!,0)","v":{"$error":"#REF!"}},{"$f":"IF(ЗАЯВКА!#REF!=\"строительно-монтажные работы\",ЗАЯВКА!#REF!,0)","v":{"$error":"#REF!"}},{"$f":"IF(ЗАЯВКА!#REF!=\"да\",ЗАЯВКА!#REF!,0)","v":{"$error":"#REF!"}}]
[{"$f":"IF(ЗАЯВКА!#REF!=\"проектирование\",ЗАЯВКА!#REF!,0)","v":{"$error":"#REF!"}},{"$f":"IF(ЗАЯВКА!#REF!=\"строительно-монтажные работы\",ЗАЯВКА!#REF!,0)","v":{"$error":"#REF!"}},{"$f":"IF(ЗАЯВКА!#REF!=\"да\",ЗАЯВКА!#REF!,0)","v":{"$error":"#REF!"}}]
[{"$f":"IF(ЗАЯВКА!#REF!=\"проектирование\",ЗАЯВКА!#REF!,0)","v":{"$error":"#REF!"}},{"$f":"IF(ЗАЯВКА!#REF!=\"строительно-монтажные работы\",ЗАЯВКА!#REF!,0)","v":{"$error":"#REF!"}},{"$f":"IF(ЗАЯВКА!#REF!=\"да\",ЗАЯВКА!#REF!,0)","v":{"$error":"#REF!"}}]
[{"$f":"IF(ЗАЯВКА!#REF!=\"проектирование\",ЗАЯВКА!#REF!,0)","v":{"$error":"#REF!"}},{"$f":"IF(ЗАЯВКА!#REF!=\"строительно-монтажные работы\",ЗАЯВКА!#REF!,0)","v":{"$error":"#REF!"}},{"$f":"IF(ЗАЯВКА!#REF!=\"да\",ЗАЯВКА!#REF!,0)","v":{"$error":"#REF!"}}]
[{"$f":"IF(ЗАЯВКА!#REF!=\"проектирование\",ЗАЯВКА!#REF!,0)","v":{"$error":"#REF!"}},{"$f":"IF(ЗАЯВКА!#REF!=\"строительно-монтажные работы\",ЗАЯВКА!#REF!,0)","v":{"$error":"#REF!"}},{"$f":"IF(ЗАЯВКА!#REF!=\"да\",ЗАЯВКА!#REF!,0)","v":{"$error":"#REF!"}}]
[{"$f":"IF(ЗАЯВКА!#REF!=\"проектирование\",ЗАЯВКА!#REF!,0)","v":{"$error":"#REF!"}},{"$f":"IF(ЗАЯВКА!#REF!=\"строительно-монтажные работы\",ЗАЯВКА!#REF!,0)","v":{"$error":"#REF!"}},{"$f":"IF(ЗАЯВКА!#REF!=\"да\",ЗАЯВКА!#REF!,0)","v":{"$error":"#REF!"}}]
[{"$f":"IF(ЗАЯВКА!#REF!=\"проектирование\",ЗАЯВКА!#REF!,0)","v":{"$error":"#REF!"}},{"$f":"IF(ЗАЯВКА!#REF!=\"строительно-монтажные работы\",ЗАЯВКА!#REF!,0)","v":{"$error":"#REF!"}},{"$f":"IF(ЗАЯВКА!#REF!=\"да\",ЗАЯВКА!#REF!,0)","v":{"$error":"#REF!"}}]
[{"$f":"IF(ЗАЯВКА!#REF!=\"проектирование\",ЗАЯВКА!#REF!,0)","v":{"$error":"#REF!"}},{"$f":"IF(ЗАЯВКА!#REF!=\"строительно-монтажные работы\",ЗАЯВКА!#REF!,0)","v":{"$error":"#REF!"}},{"$f":"IF(ЗАЯВКА!#REF!=\"да\",ЗАЯВКА!#REF!,0)","v":{"$error":"#REF!"}}]
[{"$f":"IF(ЗАЯВКА!#REF!=\"проектирование\",ЗАЯВКА!#REF!,0)","v":{"$error":"#REF!"}},{"$f":"IF(ЗАЯВКА!#REF!=\"строительно-монтажные работы\",ЗАЯВКА!#REF!,0)","v":{"$error":"#REF!"}},{"$f":"IF(ЗАЯВКА!#REF!=\"да\",ЗАЯВКА!#REF!,0)","v":{"$error":"#REF!"}}]
[{"$f":"IF(ЗАЯВКА!#REF!=\"проектирование\",ЗАЯВКА!#REF!,0)","v":{"$error":"#REF!"}},{"$f":"IF(ЗАЯВКА!#REF!=\"строительно-монтажные работы\",ЗАЯВКА!#REF!,0)","v":{"$error":"#REF!"}},{"$f":"IF(ЗАЯВКА!#REF!=\"да\",ЗАЯВКА!#REF!,0)","v":{"$error":"#REF!"}}]
[{"$f":"IF(ЗАЯВКА!#REF!=\"проектирование\",ЗАЯВКА!#REF!,0)","v":{"$error":"#REF!"}},{"$f":"IF(ЗАЯВКА!#REF!=\"строительно-монтажные работы\",ЗАЯВКА!#REF!,0)","v":{"$error":"#REF!"}},{"$f":"IF(ЗАЯВКА!#REF!=\"да\",ЗАЯВКА!#REF!,0)","v":{"$error":"#REF!"}}]
[{"$f":"IF(ЗАЯВКА!#REF!=\"проектирование\",ЗАЯВКА!#REF!,0)","v":{"$error":"#REF!"}},{"$f":"IF(ЗАЯВКА!#REF!=\"строительно-монтажные работы\",ЗАЯВКА!#REF!,0)","v":{"$error":"#REF!"}},{"$f":"IF(ЗАЯВКА!#REF!=\"да\",ЗАЯВКА!#REF!,0)","v":{"$error":"#REF!"}}]
[{"$f":"IF(ЗАЯВКА!#REF!=\"проектирование\",ЗАЯВКА!#REF!,0)","v":{"$error":"#REF!"}},{"$f":"IF(ЗАЯВКА!#REF!=\"строительно-монтажные работы\",ЗАЯВКА!#REF!,0)","v":{"$error":"#REF!"}},{"$f":"IF(ЗАЯВКА!#REF!=\"да\",ЗАЯВКА!#REF!,0)","v":{"$error":"#REF!"}}]
[{"$f":"IF(ЗАЯВКА!#REF!=\"проектирование\",ЗАЯВКА!#REF!,0)","v":{"$error":"#REF!"}},{"$f":"IF(ЗАЯВКА!#REF!=\"строительно-монтажные работы\",ЗАЯВКА!#REF!,0)","v":{"$error":"#REF!"}},{"$f":"IF(ЗАЯВКА!#REF!=\"да\",ЗАЯВКА!#REF!,0)","v":{"$error":"#REF!"}}]
[{"$f":"IF(ЗАЯВКА!#REF!=\"проектирование\",ЗАЯВКА!#REF!,0)","v":{"$error":"#REF!"}},{"$f":"IF(ЗАЯВКА!#REF!=\"строительно-монтажные работы\",ЗАЯВКА!#REF!,0)","v":{"$error":"#REF!"}},{"$f":"IF(ЗАЯВКА!#REF!=\"да\",ЗАЯВКА!#REF!,0)","v":{"$error":"#REF!"}}]
[{"$f":"IF(ЗАЯВКА!#REF!=\"проектирование\",ЗАЯВКА!#REF!,0)","v":{"$error":"#REF!"}},{"$f":"IF(ЗАЯВКА!#REF!=\"строительно-монтажные работы\",ЗАЯВКА!#REF!,0)","v":{"$error":"#REF!"}},{"$f":"IF(ЗАЯВКА!#REF!=\"да\",ЗАЯВКА!#REF!,0)","v":{"$error":"#REF!"}}]
[{"$f":"IF(ЗАЯВКА!#REF!=\"проектирование\",ЗАЯВКА!#REF!,0)","v":{"$error":"#REF!"}},{"$f":"IF(ЗАЯВКА!#REF!=\"строительно-монтажные работы\",ЗАЯВКА!#REF!,0)","v":{"$error":"#REF!"}},{"$f":"IF(ЗАЯВКА!#REF!=\"да\",ЗАЯВКА!#REF!,0)","v":{"$error":"#REF!"}}]
[{"$f":"IF(ЗАЯВКА!#REF!=\"проектирование\",ЗАЯВКА!#REF!,0)","v":{"$error":"#REF!"}},{"$f":"IF(ЗАЯВКА!#REF!=\"строительно-монтажные работы\",ЗАЯВКА!#REF!,0)","v":{"$error":"#REF!"}},{"$f":"IF(ЗАЯВКА!#REF!=\"да\",ЗАЯВКА!#REF!,0)","v":{"$error":"#REF!"}}]
[{"$f":"IF(ЗАЯВКА!#REF!=\"проектирование\",ЗАЯВКА!#REF!,0)","v":{"$error":"#REF!"}},{"$f":"IF(ЗАЯВКА!#REF!=\"строительно-монтажные работы\",ЗАЯВКА!#REF!,0)","v":{"$error":"#REF!"}},{"$f":"IF(ЗАЯВКА!#REF!=\"да\",ЗАЯВКА!#REF!,0)","v":{"$error":"#REF!"}}]
[{"$f":"IF(ЗАЯВКА!#REF!=\"проектирование\",ЗАЯВКА!#REF!,0)","v":{"$error":"#REF!"}},{"$f":"IF(ЗАЯВКА!#REF!=\"строительно-монтажные работы\",ЗАЯВКА!#REF!,0)","v":{"$error":"#REF!"}},{"$f":"IF(ЗАЯВКА!#REF!=\"да\",ЗАЯВКА!#REF!,0)","v":{"$error":"#REF!"}}]
[{"$f":"IF(ЗАЯВКА!#REF!=\"проектирование\",ЗАЯВКА!#REF!,0)","v":{"$error":"#REF!"}},{"$f":"IF(ЗАЯВКА!#REF!=\"строительно-монтажные работы\",ЗАЯВКА!#REF!,0)","v":{"$error":"#REF!"}},{"$f":"IF(ЗАЯВКА!#REF!=\"да\",ЗАЯВКА!#REF!,0)","v":{"$error":"#REF!"}}]
[{"$f":"IF(ЗАЯВКА!#REF!=\"проектирование\",ЗАЯВКА!#REF!,0)","v":{"$error":"#REF!"}},{"$f":"IF(ЗАЯВКА!#REF!=\"строительно-монтажные работы\",ЗАЯВКА!#REF!,0)","v":{"$error":"#REF!"}},{"$f":"IF(ЗАЯВКА!#REF!=\"да\",ЗАЯВКА!#REF!,0)","v":{"$error":"#REF!"}}]
[{"$f":"IF(ЗАЯВКА!#REF!=\"проектирование\",ЗАЯВКА!#REF!,0)","v":{"$error":"#REF!"}},{"$f":"IF(ЗАЯВКА!#REF!=\"строительно-монтажные работы\",ЗАЯВКА!#REF!,0)","v":{"$error":"#REF!"}},{"$f":"IF(ЗАЯВКА!#REF!=\"да\",ЗАЯВКА!#REF!,0)","v":{"$error":"#REF!"}}]
[{"$f":"IF(ЗАЯВКА!#REF!=\"проектирование\",ЗАЯВКА!#REF!,0)","v":{"$error":"#REF!"}},{"$f":"IF(ЗАЯВКА!#REF!=\"строительно-монтажные работы\",ЗАЯВКА!#REF!,0)","v":{"$error":"#REF!"}},{"$f":"IF(ЗАЯВКА!#REF!=\"да\",ЗАЯВКА!#REF!,0)","v":{"$error":"#REF!"}}]
[{"$f":"IF(ЗАЯВКА!#REF!=\"проектирование\",ЗАЯВКА!#REF!,0)","v":{"$error":"#REF!"}},{"$f":"IF(ЗАЯВКА!#REF!=\"строительно-монтажные работы\",ЗАЯВКА!#REF!,0)","v":{"$error":"#REF!"}},{"$f":"IF(ЗАЯВКА!#REF!=\"да\",ЗАЯВКА!#REF!,0)","v":{"$error":"#REF!"}}]
[{"$f":"IF(ЗАЯВКА!#REF!=\"проектирование\",ЗАЯВКА!#REF!,0)","v":{"$error":"#REF!"}},{"$f":"IF(ЗАЯВКА!#REF!=\"строительно-монтажные работы\",ЗАЯВКА!#REF!,0)","v":{"$error":"#REF!"}},{"$f":"IF(ЗАЯВКА!#REF!=\"да\",ЗАЯВКА!#REF!,0)","v":{"$error":"#REF!"}}]
[{"$f":"IF(ЗАЯВКА!#REF!=\"проектирование\",ЗАЯВКА!#REF!,0)","v":{"$error":"#REF!"}},{"$f":"IF(ЗАЯВКА!#REF!=\"строительно-монтажные работы\",ЗАЯВКА!#REF!,0)","v":{"$error":"#REF!"}},{"$f":"IF(ЗАЯВКА!#REF!=\"да\",ЗАЯВКА!#REF!,0)","v":{"$error":"#REF!"}}]
[{"$f":"IF(ЗАЯВКА!#REF!=\"проектирование\",ЗАЯВКА!#REF!,0)","v":{"$error":"#REF!"}},{"$f":"IF(ЗАЯВКА!#REF!=\"строительно-монтажные работы\",ЗАЯВКА!#REF!,0)","v":{"$error":"#REF!"}},{"$f":"IF(ЗАЯВКА!#REF!=\"да\",ЗАЯВКА!#REF!,0)","v":{"$error":"#REF!"}}]
[{"$f":"IF(ЗАЯВКА!#REF!=\"проектирование\",ЗАЯВКА!#REF!,0)","v":{"$error":"#REF!"}},{"$f":"IF(ЗАЯВКА!#REF!=\"строительно-монтажные работы\",ЗАЯВКА!#REF!,0)","v":{"$error":"#REF!"}},{"$f":"IF(ЗАЯВКА!#REF!=\"да\",ЗАЯВКА!#REF!,0)","v":{"$error":"#REF!"}}]
[{"$f":"IF(ЗАЯВКА!#REF!=\"проектирование\",ЗАЯВКА!#REF!,0)","v":{"$error":"#REF!"}},{"$f":"IF(ЗАЯВКА!#REF!=\"строительно-монтажные работы\",ЗАЯВКА!#REF!,0)","v":{"$error":"#REF!"}},{"$f":"IF(ЗАЯВКА!#REF!=\"да\",ЗАЯВКА!#REF!,0)","v":{"$error":"#REF!"}}]
[{"$f":"IF(ЗАЯВКА!#REF!=\"проектирование\",ЗАЯВКА!#REF!,0)","v":{"$error":"#REF!"}},{"$f":"IF(ЗАЯВКА!#REF!=\"строительно-монтажные работы\",ЗАЯВКА!#REF!,0)","v":{"$error":"#REF!"}},{"$f":"IF(ЗАЯВКА!#REF!=\"да\",ЗАЯВКА!#REF!,0)","v":{"$error":"#REF!"}}]
[{"$f":"IF(ЗАЯВКА!#REF!=\"проектирование\",ЗАЯВКА!#REF!,0)","v":{"$error":"#REF!"}},{"$f":"IF(ЗАЯВКА!#REF!=\"строительно-монтажные работы\",ЗАЯВКА!#REF!,0)","v":{"$error":"#REF!"}},{"$f":"IF(ЗАЯВКА!#REF!=\"да\",ЗАЯВКА!#REF!,0)","v":{"$error":"#REF!"}}]
[{"$f":"IF(ЗАЯВКА!#REF!=\"проектирование\",ЗАЯВКА!#REF!,0)","v":{"$error":"#REF!"}},{"$f":"IF(ЗАЯВКА!#REF!=\"строительно-монтажные работы\",ЗАЯВКА!#REF!,0)","v":{"$error":"#REF!"}},{"$f":"IF(ЗАЯВКА!#REF!=\"да\",ЗАЯВКА!#REF!,0)","v":{"$error":"#REF!"}}]
[{"$f":"IF(ЗАЯВКА!#REF!=\"проектирование\",ЗАЯВКА!#REF!,0)","v":{"$error":"#REF!"}},{"$f":"IF(ЗАЯВКА!#REF!=\"строительно-монтажные работы\",ЗАЯВКА!#REF!,0)","v":{"$error":"#REF!"}},{"$f":"IF(ЗАЯВКА!#REF!=\"да\",ЗАЯВКА!#REF!,0)","v":{"$error":"#REF!"}}]
[{"$f":"IF(ЗАЯВКА!#REF!=\"проектирование\",ЗАЯВКА!#REF!,0)","v":{"$error":"#REF!"}},{"$f":"IF(ЗАЯВКА!#REF!=\"строительно-монтажные работы\",ЗАЯВКА!#REF!,0)","v":{"$error":"#REF!"}},{"$f":"IF(ЗАЯВКА!#REF!=\"да\",ЗАЯВКА!#REF!,0)","v":{"$error":"#REF!"}}]
[{"$f":"IF(ЗАЯВКА!#REF!=\"проектирование\",ЗАЯВКА!#REF!,0)","v":{"$error":"#REF!"}},{"$f":"IF(ЗАЯВКА!#REF!=\"строительно-монтажные работы\",ЗАЯВКА!#REF!,0)","v":{"$error":"#REF!"}},{"$f":"IF(ЗАЯВКА!#REF!=\"да\",ЗАЯВКА!#REF!,0)","v":{"$error":"#REF!"}}]
[{"$f":"IF(ЗАЯВКА!#REF!=\"проектирование\",ЗАЯВКА!#REF!,0)","v":{"$error":"#REF!"}},{"$f":"IF(ЗАЯВКА!#REF!=\"строительно-монтажные работы\",ЗАЯВКА!#REF!,0)","v":{"$error":"#REF!"}},{"$f":"IF(ЗАЯВКА!#REF!=\"да\",ЗАЯВКА!#REF!,0)","v":{"$error":"#REF!"}}]
[{"$f":"IF(ЗАЯВКА!#REF!=\"проектирование\",ЗАЯВКА!#REF!,0)","v":{"$error":"#REF!"}},{"$f":"IF(ЗАЯВКА!#REF!=\"строительно-монтажные работы\",ЗАЯВКА!#REF!,0)","v":{"$error":"#REF!"}},{"$f":"IF(ЗАЯВКА!#REF!=\"да\",ЗАЯВКА!#REF!,0)","v":{"$error":"#REF!"}}]
[{"$f":"IF(ЗАЯВКА!#REF!=\"проектирование\",ЗАЯВКА!#REF!,0)","v":{"$error":"#REF!"}},{"$f":"IF(ЗАЯВКА!#REF!=\"строительно-монтажные работы\",ЗАЯВКА!#REF!,0)","v":{"$error":"#REF!"}},{"$f":"IF(ЗАЯВКА!#REF!=\"да\",ЗАЯВКА!#REF!,0)","v":{"$error":"#REF!"}}]
[{"$f":"IF(ЗАЯВКА!#REF!=\"проектирование\",ЗАЯВКА!#REF!,0)","v":{"$error":"#REF!"}},{"$f":"IF(ЗАЯВКА!#REF!=\"строительно-монтажные работы\",ЗАЯВКА!#REF!,0)","v":{"$error":"#REF!"}},{"$f":"IF(ЗАЯВКА!#REF!=\"да\",ЗАЯВКА!#REF!,0)","v":{"$error":"#REF!"}}]
[{"$f":"IF(ЗАЯВКА!#REF!=\"проектирование\",ЗАЯВКА!#REF!,0)","v":{"$error":"#REF!"}},{"$f":"IF(ЗАЯВКА!#REF!=\"строительно-монтажные работы\",ЗАЯВКА!#REF!,0)","v":{"$error":"#REF!"}},{"$f":"IF(ЗАЯВКА!#REF!=\"да\",ЗАЯВКА!#REF!,0)","v":{"$error":"#REF!"}}]
[{"$f":"IF(ЗАЯВКА!#REF!=\"проектирование\",ЗАЯВКА!#REF!,0)","v":{"$error":"#REF!"}},{"$f":"IF(ЗАЯВКА!#REF!=\"строительно-монтажные работы\",ЗАЯВКА!#REF!,0)","v":{"$error":"#REF!"}},{"$f":"IF(ЗАЯВКА!#REF!=\"да\",ЗАЯВКА!#REF!,0)","v":{"$error":"#REF!"}}]
[{"$f":"IF(ЗАЯВКА!#REF!=\"проектирование\",ЗАЯВКА!#REF!,0)","v":{"$error":"#REF!"}},{"$f":"IF(ЗАЯВКА!#REF!=\"строительно-монтажные работы\",ЗАЯВКА!#REF!,0)","v":{"$error":"#REF!"}},{"$f":"IF(ЗАЯВКА!#REF!=\"да\",ЗАЯВКА!#REF!,0)","v":{"$error":"#REF!"}}]
[{"$f":"IF(ЗАЯВКА!#REF!=\"проектирование\",ЗАЯВКА!#REF!,0)","v":{"$error":"#REF!"}},{"$f":"IF(ЗАЯВКА!#REF!=\"строительно-монтажные работы\",ЗАЯВКА!#REF!,0)","v":{"$error":"#REF!"}},{"$f":"IF(ЗАЯВКА!#REF!=\"да\",ЗАЯВКА!#REF!,0)","v":{"$error":"#REF!"}}]
[{"$f":"IF(ЗАЯВКА!#REF!=\"проектирование\",ЗАЯВКА!#REF!,0)","v":{"$error":"#REF!"}},{"$f":"IF(ЗАЯВКА!#REF!=\"строительно-монтажные работы\",ЗАЯВКА!#REF!,0)","v":{"$error":"#REF!"}},{"$f":"IF(ЗАЯВКА!#REF!=\"да\",ЗАЯВКА!#REF!,0)","v":{"$error":"#REF!"}}]
[{"$f":"IF(ЗАЯВКА!#REF!=\"проектирование\",ЗАЯВКА!#REF!,0)","v":{"$error":"#REF!"}},{"$f":"IF(ЗАЯВКА!#REF!=\"строительно-монтажные работы\",ЗАЯВКА!#REF!,0)","v":{"$error":"#REF!"}},{"$f":"IF(ЗАЯВКА!#REF!=\"да\",ЗАЯВКА!#REF!,0)","v":{"$error":"#REF!"}}]
[{"$f":"IF(ЗАЯВКА!#REF!=\"проектирование\",ЗАЯВКА!#REF!,0)","v":{"$error":"#REF!"}},{"$f":"IF(ЗАЯВКА!#REF!=\"строительно-монтажные работы\",ЗАЯВКА!#REF!,0)","v":{"$error":"#REF!"}},{"$f":"IF(ЗАЯВКА!#REF!=\"да\",ЗАЯВКА!#REF!,0)","v":{"$error":"#REF!"}}]
[{"$f":"IF(ЗАЯВКА!#REF!=\"проектирование\",ЗАЯВКА!#REF!,0)","v":{"$error":"#REF!"}},{"$f":"IF(ЗАЯВКА!#REF!=\"строительно-монтажные работы\",ЗАЯВКА!#REF!,0)","v":{"$error":"#REF!"}},{"$f":"IF(ЗАЯВКА!#REF!=\"да\",ЗАЯВКА!#REF!,0)","v":{"$error":"#REF!"}}]
[{"$f":"IF(ЗАЯВКА!#REF!=\"проектирование\",ЗАЯВКА!#REF!,0)","v":{"$error":"#REF!"}},{"$f":"IF(ЗАЯВКА!#REF!=\"строительно-монтажные работы\",ЗАЯВКА!#REF!,0)","v":{"$error":"#REF!"}},{"$f":"IF(ЗАЯВКА!#REF!=\"да\",ЗАЯВКА!#REF!,0)","v":{"$error":"#REF!"}}]
[{"$f":"IF(ЗАЯВКА!#REF!=\"проектирование\",ЗАЯВКА!#REF!,0)","v":{"$error":"#REF!"}},{"$f":"IF(ЗАЯВКА!#REF!=\"строительно-монтажные работы\",ЗАЯВКА!#REF!,0)","v":{"$error":"#REF!"}},{"$f":"IF(ЗАЯВКА!#REF!=\"да\",ЗАЯВКА!#REF!,0)","v":{"$error":"#REF!"}}]
[{"$f":"IF(ЗАЯВКА!#REF!=\"проектирование\",ЗАЯВКА!#REF!,0)","v":{"$error":"#REF!"}},{"$f":"IF(ЗАЯВКА!#REF!=\"строительно-монтажные работы\",ЗАЯВКА!#REF!,0)","v":{"$error":"#REF!"}},{"$f":"IF(ЗАЯВКА!#REF!=\"да\",ЗАЯВКА!#REF!,0)","v":{"$error":"#REF!"}}]
[{"$f":"IF(ЗАЯВКА!#REF!=\"проектирование\",ЗАЯВКА!#REF!,0)","v":{"$error":"#REF!"}},{"$f":"IF(ЗАЯВКА!#REF!=\"строительно-монтажные работы\",ЗАЯВКА!#REF!,0)","v":{"$error":"#REF!"}},{"$f":"IF(ЗАЯВКА!#REF!=\"да\",ЗАЯВКА!#REF!,0)","v":{"$error":"#REF!"}}]
[{"$f":"IF(ЗАЯВКА!#REF!=\"проектирование\",ЗАЯВКА!#REF!,0)","v":{"$error":"#REF!"}},{"$f":"IF(ЗАЯВКА!#REF!=\"строительно-монтажные работы\",ЗАЯВКА!#REF!,0)","v":{"$error":"#REF!"}},{"$f":"IF(ЗАЯВКА!#REF!=\"да\",ЗАЯВКА!#REF!,0)","v":{"$error":"#REF!"}}]
[{"$f":"IF(ЗАЯВКА!#REF!=\"проектирование\",ЗАЯВКА!#REF!,0)","v":{"$error":"#REF!"}},{"$f":"IF(ЗАЯВКА!#REF!=\"строительно-монтажные работы\",ЗАЯВКА!#REF!,0)","v":{"$error":"#REF!"}},{"$f":"IF(ЗАЯВКА!#REF!=\"да\",ЗАЯВКА!#REF!,0)","v":{"$error":"#REF!"}}]
[{"$f":"IF(ЗАЯВКА!#REF!=\"проектирование\",ЗАЯВКА!#REF!,0)","v":{"$error":"#REF!"}},{"$f":"IF(ЗАЯВКА!#REF!=\"строительно-монтажные работы\",ЗАЯВКА!#REF!,0)","v":{"$error":"#REF!"}},{"$f":"IF(ЗАЯВКА!#REF!=\"да\",ЗАЯВКА!#REF!,0)","v":{"$error":"#REF!"}}]
[{"$f":"IF(ЗАЯВКА!#REF!=\"проектирование\",ЗАЯВКА!#REF!,0)","v":{"$error":"#REF!"}},{"$f":"IF(ЗАЯВКА!#REF!=\"строительно-монтажные работы\",ЗАЯВКА!#REF!,0)","v":{"$error":"#REF!"}},{"$f":"IF(ЗАЯВКА!#REF!=\"да\",ЗАЯВКА!#REF!,0)","v":{"$error":"#REF!"}}]
[{"$f":"IF(ЗАЯВКА!#REF!=\"проектирование\",ЗАЯВКА!#REF!,0)","v":{"$error":"#REF!"}},{"$f":"IF(ЗАЯВКА!#REF!=\"строительно-монтажные работы\",ЗАЯВКА!#REF!,0)","v":{"$error":"#REF!"}},{"$f":"IF(ЗАЯВКА!#REF!=\"да\",ЗАЯВКА!#REF!,0)","v":{"$error":"#REF!"}}]
[{"$f":"IF(ЗАЯВКА!#REF!=\"проектирование\",ЗАЯВКА!#REF!,0)","v":{"$error":"#REF!"}},{"$f":"IF(ЗАЯВКА!#REF!=\"строительно-монтажные работы\",ЗАЯВКА!#REF!,0)","v":{"$error":"#REF!"}},{"$f":"IF(ЗАЯВКА!#REF!=\"да\",ЗАЯВКА!#REF!,0)","v":{"$error":"#REF!"}}]
[{"$f":"IF(ЗАЯВКА!#REF!=\"проектирование\",ЗАЯВКА!#REF!,0)","v":{"$error":"#REF!"}},{"$f":"IF(ЗАЯВКА!#REF!=\"строительно-монтажные работы\",ЗАЯВКА!#REF!,0)","v":{"$error":"#REF!"}},{"$f":"IF(ЗАЯВКА!#REF!=\"да\",ЗАЯВКА!#REF!,0)","v":{"$error":"#REF!"}}]
[{"$f":"IF(ЗАЯВКА!#REF!=\"проектирование\",ЗАЯВКА!#REF!,0)","v":{"$error":"#REF!"}},{"$f":"IF(ЗАЯВКА!#REF!=\"строительно-монтажные работы\",ЗАЯВКА!#REF!,0)","v":{"$error":"#REF!"}},{"$f":"IF(ЗАЯВКА!#REF!=\"да\",ЗАЯВКА!#REF!,0)","v":{"$error":"#REF!"}}]
[{"$f":"IF(ЗАЯВКА!#REF!=\"проектирование\",ЗАЯВКА!#REF!,0)","v":{"$error":"#REF!"}},{"$f":"IF(ЗАЯВКА!#REF!=\"строительно-монтажные работы\",ЗАЯВКА!#REF!,0)","v":{"$error":"#REF!"}},{"$f":"IF(ЗАЯВКА!#REF!=\"да\",ЗАЯВКА!#REF!,0)","v":{"$error":"#REF!"}}]
[{"$f":"IF(ЗАЯВКА!#REF!=\"проектирование\",ЗАЯВКА!#REF!,0)","v":{"$error":"#REF!"}},{"$f":"IF(ЗАЯВКА!#REF!=\"строительно-монтажные работы\",ЗАЯВКА!#REF!,0)","v":{"$error":"#REF!"}},{"$f":"IF(ЗАЯВКА!#REF!=\"да\",ЗАЯВКА!#REF!,0)","v":{"$error":"#REF!"}}]
[{"$f":"IF(ЗАЯВКА!#REF!=\"проектирование\",ЗАЯВКА!#REF!,0)","v":{"$error":"#REF!"}},{"$f":"IF(ЗАЯВКА!#REF!=\"строительно-монтажные работы\",ЗАЯВКА!#REF!,0)","v":{"$error":"#REF!"}},{"$f":"IF(ЗАЯВКА!#REF!=\"да\",ЗАЯВКА!#REF!,0)","v":{"$error":"#REF!"}}]
[{"$f":"IF(ЗАЯВКА!#REF!=\"проектирование\",ЗАЯВКА!#REF!,0)","v":{"$error":"#REF!"}},{"$f":"IF(ЗАЯВКА!#REF!=\"строительно-монтажные работы\",ЗАЯВКА!#REF!,0)","v":{"$error":"#REF!"}},{"$f":"IF(ЗАЯВКА!#REF!=\"да\",ЗАЯВКА!#REF!,0)","v":{"$error":"#REF!"}}]
[{"$f":"IF(ЗАЯВКА!#REF!=\"проектирование\",ЗАЯВКА!#REF!,0)","v":{"$error":"#REF!"}},{"$f":"IF(ЗАЯВКА!#REF!=\"строительно-монтажные работы\",ЗАЯВКА!#REF!,0)","v":{"$error":"#REF!"}},{"$f":"IF(ЗАЯВКА!#REF!=\"да\",ЗАЯВКА!#REF!,0)","v":{"$error":"#REF!"}}]
[{"$f":"IF(ЗАЯВКА!#REF!=\"проектирование\",ЗАЯВКА!#REF!,0)","v":{"$error":"#REF!"}},{"$f":"IF(ЗАЯВКА!#REF!=\"строительно-монтажные работы\",ЗАЯВКА!#REF!,0)","v":{"$error":"#REF!"}},{"$f":"IF(ЗАЯВКА!#REF!=\"да\",ЗАЯВКА!#REF!,0)","v":{"$error":"#REF!"}}]
[{"$f":"IF(ЗАЯВКА!#REF!=\"проектирование\",ЗАЯВКА!#REF!,0)","v":{"$error":"#REF!"}},{"$f":"IF(ЗАЯВКА!#REF!=\"строительно-монтажные работы\",ЗАЯВКА!#REF!,0)","v":{"$error":"#REF!"}},{"$f":"IF(ЗАЯВКА!#REF!=\"да\",ЗАЯВКА!#REF!,0)","v":{"$error":"#REF!"}}]
[{"$f":"IF(ЗАЯВКА!#REF!=\"проектирование\",ЗАЯВКА!#REF!,0)","v":{"$error":"#REF!"}},{"$f":"IF(ЗАЯВКА!#REF!=\"строительно-монтажные работы\",ЗАЯВКА!#REF!,0)","v":{"$error":"#REF!"}},{"$f":"IF(ЗАЯВКА!#REF!=\"да\",ЗАЯВКА!#REF!,0)","v":{"$error":"#REF!"}}]
[{"$f":"IF(ЗАЯВКА!#REF!=\"проектирование\",ЗАЯВКА!#REF!,0)","v":{"$error":"#REF!"}},{"$f":"IF(ЗАЯВКА!#REF!=\"строительно-монтажные работы\",ЗАЯВКА!#REF!,0)","v":{"$error":"#REF!"}},{"$f":"IF(ЗАЯВКА!#REF!=\"да\",ЗАЯВКА!#REF!,0)","v":{"$error":"#REF!"}}]
[{"$f":"IF(ЗАЯВКА!#REF!=\"проектирование\",ЗАЯВКА!#REF!,0)","v":{"$error":"#REF!"}},{"$f":"IF(ЗАЯВКА!#REF!=\"строительно-монтажные работы\",ЗАЯВКА!#REF!,0)","v":{"$error":"#REF!"}},{"$f":"IF(ЗАЯВКА!#REF!=\"да\",ЗАЯВКА!#REF!,0)","v":{"$error":"#REF!"}}]
[{"$f":"IF(ЗАЯВКА!#REF!=\"проектирование\",ЗАЯВКА!#REF!,0)","v":{"$error":"#REF!"}},{"$f":"IF(ЗАЯВКА!#REF!=\"строительно-монтажные работы\",ЗАЯВКА!#REF!,0)","v":{"$error":"#REF!"}},{"$f":"IF(ЗАЯВКА!#REF!=\"да\",ЗАЯВКА!#REF!,0)","v":{"$error":"#REF!"}}]
[{"$f":"IF(ЗАЯВКА!#REF!=\"проектирование\",ЗАЯВКА!#REF!,0)","v":{"$error":"#REF!"}},{"$f":"IF(ЗАЯВКА!#REF!=\"строительно-монтажные работы\",ЗАЯВКА!#REF!,0)","v":{"$error":"#REF!"}},{"$f":"IF(ЗАЯВКА!#REF!=\"да\",ЗАЯВКА!#REF!,0)","v":{"$error":"#REF!"}}]
[{"$f":"IF(ЗАЯВКА!#REF!=\"проектирование\",ЗАЯВКА!#REF!,0)","v":{"$error":"#REF!"}},{"$f":"IF(ЗАЯВКА!#REF!=\"строительно-монтажные работы\",ЗАЯВКА!#REF!,0)","v":{"$error":"#REF!"}},{"$f":"IF(ЗАЯВКА!#REF!=\"да\",ЗАЯВКА!#REF!,0)","v":{"$error":"#REF!"}}]
[{"$f":"IF(ЗАЯВКА!#REF!=\"проектирование\",ЗАЯВКА!#REF!,0)","v":{"$error":"#REF!"}},{"$f":"IF(ЗАЯВКА!#REF!=\"строительно-монтажные работы\",ЗАЯВКА!#REF!,0)","v":{"$error":"#REF!"}},{"$f":"IF(ЗАЯВКА!#REF!=\"да\",ЗАЯВКА!#REF!,0)","v":{"$error":"#REF!"}}]
[{"$f":"IF(ЗАЯВКА!#REF!=\"проектирование\",ЗАЯВКА!#REF!,0)","v":{"$error":"#REF!"}},{"$f":"IF(ЗАЯВКА!#REF!=\"строительно-монтажные работы\",ЗАЯВКА!#REF!,0)","v":{"$error":"#REF!"}},{"$f":"IF(ЗАЯВКА!#REF!=\"да\",ЗАЯВКА!#REF!,0)","v":{"$error":"#REF!"}}]
[{"$f":"IF(ЗАЯВКА!#REF!=\"проектирование\",ЗАЯВКА!#REF!,0)","v":{"$error":"#REF!"}},{"$f":"IF(ЗАЯВКА!#REF!=\"строительно-монтажные работы\",ЗАЯВКА!#REF!,0)","v":{"$error":"#REF!"}},{"$f":"IF(ЗАЯВКА!#REF!=\"да\",ЗАЯВКА!#REF!,0)","v":{"$error":"#REF!"}}]
[{"$f":"IF(ЗАЯВКА!#REF!=\"проектирование\",ЗАЯВКА!#REF!,0)","v":{"$error":"#REF!"}},{"$f":"IF(ЗАЯВКА!#REF!=\"строительно-монтажные работы\",ЗАЯВКА!#REF!,0)","v":{"$error":"#REF!"}},{"$f":"IF(ЗАЯВКА!#REF!=\"да\",ЗАЯВКА!#REF!,0)","v":{"$error":"#REF!"}}]
[{"$f":"IF(ЗАЯВКА!#REF!=\"проектирование\",ЗАЯВКА!#REF!,0)","v":{"$error":"#REF!"}},{"$f":"IF(ЗАЯВКА!#REF!=\"строительно-монтажные работы\",ЗАЯВКА!#REF!,0)","v":{"$error":"#REF!"}},{"$f":"IF(ЗАЯВКА!#REF!=\"да\",ЗАЯВКА!#REF!,0)","v":{"$error":"#REF!"}}]
[{"$f":"IF(ЗАЯВКА!#REF!=\"проектирование\",ЗАЯВКА!#REF!,0)","v":{"$error":"#REF!"}},{"$f":"IF(ЗАЯВКА!#REF!=\"строительно-монтажные работы\",ЗАЯВКА!#REF!,0)","v":{"$error":"#REF!"}},{"$f":"IF(ЗАЯВКА!#REF!=\"да\",ЗАЯВКА!#REF!,0)","v":{"$error":"#REF!"}}]
[{"$f":"IF(ЗАЯВКА!#REF!=\"проектирование\",ЗАЯВКА!#REF!,0)","v":{"$error":"#REF!"}},{"$f":"IF(ЗАЯВКА!#REF!=\"строительно-монтажные работы\",ЗАЯВКА!#REF!,0)","v":{"$error":"#REF!"}},{"$f":"IF(ЗАЯВКА!#REF!=\"да\",ЗАЯВКА!#REF!,0)","v":{"$error":"#REF!"}}]
[{"$f":"IF(ЗАЯВКА!#REF!=\"проектирование\",ЗАЯВКА!#REF!,0)","v":{"$error":"#REF!"}},{"$f":"IF(ЗАЯВКА!#REF!=\"строительно-монтажные работы\",ЗАЯВКА!#REF!,0)","v":{"$error":"#REF!"}},{"$f":"IF(ЗАЯВКА!#REF!=\"да\",ЗАЯВКА!#REF!,0)","v":{"$error":"#REF!"}}]
[{"$f":"IF(ЗАЯВКА!#REF!=\"проектирование\",ЗАЯВКА!#REF!,0)","v":{"$error":"#REF!"}},{"$f":"IF(ЗАЯВКА!#REF!=\"строительно-монтажные работы\",ЗАЯВКА!#REF!,0)","v":{"$error":"#REF!"}},{"$f":"IF(ЗАЯВКА!#REF!=\"да\",ЗАЯВКА!#REF!,0)","v":{"$error":"#REF!"}}]
[{"$f":"IF(ЗАЯВКА!#REF!=\"проектирование\",ЗАЯВКА!#REF!,0)","v":{"$error":"#REF!"}},{"$f":"IF(ЗАЯВКА!#REF!=\"строительно-монтажные работы\",ЗАЯВКА!#REF!,0)","v":{"$error":"#REF!"}},{"$f":"IF(ЗАЯВКА!#REF!=\"да\",ЗАЯВКА!#REF!,0)","v":{"$error":"#REF!"}}]
[{"$f":"IF(ЗАЯВКА!#REF!=\"проектирование\",ЗАЯВКА!#REF!,0)","v":{"$error":"#REF!"}},{"$f":"IF(ЗАЯВКА!#REF!=\"строительно-монтажные работы\",ЗАЯВКА!#REF!,0)","v":{"$error":"#REF!"}},{"$f":"IF(ЗАЯВКА!#REF!=\"да\",ЗАЯВКА!#REF!,0)","v":{"$error":"#REF!"}}]
[{"$f":"IF(ЗАЯВКА!#REF!=\"проектирование\",ЗАЯВКА!#REF!,0)","v":{"$error":"#REF!"}},{"$f":"IF(ЗАЯВКА!#REF!=\"строительно-монтажные работы\",ЗАЯВКА!#REF!,0)","v":{"$error":"#REF!"}},{"$f":"IF(ЗАЯВКА!#REF!=\"да\",ЗАЯВКА!#REF!,0)","v":{"$error":"#REF!"}}]
[{"$f":"IF(ЗАЯВКА!#REF!=\"проектирование\",ЗАЯВКА!#REF!,0)","v":{"$error":"#REF!"}},{"$f":"IF(ЗАЯВКА!#REF!=\"строительно-монтажные работы\",ЗАЯВКА!#REF!,0)","v":{"$error":"#REF!"}},{"$f":"IF(ЗАЯВКА!#REF!=\"да\",ЗАЯВКА!#REF!,0)","v":{"$error":"#REF!"}}]
[{"$f":"IF(ЗАЯВКА!#REF!=\"проектирование\",ЗАЯВКА!#REF!,0)","v":{"$error":"#REF!"}},{"$f":"IF(ЗАЯВКА!#REF!=\"строительно-монтажные работы\",ЗАЯВКА!#REF!,0)","v":{"$error":"#REF!"}},{"$f":"IF(ЗАЯВКА!#REF!=\"да\",ЗАЯВКА!#REF!,0)","v":{"$error":"#REF!"}}]
[{"$f":"IF(ЗАЯВКА!#REF!=\"проектирование\",ЗАЯВКА!#REF!,0)","v":{"$error":"#REF!"}},{"$f":"IF(ЗАЯВКА!#REF!=\"строительно-монтажные работы\",ЗАЯВКА!#REF!,0)","v":{"$error":"#REF!"}},{"$f":"IF(ЗАЯВКА!#REF!=\"да\",ЗАЯВКА!#REF!,0)","v":{"$error":"#REF!"}}]
[{"$f":"IF(ЗАЯВКА!#REF!=\"проектирование\",ЗАЯВКА!#REF!,0)","v":{"$error":"#REF!"}},{"$f":"IF(ЗАЯВКА!#REF!=\"строительно-монтажные работы\",ЗАЯВКА!#REF!,0)","v":{"$error":"#REF!"}},{"$f":"IF(ЗАЯВКА!#REF!=\"да\",ЗАЯВКА!#REF!,0)","v":{"$error":"#REF!"}}]
[{"$f":"IF(ЗАЯВКА!#REF!=\"проектирование\",ЗАЯВКА!#REF!,0)","v":{"$error":"#REF!"}},{"$f":"IF(ЗАЯВКА!#REF!=\"строительно-монтажные работы\",ЗАЯВКА!#REF!,0)","v":{"$error":"#REF!"}},{"$f":"IF(ЗАЯВКА!#REF!=\"да\",ЗАЯВКА!#REF!,0)","v":{"$error":"#REF!"}}]
[{"$f":"IF(ЗАЯВКА!#REF!=\"проектирование\",ЗАЯВКА!#REF!,0)","v":{"$error":"#REF!"}},{"$f":"IF(ЗАЯВКА!#REF!=\"строительно-монтажные работы\",ЗАЯВКА!#REF!,0)","v":{"$error":"#REF!"}},{"$f":"IF(ЗАЯВКА!#REF!=\"да\",ЗАЯВКА!#REF!,0)","v":{"$error":"#REF!"}}]
[{"$f":"IF(ЗАЯВКА!#REF!=\"проектирование\",ЗАЯВКА!#REF!,0)","v":{"$error":"#REF!"}},{"$f":"IF(ЗАЯВКА!#REF!=\"строительно-монтажные работы\",ЗАЯВКА!#REF!,0)","v":{"$error":"#REF!"}},{"$f":"IF(ЗАЯВКА!#REF!=\"да\",ЗАЯВКА!#REF!,0)","v":{"$error":"#REF!"}}]
[{"$f":"IF(ЗАЯВКА!#REF!=\"проектирование\",ЗАЯВКА!#REF!,0)","v":{"$error":"#REF!"}},{"$f":"IF(ЗАЯВКА!#REF!=\"строительно-монтажные работы\",ЗАЯВКА!#REF!,0)","v":{"$error":"#REF!"}},{"$f":"IF(ЗАЯВКА!#REF!=\"да\",ЗАЯВКА!#REF!,0)","v":{"$error":"#REF!"}}]
[{"$f":"IF(ЗАЯВКА!#REF!=\"проектирование\",ЗАЯВКА!#REF!,0)","v":{"$error":"#REF!"}},{"$f":"IF(ЗАЯВКА!#REF!=\"строительно-монтажные работы\",ЗАЯВКА!#REF!,0)","v":{"$error":"#REF!"}},{"$f":"IF(ЗАЯВКА!#REF!=\"да\",ЗАЯВКА!#REF!,0)","v":{"$error":"#REF!"}}]
[{"$f":"IF(ЗАЯВКА!#REF!=\"проектирование\",ЗАЯВКА!#REF!,0)","v":{"$error":"#REF!"}},{"$f":"IF(ЗАЯВКА!#REF!=\"строительно-монтажные работы\",ЗАЯВКА!#REF!,0)","v":{"$error":"#REF!"}},{"$f":"IF(ЗАЯВКА!#REF!=\"да\",ЗАЯВКА!#REF!,0)","v":{"$error":"#REF!"}}]
[{"$f":"IF(ЗАЯВКА!#REF!=\"проектирование\",ЗАЯВКА!#REF!,0)","v":{"$error":"#REF!"}},{"$f":"IF(ЗАЯВКА!#REF!=\"строительно-монтажные работы\",ЗАЯВКА!#REF!,0)","v":{"$error":"#REF!"}},{"$f":"IF(ЗАЯВКА!#REF!=\"да\",ЗАЯВКА!#REF!,0)","v":{"$error":"#REF!"}}]
[{"$f":"IF(ЗАЯВКА!#REF!=\"проектирование\",ЗАЯВКА!#REF!,0)","v":{"$error":"#REF!"}},{"$f":"IF(ЗАЯВКА!#REF!=\"строительно-монтажные работы\",ЗАЯВКА!#REF!,0)","v":{"$error":"#REF!"}},{"$f":"IF(ЗАЯВКА!#REF!=\"да\",ЗАЯВКА!#REF!,0)","v":{"$error":"#REF!"}}]
[{"$f":"IF(ЗАЯВКА!#REF!=\"проектирование\",ЗАЯВКА!#REF!,0)","v":{"$error":"#REF!"}},{"$f":"IF(ЗАЯВКА!#REF!=\"строительно-монтажные работы\",ЗАЯВКА!#REF!,0)","v":{"$error":"#REF!"}},{"$f":"IF(ЗАЯВКА!#REF!=\"да\",ЗАЯВКА!#REF!,0)","v":{"$error":"#REF!"}}]
[{"$f":"IF(ЗАЯВКА!#REF!=\"проектирование\",ЗАЯВКА!#REF!,0)","v":{"$error":"#REF!"}},{"$f":"IF(ЗАЯВКА!#REF!=\"строительно-монтажные работы\",ЗАЯВКА!#REF!,0)","v":{"$error":"#REF!"}},{"$f":"IF(ЗАЯВКА!#REF!=\"да\",ЗАЯВКА!#REF!,0)","v":{"$error":"#REF!"}}]
[{"$f":"IF(ЗАЯВКА!#REF!=\"проектирование\",ЗАЯВКА!#REF!,0)","v":{"$error":"#REF!"}},{"$f":"IF(ЗАЯВКА!#REF!=\"строительно-монтажные работы\",ЗАЯВКА!#REF!,0)","v":{"$error":"#REF!"}},{"$f":"IF(ЗАЯВКА!#REF!=\"да\",ЗАЯВКА!#REF!,0)","v":{"$error":"#REF!"}}]
[{"$f":"IF(ЗАЯВКА!#REF!=\"проектирование\",ЗАЯВКА!#REF!,0)","v":{"$error":"#REF!"}},{"$f":"IF(ЗАЯВКА!#REF!=\"строительно-монтажные работы\",ЗАЯВКА!#REF!,0)","v":{"$error":"#REF!"}},{"$f":"IF(ЗАЯВКА!#REF!=\"да\",ЗАЯВКА!#REF!,0)","v":{"$error":"#REF!"}}]
[{"$f":"IF(ЗАЯВКА!#REF!=\"проектирование\",ЗАЯВКА!#REF!,0)","v":{"$error":"#REF!"}},{"$f":"IF(ЗАЯВКА!#REF!=\"строительно-монтажные работы\",ЗАЯВКА!#REF!,0)","v":{"$error":"#REF!"}},{"$f":"IF(ЗАЯВКА!#REF!=\"да\",ЗАЯВКА!#REF!,0)","v":{"$error":"#REF!"}}]
[{"$f":"IF(ЗАЯВКА!#REF!=\"проектирование\",ЗАЯВКА!#REF!,0)","v":{"$error":"#REF!"}},{"$f":"IF(ЗАЯВКА!#REF!=\"строительно-монтажные работы\",ЗАЯВКА!#REF!,0)","v":{"$error":"#REF!"}},{"$f":"IF(ЗАЯВКА!#REF!=\"да\",ЗАЯВКА!#REF!,0)","v":{"$error":"#REF!"}}]
[{"$f":"IF(ЗАЯВКА!#REF!=\"проектирование\",ЗАЯВКА!#REF!,0)","v":{"$error":"#REF!"}},{"$f":"IF(ЗАЯВКА!#REF!=\"строительно-монтажные работы\",ЗАЯВКА!#REF!,0)","v":{"$error":"#REF!"}},{"$f":"IF(ЗАЯВКА!#REF!=\"да\",ЗАЯВКА!#REF!,0)","v":{"$error":"#REF!"}}]
[{"$f":"IF(ЗАЯВКА!#REF!=\"проектирование\",ЗАЯВКА!#REF!,0)","v":{"$error":"#REF!"}},{"$f":"IF(ЗАЯВКА!#REF!=\"строительно-монтажные работы\",ЗАЯВКА!#REF!,0)","v":{"$error":"#REF!"}},{"$f":"IF(ЗАЯВКА!#REF!=\"да\",ЗАЯВКА!#REF!,0)","v":{"$error":"#REF!"}}]
[{"$f":"IF(ЗАЯВКА!#REF!=\"проектирование\",ЗАЯВКА!#REF!,0)","v":{"$error":"#REF!"}},{"$f":"IF(ЗАЯВКА!#REF!=\"строительно-монтажные работы\",ЗАЯВКА!#REF!,0)","v":{"$error":"#REF!"}},{"$f":"IF(ЗАЯВКА!#REF!=\"да\",ЗАЯВКА!#REF!,0)","v":{"$error":"#REF!"}}]
[{"$f":"IF(ЗАЯВКА!#REF!=\"проектирование\",ЗАЯВКА!#REF!,0)","v":{"$error":"#REF!"}},{"$f":"IF(ЗАЯВКА!#REF!=\"строительно-монтажные работы\",ЗАЯВКА!#REF!,0)","v":{"$error":"#REF!"}},{"$f":"IF(ЗАЯВКА!#REF!=\"да\",ЗАЯВКА!#REF!,0)","v":{"$error":"#REF!"}}]
[{"$f":"IF(ЗАЯВКА!#REF!=\"проектирование\",ЗАЯВКА!#REF!,0)","v":{"$error":"#REF!"}},{"$f":"IF(ЗАЯВКА!#REF!=\"строительно-монтажные работы\",ЗАЯВКА!#REF!,0)","v":{"$error":"#REF!"}},{"$f":"IF(ЗАЯВКА!#REF!=\"да\",ЗАЯВКА!#REF!,0)","v":{"$error":"#REF!"}}]
[{"$f":"IF(ЗАЯВКА!#REF!=\"проектирование\",ЗАЯВКА!#REF!,0)","v":{"$error":"#REF!"}},{"$f":"IF(ЗАЯВКА!#REF!=\"строительно-монтажные работы\",ЗАЯВКА!#REF!,0)","v":{"$error":"#REF!"}},{"$f":"IF(ЗАЯВКА!#REF!=\"да\",ЗАЯВКА!#REF!,0)","v":{"$error":"#REF!"}}]
[{"$f":"IF(ЗАЯВКА!#REF!=\"проектирование\",ЗАЯВКА!#REF!,0)","v":{"$error":"#REF!"}},{"$f":"IF(ЗАЯВКА!#REF!=\"строительно-монтажные работы\",ЗАЯВКА!#REF!,0)","v":{"$error":"#REF!"}},{"$f":"IF(ЗАЯВКА!#REF!=\"да\",ЗАЯВКА!#REF!,0)","v":{"$error":"#REF!"}}]
[{"$f":"IF(ЗАЯВКА!#REF!=\"проектирование\",ЗАЯВКА!#REF!,0)","v":{"$error":"#REF!"}},{"$f":"IF(ЗАЯВКА!#REF!=\"строительно-монтажные работы\",ЗАЯВКА!#REF!,0)","v":{"$error":"#REF!"}},{"$f":"IF(ЗАЯВКА!#REF!=\"да\",ЗАЯВКА!#REF!,0)","v":{"$error":"#REF!"}}]
[{"$f":"IF(ЗАЯВКА!#REF!=\"проектирование\",ЗАЯВКА!#REF!,0)","v":{"$error":"#REF!"}},{"$f":"IF(ЗАЯВКА!#REF!=\"строительно-монтажные работы\",ЗАЯВКА!#REF!,0)","v":{"$error":"#REF!"}},{"$f":"IF(ЗАЯВКА!#REF!=\"да\",ЗАЯВКА!#REF!,0)","v":{"$error":"#REF!"}}]
[{"$f":"IF(ЗАЯВКА!#REF!=\"проектирование\",ЗАЯВКА!#REF!,0)","v":{"$error":"#REF!"}},{"$f":"IF(ЗАЯВКА!#REF!=\"строительно-монтажные работы\",ЗАЯВКА!#REF!,0)","v":{"$error":"#REF!"}},{"$f":"IF(ЗАЯВКА!#REF!=\"да\",ЗАЯВКА!#REF!,0)","v":{"$error":"#REF!"}}]
[{"$f":"IF(ЗАЯВКА!#REF!=\"проектирование\",ЗАЯВКА!#REF!,0)","v":{"$error":"#REF!"}},{"$f":"IF(ЗАЯВКА!#REF!=\"строительно-монтажные работы\",ЗАЯВКА!#REF!,0)","v":{"$error":"#REF!"}},{"$f":"IF(ЗАЯВКА!#REF!=\"да\",ЗАЯВКА!#REF!,0)","v":{"$error":"#REF!"}}]
[{"$f":"IF(ЗАЯВКА!#REF!=\"проектирование\",ЗАЯВКА!#REF!,0)","v":{"$error":"#REF!"}},{"$f":"IF(ЗАЯВКА!#REF!=\"строительно-монтажные работы\",ЗАЯВКА!#REF!,0)","v":{"$error":"#REF!"}},{"$f":"IF(ЗАЯВКА!#REF!=\"да\",ЗАЯВКА!#REF!,0)","v":{"$error":"#REF!"}}]
[{"$f":"IF(ЗАЯВКА!#REF!=\"проектирование\",ЗАЯВКА!#REF!,0)","v":{"$error":"#REF!"}},{"$f":"IF(ЗАЯВКА!#REF!=\"строительно-монтажные работы\",ЗАЯВКА!#REF!,0)","v":{"$error":"#REF!"}},{"$f":"IF(ЗАЯВКА!#REF!=\"да\",ЗАЯВКА!#REF!,0)","v":{"$error":"#REF!"}}]
[{"$f":"IF(ЗАЯВКА!#REF!=\"проектирование\",ЗАЯВКА!#REF!,0)","v":{"$error":"#REF!"}},{"$f":"IF(ЗАЯВКА!#REF!=\"строительно-монтажные работы\",ЗАЯВКА!#REF!,0)","v":{"$error":"#REF!"}},{"$f":"IF(ЗАЯВКА!#REF!=\"да\",ЗАЯВКА!#REF!,0)","v":{"$error":"#REF!"}}]
[{"$f":"IF(ЗАЯВКА!#REF!=\"проектирование\",ЗАЯВКА!#REF!,0)","v":{"$error":"#REF!"}},{"$f":"IF(ЗАЯВКА!#REF!=\"строительно-монтажные работы\",ЗАЯВКА!#REF!,0)","v":{"$error":"#REF!"}},{"$f":"IF(ЗАЯВКА!#REF!=\"да\",ЗАЯВКА!#REF!,0)","v":{"$error":"#REF!"}}]
[{"$f":"IF(ЗАЯВКА!#REF!=\"проектирование\",ЗАЯВКА!#REF!,0)","v":{"$error":"#REF!"}},{"$f":"IF(ЗАЯВКА!#REF!=\"строительно-монтажные работы\",ЗАЯВКА!#REF!,0)","v":{"$error":"#REF!"}},{"$f":"IF(ЗАЯВКА!#REF!=\"да\",ЗАЯВКА!#REF!,0)","v":{"$error":"#REF!"}}]
[{"$f":"IF(ЗАЯВКА!#REF!=\"проектирование\",ЗАЯВКА!#REF!,0)","v":{"$error":"#REF!"}},{"$f":"IF(ЗАЯВКА!#REF!=\"строительно-монтажные работы\",ЗАЯВКА!#REF!,0)","v":{"$error":"#REF!"}},{"$f":"IF(ЗАЯВКА!#REF!=\"да\",ЗАЯВКА!#REF!,0)","v":{"$error":"#REF!"}}]
[{"$f":"IF(ЗАЯВКА!#REF!=\"проектирование\",ЗАЯВКА!#REF!,0)","v":{"$error":"#REF!"}},{"$f":"IF(ЗАЯВКА!#REF!=\"строительно-монтажные работы\",ЗАЯВКА!#REF!,0)","v":{"$error":"#REF!"}},{"$f":"IF(ЗАЯВКА!#REF!=\"да\",ЗАЯВКА!#REF!,0)","v":{"$error":"#REF!"}}]
[{"$f":"IF(ЗАЯВКА!#REF!=\"проектирование\",ЗАЯВКА!#REF!,0)","v":{"$error":"#REF!"}},{"$f":"IF(ЗАЯВКА!#REF!=\"строительно-монтажные работы\",ЗАЯВКА!#REF!,0)","v":{"$error":"#REF!"}},{"$f":"IF(ЗАЯВКА!#REF!=\"да\",ЗАЯВКА!#REF!,0)","v":{"$error":"#REF!"}}]
[{"$f":"IF(ЗАЯВКА!#REF!=\"проектирование\",ЗАЯВКА!#REF!,0)","v":{"$error":"#REF!"}},{"$f":"IF(ЗАЯВКА!#REF!=\"строительно-монтажные работы\",ЗАЯВКА!#REF!,0)","v":{"$error":"#REF!"}},{"$f":"IF(ЗАЯВКА!#REF!=\"да\",ЗАЯВКА!#REF!,0)","v":{"$error":"#REF!"}}]
[{"$f":"IF(ЗАЯВКА!#REF!=\"проектирование\",ЗАЯВКА!#REF!,0)","v":{"$error":"#REF!"}},{"$f":"IF(ЗАЯВКА!#REF!=\"строительно-монтажные работы\",ЗАЯВКА!#REF!,0)","v":{"$error":"#REF!"}},{"$f":"IF(ЗАЯВКА!#REF!=\"да\",ЗАЯВКА!#REF!,0)","v":{"$error":"#REF!"}}]
[{"$f":"IF(ЗАЯВКА!#REF!=\"проектирование\",ЗАЯВКА!#REF!,0)","v":{"$error":"#REF!"}},{"$f":"IF(ЗАЯВКА!#REF!=\"строительно-монтажные работы\",ЗАЯВКА!#REF!,0)","v":{"$error":"#REF!"}},{"$f":"IF(ЗАЯВКА!#REF!=\"да\",ЗАЯВКА!#REF!,0)","v":{"$error":"#REF!"}}]
[{"$f":"IF(ЗАЯВКА!#REF!=\"проектирование\",ЗАЯВКА!#REF!,0)","v":{"$error":"#REF!"}},{"$f":"IF(ЗАЯВКА!#REF!=\"строительно-монтажные работы\",ЗАЯВКА!#REF!,0)","v":{"$error":"#REF!"}},{"$f":"IF(ЗАЯВКА!#REF!=\"да\",ЗАЯВКА!#REF!,0)","v":{"$error":"#REF!"}}]
[{"$f":"IF(ЗАЯВКА!#REF!=\"проектирование\",ЗАЯВКА!#REF!,0)","v":{"$error":"#REF!"}},{"$f":"IF(ЗАЯВКА!#REF!=\"строительно-монтажные работы\",ЗАЯВКА!#REF!,0)","v":{"$error":"#REF!"}},{"$f":"IF(ЗАЯВКА!#REF!=\"да\",ЗАЯВКА!#REF!,0)","v":{"$error":"#REF!"}}]
[{"$f":"IF(ЗАЯВКА!#REF!=\"проектирование\",ЗАЯВКА!#REF!,0)","v":{"$error":"#REF!"}},{"$f":"IF(ЗАЯВКА!#REF!=\"строительно-монтажные работы\",ЗАЯВКА!#REF!,0)","v":{"$error":"#REF!"}},{"$f":"IF(ЗАЯВКА!#REF!=\"да\",ЗАЯВКА!#REF!,0)","v":{"$error":"#REF!"}}]
[{"$f":"IF(ЗАЯВКА!#REF!=\"проектирование\",ЗАЯВКА!#REF!,0)","v":{"$error":"#REF!"}},{"$f":"IF(ЗАЯВКА!#REF!=\"строительно-монтажные работы\",ЗАЯВКА!#REF!,0)","v":{"$error":"#REF!"}},{"$f":"IF(ЗАЯВКА!#REF!=\"да\",ЗАЯВКА!#REF!,0)","v":{"$error":"#REF!"}}]
[{"$f":"IF(ЗАЯВКА!#REF!=\"проектирование\",ЗАЯВКА!#REF!,0)","v":{"$error":"#REF!"}},{"$f":"IF(ЗАЯВКА!#REF!=\"строительно-монтажные работы\",ЗАЯВКА!#REF!,0)","v":{"$error":"#REF!"}},{"$f":"IF(ЗАЯВКА!#REF!=\"да\",ЗАЯВКА!#REF!,0)","v":{"$error":"#REF!"}}]
[{"$f":"IF(ЗАЯВКА!#REF!=\"проектирование\",ЗАЯВКА!#REF!,0)","v":{"$error":"#REF!"}},{"$f":"IF(ЗАЯВКА!#REF!=\"строительно-монтажные работы\",ЗАЯВКА!#REF!,0)","v":{"$error":"#REF!"}},{"$f":"IF(ЗАЯВКА!#REF!=\"да\",ЗАЯВКА!#REF!,0)","v":{"$error":"#REF!"}}]
[{"$f":"IF(ЗАЯВКА!#REF!=\"проектирование\",ЗАЯВКА!#REF!,0)","v":{"$error":"#REF!"}},{"$f":"IF(ЗАЯВКА!#REF!=\"строительно-монтажные работы\",ЗАЯВКА!#REF!,0)","v":{"$error":"#REF!"}},{"$f":"IF(ЗАЯВКА!#REF!=\"да\",ЗАЯВКА!#REF!,0)","v":{"$error":"#REF!"}}]
[{"$f":"IF(ЗАЯВКА!#REF!=\"проектирование\",ЗАЯВКА!#REF!,0)","v":{"$error":"#REF!"}},{"$f":"IF(ЗАЯВКА!#REF!=\"строительно-монтажные работы\",ЗАЯВКА!#REF!,0)","v":{"$error":"#REF!"}},{"$f":"IF(ЗАЯВКА!#REF!=\"да\",ЗАЯВКА!#REF!,0)","v":{"$error":"#REF!"}}]
[{"$f":"IF(ЗАЯВКА!#REF!=\"проектирование\",ЗАЯВКА!#REF!,0)","v":{"$error":"#REF!"}},{"$f":"IF(ЗАЯВКА!#REF!=\"строительно-монтажные работы\",ЗАЯВКА!#REF!,0)","v":{"$error":"#REF!"}},{"$f":"IF(ЗАЯВКА!#REF!=\"да\",ЗАЯВКА!#REF!,0)","v":{"$error":"#REF!"}}]
[{"$f":"IF(ЗАЯВКА!#REF!=\"проектирование\",ЗАЯВКА!#REF!,0)","v":{"$error":"#REF!"}},{"$f":"IF(ЗАЯВКА!#REF!=\"строительно-монтажные работы\",ЗАЯВКА!#REF!,0)","v":{"$error":"#REF!"}},{"$f":"IF(ЗАЯВКА!#REF!=\"да\",ЗАЯВКА!#REF!,0)","v":{"$error":"#REF!"}}]
[{"$f":"IF(ЗАЯВКА!#REF!=\"проектирование\",ЗАЯВКА!#REF!,0)","v":{"$error":"#REF!"}},{"$f":"IF(ЗАЯВКА!#REF!=\"строительно-монтажные работы\",ЗАЯВКА!#REF!,0)","v":{"$error":"#REF!"}},{"$f":"IF(ЗАЯВКА!#REF!=\"да\",ЗАЯВКА!#REF!,0)","v":{"$error":"#REF!"}}]
[{"$f":"IF(ЗАЯВКА!#REF!=\"проектирование\",ЗАЯВКА!#REF!,0)","v":{"$error":"#REF!"}},{"$f":"IF(ЗАЯВКА!#REF!=\"строительно-монтажные работы\",ЗАЯВКА!#REF!,0)","v":{"$error":"#REF!"}},{"$f":"IF(ЗАЯВКА!#REF!=\"да\",ЗАЯВКА!#REF!,0)","v":{"$error":"#REF!"}}]
[{"$f":"IF(ЗАЯВКА!#REF!=\"проектирование\",ЗАЯВКА!#REF!,0)","v":{"$error":"#REF!"}},{"$f":"IF(ЗАЯВКА!#REF!=\"строительно-монтажные работы\",ЗАЯВКА!#REF!,0)","v":{"$error":"#REF!"}},{"$f":"IF(ЗАЯВКА!#REF!=\"да\",ЗАЯВКА!#REF!,0)","v":{"$error":"#REF!"}}]
[{"$f":"IF(ЗАЯВКА!#REF!=\"проектирование\",ЗАЯВКА!#REF!,0)","v":{"$error":"#REF!"}},{"$f":"IF(ЗАЯВКА!#REF!=\"строительно-монтажные работы\",ЗАЯВКА!#REF!,0)","v":{"$error":"#REF!"}},{"$f":"IF(ЗАЯВКА!#REF!=\"да\",ЗАЯВКА!#REF!,0)","v":{"$error":"#REF!"}}]
[{"$f":"IF(ЗАЯВКА!#REF!=\"проектирование\",ЗАЯВКА!#REF!,0)","v":{"$error":"#REF!"}},{"$f":"IF(ЗАЯВКА!#REF!=\"строительно-монтажные работы\",ЗАЯВКА!#REF!,0)","v":{"$error":"#REF!"}},{"$f":"IF(ЗАЯВКА!#REF!=\"да\",ЗАЯВКА!#REF!,0)","v":{"$error":"#REF!"}}]
[{"$f":"IF(ЗАЯВКА!#REF!=\"проектирование\",ЗАЯВКА!#REF!,0)","v":{"$error":"#REF!"}},{"$f":"IF(ЗАЯВКА!#REF!=\"строительно-монтажные работы\",ЗАЯВКА!#REF!,0)","v":{"$error":"#REF!"}},{"$f":"IF(ЗАЯВКА!#REF!=\"да\",ЗАЯВКА!#REF!,0)","v":{"$error":"#REF!"}}]
[{"$f":"IF(ЗАЯВКА!#REF!=\"проектирование\",ЗАЯВКА!#REF!,0)","v":{"$error":"#REF!"}},{"$f":"IF(ЗАЯВКА!#REF!=\"строительно-монтажные работы\",ЗАЯВКА!#REF!,0)","v":{"$error":"#REF!"}},{"$f":"IF(ЗАЯВКА!#REF!=\"да\",ЗАЯВКА!#REF!,0)","v":{"$error":"#REF!"}}]
[{"$f":"IF(ЗАЯВКА!#REF!=\"проектирование\",ЗАЯВКА!#REF!,0)","v":{"$error":"#REF!"}},{"$f":"IF(ЗАЯВКА!#REF!=\"строительно-монтажные работы\",ЗАЯВКА!#REF!,0)","v":{"$error":"#REF!"}},{"$f":"IF(ЗАЯВКА!#REF!=\"да\",ЗАЯВКА!#REF!,0)","v":{"$error":"#REF!"}}]
[{"$f":"IF(ЗАЯВКА!#REF!=\"проектирование\",ЗАЯВКА!#REF!,0)","v":{"$error":"#REF!"}},{"$f":"IF(ЗАЯВКА!#REF!=\"строительно-монтажные работы\",ЗАЯВКА!#REF!,0)","v":{"$error":"#REF!"}},{"$f":"IF(ЗАЯВКА!#REF!=\"да\",ЗАЯВКА!#REF!,0)","v":{"$error":"#REF!"}}]
[{"$f":"IF(ЗАЯВКА!#REF!=\"проектирование\",ЗАЯВКА!#REF!,0)","v":{"$error":"#REF!"}},{"$f":"IF(ЗАЯВКА!#REF!=\"строительно-монтажные работы\",ЗАЯВКА!#REF!,0)","v":{"$error":"#REF!"}},{"$f":"IF(ЗАЯВКА!#REF!=\"да\",ЗАЯВКА!#REF!,0)","v":{"$error":"#REF!"}}]
[{"$f":"IF(ЗАЯВКА!#REF!=\"проектирование\",ЗАЯВКА!#REF!,0)","v":{"$error":"#REF!"}},{"$f":"IF(ЗАЯВКА!#REF!=\"строительно-монтажные работы\",ЗАЯВКА!#REF!,0)","v":{"$error":"#REF!"}},{"$f":"IF(ЗАЯВКА!#REF!=\"да\",ЗАЯВКА!#REF!,0)","v":{"$error":"#REF!"}}]
[{"$f":"IF(ЗАЯВКА!#REF!=\"проектирование\",ЗАЯВКА!#REF!,0)","v":{"$error":"#REF!"}},{"$f":"IF(ЗАЯВКА!#REF!=\"строительно-монтажные работы\",ЗАЯВКА!#REF!,0)","v":{"$error":"#REF!"}},{"$f":"IF(ЗАЯВКА!#REF!=\"да\",ЗАЯВКА!#REF!,0)","v":{"$error":"#REF!"}}]
[{"$f":"IF(ЗАЯВКА!#REF!=\"проектирование\",ЗАЯВКА!#REF!,0)","v":{"$error":"#REF!"}},{"$f":"IF(ЗАЯВКА!#REF!=\"строительно-монтажные работы\",ЗАЯВКА!#REF!,0)","v":{"$error":"#REF!"}},{"$f":"IF(ЗАЯВКА!#REF!=\"да\",ЗАЯВКА!#REF!,0)","v":{"$error":"#REF!"}}]
[{"$f":"IF(ЗАЯВКА!#REF!=\"проектирование\",ЗАЯВКА!#REF!,0)","v":{"$error":"#REF!"}},{"$f":"IF(ЗАЯВКА!#REF!=\"строительно-монтажные работы\",ЗАЯВКА!#REF!,0)","v":{"$error":"#REF!"}},{"$f":"IF(ЗАЯВКА!#REF!=\"да\",ЗАЯВКА!#REF!,0)","v":{"$error":"#REF!"}}]
[{"$f":"IF(ЗАЯВКА!#REF!=\"проектирование\",ЗАЯВКА!#REF!,0)","v":{"$error":"#REF!"}},{"$f":"IF(ЗАЯВКА!#REF!=\"строительно-монтажные работы\",ЗАЯВКА!#REF!,0)","v":{"$error":"#REF!"}},{"$f":"IF(ЗАЯВКА!#REF!=\"да\",ЗАЯВКА!#REF!,0)","v":{"$error":"#REF!"}}]
[{"$f":"IF(ЗАЯВКА!#REF!=\"проектирование\",ЗАЯВКА!#REF!,0)","v":{"$error":"#REF!"}},{"$f":"IF(ЗАЯВКА!#REF!=\"строительно-монтажные работы\",ЗАЯВКА!#REF!,0)","v":{"$error":"#REF!"}},{"$f":"IF(ЗАЯВКА!#REF!=\"да\",ЗАЯВКА!#REF!,0)","v":{"$error":"#REF!"}}]
[{"$f":"IF(ЗАЯВКА!#REF!=\"проектирование\",ЗАЯВКА!#REF!,0)","v":{"$error":"#REF!"}},{"$f":"IF(ЗАЯВКА!#REF!=\"строительно-монтажные работы\",ЗАЯВКА!#REF!,0)","v":{"$error":"#REF!"}},{"$f":"IF(ЗАЯВКА!#REF!=\"да\",ЗАЯВКА!#REF!,0)","v":{"$error":"#REF!"}}]
[{"$f":"IF(ЗАЯВКА!#REF!=\"проектирование\",ЗАЯВКА!#REF!,0)","v":{"$error":"#REF!"}},{"$f":"IF(ЗАЯВКА!#REF!=\"строительно-монтажные работы\",ЗАЯВКА!#REF!,0)","v":{"$error":"#REF!"}},{"$f":"IF(ЗАЯВКА!#REF!=\"да\",ЗАЯВКА!#REF!,0)","v":{"$error":"#REF!"}}]
[{"$f":"IF(ЗАЯВКА!#REF!=\"проектирование\",ЗАЯВКА!#REF!,0)","v":{"$error":"#REF!"}},{"$f":"IF(ЗАЯВКА!#REF!=\"строительно-монтажные работы\",ЗАЯВКА!#REF!,0)","v":{"$error":"#REF!"}},{"$f":"IF(ЗАЯВКА!#REF!=\"да\",ЗАЯВКА!#REF!,0)","v":{"$error":"#REF!"}}]
[{"$f":"IF(ЗАЯВКА!#REF!=\"проектирование\",ЗАЯВКА!#REF!,0)","v":{"$error":"#REF!"}},{"$f":"IF(ЗАЯВКА!#REF!=\"строительно-монтажные работы\",ЗАЯВКА!#REF!,0)","v":{"$error":"#REF!"}},{"$f":"IF(ЗАЯВКА!#REF!=\"да\",ЗАЯВКА!#REF!,0)","v":{"$error":"#REF!"}}]
[{"$f":"IF(ЗАЯВКА!#REF!=\"проектирование\",ЗАЯВКА!#REF!,0)","v":{"$error":"#REF!"}},{"$f":"IF(ЗАЯВКА!#REF!=\"строительно-монтажные работы\",ЗАЯВКА!#REF!,0)","v":{"$error":"#REF!"}},{"$f":"IF(ЗАЯВКА!#REF!=\"да\",ЗАЯВКА!#REF!,0)","v":{"$error":"#REF!"}}]
[{"$f":"IF(ЗАЯВКА!#REF!=\"проектирование\",ЗАЯВКА!#REF!,0)","v":{"$error":"#REF!"}},{"$f":"IF(ЗАЯВКА!#REF!=\"строительно-монтажные работы\",ЗАЯВКА!#REF!,0)","v":{"$error":"#REF!"}},{"$f":"IF(ЗАЯВКА!#REF!=\"да\",ЗАЯВКА!#REF!,0)","v":{"$error":"#REF!"}}]
[{"$f":"IF(ЗАЯВКА!#REF!=\"проектирование\",ЗАЯВКА!#REF!,0)","v":{"$error":"#REF!"}},{"$f":"IF(ЗАЯВКА!#REF!=\"строительно-монтажные работы\",ЗАЯВКА!#REF!,0)","v":{"$error":"#REF!"}},{"$f":"IF(ЗАЯВКА!#REF!=\"да\",ЗАЯВКА!#REF!,0)","v":{"$error":"#REF!"}}]
[{"$f":"IF(ЗАЯВКА!#REF!=\"проектирование\",ЗАЯВКА!#REF!,0)","v":{"$error":"#REF!"}},{"$f":"IF(ЗАЯВКА!#REF!=\"строительно-монтажные работы\",ЗАЯВКА!#REF!,0)","v":{"$error":"#REF!"}},{"$f":"IF(ЗАЯВКА!#REF!=\"да\",ЗАЯВКА!#REF!,0)","v":{"$error":"#REF!"}}]
[{"$f":"IF(ЗАЯВКА!#REF!=\"проектирование\",ЗАЯВКА!#REF!,0)","v":{"$error":"#REF!"}},{"$f":"IF(ЗАЯВКА!#REF!=\"строительно-монтажные работы\",ЗАЯВКА!#REF!,0)","v":{"$error":"#REF!"}},{"$f":"IF(ЗАЯВКА!#REF!=\"да\",ЗАЯВКА!#REF!,0)","v":{"$error":"#REF!"}}]
[{"$f":"IF(ЗАЯВКА!#REF!=\"проектирование\",ЗАЯВКА!#REF!,0)","v":{"$error":"#REF!"}},{"$f":"IF(ЗАЯВКА!#REF!=\"строительно-монтажные работы\",ЗАЯВКА!#REF!,0)","v":{"$error":"#REF!"}},{"$f":"IF(ЗАЯВКА!#REF!=\"да\",ЗАЯВКА!#REF!,0)","v":{"$error":"#REF!"}}]
[{"$f":"IF(ЗАЯВКА!#REF!=\"проектирование\",ЗАЯВКА!#REF!,0)","v":{"$error":"#REF!"}},{"$f":"IF(ЗАЯВКА!#REF!=\"строительно-монтажные работы\",ЗАЯВКА!#REF!,0)","v":{"$error":"#REF!"}},{"$f":"IF(ЗАЯВКА!#REF!=\"да\",ЗАЯВКА!#REF!,0)","v":{"$error":"#REF!"}}]
[{"$f":"IF(ЗАЯВКА!#REF!=\"проектирование\",ЗАЯВКА!#REF!,0)","v":{"$error":"#REF!"}},{"$f":"IF(ЗАЯВКА!#REF!=\"строительно-монтажные работы\",ЗАЯВКА!#REF!,0)","v":{"$error":"#REF!"}},{"$f":"IF(ЗАЯВКА!#REF!=\"да\",ЗАЯВКА!#REF!,0)","v":{"$error":"#REF!"}}]
[{"$f":"IF(ЗАЯВКА!#REF!=\"проектирование\",ЗАЯВКА!#REF!,0)","v":{"$error":"#REF!"}},{"$f":"IF(ЗАЯВКА!#REF!=\"строительно-монтажные работы\",ЗАЯВКА!#REF!,0)","v":{"$error":"#REF!"}},{"$f":"IF(ЗАЯВКА!#REF!=\"да\",ЗАЯВКА!#REF!,0)","v":{"$error":"#REF!"}}]
[{"$f":"IF(ЗАЯВКА!#REF!=\"проектирование\",ЗАЯВКА!#REF!,0)","v":{"$error":"#REF!"}},{"$f":"IF(ЗАЯВКА!#REF!=\"строительно-монтажные работы\",ЗАЯВКА!#REF!,0)","v":{"$error":"#REF!"}},{"$f":"IF(ЗАЯВКА!#REF!=\"да\",ЗАЯВКА!#REF!,0)","v":{"$error":"#REF!"}}]
[{"$f":"IF(ЗАЯВКА!#REF!=\"проектирование\",ЗАЯВКА!#REF!,0)","v":{"$error":"#REF!"}},{"$f":"IF(ЗАЯВКА!#REF!=\"строительно-монтажные работы\",ЗАЯВКА!#REF!,0)","v":{"$error":"#REF!"}},{"$f":"IF(ЗАЯВКА!#REF!=\"да\",ЗАЯВКА!#REF!,0)","v":{"$error":"#REF!"}}]
[{"$f":"IF(ЗАЯВКА!#REF!=\"проектирование\",ЗАЯВКА!#REF!,0)","v":{"$error":"#REF!"}},{"$f":"IF(ЗАЯВКА!#REF!=\"строительно-монтажные работы\",ЗАЯВКА!#REF!,0)","v":{"$error":"#REF!"}},{"$f":"IF(ЗАЯВКА!#REF!=\"да\",ЗАЯВКА!#REF!,0)","v":{"$error":"#REF!"}}]
[{"$f":"IF(ЗАЯВКА!#REF!=\"проектирование\",ЗАЯВКА!#REF!,0)","v":{"$error":"#REF!"}},{"$f":"IF(ЗАЯВКА!#REF!=\"строительно-монтажные работы\",ЗАЯВКА!#REF!,0)","v":{"$error":"#REF!"}},{"$f":"IF(ЗАЯВКА!#REF!=\"да\",ЗАЯВКА!#REF!,0)","v":{"$error":"#REF!"}}]
[{"$f":"IF(ЗАЯВКА!#REF!=\"проектирование\",ЗАЯВКА!#REF!,0)","v":{"$error":"#REF!"}},{"$f":"IF(ЗАЯВКА!#REF!=\"строительно-монтажные работы\",ЗАЯВКА!#REF!,0)","v":{"$error":"#REF!"}},{"$f":"IF(ЗАЯВКА!#REF!=\"да\",ЗАЯВКА!#REF!,0)","v":{"$error":"#REF!"}}]
[{"$f":"IF(ЗАЯВКА!#REF!=\"проектирование\",ЗАЯВКА!#REF!,0)","v":{"$error":"#REF!"}},{"$f":"IF(ЗАЯВКА!#REF!=\"строительно-монтажные работы\",ЗАЯВКА!#REF!,0)","v":{"$error":"#REF!"}},{"$f":"IF(ЗАЯВКА!#REF!=\"да\",ЗАЯВКА!#REF!,0)","v":{"$error":"#REF!"}}]
[{"$f":"IF(ЗАЯВКА!#REF!=\"проектирование\",ЗАЯВКА!#REF!,0)","v":{"$error":"#REF!"}},{"$f":"IF(ЗАЯВКА!#REF!=\"строительно-монтажные работы\",ЗАЯВКА!#REF!,0)","v":{"$error":"#REF!"}},{"$f":"IF(ЗАЯВКА!#REF!=\"да\",ЗАЯВКА!#REF!,0)","v":{"$error":"#REF!"}}]
[{"$f":"IF(ЗАЯВКА!#REF!=\"проектирование\",ЗАЯВКА!#REF!,0)","v":{"$error":"#REF!"}},{"$f":"IF(ЗАЯВКА!#REF!=\"строительно-монтажные работы\",ЗАЯВКА!#REF!,0)","v":{"$error":"#REF!"}},{"$f":"IF(ЗАЯВКА!#REF!=\"да\",ЗАЯВКА!#REF!,0)","v":{"$error":"#REF!"}}]
[{"$f":"IF(ЗАЯВКА!#REF!=\"проектирование\",ЗАЯВКА!#REF!,0)","v":{"$error":"#REF!"}},{"$f":"IF(ЗАЯВКА!#REF!=\"строительно-монтажные работы\",ЗАЯВКА!#REF!,0)","v":{"$error":"#REF!"}},{"$f":"IF(ЗАЯВКА!#REF!=\"да\",ЗАЯВКА!#REF!,0)","v":{"$error":"#REF!"}}]
[{"$f":"IF(ЗАЯВКА!#REF!=\"проектирование\",ЗАЯВКА!#REF!,0)","v":{"$error":"#REF!"}},{"$f":"IF(ЗАЯВКА!#REF!=\"строительно-монтажные работы\",ЗАЯВКА!#REF!,0)","v":{"$error":"#REF!"}},{"$f":"IF(ЗАЯВКА!#REF!=\"да\",ЗАЯВКА!#REF!,0)","v":{"$error":"#REF!"}}]
[{"$f":"IF(ЗАЯВКА!#REF!=\"проектирование\",ЗАЯВКА!#REF!,0)","v":{"$error":"#REF!"}},{"$f":"IF(ЗАЯВКА!#REF!=\"строительно-монтажные работы\",ЗАЯВКА!#REF!,0)","v":{"$error":"#REF!"}},{"$f":"IF(ЗАЯВКА!#REF!=\"да\",ЗАЯВКА!#REF!,0)","v":{"$error":"#REF!"}}]
[{"$f":"IF(ЗАЯВКА!#REF!=\"проектирование\",ЗАЯВКА!#REF!,0)","v":{"$error":"#REF!"}},{"$f":"IF(ЗАЯВКА!#REF!=\"строительно-монтажные работы\",ЗАЯВКА!#REF!,0)","v":{"$error":"#REF!"}},{"$f":"IF(ЗАЯВКА!#REF!=\"да\",ЗАЯВКА!#REF!,0)","v":{"$error":"#REF!"}}]
[{"$f":"IF(ЗАЯВКА!#REF!=\"проектирование\",ЗАЯВКА!#REF!,0)","v":{"$error":"#REF!"}},{"$f":"IF(ЗАЯВКА!#REF!=\"строительно-монтажные работы\",ЗАЯВКА!#REF!,0)","v":{"$error":"#REF!"}},{"$f":"IF(ЗАЯВКА!#REF!=\"да\",ЗАЯВКА!#REF!,0)","v":{"$error":"#REF!"}}]
[{"$f":"IF(ЗАЯВКА!#REF!=\"проектирование\",ЗАЯВКА!#REF!,0)","v":{"$error":"#REF!"}},{"$f":"IF(ЗАЯВКА!#REF!=\"строительно-монтажные работы\",ЗАЯВКА!#REF!,0)","v":{"$error":"#REF!"}},{"$f":"IF(ЗАЯВКА!#REF!=\"да\",ЗАЯВКА!#REF!,0)","v":{"$error":"#REF!"}}]
[{"$f":"IF(ЗАЯВКА!#REF!=\"проектирование\",ЗАЯВКА!#REF!,0)","v":{"$error":"#REF!"}},{"$f":"IF(ЗАЯВКА!#REF!=\"строительно-монтажные работы\",ЗАЯВКА!#REF!,0)","v":{"$error":"#REF!"}},{"$f":"IF(ЗАЯВКА!#REF!=\"да\",ЗАЯВКА!#REF!,0)","v":{"$error":"#REF!"}}]
[{"$f":"IF(ЗАЯВКА!#REF!=\"проектирование\",ЗАЯВКА!#REF!,0)","v":{"$error":"#REF!"}},{"$f":"IF(ЗАЯВКА!#REF!=\"строительно-монтажные работы\",ЗАЯВКА!#REF!,0)","v":{"$error":"#REF!"}},{"$f":"IF(ЗАЯВКА!#REF!=\"да\",ЗАЯВКА!#REF!,0)","v":{"$error":"#REF!"}}]
[{"$f":"IF(ЗАЯВКА!#REF!=\"проектирование\",ЗАЯВКА!#REF!,0)","v":{"$error":"#REF!"}},{"$f":"IF(ЗАЯВКА!#REF!=\"строительно-монтажные работы\",ЗАЯВКА!#REF!,0)","v":{"$error":"#REF!"}},{"$f":"IF(ЗАЯВКА!#REF!=\"да\",ЗАЯВКА!#REF!,0)","v":{"$error":"#REF!"}}]
[{"$f":"IF(ЗАЯВКА!#REF!=\"проектирование\",ЗАЯВКА!#REF!,0)","v":{"$error":"#REF!"}},{"$f":"IF(ЗАЯВКА!#REF!=\"строительно-монтажные работы\",ЗАЯВКА!#REF!,0)","v":{"$error":"#REF!"}},{"$f":"IF(ЗАЯВКА!#REF!=\"да\",ЗАЯВКА!#REF!,0)","v":{"$error":"#REF!"}}]
[{"$f":"IF(ЗАЯВКА!#REF!=\"проектирование\",ЗАЯВКА!#REF!,0)","v":{"$error":"#REF!"}},{"$f":"IF(ЗАЯВКА!#REF!=\"строительно-монтажные работы\",ЗАЯВКА!#REF!,0)","v":{"$error":"#REF!"}},{"$f":"IF(ЗАЯВКА!#REF!=\"да\",ЗАЯВКА!#REF!,0)","v":{"$error":"#REF!"}}]
[{"$f":"IF(ЗАЯВКА!#REF!=\"проектирование\",ЗАЯВКА!#REF!,0)","v":{"$error":"#REF!"}},{"$f":"IF(ЗАЯВКА!#REF!=\"строительно-монтажные работы\",ЗАЯВКА!#REF!,0)","v":{"$error":"#REF!"}},{"$f":"IF(ЗАЯВКА!#REF!=\"да\",ЗАЯВКА!#REF!,0)","v":{"$error":"#REF!"}}]
[{"$f":"IF(ЗАЯВКА!#REF!=\"проектирование\",ЗАЯВКА!#REF!,0)","v":{"$error":"#REF!"}},{"$f":"IF(ЗАЯВКА!#REF!=\"строительно-монтажные работы\",ЗАЯВКА!#REF!,0)","v":{"$error":"#REF!"}},{"$f":"IF(ЗАЯВКА!#REF!=\"да\",ЗАЯВКА!#REF!,0)","v":{"$error":"#REF!"}}]
[{"$f":"IF(ЗАЯВКА!#REF!=\"проектирование\",ЗАЯВКА!#REF!,0)","v":{"$error":"#REF!"}},{"$f":"IF(ЗАЯВКА!#REF!=\"строительно-монтажные работы\",ЗАЯВКА!#REF!,0)","v":{"$error":"#REF!"}},{"$f":"IF(ЗАЯВКА!#REF!=\"да\",ЗАЯВКА!#REF!,0)","v":{"$error":"#REF!"}}]
[{"$f":"IF(ЗАЯВКА!#REF!=\"проектирование\",ЗАЯВКА!#REF!,0)","v":{"$error":"#REF!"}},{"$f":"IF(ЗАЯВКА!#REF!=\"строительно-монтажные работы\",ЗАЯВКА!#REF!,0)","v":{"$error":"#REF!"}},{"$f":"IF(ЗАЯВКА!#REF!=\"да\",ЗАЯВКА!#REF!,0)","v":{"$error":"#REF!"}}]
[{"$f":"IF(ЗАЯВКА!#REF!=\"проектирование\",ЗАЯВКА!#REF!,0)","v":{"$error":"#REF!"}},{"$f":"IF(ЗАЯВКА!#REF!=\"строительно-монтажные работы\",ЗАЯВКА!#REF!,0)","v":{"$error":"#REF!"}},{"$f":"IF(ЗАЯВКА!#REF!=\"да\",ЗАЯВКА!#REF!,0)","v":{"$error":"#REF!"}}]
[{"$f":"IF(ЗАЯВКА!#REF!=\"проектирование\",ЗАЯВКА!#REF!,0)","v":{"$error":"#REF!"}},{"$f":"IF(ЗАЯВКА!#REF!=\"строительно-монтажные работы\",ЗАЯВКА!#REF!,0)","v":{"$error":"#REF!"}},{"$f":"IF(ЗАЯВКА!#REF!=\"да\",ЗАЯВКА!#REF!,0)","v":{"$error":"#REF!"}}]
[{"$f":"IF(ЗАЯВКА!#REF!=\"проектирование\",ЗАЯВКА!#REF!,0)","v":{"$error":"#REF!"}},{"$f":"IF(ЗАЯВКА!#REF!=\"строительно-монтажные работы\",ЗАЯВКА!#REF!,0)","v":{"$error":"#REF!"}},{"$f":"IF(ЗАЯВКА!#REF!=\"да\",ЗАЯВКА!#REF!,0)","v":{"$error":"#REF!"}}]
[{"$f":"IF(ЗАЯВКА!#REF!=\"проектирование\",ЗАЯВКА!#REF!,0)","v":{"$error":"#REF!"}},{"$f":"IF(ЗАЯВКА!#REF!=\"строительно-монтажные работы\",ЗАЯВКА!#REF!,0)","v":{"$error":"#REF!"}},{"$f":"IF(ЗАЯВКА!#REF!=\"да\",ЗАЯВКА!#REF!,0)","v":{"$error":"#REF!"}}]
[{"$f":"IF(ЗАЯВКА!#REF!=\"проектирование\",ЗАЯВКА!#REF!,0)","v":{"$error":"#REF!"}},{"$f":"IF(ЗАЯВКА!#REF!=\"строительно-монтажные работы\",ЗАЯВКА!#REF!,0)","v":{"$error":"#REF!"}},{"$f":"IF(ЗАЯВКА!#REF!=\"да\",ЗАЯВКА!#REF!,0)","v":{"$error":"#REF!"}}]
[{"$f":"IF(ЗАЯВКА!#REF!=\"проектирование\",ЗАЯВКА!#REF!,0)","v":{"$error":"#REF!"}},{"$f":"IF(ЗАЯВКА!#REF!=\"строительно-монтажные работы\",ЗАЯВКА!#REF!,0)","v":{"$error":"#REF!"}},{"$f":"IF(ЗАЯВКА!#REF!=\"да\",ЗАЯВКА!#REF!,0)","v":{"$error":"#REF!"}}]
[{"$f":"IF(ЗАЯВКА!#REF!=\"проектирование\",ЗАЯВКА!#REF!,0)","v":{"$error":"#REF!"}},{"$f":"IF(ЗАЯВКА!#REF!=\"строительно-монтажные работы\",ЗАЯВКА!#REF!,0)","v":{"$error":"#REF!"}},{"$f":"IF(ЗАЯВКА!#REF!=\"да\",ЗАЯВКА!#REF!,0)","v":{"$error":"#REF!"}}]
[{"$f":"IF(ЗАЯВКА!#REF!=\"проектирование\",ЗАЯВКА!#REF!,0)","v":{"$error":"#REF!"}},{"$f":"IF(ЗАЯВКА!#REF!=\"строительно-монтажные работы\",ЗАЯВКА!#REF!,0)","v":{"$error":"#REF!"}},{"$f":"IF(ЗАЯВКА!#REF!=\"да\",ЗАЯВКА!#REF!,0)","v":{"$error":"#REF!"}}]
[{"$f":"IF(ЗАЯВКА!#REF!=\"проектирование\",ЗАЯВКА!#REF!,0)","v":{"$error":"#REF!"}},{"$f":"IF(ЗАЯВКА!#REF!=\"строительно-монтажные работы\",ЗАЯВКА!#REF!,0)","v":{"$error":"#REF!"}},{"$f":"IF(ЗАЯВКА!#REF!=\"да\",ЗАЯВКА!#REF!,0)","v":{"$error":"#REF!"}}]
[{"$f":"IF(ЗАЯВКА!#REF!=\"проектирование\",ЗАЯВКА!#REF!,0)","v":{"$error":"#REF!"}},{"$f":"IF(ЗАЯВКА!#REF!=\"строительно-монтажные работы\",ЗАЯВКА!#REF!,0)","v":{"$error":"#REF!"}},{"$f":"IF(ЗАЯВКА!#REF!=\"да\",ЗАЯВКА!#REF!,0)","v":{"$error":"#REF!"}}]
[{"$f":"IF(ЗАЯВКА!#REF!=\"проектирование\",ЗАЯВКА!#REF!,0)","v":{"$error":"#REF!"}},{"$f":"IF(ЗАЯВКА!#REF!=\"строительно-монтажные работы\",ЗАЯВКА!#REF!,0)","v":{"$error":"#REF!"}},{"$f":"IF(ЗАЯВКА!#REF!=\"да\",ЗАЯВКА!#REF!,0)","v":{"$error":"#REF!"}}]
[{"$f":"IF(ЗАЯВКА!#REF!=\"проектирование\",ЗАЯВКА!#REF!,0)","v":{"$error":"#REF!"}},{"$f":"IF(ЗАЯВКА!#REF!=\"строительно-монтажные работы\",ЗАЯВКА!#REF!,0)","v":{"$error":"#REF!"}},{"$f":"IF(ЗАЯВКА!#REF!=\"да\",ЗАЯВКА!#REF!,0)","v":{"$error":"#REF!"}}]
[{"$f":"IF(ЗАЯВКА!#REF!=\"проектирование\",ЗАЯВКА!#REF!,0)","v":{"$error":"#REF!"}},{"$f":"IF(ЗАЯВКА!#REF!=\"строительно-монтажные работы\",ЗАЯВКА!#REF!,0)","v":{"$error":"#REF!"}},{"$f":"IF(ЗАЯВКА!#REF!=\"да\",ЗАЯВКА!#REF!,0)","v":{"$error":"#REF!"}}]
[{"$f":"IF(ЗАЯВКА!#REF!=\"проектирование\",ЗАЯВКА!#REF!,0)","v":{"$error":"#REF!"}},{"$f":"IF(ЗАЯВКА!#REF!=\"строительно-монтажные работы\",ЗАЯВКА!#REF!,0)","v":{"$error":"#REF!"}},{"$f":"IF(ЗАЯВКА!#REF!=\"да\",ЗАЯВКА!#REF!,0)","v":{"$error":"#REF!"}}]
[{"$f":"IF(ЗАЯВКА!#REF!=\"проектирование\",ЗАЯВКА!#REF!,0)","v":{"$error":"#REF!"}},{"$f":"IF(ЗАЯВКА!#REF!=\"строительно-монтажные работы\",ЗАЯВКА!#REF!,0)","v":{"$error":"#REF!"}},{"$f":"IF(ЗАЯВКА!#REF!=\"да\",ЗАЯВКА!#REF!,0)","v":{"$error":"#REF!"}}]
[{"$f":"IF(ЗАЯВКА!#REF!=\"проектирование\",ЗАЯВКА!#REF!,0)","v":{"$error":"#REF!"}},{"$f":"IF(ЗАЯВКА!#REF!=\"строительно-монтажные работы\",ЗАЯВКА!#REF!,0)","v":{"$error":"#REF!"}},{"$f":"IF(ЗАЯВКА!#REF!=\"да\",ЗАЯВКА!#REF!,0)","v":{"$error":"#REF!"}}]
[{"$f":"IF(ЗАЯВКА!#REF!=\"проектирование\",ЗАЯВКА!#REF!,0)","v":{"$error":"#REF!"}},{"$f":"IF(ЗАЯВКА!#REF!=\"строительно-монтажные работы\",ЗАЯВКА!#REF!,0)","v":{"$error":"#REF!"}},{"$f":"IF(ЗАЯВКА!#REF!=\"да\",ЗАЯВКА!#REF!,0)","v":{"$error":"#REF!"}}]
[{"$f":"IF(ЗАЯВКА!#REF!=\"проектирование\",ЗАЯВКА!#REF!,0)","v":{"$error":"#REF!"}},{"$f":"IF(ЗАЯВКА!#REF!=\"строительно-монтажные работы\",ЗАЯВКА!#REF!,0)","v":{"$error":"#REF!"}},{"$f":"IF(ЗАЯВКА!#REF!=\"да\",ЗАЯВКА!#REF!,0)","v":{"$error":"#REF!"}}]
[{"$f":"IF(ЗАЯВКА!#REF!=\"проектирование\",ЗАЯВКА!#REF!,0)","v":{"$error":"#REF!"}},{"$f":"IF(ЗАЯВКА!#REF!=\"строительно-монтажные работы\",ЗАЯВКА!#REF!,0)","v":{"$error":"#REF!"}},{"$f":"IF(ЗАЯВКА!#REF!=\"да\",ЗАЯВКА!#REF!,0)","v":{"$error":"#REF!"}}]
[{"$f":"IF(ЗАЯВКА!#REF!=\"проектирование\",ЗАЯВКА!#REF!,0)","v":{"$error":"#REF!"}},{"$f":"IF(ЗАЯВКА!#REF!=\"строительно-монтажные работы\",ЗАЯВКА!#REF!,0)","v":{"$error":"#REF!"}},{"$f":"IF(ЗАЯВКА!#REF!=\"да\",ЗАЯВКА!#REF!,0)","v":{"$error":"#REF!"}}]
[{"$f":"IF(ЗАЯВКА!#REF!=\"проектирование\",ЗАЯВКА!#REF!,0)","v":{"$error":"#REF!"}},{"$f":"IF(ЗАЯВКА!#REF!=\"строительно-монтажные работы\",ЗАЯВКА!#REF!,0)","v":{"$error":"#REF!"}},{"$f":"IF(ЗАЯВКА!#REF!=\"да\",ЗАЯВКА!#REF!,0)","v":{"$error":"#REF!"}}]
[{"$f":"IF(ЗАЯВКА!#REF!=\"проектирование\",ЗАЯВКА!#REF!,0)","v":{"$error":"#REF!"}},{"$f":"IF(ЗАЯВКА!#REF!=\"строительно-монтажные работы\",ЗАЯВКА!#REF!,0)","v":{"$error":"#REF!"}},{"$f":"IF(ЗАЯВКА!#REF!=\"да\",ЗАЯВКА!#REF!,0)","v":{"$error":"#REF!"}}]
[{"$f":"IF(ЗАЯВКА!#REF!=\"проектирование\",ЗАЯВКА!#REF!,0)","v":{"$error":"#REF!"}},{"$f":"IF(ЗАЯВКА!#REF!=\"строительно-монтажные работы\",ЗАЯВКА!#REF!,0)","v":{"$error":"#REF!"}},{"$f":"IF(ЗАЯВКА!#REF!=\"да\",ЗАЯВКА!#REF!,0)","v":{"$error":"#REF!"}}]
[{"$f":"IF(ЗАЯВКА!#REF!=\"проектирование\",ЗАЯВКА!#REF!,0)","v":{"$error":"#REF!"}},{"$f":"IF(ЗАЯВКА!#REF!=\"строительно-монтажные работы\",ЗАЯВКА!#REF!,0)","v":{"$error":"#REF!"}},{"$f":"IF(ЗАЯВКА!#REF!=\"да\",ЗАЯВКА!#REF!,0)","v":{"$error":"#REF!"}}]
[{"$f":"IF(ЗАЯВКА!#REF!=\"проектирование\",ЗАЯВКА!#REF!,0)","v":{"$error":"#REF!"}},{"$f":"IF(ЗАЯВКА!#REF!=\"строительно-монтажные работы\",ЗАЯВКА!#REF!,0)","v":{"$error":"#REF!"}},{"$f":"IF(ЗАЯВКА!#REF!=\"да\",ЗАЯВКА!#REF!,0)","v":{"$error":"#REF!"}}]
[{"$f":"IF(ЗАЯВКА!#REF!=\"проектирование\",ЗАЯВКА!#REF!,0)","v":{"$error":"#REF!"}},{"$f":"IF(ЗАЯВКА!#REF!=\"строительно-монтажные работы\",ЗАЯВКА!#REF!,0)","v":{"$error":"#REF!"}},{"$f":"IF(ЗАЯВКА!#REF!=\"да\",ЗАЯВКА!#REF!,0)","v":{"$error":"#REF!"}}]
[{"$f":"IF(ЗАЯВКА!#REF!=\"проектирование\",ЗАЯВКА!#REF!,0)","v":{"$error":"#REF!"}},{"$f":"IF(ЗАЯВКА!#REF!=\"строительно-монтажные работы\",ЗАЯВКА!#REF!,0)","v":{"$error":"#REF!"}},{"$f":"IF(ЗАЯВКА!#REF!=\"да\",ЗАЯВКА!#REF!,0)","v":{"$error":"#REF!"}}]
[{"$f":"IF(ЗАЯВКА!#REF!=\"проектирование\",ЗАЯВКА!#REF!,0)","v":{"$error":"#REF!"}},{"$f":"IF(ЗАЯВКА!#REF!=\"строительно-монтажные работы\",ЗАЯВКА!#REF!,0)","v":{"$error":"#REF!"}},{"$f":"IF(ЗАЯВКА!#REF!=\"да\",ЗАЯВКА!#REF!,0)","v":{"$error":"#REF!"}}]
[{"$f":"IF(ЗАЯВКА!#REF!=\"проектирование\",ЗАЯВКА!#REF!,0)","v":{"$error":"#REF!"}},{"$f":"IF(ЗАЯВКА!#REF!=\"строительно-монтажные работы\",ЗАЯВКА!#REF!,0)","v":{"$error":"#REF!"}},{"$f":"IF(ЗАЯВКА!#REF!=\"да\",ЗАЯВКА!#REF!,0)","v":{"$error":"#REF!"}}]
[{"$f":"IF(ЗАЯВКА!#REF!=\"проектирование\",ЗАЯВКА!#REF!,0)","v":{"$error":"#REF!"}},{"$f":"IF(ЗАЯВКА!#REF!=\"строительно-монтажные работы\",ЗАЯВКА!#REF!,0)","v":{"$error":"#REF!"}},{"$f":"IF(ЗАЯВКА!#REF!=\"да\",ЗАЯВКА!#REF!,0)","v":{"$error":"#REF!"}}]
[{"$f":"IF(ЗАЯВКА!#REF!=\"проектирование\",ЗАЯВКА!#REF!,0)","v":{"$error":"#REF!"}},{"$f":"IF(ЗАЯВКА!#REF!=\"строительно-монтажные работы\",ЗАЯВКА!#REF!,0)","v":{"$error":"#REF!"}},{"$f":"IF(ЗАЯВКА!#REF!=\"да\",ЗАЯВКА!#REF!,0)","v":{"$error":"#REF!"}}]
[{"$f":"IF(ЗАЯВКА!#REF!=\"проектирование\",ЗАЯВКА!#REF!,0)","v":{"$error":"#REF!"}},{"$f":"IF(ЗАЯВКА!#REF!=\"строительно-монтажные работы\",ЗАЯВКА!#REF!,0)","v":{"$error":"#REF!"}},{"$f":"IF(ЗАЯВКА!#REF!=\"да\",ЗАЯВКА!#REF!,0)","v":{"$error":"#REF!"}}]
[{"$f":"IF(ЗАЯВКА!#REF!=\"проектирование\",ЗАЯВКА!#REF!,0)","v":{"$error":"#REF!"}},{"$f":"IF(ЗАЯВКА!#REF!=\"строительно-монтажные работы\",ЗАЯВКА!#REF!,0)","v":{"$error":"#REF!"}},{"$f":"IF(ЗАЯВКА!#REF!=\"да\",ЗАЯВКА!#REF!,0)","v":{"$error":"#REF!"}}]
[{"$f":"IF(ЗАЯВКА!#REF!=\"проектирование\",ЗАЯВКА!#REF!,0)","v":{"$error":"#REF!"}},{"$f":"IF(ЗАЯВКА!#REF!=\"строительно-монтажные работы\",ЗАЯВКА!#REF!,0)","v":{"$error":"#REF!"}},{"$f":"IF(ЗАЯВКА!#REF!=\"да\",ЗАЯВКА!#REF!,0)","v":{"$error":"#REF!"}}]
[{"$f":"IF(ЗАЯВКА!#REF!=\"проектирование\",ЗАЯВКА!#REF!,0)","v":{"$error":"#REF!"}},{"$f":"IF(ЗАЯВКА!#REF!=\"строительно-монтажные работы\",ЗАЯВКА!#REF!,0)","v":{"$error":"#REF!"}},{"$f":"IF(ЗАЯВКА!#REF!=\"да\",ЗАЯВКА!#REF!,0)","v":{"$error":"#REF!"}}]
[{"$f":"IF(ЗАЯВКА!#REF!=\"проектирование\",ЗАЯВКА!#REF!,0)","v":{"$error":"#REF!"}},{"$f":"IF(ЗАЯВКА!#REF!=\"строительно-монтажные работы\",ЗАЯВКА!#REF!,0)","v":{"$error":"#REF!"}},{"$f":"IF(ЗАЯВКА!#REF!=\"да\",ЗАЯВКА!#REF!,0)","v":{"$error":"#REF!"}}]
[{"$f":"IF(ЗАЯВКА!#REF!=\"проектирование\",ЗАЯВКА!#REF!,0)","v":{"$error":"#REF!"}},{"$f":"IF(ЗАЯВКА!#REF!=\"строительно-монтажные работы\",ЗАЯВКА!#REF!,0)","v":{"$error":"#REF!"}},{"$f":"IF(ЗАЯВКА!#REF!=\"да\",ЗАЯВКА!#REF!,0)","v":{"$error":"#REF!"}}]
[{"$f":"IF(ЗАЯВКА!#REF!=\"проектирование\",ЗАЯВКА!#REF!,0)","v":{"$error":"#REF!"}},{"$f":"IF(ЗАЯВКА!#REF!=\"строительно-монтажные работы\",ЗАЯВКА!#REF!,0)","v":{"$error":"#REF!"}},{"$f":"IF(ЗАЯВКА!#REF!=\"да\",ЗАЯВКА!#REF!,0)","v":{"$error":"#REF!"}}]
[{"$f":"IF(ЗАЯВКА!#REF!=\"проектирование\",ЗАЯВКА!#REF!,0)","v":{"$error":"#REF!"}},{"$f":"IF(ЗАЯВКА!#REF!=\"строительно-монтажные работы\",ЗАЯВКА!#REF!,0)","v":{"$error":"#REF!"}},{"$f":"IF(ЗАЯВКА!#REF!=\"да\",ЗАЯВКА!#REF!,0)","v":{"$error":"#REF!"}}]
[{"$f":"IF(ЗАЯВКА!#REF!=\"проектирование\",ЗАЯВКА!#REF!,0)","v":{"$error":"#REF!"}},{"$f":"IF(ЗАЯВКА!#REF!=\"строительно-монтажные работы\",ЗАЯВКА!#REF!,0)","v":{"$error":"#REF!"}},{"$f":"IF(ЗАЯВКА!#REF!=\"да\",ЗАЯВКА!#REF!,0)","v":{"$error":"#REF!"}}]
[{"$f":"IF(ЗАЯВКА!#REF!=\"проектирование\",ЗАЯВКА!#REF!,0)","v":{"$error":"#REF!"}},{"$f":"IF(ЗАЯВКА!#REF!=\"строительно-монтажные работы\",ЗАЯВКА!#REF!,0)","v":{"$error":"#REF!"}},{"$f":"IF(ЗАЯВКА!#REF!=\"да\",ЗАЯВКА!#REF!,0)","v":{"$error":"#REF!"}}]
[{"$f":"IF(ЗАЯВКА!#REF!=\"проектирование\",ЗАЯВКА!#REF!,0)","v":{"$error":"#REF!"}},{"$f":"IF(ЗАЯВКА!#REF!=\"строительно-монтажные работы\",ЗАЯВКА!#REF!,0)","v":{"$error":"#REF!"}},{"$f":"IF(ЗАЯВКА!#REF!=\"да\",ЗАЯВКА!#REF!,0)","v":{"$error":"#REF!"}}]
[{"$f":"IF(ЗАЯВКА!#REF!=\"проектирование\",ЗАЯВКА!#REF!,0)","v":{"$error":"#REF!"}},{"$f":"IF(ЗАЯВКА!#REF!=\"строительно-монтажные работы\",ЗАЯВКА!#REF!,0)","v":{"$error":"#REF!"}},{"$f":"IF(ЗАЯВКА!#REF!=\"да\",ЗАЯВКА!#REF!,0)","v":{"$error":"#REF!"}}]
[{"$f":"IF(ЗАЯВКА!#REF!=\"проектирование\",ЗАЯВКА!#REF!,0)","v":{"$error":"#REF!"}},{"$f":"IF(ЗАЯВКА!#REF!=\"строительно-монтажные работы\",ЗАЯВКА!#REF!,0)","v":{"$error":"#REF!"}},{"$f":"IF(ЗАЯВКА!#REF!=\"да\",ЗАЯВКА!#REF!,0)","v":{"$error":"#REF!"}}]
[{"$f":"IF(ЗАЯВКА!#REF!=\"проектирование\",ЗАЯВКА!#REF!,0)","v":{"$error":"#REF!"}},{"$f":"IF(ЗАЯВКА!#REF!=\"строительно-монтажные работы\",ЗАЯВКА!#REF!,0)","v":{"$error":"#REF!"}},{"$f":"IF(ЗАЯВКА!#REF!=\"да\",ЗАЯВКА!#REF!,0)","v":{"$error":"#REF!"}}]
[{"$f":"IF(ЗАЯВКА!#REF!=\"проектирование\",ЗАЯВКА!#REF!,0)","v":{"$error":"#REF!"}},{"$f":"IF(ЗАЯВКА!#REF!=\"строительно-монтажные работы\",ЗАЯВКА!#REF!,0)","v":{"$error":"#REF!"}},{"$f":"IF(ЗАЯВКА!#REF!=\"да\",ЗАЯВКА!#REF!,0)","v":{"$error":"#REF!"}}]
[{"$f":"IF(ЗАЯВКА!#REF!=\"проектирование\",ЗАЯВКА!#REF!,0)","v":{"$error":"#REF!"}},{"$f":"IF(ЗАЯВКА!#REF!=\"строительно-монтажные работы\",ЗАЯВКА!#REF!,0)","v":{"$error":"#REF!"}},{"$f":"IF(ЗАЯВКА!#REF!=\"да\",ЗАЯВКА!#REF!,0)","v":{"$error":"#REF!"}}]
[{"$f":"IF(ЗАЯВКА!#REF!=\"проектирование\",ЗАЯВКА!#REF!,0)","v":{"$error":"#REF!"}},{"$f":"IF(ЗАЯВКА!#REF!=\"строительно-монтажные работы\",ЗАЯВКА!#REF!,0)","v":{"$error":"#REF!"}},{"$f":"IF(ЗАЯВКА!#REF!=\"да\",ЗАЯВКА!#REF!,0)","v":{"$error":"#REF!"}}]
[{"$f":"IF(ЗАЯВКА!#REF!=\"проектирование\",ЗАЯВКА!#REF!,0)","v":{"$error":"#REF!"}},{"$f":"IF(ЗАЯВКА!#REF!=\"строительно-монтажные работы\",ЗАЯВКА!#REF!,0)","v":{"$error":"#REF!"}},{"$f":"IF(ЗАЯВКА!#REF!=\"да\",ЗАЯВКА!#REF!,0)","v":{"$error":"#REF!"}}]
[{"$f":"IF(ЗАЯВКА!#REF!=\"проектирование\",ЗАЯВКА!#REF!,0)","v":{"$error":"#REF!"}},{"$f":"IF(ЗАЯВКА!#REF!=\"строительно-монтажные работы\",ЗАЯВКА!#REF!,0)","v":{"$error":"#REF!"}},{"$f":"IF(ЗАЯВКА!#REF!=\"да\",ЗАЯВКА!#REF!,0)","v":{"$error":"#REF!"}}]
[{"$f":"IF(ЗАЯВКА!#REF!=\"проектирование\",ЗАЯВКА!#REF!,0)","v":{"$error":"#REF!"}},{"$f":"IF(ЗАЯВКА!#REF!=\"строительно-монтажные работы\",ЗАЯВКА!#REF!,0)","v":{"$error":"#REF!"}},{"$f":"IF(ЗАЯВКА!#REF!=\"да\",ЗАЯВКА!#REF!,0)","v":{"$error":"#REF!"}}]
[{"$f":"IF(ЗАЯВКА!#REF!=\"проектирование\",ЗАЯВКА!#REF!,0)","v":{"$error":"#REF!"}},{"$f":"IF(ЗАЯВКА!#REF!=\"строительно-монтажные работы\",ЗАЯВКА!#REF!,0)","v":{"$error":"#REF!"}},{"$f":"IF(ЗАЯВКА!#REF!=\"да\",ЗАЯВКА!#REF!,0)","v":{"$error":"#REF!"}}]
[{"$f":"IF(ЗАЯВКА!#REF!=\"проектирование\",ЗАЯВКА!#REF!,0)","v":{"$error":"#REF!"}},{"$f":"IF(ЗАЯВКА!#REF!=\"строительно-монтажные работы\",ЗАЯВКА!#REF!,0)","v":{"$error":"#REF!"}},{"$f":"IF(ЗАЯВКА!#REF!=\"да\",ЗАЯВКА!#REF!,0)","v":{"$error":"#REF!"}}]
[{"$f":"IF(ЗАЯВКА!#REF!=\"проектирование\",ЗАЯВКА!#REF!,0)","v":{"$error":"#REF!"}},{"$f":"IF(ЗАЯВКА!#REF!=\"строительно-монтажные работы\",ЗАЯВКА!#REF!,0)","v":{"$error":"#REF!"}},{"$f":"IF(ЗАЯВКА!#REF!=\"да\",ЗАЯВКА!#REF!,0)","v":{"$error":"#REF!"}}]
[{"$f":"IF(ЗАЯВКА!#REF!=\"проектирование\",ЗАЯВКА!#REF!,0)","v":{"$error":"#REF!"}},{"$f":"IF(ЗАЯВКА!#REF!=\"строительно-монтажные работы\",ЗАЯВКА!#REF!,0)","v":{"$error":"#REF!"}},{"$f":"IF(ЗАЯВКА!#REF!=\"да\",ЗАЯВКА!#REF!,0)","v":{"$error":"#REF!"}}]
[{"$f":"IF(ЗАЯВКА!#REF!=\"проектирование\",ЗАЯВКА!#REF!,0)","v":{"$error":"#REF!"}},{"$f":"IF(ЗАЯВКА!#REF!=\"строительно-монтажные работы\",ЗАЯВКА!#REF!,0)","v":{"$error":"#REF!"}},{"$f":"IF(ЗАЯВКА!#REF!=\"да\",ЗАЯВКА!#REF!,0)","v":{"$error":"#REF!"}}]
[{"$f":"IF(ЗАЯВКА!#REF!=\"проектирование\",ЗАЯВКА!#REF!,0)","v":{"$error":"#REF!"}},{"$f":"IF(ЗАЯВКА!#REF!=\"строительно-монтажные работы\",ЗАЯВКА!#REF!,0)","v":{"$error":"#REF!"}},{"$f":"IF(ЗАЯВКА!#REF!=\"да\",ЗАЯВКА!#REF!,0)","v":{"$error":"#REF!"}}]
[{"$f":"IF(ЗАЯВКА!#REF!=\"проектирование\",ЗАЯВКА!#REF!,0)","v":{"$error":"#REF!"}},{"$f":"IF(ЗАЯВКА!#REF!=\"строительно-монтажные работы\",ЗАЯВКА!#REF!,0)","v":{"$error":"#REF!"}},{"$f":"IF(ЗАЯВКА!#REF!=\"да\",ЗАЯВКА!#REF!,0)","v":{"$error":"#REF!"}}]
[{"$f":"IF(ЗАЯВКА!#REF!=\"проектирование\",ЗАЯВКА!#REF!,0)","v":{"$error":"#REF!"}},{"$f":"IF(ЗАЯВКА!#REF!=\"строительно-монтажные работы\",ЗАЯВКА!#REF!,0)","v":{"$error":"#REF!"}},{"$f":"IF(ЗАЯВКА!#REF!=\"да\",ЗАЯВКА!#REF!,0)","v":{"$error":"#REF!"}}]
[{"$f":"IF(ЗАЯВКА!#REF!=\"проектирование\",ЗАЯВКА!#REF!,0)","v":{"$error":"#REF!"}},{"$f":"IF(ЗАЯВКА!#REF!=\"строительно-монтажные работы\",ЗАЯВКА!#REF!,0)","v":{"$error":"#REF!"}},{"$f":"IF(ЗАЯВКА!#REF!=\"да\",ЗАЯВКА!#REF!,0)","v":{"$error":"#REF!"}}]
[{"$f":"IF(ЗАЯВКА!#REF!=\"проектирование\",ЗАЯВКА!#REF!,0)","v":{"$error":"#REF!"}},{"$f":"IF(ЗАЯВКА!#REF!=\"строительно-монтажные работы\",ЗАЯВКА!#REF!,0)","v":{"$error":"#REF!"}},{"$f":"IF(ЗАЯВКА!#REF!=\"да\",ЗАЯВКА!#REF!,0)","v":{"$error":"#REF!"}}]
[{"$f":"IF(ЗАЯВКА!#REF!=\"проектирование\",ЗАЯВКА!#REF!,0)","v":{"$error":"#REF!"}},{"$f":"IF(ЗАЯВКА!#REF!=\"строительно-монтажные работы\",ЗАЯВКА!#REF!,0)","v":{"$error":"#REF!"}},{"$f":"IF(ЗАЯВКА!#REF!=\"да\",ЗАЯВКА!#REF!,0)","v":{"$error":"#REF!"}}]
[{"$f":"IF(ЗАЯВКА!#REF!=\"проектирование\",ЗАЯВКА!#REF!,0)","v":{"$error":"#REF!"}},{"$f":"IF(ЗАЯВКА!#REF!=\"строительно-монтажные работы\",ЗАЯВКА!#REF!,0)","v":{"$error":"#REF!"}},{"$f":"IF(ЗАЯВКА!#REF!=\"да\",ЗАЯВКА!#REF!,0)","v":{"$error":"#REF!"}}]
[{"$f":"IF(ЗАЯВКА!#REF!=\"проектирование\",ЗАЯВКА!#REF!,0)","v":{"$error":"#REF!"}},{"$f":"IF(ЗАЯВКА!#REF!=\"строительно-монтажные работы\",ЗАЯВКА!#REF!,0)","v":{"$error":"#REF!"}},{"$f":"IF(ЗАЯВКА!#REF!=\"да\",ЗАЯВКА!#REF!,0)","v":{"$error":"#REF!"}}]
[{"$f":"IF(ЗАЯВКА!#REF!=\"проектирование\",ЗАЯВКА!#REF!,0)","v":{"$error":"#REF!"}},{"$f":"IF(ЗАЯВКА!#REF!=\"строительно-монтажные работы\",ЗАЯВКА!#REF!,0)","v":{"$error":"#REF!"}},{"$f":"IF(ЗАЯВКА!#REF!=\"да\",ЗАЯВКА!#REF!,0)","v":{"$error":"#REF!"}}]
[{"$f":"IF(ЗАЯВКА!#REF!=\"проектирование\",ЗАЯВКА!#REF!,0)","v":{"$error":"#REF!"}},{"$f":"IF(ЗАЯВКА!#REF!=\"строительно-монтажные работы\",ЗАЯВКА!#REF!,0)","v":{"$error":"#REF!"}},{"$f":"IF(ЗАЯВКА!#REF!=\"да\",ЗАЯВКА!#REF!,0)","v":{"$error":"#REF!"}}]
[{"$f":"IF(ЗАЯВКА!#REF!=\"проектирование\",ЗАЯВКА!#REF!,0)","v":{"$error":"#REF!"}},{"$f":"IF(ЗАЯВКА!#REF!=\"строительно-монтажные работы\",ЗАЯВКА!#REF!,0)","v":{"$error":"#REF!"}},{"$f":"IF(ЗАЯВКА!#REF!=\"да\",ЗАЯВКА!#REF!,0)","v":{"$error":"#REF!"}}]
[{"$f":"IF(ЗАЯВКА!#REF!=\"проектирование\",ЗАЯВКА!#REF!,0)","v":{"$error":"#REF!"}},{"$f":"IF(ЗАЯВКА!#REF!=\"строительно-монтажные работы\",ЗАЯВКА!#REF!,0)","v":{"$error":"#REF!"}},{"$f":"IF(ЗАЯВКА!#REF!=\"да\",ЗАЯВКА!#REF!,0)","v":{"$error":"#REF!"}}]
[{"$f":"IF(ЗАЯВКА!#REF!=\"проектирование\",ЗАЯВКА!#REF!,0)","v":{"$error":"#REF!"}},{"$f":"IF(ЗАЯВКА!#REF!=\"строительно-монтажные работы\",ЗАЯВКА!#REF!,0)","v":{"$error":"#REF!"}},{"$f":"IF(ЗАЯВКА!#REF!=\"да\",ЗАЯВКА!#REF!,0)","v":{"$error":"#REF!"}}]
[{"$f":"IF(ЗАЯВКА!#REF!=\"проектирование\",ЗАЯВКА!#REF!,0)","v":{"$error":"#REF!"}},{"$f":"IF(ЗАЯВКА!#REF!=\"строительно-монтажные работы\",ЗАЯВКА!#REF!,0)","v":{"$error":"#REF!"}},{"$f":"IF(ЗАЯВКА!#REF!=\"да\",ЗАЯВКА!#REF!,0)","v":{"$error":"#REF!"}}]
[{"$f":"IF(ЗАЯВКА!#REF!=\"проектирование\",ЗАЯВКА!#REF!,0)","v":{"$error":"#REF!"}},{"$f":"IF(ЗАЯВКА!#REF!=\"строительно-монтажные работы\",ЗАЯВКА!#REF!,0)","v":{"$error":"#REF!"}},{"$f":"IF(ЗАЯВКА!#REF!=\"да\",ЗАЯВКА!#REF!,0)","v":{"$error":"#REF!"}}]
[{"$f":"IF(ЗАЯВКА!#REF!=\"проектирование\",ЗАЯВКА!#REF!,0)","v":{"$error":"#REF!"}},{"$f":"IF(ЗАЯВКА!#REF!=\"строительно-монтажные работы\",ЗАЯВКА!#REF!,0)","v":{"$error":"#REF!"}},{"$f":"IF(ЗАЯВКА!#REF!=\"да\",ЗАЯВКА!#REF!,0)","v":{"$error":"#REF!"}}]
[{"$f":"IF(ЗАЯВКА!#REF!=\"проектирование\",ЗАЯВКА!#REF!,0)","v":{"$error":"#REF!"}},{"$f":"IF(ЗАЯВКА!#REF!=\"строительно-монтажные работы\",ЗАЯВКА!#REF!,0)","v":{"$error":"#REF!"}},{"$f":"IF(ЗАЯВКА!#REF!=\"да\",ЗАЯВКА!#REF!,0)","v":{"$error":"#REF!"}}]
[{"$f":"IF(ЗАЯВКА!#REF!=\"проектирование\",ЗАЯВКА!#REF!,0)","v":{"$error":"#REF!"}},{"$f":"IF(ЗАЯВКА!#REF!=\"строительно-монтажные работы\",ЗАЯВКА!#REF!,0)","v":{"$error":"#REF!"}},{"$f":"IF(ЗАЯВКА!#REF!=\"да\",ЗАЯВКА!#REF!,0)","v":{"$error":"#REF!"}}]
[{"$f":"IF(ЗАЯВКА!#REF!=\"проектирование\",ЗАЯВКА!#REF!,0)","v":{"$error":"#REF!"}},{"$f":"IF(ЗАЯВКА!#REF!=\"строительно-монтажные работы\",ЗАЯВКА!#REF!,0)","v":{"$error":"#REF!"}},{"$f":"IF(ЗАЯВКА!#REF!=\"да\",ЗАЯВКА!#REF!,0)","v":{"$error":"#REF!"}}]
[{"$f":"IF(ЗАЯВКА!#REF!=\"проектирование\",ЗАЯВКА!#REF!,0)","v":{"$error":"#REF!"}},{"$f":"IF(ЗАЯВКА!#REF!=\"строительно-монтажные работы\",ЗАЯВКА!#REF!,0)","v":{"$error":"#REF!"}},{"$f":"IF(ЗАЯВКА!#REF!=\"да\",ЗАЯВКА!#REF!,0)","v":{"$error":"#REF!"}}]
[{"$f":"IF(ЗАЯВКА!#REF!=\"проектирование\",ЗАЯВКА!#REF!,0)","v":{"$error":"#REF!"}},{"$f":"IF(ЗАЯВКА!#REF!=\"строительно-монтажные работы\",ЗАЯВКА!#REF!,0)","v":{"$error":"#REF!"}},{"$f":"IF(ЗАЯВКА!#REF!=\"да\",ЗАЯВКА!#REF!,0)","v":{"$error":"#REF!"}}]
[{"$f":"IF(ЗАЯВКА!#REF!=\"проектирование\",ЗАЯВКА!#REF!,0)","v":{"$error":"#REF!"}},{"$f":"IF(ЗАЯВКА!#REF!=\"строительно-монтажные работы\",ЗАЯВКА!#REF!,0)","v":{"$error":"#REF!"}},{"$f":"IF(ЗАЯВКА!#REF!=\"да\",ЗАЯВКА!#REF!,0)","v":{"$error":"#REF!"}}]
[{"$f":"IF(ЗАЯВКА!#REF!=\"проектирование\",ЗАЯВКА!#REF!,0)","v":{"$error":"#REF!"}},{"$f":"IF(ЗАЯВКА!#REF!=\"строительно-монтажные работы\",ЗАЯВКА!#REF!,0)","v":{"$error":"#REF!"}},{"$f":"IF(ЗАЯВКА!#REF!=\"да\",ЗАЯВКА!#REF!,0)","v":{"$error":"#REF!"}}]
[{"$f":"IF(ЗАЯВКА!#REF!=\"проектирование\",ЗАЯВКА!#REF!,0)","v":{"$error":"#REF!"}},{"$f":"IF(ЗАЯВКА!#REF!=\"строительно-монтажные работы\",ЗАЯВКА!#REF!,0)","v":{"$error":"#REF!"}},{"$f":"IF(ЗАЯВКА!#REF!=\"да\",ЗАЯВКА!#REF!,0)","v":{"$error":"#REF!"}}]
[{"$f":"IF(ЗАЯВКА!#REF!=\"проектирование\",ЗАЯВКА!#REF!,0)","v":{"$error":"#REF!"}},{"$f":"IF(ЗАЯВКА!#REF!=\"строительно-монтажные работы\",ЗАЯВКА!#REF!,0)","v":{"$error":"#REF!"}},{"$f":"IF(ЗАЯВКА!#REF!=\"да\",ЗАЯВКА!#REF!,0)","v":{"$error":"#REF!"}}]
[{"$f":"IF(ЗАЯВКА!#REF!=\"проектирование\",ЗАЯВКА!#REF!,0)","v":{"$error":"#REF!"}},{"$f":"IF(ЗАЯВКА!#REF!=\"строительно-монтажные работы\",ЗАЯВКА!#REF!,0)","v":{"$error":"#REF!"}},{"$f":"IF(ЗАЯВКА!#REF!=\"да\",ЗАЯВКА!#REF!,0)","v":{"$error":"#REF!"}}]
[{"$f":"IF(ЗАЯВКА!#REF!=\"проектирование\",ЗАЯВКА!#REF!,0)","v":{"$error":"#REF!"}},{"$f":"IF(ЗАЯВКА!#REF!=\"строительно-монтажные работы\",ЗАЯВКА!#REF!,0)","v":{"$error":"#REF!"}},{"$f":"IF(ЗАЯВКА!#REF!=\"да\",ЗАЯВКА!#REF!,0)","v":{"$error":"#REF!"}}]
[{"$f":"IF(ЗАЯВКА!#REF!=\"проектирование\",ЗАЯВКА!#REF!,0)","v":{"$error":"#REF!"}},{"$f":"IF(ЗАЯВКА!#REF!=\"строительно-монтажные работы\",ЗАЯВКА!#REF!,0)","v":{"$error":"#REF!"}},{"$f":"IF(ЗАЯВКА!#REF!=\"да\",ЗАЯВКА!#REF!,0)","v":{"$error":"#REF!"}}]
[{"$f":"IF(ЗАЯВКА!#REF!=\"проектирование\",ЗАЯВКА!#REF!,0)","v":{"$error":"#REF!"}},{"$f":"IF(ЗАЯВКА!#REF!=\"строительно-монтажные работы\",ЗАЯВКА!#REF!,0)","v":{"$error":"#REF!"}},{"$f":"IF(ЗАЯВКА!#REF!=\"да\",ЗАЯВКА!#REF!,0)","v":{"$error":"#REF!"}}]
[{"$f":"IF(ЗАЯВКА!#REF!=\"проектирование\",ЗАЯВКА!#REF!,0)","v":{"$error":"#REF!"}},{"$f":"IF(ЗАЯВКА!#REF!=\"строительно-монтажные работы\",ЗАЯВКА!#REF!,0)","v":{"$error":"#REF!"}},{"$f":"IF(ЗАЯВКА!#REF!=\"да\",ЗАЯВКА!#REF!,0)","v":{"$error":"#REF!"}}]
[{"$f":"IF(ЗАЯВКА!#REF!=\"проектирование\",ЗАЯВКА!#REF!,0)","v":{"$error":"#REF!"}},{"$f":"IF(ЗАЯВКА!#REF!=\"строительно-монтажные работы\",ЗАЯВКА!#REF!,0)","v":{"$error":"#REF!"}},{"$f":"IF(ЗАЯВКА!#REF!=\"да\",ЗАЯВКА!#REF!,0)","v":{"$error":"#REF!"}}]
[{"$f":"IF(ЗАЯВКА!#REF!=\"проектирование\",ЗАЯВКА!#REF!,0)","v":{"$error":"#REF!"}},{"$f":"IF(ЗАЯВКА!#REF!=\"строительно-монтажные работы\",ЗАЯВКА!#REF!,0)","v":{"$error":"#REF!"}},{"$f":"IF(ЗАЯВКА!#REF!=\"да\",ЗАЯВКА!#REF!,0)","v":{"$error":"#REF!"}}]
[{"$f":"IF(ЗАЯВКА!#REF!=\"проектирование\",ЗАЯВКА!#REF!,0)","v":{"$error":"#REF!"}},{"$f":"IF(ЗАЯВКА!#REF!=\"строительно-монтажные работы\",ЗАЯВКА!#REF!,0)","v":{"$error":"#REF!"}},{"$f":"IF(ЗАЯВКА!#REF!=\"да\",ЗАЯВКА!#REF!,0)","v":{"$error":"#REF!"}}]
[{"$f":"IF(ЗАЯВКА!#REF!=\"проектирование\",ЗАЯВКА!#REF!,0)","v":{"$error":"#REF!"}},{"$f":"IF(ЗАЯВКА!#REF!=\"строительно-монтажные работы\",ЗАЯВКА!#REF!,0)","v":{"$error":"#REF!"}},{"$f":"IF(ЗАЯВКА!#REF!=\"да\",ЗАЯВКА!#REF!,0)","v":{"$error":"#REF!"}}]
[{"$f":"IF(ЗАЯВКА!#REF!=\"проектирование\",ЗАЯВКА!#REF!,0)","v":{"$error":"#REF!"}},{"$f":"IF(ЗАЯВКА!#REF!=\"строительно-монтажные работы\",ЗАЯВКА!#REF!,0)","v":{"$error":"#REF!"}},{"$f":"IF(ЗАЯВКА!#REF!=\"да\",ЗАЯВКА!#REF!,0)","v":{"$error":"#REF!"}}]
[{"$f":"IF(ЗАЯВКА!#REF!=\"проектирование\",ЗАЯВКА!#REF!,0)","v":{"$error":"#REF!"}},{"$f":"IF(ЗАЯВКА!#REF!=\"строительно-монтажные работы\",ЗАЯВКА!#REF!,0)","v":{"$error":"#REF!"}},{"$f":"IF(ЗАЯВКА!#REF!=\"да\",ЗАЯВКА!#REF!,0)","v":{"$error":"#REF!"}}]
[{"$f":"IF(ЗАЯВКА!#REF!=\"проектирование\",ЗАЯВКА!#REF!,0)","v":{"$error":"#REF!"}},{"$f":"IF(ЗАЯВКА!#REF!=\"строительно-монтажные работы\",ЗАЯВКА!#REF!,0)","v":{"$error":"#REF!"}},{"$f":"IF(ЗАЯВКА!#REF!=\"да\",ЗАЯВКА!#REF!,0)","v":{"$error":"#REF!"}}]
[{"$f":"IF(ЗАЯВКА!#REF!=\"проектирование\",ЗАЯВКА!#REF!,0)","v":{"$error":"#REF!"}},{"$f":"IF(ЗАЯВКА!#REF!=\"строительно-монтажные работы\",ЗАЯВКА!#REF!,0)","v":{"$error":"#REF!"}},{"$f":"IF(ЗАЯВКА!#REF!=\"да\",ЗАЯВКА!#REF!,0)","v":{"$error":"#REF!"}}]
[{"$f":"IF(ЗАЯВКА!#REF!=\"проектирование\",ЗАЯВКА!#REF!,0)","v":{"$error":"#REF!"}},{"$f":"IF(ЗАЯВКА!#REF!=\"строительно-монтажные работы\",ЗАЯВКА!#REF!,0)","v":{"$error":"#REF!"}},{"$f":"IF(ЗАЯВКА!#REF!=\"да\",ЗАЯВКА!#REF!,0)","v":{"$error":"#REF!"}}]
[{"$f":"IF(ЗАЯВКА!#REF!=\"проектирование\",ЗАЯВКА!#REF!,0)","v":{"$error":"#REF!"}},{"$f":"IF(ЗАЯВКА!#REF!=\"строительно-монтажные работы\",ЗАЯВКА!#REF!,0)","v":{"$error":"#REF!"}},{"$f":"IF(ЗАЯВКА!#REF!=\"да\",ЗАЯВКА!#REF!,0)","v":{"$error":"#REF!"}}]
[{"$f":"IF(ЗАЯВКА!#REF!=\"проектирование\",ЗАЯВКА!#REF!,0)","v":{"$error":"#REF!"}},{"$f":"IF(ЗАЯВКА!#REF!=\"строительно-монтажные работы\",ЗАЯВКА!#REF!,0)","v":{"$error":"#REF!"}},{"$f":"IF(ЗАЯВКА!#REF!=\"да\",ЗАЯВКА!#REF!,0)","v":{"$error":"#REF!"}}]
[{"$f":"IF(ЗАЯВКА!#REF!=\"проектирование\",ЗАЯВКА!#REF!,0)","v":{"$error":"#REF!"}},{"$f":"IF(ЗАЯВКА!#REF!=\"строительно-монтажные работы\",ЗАЯВКА!#REF!,0)","v":{"$error":"#REF!"}},{"$f":"IF(ЗАЯВКА!#REF!=\"да\",ЗАЯВКА!#REF!,0)","v":{"$error":"#REF!"}}]
[{"$f":"IF(ЗАЯВКА!#REF!=\"проектирование\",ЗАЯВКА!#REF!,0)","v":{"$error":"#REF!"}},{"$f":"IF(ЗАЯВКА!#REF!=\"строительно-монтажные работы\",ЗАЯВКА!#REF!,0)","v":{"$error":"#REF!"}},{"$f":"IF(ЗАЯВКА!#REF!=\"да\",ЗАЯВКА!#REF!,0)","v":{"$error":"#REF!"}}]
[{"$f":"IF(ЗАЯВКА!#REF!=\"проектирование\",ЗАЯВКА!#REF!,0)","v":{"$error":"#REF!"}},{"$f":"IF(ЗАЯВКА!#REF!=\"строительно-монтажные работы\",ЗАЯВКА!#REF!,0)","v":{"$error":"#REF!"}},{"$f":"IF(ЗАЯВКА!#REF!=\"да\",ЗАЯВКА!#REF!,0)","v":{"$error":"#REF!"}}]
[{"$f":"IF(ЗАЯВКА!#REF!=\"проектирование\",ЗАЯВКА!#REF!,0)","v":{"$error":"#REF!"}},{"$f":"IF(ЗАЯВКА!#REF!=\"строительно-монтажные работы\",ЗАЯВКА!#REF!,0)","v":{"$error":"#REF!"}},{"$f":"IF(ЗАЯВКА!#REF!=\"да\",ЗАЯВКА!#REF!,0)","v":{"$error":"#REF!"}}]
[{"$f":"IF(ЗАЯВКА!#REF!=\"проектирование\",ЗАЯВКА!#REF!,0)","v":{"$error":"#REF!"}},{"$f":"IF(ЗАЯВКА!#REF!=\"строительно-монтажные работы\",ЗАЯВКА!#REF!,0)","v":{"$error":"#REF!"}},{"$f":"IF(ЗАЯВКА!#REF!=\"да\",ЗАЯВКА!#REF!,0)","v":{"$error":"#REF!"}}]
[{"$f":"IF(ЗАЯВКА!#REF!=\"проектирование\",ЗАЯВКА!#REF!,0)","v":{"$error":"#REF!"}},{"$f":"IF(ЗАЯВКА!#REF!=\"строительно-монтажные работы\",ЗАЯВКА!#REF!,0)","v":{"$error":"#REF!"}},{"$f":"IF(ЗАЯВКА!#REF!=\"да\",ЗАЯВКА!#REF!,0)","v":{"$error":"#REF!"}}]
[{"$f":"IF(ЗАЯВКА!#REF!=\"проектирование\",ЗАЯВКА!#REF!,0)","v":{"$error":"#REF!"}},{"$f":"IF(ЗАЯВКА!#REF!=\"строительно-монтажные работы\",ЗАЯВКА!#REF!,0)","v":{"$error":"#REF!"}},{"$f":"IF(ЗАЯВКА!#REF!=\"да\",ЗАЯВКА!#REF!,0)","v":{"$error":"#REF!"}}]
[{"$f":"IF(ЗАЯВКА!#REF!=\"проектирование\",ЗАЯВКА!#REF!,0)","v":{"$error":"#REF!"}},{"$f":"IF(ЗАЯВКА!#REF!=\"строительно-монтажные работы\",ЗАЯВКА!#REF!,0)","v":{"$error":"#REF!"}},{"$f":"IF(ЗАЯВКА!#REF!=\"да\",ЗАЯВКА!#REF!,0)","v":{"$error":"#REF!"}}]
[{"$f":"IF(ЗАЯВКА!#REF!=\"проектирование\",ЗАЯВКА!#REF!,0)","v":{"$error":"#REF!"}},{"$f":"IF(ЗАЯВКА!#REF!=\"строительно-монтажные работы\",ЗАЯВКА!#REF!,0)","v":{"$error":"#REF!"}},{"$f":"IF(ЗАЯВКА!#REF!=\"да\",ЗАЯВКА!#REF!,0)","v":{"$error":"#REF!"}}]
[{"$f":"IF(ЗАЯВКА!#REF!=\"проектирование\",ЗАЯВКА!#REF!,0)","v":{"$error":"#REF!"}},{"$f":"IF(ЗАЯВКА!#REF!=\"строительно-монтажные работы\",ЗАЯВКА!#REF!,0)","v":{"$error":"#REF!"}},{"$f":"IF(ЗАЯВКА!#REF!=\"да\",ЗАЯВКА!#REF!,0)","v":{"$error":"#REF!"}}]
[{"$f":"IF(ЗАЯВКА!#REF!=\"проектирование\",ЗАЯВКА!#REF!,0)","v":{"$error":"#REF!"}},{"$f":"IF(ЗАЯВКА!#REF!=\"строительно-монтажные работы\",ЗАЯВКА!#REF!,0)","v":{"$error":"#REF!"}},{"$f":"IF(ЗАЯВКА!#REF!=\"да\",ЗАЯВКА!#REF!,0)","v":{"$error":"#REF!"}}]
[{"$f":"IF(ЗАЯВКА!#REF!=\"проектирование\",ЗАЯВКА!#REF!,0)","v":{"$error":"#REF!"}},{"$f":"IF(ЗАЯВКА!#REF!=\"строительно-монтажные работы\",ЗАЯВКА!#REF!,0)","v":{"$error":"#REF!"}},{"$f":"IF(ЗАЯВКА!#REF!=\"да\",ЗАЯВКА!#REF!,0)","v":{"$error":"#REF!"}}]
[{"$f":"IF(ЗАЯВКА!#REF!=\"проектирование\",ЗАЯВКА!#REF!,0)","v":{"$error":"#REF!"}},{"$f":"IF(ЗАЯВКА!#REF!=\"строительно-монтажные работы\",ЗАЯВКА!#REF!,0)","v":{"$error":"#REF!"}},{"$f":"IF(ЗАЯВКА!#REF!=\"да\",ЗАЯВКА!#REF!,0)","v":{"$error":"#REF!"}}]
[{"$f":"IF(ЗАЯВКА!#REF!=\"проектирование\",ЗАЯВКА!#REF!,0)","v":{"$error":"#REF!"}},{"$f":"IF(ЗАЯВКА!#REF!=\"строительно-монтажные работы\",ЗАЯВКА!#REF!,0)","v":{"$error":"#REF!"}},{"$f":"IF(ЗАЯВКА!#REF!=\"да\",ЗАЯВКА!#REF!,0)","v":{"$error":"#REF!"}}]
[{"$f":"IF(ЗАЯВКА!#REF!=\"проектирование\",ЗАЯВКА!#REF!,0)","v":{"$error":"#REF!"}},{"$f":"IF(ЗАЯВКА!#REF!=\"строительно-монтажные работы\",ЗАЯВКА!#REF!,0)","v":{"$error":"#REF!"}},{"$f":"IF(ЗАЯВКА!#REF!=\"да\",ЗАЯВКА!#REF!,0)","v":{"$error":"#REF!"}}]
[{"$f":"IF(ЗАЯВКА!#REF!=\"проектирование\",ЗАЯВКА!#REF!,0)","v":{"$error":"#REF!"}},{"$f":"IF(ЗАЯВКА!#REF!=\"строительно-монтажные работы\",ЗАЯВКА!#REF!,0)","v":{"$error":"#REF!"}},{"$f":"IF(ЗАЯВКА!#REF!=\"да\",ЗАЯВКА!#REF!,0)","v":{"$error":"#REF!"}}]
[{"$f":"IF(ЗАЯВКА!#REF!=\"проектирование\",ЗАЯВКА!#REF!,0)","v":{"$error":"#REF!"}},{"$f":"IF(ЗАЯВКА!#REF!=\"строительно-монтажные работы\",ЗАЯВКА!#REF!,0)","v":{"$error":"#REF!"}},{"$f":"IF(ЗАЯВКА!#REF!=\"да\",ЗАЯВКА!#REF!,0)","v":{"$error":"#REF!"}}]
[{"$f":"IF(ЗАЯВКА!#REF!=\"проектирование\",ЗАЯВКА!#REF!,0)","v":{"$error":"#REF!"}},{"$f":"IF(ЗАЯВКА!#REF!=\"строительно-монтажные работы\",ЗАЯВКА!#REF!,0)","v":{"$error":"#REF!"}},{"$f":"IF(ЗАЯВКА!#REF!=\"да\",ЗАЯВКА!#REF!,0)","v":{"$error":"#REF!"}}]
[{"$f":"IF(ЗАЯВКА!#REF!=\"проектирование\",ЗАЯВКА!#REF!,0)","v":{"$error":"#REF!"}},{"$f":"IF(ЗАЯВКА!#REF!=\"строительно-монтажные работы\",ЗАЯВКА!#REF!,0)","v":{"$error":"#REF!"}},{"$f":"IF(ЗАЯВКА!#REF!=\"да\",ЗАЯВКА!#REF!,0)","v":{"$error":"#REF!"}}]
[{"$f":"IF(ЗАЯВКА!#REF!=\"проектирование\",ЗАЯВКА!#REF!,0)","v":{"$error":"#REF!"}},{"$f":"IF(ЗАЯВКА!#REF!=\"строительно-монтажные работы\",ЗАЯВКА!#REF!,0)","v":{"$error":"#REF!"}},{"$f":"IF(ЗАЯВКА!#REF!=\"да\",ЗАЯВКА!#REF!,0)","v":{"$error":"#REF!"}}]
[{"$f":"IF(ЗАЯВКА!#REF!=\"проектирование\",ЗАЯВКА!#REF!,0)","v":{"$error":"#REF!"}},{"$f":"IF(ЗАЯВКА!#REF!=\"строительно-монтажные работы\",ЗАЯВКА!#REF!,0)","v":{"$error":"#REF!"}},{"$f":"IF(ЗАЯВКА!#REF!=\"да\",ЗАЯВКА!#REF!,0)","v":{"$error":"#REF!"}}]
[{"$f":"IF(ЗАЯВКА!#REF!=\"проектирование\",ЗАЯВКА!#REF!,0)","v":{"$error":"#REF!"}},{"$f":"IF(ЗАЯВКА!#REF!=\"строительно-монтажные работы\",ЗАЯВКА!#REF!,0)","v":{"$error":"#REF!"}},{"$f":"IF(ЗАЯВКА!#REF!=\"да\",ЗАЯВКА!#REF!,0)","v":{"$error":"#REF!"}}]
[{"$f":"IF(ЗАЯВКА!#REF!=\"проектирование\",ЗАЯВКА!#REF!,0)","v":{"$error":"#REF!"}},{"$f":"IF(ЗАЯВКА!#REF!=\"строительно-монтажные работы\",ЗАЯВКА!#REF!,0)","v":{"$error":"#REF!"}},{"$f":"IF(ЗАЯВКА!#REF!=\"да\",ЗАЯВКА!#REF!,0)","v":{"$error":"#REF!"}}]
[{"$f":"IF(ЗАЯВКА!#REF!=\"проектирование\",ЗАЯВКА!#REF!,0)","v":{"$error":"#REF!"}},{"$f":"IF(ЗАЯВКА!#REF!=\"строительно-монтажные работы\",ЗАЯВКА!#REF!,0)","v":{"$error":"#REF!"}},{"$f":"IF(ЗАЯВКА!#REF!=\"да\",ЗАЯВКА!#REF!,0)","v":{"$error":"#REF!"}}]
[{"$f":"IF(ЗАЯВКА!#REF!=\"проектирование\",ЗАЯВКА!#REF!,0)","v":{"$error":"#REF!"}},{"$f":"IF(ЗАЯВКА!#REF!=\"строительно-монтажные работы\",ЗАЯВКА!#REF!,0)","v":{"$error":"#REF!"}},{"$f":"IF(ЗАЯВКА!#REF!=\"да\",ЗАЯВКА!#REF!,0)","v":{"$error":"#REF!"}}]
[{"$f":"IF(ЗАЯВКА!#REF!=\"проектирование\",ЗАЯВКА!#REF!,0)","v":{"$error":"#REF!"}},{"$f":"IF(ЗАЯВКА!#REF!=\"строительно-монтажные работы\",ЗАЯВКА!#REF!,0)","v":{"$error":"#REF!"}},{"$f":"IF(ЗАЯВКА!#REF!=\"да\",ЗАЯВКА!#REF!,0)","v":{"$error":"#REF!"}}]
[{"$f":"IF(ЗАЯВКА!#REF!=\"проектирование\",ЗАЯВКА!#REF!,0)","v":{"$error":"#REF!"}},{"$f":"IF(ЗАЯВКА!#REF!=\"строительно-монтажные работы\",ЗАЯВКА!#REF!,0)","v":{"$error":"#REF!"}},{"$f":"IF(ЗАЯВКА!#REF!=\"да\",ЗАЯВКА!#REF!,0)","v":{"$error":"#REF!"}}]
[{"$f":"IF(ЗАЯВКА!#REF!=\"проектирование\",ЗАЯВКА!#REF!,0)","v":{"$error":"#REF!"}},{"$f":"IF(ЗАЯВКА!#REF!=\"строительно-монтажные работы\",ЗАЯВКА!#REF!,0)","v":{"$error":"#REF!"}},{"$f":"IF(ЗАЯВКА!#REF!=\"да\",ЗАЯВКА!#REF!,0)","v":{"$error":"#REF!"}}]
[{"$f":"IF(ЗАЯВКА!#REF!=\"проектирование\",ЗАЯВКА!#REF!,0)","v":{"$error":"#REF!"}},{"$f":"IF(ЗАЯВКА!#REF!=\"строительно-монтажные работы\",ЗАЯВКА!#REF!,0)","v":{"$error":"#REF!"}},{"$f":"IF(ЗАЯВКА!#REF!=\"да\",ЗАЯВКА!#REF!,0)","v":{"$error":"#REF!"}}]
[{"$f":"IF(ЗАЯВКА!#REF!=\"проектирование\",ЗАЯВКА!#REF!,0)","v":{"$error":"#REF!"}},{"$f":"IF(ЗАЯВКА!#REF!=\"строительно-монтажные работы\",ЗАЯВКА!#REF!,0)","v":{"$error":"#REF!"}},{"$f":"IF(ЗАЯВКА!#REF!=\"да\",ЗАЯВКА!#REF!,0)","v":{"$error":"#REF!"}}]
[{"$f":"IF(ЗАЯВКА!#REF!=\"проектирование\",ЗАЯВКА!#REF!,0)","v":{"$error":"#REF!"}},{"$f":"IF(ЗАЯВКА!#REF!=\"строительно-монтажные работы\",ЗАЯВКА!#REF!,0)","v":{"$error":"#REF!"}},{"$f":"IF(ЗАЯВКА!#REF!=\"да\",ЗАЯВКА!#REF!,0)","v":{"$error":"#REF!"}}]
[{"$f":"IF(ЗАЯВКА!#REF!=\"проектирование\",ЗАЯВКА!#REF!,0)","v":{"$error":"#REF!"}},{"$f":"IF(ЗАЯВКА!#REF!=\"строительно-монтажные работы\",ЗАЯВКА!#REF!,0)","v":{"$error":"#REF!"}},{"$f":"IF(ЗАЯВКА!#REF!=\"да\",ЗАЯВКА!#REF!,0)","v":{"$error":"#REF!"}}]
[{"$f":"IF(ЗАЯВКА!#REF!=\"проектирование\",ЗАЯВКА!#REF!,0)","v":{"$error":"#REF!"}},{"$f":"IF(ЗАЯВКА!#REF!=\"строительно-монтажные работы\",ЗАЯВКА!#REF!,0)","v":{"$error":"#REF!"}},{"$f":"IF(ЗАЯВКА!#REF!=\"да\",ЗАЯВКА!#REF!,0)","v":{"$error":"#REF!"}}]
[{"$f":"IF(ЗАЯВКА!#REF!=\"проектирование\",ЗАЯВКА!#REF!,0)","v":{"$error":"#REF!"}},{"$f":"IF(ЗАЯВКА!#REF!=\"строительно-монтажные работы\",ЗАЯВКА!#REF!,0)","v":{"$error":"#REF!"}},{"$f":"IF(ЗАЯВКА!#REF!=\"да\",ЗАЯВКА!#REF!,0)","v":{"$error":"#REF!"}}]
[{"$f":"IF(ЗАЯВКА!#REF!=\"проектирование\",ЗАЯВКА!#REF!,0)","v":{"$error":"#REF!"}},{"$f":"IF(ЗАЯВКА!#REF!=\"строительно-монтажные работы\",ЗАЯВКА!#REF!,0)","v":{"$error":"#REF!"}},{"$f":"IF(ЗАЯВКА!#REF!=\"да\",ЗАЯВКА!#REF!,0)","v":{"$error":"#REF!"}}]
[{"$f":"IF(ЗАЯВКА!#REF!=\"проектирование\",ЗАЯВКА!#REF!,0)","v":{"$error":"#REF!"}},{"$f":"IF(ЗАЯВКА!#REF!=\"строительно-монтажные работы\",ЗАЯВКА!#REF!,0)","v":{"$error":"#REF!"}},{"$f":"IF(ЗАЯВКА!#REF!=\"да\",ЗАЯВКА!#REF!,0)","v":{"$error":"#REF!"}}]
[{"$f":"IF(ЗАЯВКА!#REF!=\"проектирование\",ЗАЯВКА!#REF!,0)","v":{"$error":"#REF!"}},{"$f":"IF(ЗАЯВКА!#REF!=\"строительно-монтажные работы\",ЗАЯВКА!#REF!,0)","v":{"$error":"#REF!"}},{"$f":"IF(ЗАЯВКА!#REF!=\"да\",ЗАЯВКА!#REF!,0)","v":{"$error":"#REF!"}}]
[{"$f":"IF(ЗАЯВКА!#REF!=\"проектирование\",ЗАЯВКА!#REF!,0)","v":{"$error":"#REF!"}},{"$f":"IF(ЗАЯВКА!#REF!=\"строительно-монтажные работы\",ЗАЯВКА!#REF!,0)","v":{"$error":"#REF!"}},{"$f":"IF(ЗАЯВКА!#REF!=\"да\",ЗАЯВКА!#REF!,0)","v":{"$error":"#REF!"}}]
[{"$f":"IF(ЗАЯВКА!#REF!=\"проектирование\",ЗАЯВКА!#REF!,0)","v":{"$error":"#REF!"}},{"$f":"IF(ЗАЯВКА!#REF!=\"строительно-монтажные работы\",ЗАЯВКА!#REF!,0)","v":{"$error":"#REF!"}},{"$f":"IF(ЗАЯВКА!#REF!=\"да\",ЗАЯВКА!#REF!,0)","v":{"$error":"#REF!"}}]
[{"$f":"IF(ЗАЯВКА!#REF!=\"проектирование\",ЗАЯВКА!#REF!,0)","v":{"$error":"#REF!"}},{"$f":"IF(ЗАЯВКА!#REF!=\"строительно-монтажные работы\",ЗАЯВКА!#REF!,0)","v":{"$error":"#REF!"}},{"$f":"IF(ЗАЯВКА!#REF!=\"да\",ЗАЯВКА!#REF!,0)","v":{"$error":"#REF!"}}]
[{"$f":"IF(ЗАЯВКА!#REF!=\"проектирование\",ЗАЯВКА!#REF!,0)","v":{"$error":"#REF!"}},{"$f":"IF(ЗАЯВКА!#REF!=\"строительно-монтажные работы\",ЗАЯВКА!#REF!,0)","v":{"$error":"#REF!"}},{"$f":"IF(ЗАЯВКА!#REF!=\"да\",ЗАЯВКА!#REF!,0)","v":{"$error":"#REF!"}}]
[{"$f":"IF(ЗАЯВКА!#REF!=\"проектирование\",ЗАЯВКА!#REF!,0)","v":{"$error":"#REF!"}},{"$f":"IF(ЗАЯВКА!#REF!=\"строительно-монтажные работы\",ЗАЯВКА!#REF!,0)","v":{"$error":"#REF!"}},{"$f":"IF(ЗАЯВКА!#REF!=\"да\",ЗАЯВКА!#REF!,0)","v":{"$error":"#REF!"}}]
[{"$f":"IF(ЗАЯВКА!#REF!=\"проектирование\",ЗАЯВКА!#REF!,0)","v":{"$error":"#REF!"}},{"$f":"IF(ЗАЯВКА!#REF!=\"строительно-монтажные работы\",ЗАЯВКА!#REF!,0)","v":{"$error":"#REF!"}},{"$f":"IF(ЗАЯВКА!#REF!=\"да\",ЗАЯВКА!#REF!,0)","v":{"$error":"#REF!"}}]
[{"$f":"IF(ЗАЯВКА!#REF!=\"проектирование\",ЗАЯВКА!#REF!,0)","v":{"$error":"#REF!"}},{"$f":"IF(ЗАЯВКА!#REF!=\"строительно-монтажные работы\",ЗАЯВКА!#REF!,0)","v":{"$error":"#REF!"}},{"$f":"IF(ЗАЯВКА!#REF!=\"да\",ЗАЯВКА!#REF!,0)","v":{"$error":"#REF!"}}]
[{"$f":"IF(ЗАЯВКА!#REF!=\"проектирование\",ЗАЯВКА!#REF!,0)","v":{"$error":"#REF!"}},{"$f":"IF(ЗАЯВКА!#REF!=\"строительно-монтажные работы\",ЗАЯВКА!#REF!,0)","v":{"$error":"#REF!"}},{"$f":"IF(ЗАЯВКА!#REF!=\"да\",ЗАЯВКА!#REF!,0)","v":{"$error":"#REF!"}}]
[{"$f":"IF(ЗАЯВКА!#REF!=\"проектирование\",ЗАЯВКА!#REF!,0)","v":{"$error":"#REF!"}},{"$f":"IF(ЗАЯВКА!#REF!=\"строительно-монтажные работы\",ЗАЯВКА!#REF!,0)","v":{"$error":"#REF!"}},{"$f":"IF(ЗАЯВКА!#REF!=\"да\",ЗАЯВКА!#REF!,0)","v":{"$error":"#REF!"}}]
[{"$f":"IF(ЗАЯВКА!#REF!=\"проектирование\",ЗАЯВКА!#REF!,0)","v":{"$error":"#REF!"}},{"$f":"IF(ЗАЯВКА!#REF!=\"строительно-монтажные работы\",ЗАЯВКА!#REF!,0)","v":{"$error":"#REF!"}},{"$f":"IF(ЗАЯВКА!#REF!=\"да\",ЗАЯВКА!#REF!,0)","v":{"$error":"#REF!"}}]
[{"$f":"IF(ЗАЯВКА!#REF!=\"проектирование\",ЗАЯВКА!#REF!,0)","v":{"$error":"#REF!"}},{"$f":"IF(ЗАЯВКА!#REF!=\"строительно-монтажные работы\",ЗАЯВКА!#REF!,0)","v":{"$error":"#REF!"}},{"$f":"IF(ЗАЯВКА!#REF!=\"да\",ЗАЯВКА!#REF!,0)","v":{"$error":"#REF!"}}]
[{"$f":"IF(ЗАЯВКА!#REF!=\"проектирование\",ЗАЯВКА!#REF!,0)","v":{"$error":"#REF!"}},{"$f":"IF(ЗАЯВКА!#REF!=\"строительно-монтажные работы\",ЗАЯВКА!#REF!,0)","v":{"$error":"#REF!"}},{"$f":"IF(ЗАЯВКА!#REF!=\"да\",ЗАЯВКА!#REF!,0)","v":{"$error":"#REF!"}}]
[{"$f":"IF(ЗАЯВКА!#REF!=\"проектирование\",ЗАЯВКА!#REF!,0)","v":{"$error":"#REF!"}},{"$f":"IF(ЗАЯВКА!#REF!=\"строительно-монтажные работы\",ЗАЯВКА!#REF!,0)","v":{"$error":"#REF!"}},{"$f":"IF(ЗАЯВКА!#REF!=\"да\",ЗАЯВКА!#REF!,0)","v":{"$error":"#REF!"}}]
[{"$f":"IF(ЗАЯВКА!#REF!=\"проектирование\",ЗАЯВКА!#REF!,0)","v":{"$error":"#REF!"}},{"$f":"IF(ЗАЯВКА!#REF!=\"строительно-монтажные работы\",ЗАЯВКА!#REF!,0)","v":{"$error":"#REF!"}},{"$f":"IF(ЗАЯВКА!#REF!=\"да\",ЗАЯВКА!#REF!,0)","v":{"$error":"#REF!"}}]
[{"$f":"IF(ЗАЯВКА!#REF!=\"проектирование\",ЗАЯВКА!#REF!,0)","v":{"$error":"#REF!"}},{"$f":"IF(ЗАЯВКА!#REF!=\"строительно-монтажные работы\",ЗАЯВКА!#REF!,0)","v":{"$error":"#REF!"}},{"$f":"IF(ЗАЯВКА!#REF!=\"да\",ЗАЯВКА!#REF!,0)","v":{"$error":"#REF!"}}]
[{"$f":"IF(ЗАЯВКА!#REF!=\"проектирование\",ЗАЯВКА!#REF!,0)","v":{"$error":"#REF!"}},{"$f":"IF(ЗАЯВКА!#REF!=\"строительно-монтажные работы\",ЗАЯВКА!#REF!,0)","v":{"$error":"#REF!"}},{"$f":"IF(ЗАЯВКА!#REF!=\"да\",ЗАЯВКА!#REF!,0)","v":{"$error":"#REF!"}}]
[{"$f":"IF(ЗАЯВКА!#REF!=\"проектирование\",ЗАЯВКА!#REF!,0)","v":{"$error":"#REF!"}},{"$f":"IF(ЗАЯВКА!#REF!=\"строительно-монтажные работы\",ЗАЯВКА!#REF!,0)","v":{"$error":"#REF!"}},{"$f":"IF(ЗАЯВКА!#REF!=\"да\",ЗАЯВКА!#REF!,0)","v":{"$error":"#REF!"}}]
[{"$f":"IF(ЗАЯВКА!#REF!=\"проектирование\",ЗАЯВКА!#REF!,0)","v":{"$error":"#REF!"}},{"$f":"IF(ЗАЯВКА!#REF!=\"строительно-монтажные работы\",ЗАЯВКА!#REF!,0)","v":{"$error":"#REF!"}},{"$f":"IF(ЗАЯВКА!#REF!=\"да\",ЗАЯВКА!#REF!,0)","v":{"$error":"#REF!"}}]
[{"$f":"IF(ЗАЯВКА!#REF!=\"проектирование\",ЗАЯВКА!#REF!,0)","v":{"$error":"#REF!"}},{"$f":"IF(ЗАЯВКА!#REF!=\"строительно-монтажные работы\",ЗАЯВКА!#REF!,0)","v":{"$error":"#REF!"}},{"$f":"IF(ЗАЯВКА!#REF!=\"да\",ЗАЯВКА!#REF!,0)","v":{"$error":"#REF!"}}]
[{"$f":"IF(ЗАЯВКА!#REF!=\"проектирование\",ЗАЯВКА!#REF!,0)","v":{"$error":"#REF!"}},{"$f":"IF(ЗАЯВКА!#REF!=\"строительно-монтажные работы\",ЗАЯВКА!#REF!,0)","v":{"$error":"#REF!"}},{"$f":"IF(ЗАЯВКА!#REF!=\"да\",ЗАЯВКА!#REF!,0)","v":{"$error":"#REF!"}}]
[{"$f":"IF(ЗАЯВКА!#REF!=\"проектирование\",ЗАЯВКА!#REF!,0)","v":{"$error":"#REF!"}},{"$f":"IF(ЗАЯВКА!#REF!=\"строительно-монтажные работы\",ЗАЯВКА!#REF!,0)","v":{"$error":"#REF!"}},{"$f":"IF(ЗАЯВКА!#REF!=\"да\",ЗАЯВКА!#REF!,0)","v":{"$error":"#REF!"}}]
[{"$f":"IF(ЗАЯВКА!#REF!=\"проектирование\",ЗАЯВКА!#REF!,0)","v":{"$error":"#REF!"}},{"$f":"IF(ЗАЯВКА!#REF!=\"строительно-монтажные работы\",ЗАЯВКА!#REF!,0)","v":{"$error":"#REF!"}},{"$f":"IF(ЗАЯВКА!#REF!=\"да\",ЗАЯВКА!#REF!,0)","v":{"$error":"#REF!"}}]
[{"$f":"IF(ЗАЯВКА!#REF!=\"проектирование\",ЗАЯВКА!#REF!,0)","v":{"$error":"#REF!"}},{"$f":"IF(ЗАЯВКА!#REF!=\"строительно-монтажные работы\",ЗАЯВКА!#REF!,0)","v":{"$error":"#REF!"}},{"$f":"IF(ЗАЯВКА!#REF!=\"да\",ЗАЯВКА!#REF!,0)","v":{"$error":"#REF!"}}]
[{"$f":"IF(ЗАЯВКА!#REF!=\"проектирование\",ЗАЯВКА!#REF!,0)","v":{"$error":"#REF!"}},{"$f":"IF(ЗАЯВКА!#REF!=\"строительно-монтажные работы\",ЗАЯВКА!#REF!,0)","v":{"$error":"#REF!"}},{"$f":"IF(ЗАЯВКА!#REF!=\"да\",ЗАЯВКА!#REF!,0)","v":{"$error":"#REF!"}}]
[{"$f":"IF(ЗАЯВКА!#REF!=\"проектирование\",ЗАЯВКА!#REF!,0)","v":{"$error":"#REF!"}},{"$f":"IF(ЗАЯВКА!#REF!=\"строительно-монтажные работы\",ЗАЯВКА!#REF!,0)","v":{"$error":"#REF!"}},{"$f":"IF(ЗАЯВКА!#REF!=\"да\",ЗАЯВКА!#REF!,0)","v":{"$error":"#REF!"}}]
[{"$f":"IF(ЗАЯВКА!#REF!=\"проектирование\",ЗАЯВКА!#REF!,0)","v":{"$error":"#REF!"}},{"$f":"IF(ЗАЯВКА!#REF!=\"строительно-монтажные работы\",ЗАЯВКА!#REF!,0)","v":{"$error":"#REF!"}},{"$f":"IF(ЗАЯВКА!#REF!=\"да\",ЗАЯВКА!#REF!,0)","v":{"$error":"#REF!"}}]
[{"$f":"IF(ЗАЯВКА!#REF!=\"проектирование\",ЗАЯВКА!#REF!,0)","v":{"$error":"#REF!"}},{"$f":"IF(ЗАЯВКА!#REF!=\"строительно-монтажные работы\",ЗАЯВКА!#REF!,0)","v":{"$error":"#REF!"}},{"$f":"IF(ЗАЯВКА!#REF!=\"да\",ЗАЯВКА!#REF!,0)","v":{"$error":"#REF!"}}]
[{"$f":"IF(ЗАЯВКА!#REF!=\"проектирование\",ЗАЯВКА!#REF!,0)","v":{"$error":"#REF!"}},{"$f":"IF(ЗАЯВКА!#REF!=\"строительно-монтажные работы\",ЗАЯВКА!#REF!,0)","v":{"$error":"#REF!"}},{"$f":"IF(ЗАЯВКА!#REF!=\"да\",ЗАЯВКА!#REF!,0)","v":{"$error":"#REF!"}}]
[{"$f":"IF(ЗАЯВКА!#REF!=\"проектирование\",ЗАЯВКА!#REF!,0)","v":{"$error":"#REF!"}},{"$f":"IF(ЗАЯВКА!#REF!=\"строительно-монтажные работы\",ЗАЯВКА!#REF!,0)","v":{"$error":"#REF!"}},{"$f":"IF(ЗАЯВКА!#REF!=\"да\",ЗАЯВКА!#REF!,0)","v":{"$error":"#REF!"}}]
[{"$f":"IF(ЗАЯВКА!#REF!=\"проектирование\",ЗАЯВКА!#REF!,0)","v":{"$error":"#REF!"}},{"$f":"IF(ЗАЯВКА!#REF!=\"строительно-монтажные работы\",ЗАЯВКА!#REF!,0)","v":{"$error":"#REF!"}},{"$f":"IF(ЗАЯВКА!#REF!=\"да\",ЗАЯВКА!#REF!,0)","v":{"$error":"#REF!"}}]
[{"$f":"IF(ЗАЯВКА!#REF!=\"проектирование\",ЗАЯВКА!#REF!,0)","v":{"$error":"#REF!"}},{"$f":"IF(ЗАЯВКА!#REF!=\"строительно-монтажные работы\",ЗАЯВКА!#REF!,0)","v":{"$error":"#REF!"}},{"$f":"IF(ЗАЯВКА!#REF!=\"да\",ЗАЯВКА!#REF!,0)","v":{"$error":"#REF!"}}]
[{"$f":"IF(ЗАЯВКА!#REF!=\"проектирование\",ЗАЯВКА!#REF!,0)","v":{"$error":"#REF!"}},{"$f":"IF(ЗАЯВКА!#REF!=\"строительно-монтажные работы\",ЗАЯВКА!#REF!,0)","v":{"$error":"#REF!"}},{"$f":"IF(ЗАЯВКА!#REF!=\"да\",ЗАЯВКА!#REF!,0)","v":{"$error":"#REF!"}}]
[{"$f":"IF(ЗАЯВКА!#REF!=\"проектирование\",ЗАЯВКА!#REF!,0)","v":{"$error":"#REF!"}},{"$f":"IF(ЗАЯВКА!#REF!=\"строительно-монтажные работы\",ЗАЯВКА!#REF!,0)","v":{"$error":"#REF!"}},{"$f":"IF(ЗАЯВКА!#REF!=\"да\",ЗАЯВКА!#REF!,0)","v":{"$error":"#REF!"}}]
[{"$f":"IF(ЗАЯВКА!#REF!=\"проектирование\",ЗАЯВКА!#REF!,0)","v":{"$error":"#REF!"}},{"$f":"IF(ЗАЯВКА!#REF!=\"строительно-монтажные работы\",ЗАЯВКА!#REF!,0)","v":{"$error":"#REF!"}},{"$f":"IF(ЗАЯВКА!#REF!=\"да\",ЗАЯВКА!#REF!,0)","v":{"$error":"#REF!"}}]
[{"$f":"IF(ЗАЯВКА!#REF!=\"проектирование\",ЗАЯВКА!#REF!,0)","v":{"$error":"#REF!"}},{"$f":"IF(ЗАЯВКА!#REF!=\"строительно-монтажные работы\",ЗАЯВКА!#REF!,0)","v":{"$error":"#REF!"}},{"$f":"IF(ЗАЯВКА!#REF!=\"да\",ЗАЯВКА!#REF!,0)","v":{"$error":"#REF!"}}]
[{"$f":"IF(ЗАЯВКА!#REF!=\"проектирование\",ЗАЯВКА!#REF!,0)","v":{"$error":"#REF!"}},{"$f":"IF(ЗАЯВКА!#REF!=\"строительно-монтажные работы\",ЗАЯВКА!#REF!,0)","v":{"$error":"#REF!"}},{"$f":"IF(ЗАЯВКА!#REF!=\"да\",ЗАЯВКА!#REF!,0)","v":{"$error":"#REF!"}}]
[{"$f":"IF(ЗАЯВКА!#REF!=\"проектирование\",ЗАЯВКА!#REF!,0)","v":{"$error":"#REF!"}},{"$f":"IF(ЗАЯВКА!#REF!=\"строительно-монтажные работы\",ЗАЯВКА!#REF!,0)","v":{"$error":"#REF!"}},{"$f":"IF(ЗАЯВКА!#REF!=\"да\",ЗАЯВКА!#REF!,0)","v":{"$error":"#REF!"}}]
[{"$f":"IF(ЗАЯВКА!#REF!=\"проектирование\",ЗАЯВКА!#REF!,0)","v":{"$error":"#REF!"}},{"$f":"IF(ЗАЯВКА!#REF!=\"строительно-монтажные работы\",ЗАЯВКА!#REF!,0)","v":{"$error":"#REF!"}},{"$f":"IF(ЗАЯВКА!#REF!=\"да\",ЗАЯВКА!#REF!,0)","v":{"$error":"#REF!"}}]
[{"$f":"IF(ЗАЯВКА!#REF!=\"проектирование\",ЗАЯВКА!#REF!,0)","v":{"$error":"#REF!"}},{"$f":"IF(ЗАЯВКА!#REF!=\"строительно-монтажные работы\",ЗАЯВКА!#REF!,0)","v":{"$error":"#REF!"}},{"$f":"IF(ЗАЯВКА!#REF!=\"да\",ЗАЯВКА!#REF!,0)","v":{"$error":"#REF!"}}]
[{"$f":"IF(ЗАЯВКА!#REF!=\"проектирование\",ЗАЯВКА!#REF!,0)","v":{"$error":"#REF!"}},{"$f":"IF(ЗАЯВКА!#REF!=\"строительно-монтажные работы\",ЗАЯВКА!#REF!,0)","v":{"$error":"#REF!"}},{"$f":"IF(ЗАЯВКА!#REF!=\"да\",ЗАЯВКА!#REF!,0)","v":{"$error":"#REF!"}}]
[{"$f":"IF(ЗАЯВКА!#REF!=\"проектирование\",ЗАЯВКА!#REF!,0)","v":{"$error":"#REF!"}},{"$f":"IF(ЗАЯВКА!#REF!=\"строительно-монтажные работы\",ЗАЯВКА!#REF!,0)","v":{"$error":"#REF!"}},{"$f":"IF(ЗАЯВКА!#REF!=\"да\",ЗАЯВКА!#REF!,0)","v":{"$error":"#REF!"}}]
[{"$f":"IF(ЗАЯВКА!#REF!=\"проектирование\",ЗАЯВКА!#REF!,0)","v":{"$error":"#REF!"}},{"$f":"IF(ЗАЯВКА!#REF!=\"строительно-монтажные работы\",ЗАЯВКА!#REF!,0)","v":{"$error":"#REF!"}},{"$f":"IF(ЗАЯВКА!#REF!=\"да\",ЗАЯВКА!#REF!,0)","v":{"$error":"#REF!"}}]
[{"$f":"IF(ЗАЯВКА!#REF!=\"проектирование\",ЗАЯВКА!#REF!,0)","v":{"$error":"#REF!"}},{"$f":"IF(ЗАЯВКА!#REF!=\"строительно-монтажные работы\",ЗАЯВКА!#REF!,0)","v":{"$error":"#REF!"}},{"$f":"IF(ЗАЯВКА!#REF!=\"да\",ЗАЯВКА!#REF!,0)","v":{"$error":"#REF!"}}]
[{"$f":"IF(ЗАЯВКА!#REF!=\"проектирование\",ЗАЯВКА!#REF!,0)","v":{"$error":"#REF!"}},{"$f":"IF(ЗАЯВКА!#REF!=\"строительно-монтажные работы\",ЗАЯВКА!#REF!,0)","v":{"$error":"#REF!"}},{"$f":"IF(ЗАЯВКА!#REF!=\"да\",ЗАЯВКА!#REF!,0)","v":{"$error":"#REF!"}}]
[{"$f":"IF(ЗАЯВКА!#REF!=\"проектирование\",ЗАЯВКА!#REF!,0)","v":{"$error":"#REF!"}},{"$f":"IF(ЗАЯВКА!#REF!=\"строительно-монтажные работы\",ЗАЯВКА!#REF!,0)","v":{"$error":"#REF!"}},{"$f":"IF(ЗАЯВКА!#REF!=\"да\",ЗАЯВКА!#REF!,0)","v":{"$error":"#REF!"}}]
[{"$f":"IF(ЗАЯВКА!#REF!=\"проектирование\",ЗАЯВКА!#REF!,0)","v":{"$error":"#REF!"}},{"$f":"IF(ЗАЯВКА!#REF!=\"строительно-монтажные работы\",ЗАЯВКА!#REF!,0)","v":{"$error":"#REF!"}},{"$f":"IF(ЗАЯВКА!#REF!=\"да\",ЗАЯВКА!#REF!,0)","v":{"$error":"#REF!"}}]
[{"$f":"IF(ЗАЯВКА!#REF!=\"проектирование\",ЗАЯВКА!#REF!,0)","v":{"$error":"#REF!"}},{"$f":"IF(ЗАЯВКА!#REF!=\"строительно-монтажные работы\",ЗАЯВКА!#REF!,0)","v":{"$error":"#REF!"}},{"$f":"IF(ЗАЯВКА!#REF!=\"да\",ЗАЯВКА!#REF!,0)","v":{"$error":"#REF!"}}]
[{"$f":"IF(ЗАЯВКА!#REF!=\"проектирование\",ЗАЯВКА!#REF!,0)","v":{"$error":"#REF!"}},{"$f":"IF(ЗАЯВКА!#REF!=\"строительно-монтажные работы\",ЗАЯВКА!#REF!,0)","v":{"$error":"#REF!"}},{"$f":"IF(ЗАЯВКА!#REF!=\"да\",ЗАЯВКА!#REF!,0)","v":{"$error":"#REF!"}}]
[{"$f":"IF(ЗАЯВКА!#REF!=\"проектирование\",ЗАЯВКА!#REF!,0)","v":{"$error":"#REF!"}},{"$f":"IF(ЗАЯВКА!#REF!=\"строительно-монтажные работы\",ЗАЯВКА!#REF!,0)","v":{"$error":"#REF!"}},{"$f":"IF(ЗАЯВКА!#REF!=\"да\",ЗАЯВКА!#REF!,0)","v":{"$error":"#REF!"}}]
[{"$f":"IF(ЗАЯВКА!#REF!=\"проектирование\",ЗАЯВКА!#REF!,0)","v":{"$error":"#REF!"}},{"$f":"IF(ЗАЯВКА!#REF!=\"строительно-монтажные работы\",ЗАЯВКА!#REF!,0)","v":{"$error":"#REF!"}},{"$f":"IF(ЗАЯВКА!#REF!=\"да\",ЗАЯВКА!#REF!,0)","v":{"$error":"#REF!"}}]
[{"$f":"IF(ЗАЯВКА!#REF!=\"проектирование\",ЗАЯВКА!#REF!,0)","v":{"$error":"#REF!"}},{"$f":"IF(ЗАЯВКА!#REF!=\"строительно-монтажные работы\",ЗАЯВКА!#REF!,0)","v":{"$error":"#REF!"}},{"$f":"IF(ЗАЯВКА!#REF!=\"да\",ЗАЯВКА!#REF!,0)","v":{"$error":"#REF!"}}]
[{"$f":"IF(ЗАЯВКА!#REF!=\"проектирование\",ЗАЯВКА!#REF!,0)","v":{"$error":"#REF!"}},{"$f":"IF(ЗАЯВКА!#REF!=\"строительно-монтажные работы\",ЗАЯВКА!#REF!,0)","v":{"$error":"#REF!"}},{"$f":"IF(ЗАЯВКА!#REF!=\"да\",ЗАЯВКА!#REF!,0)","v":{"$error":"#REF!"}}]
[{"$f":"IF(ЗАЯВКА!#REF!=\"проектирование\",ЗАЯВКА!#REF!,0)","v":{"$error":"#REF!"}},{"$f":"IF(ЗАЯВКА!#REF!=\"строительно-монтажные работы\",ЗАЯВКА!#REF!,0)","v":{"$error":"#REF!"}},{"$f":"IF(ЗАЯВКА!#REF!=\"да\",ЗАЯВКА!#REF!,0)","v":{"$error":"#REF!"}}]
[{"$f":"IF(ЗАЯВКА!#REF!=\"проектирование\",ЗАЯВКА!#REF!,0)","v":{"$error":"#REF!"}},{"$f":"IF(ЗАЯВКА!#REF!=\"строительно-монтажные работы\",ЗАЯВКА!#REF!,0)","v":{"$error":"#REF!"}},{"$f":"IF(ЗАЯВКА!#REF!=\"да\",ЗАЯВКА!#REF!,0)","v":{"$error":"#REF!"}}]
[{"$f":"IF(ЗАЯВКА!#REF!=\"проектирование\",ЗАЯВКА!#REF!,0)","v":{"$error":"#REF!"}},{"$f":"IF(ЗАЯВКА!#REF!=\"строительно-монтажные работы\",ЗАЯВКА!#REF!,0)","v":{"$error":"#REF!"}},{"$f":"IF(ЗАЯВКА!#REF!=\"да\",ЗАЯВКА!#REF!,0)","v":{"$error":"#REF!"}}]
[{"$f":"IF(ЗАЯВКА!#REF!=\"проектирование\",ЗАЯВКА!#REF!,0)","v":{"$error":"#REF!"}},{"$f":"IF(ЗАЯВКА!#REF!=\"строительно-монтажные работы\",ЗАЯВКА!#REF!,0)","v":{"$error":"#REF!"}},{"$f":"IF(ЗАЯВКА!#REF!=\"да\",ЗАЯВКА!#REF!,0)","v":{"$error":"#REF!"}}]
[{"$f":"IF(ЗАЯВКА!#REF!=\"проектирование\",ЗАЯВКА!#REF!,0)","v":{"$error":"#REF!"}},{"$f":"IF(ЗАЯВКА!#REF!=\"строительно-монтажные работы\",ЗАЯВКА!#REF!,0)","v":{"$error":"#REF!"}},{"$f":"IF(ЗАЯВКА!#REF!=\"да\",ЗАЯВКА!#REF!,0)","v":{"$error":"#REF!"}}]
[{"$f":"IF(ЗАЯВКА!#REF!=\"проектирование\",ЗАЯВКА!#REF!,0)","v":{"$error":"#REF!"}},{"$f":"IF(ЗАЯВКА!#REF!=\"строительно-монтажные работы\",ЗАЯВКА!#REF!,0)","v":{"$error":"#REF!"}},{"$f":"IF(ЗАЯВКА!#REF!=\"да\",ЗАЯВКА!#REF!,0)","v":{"$error":"#REF!"}}]
[{"$f":"IF(ЗАЯВКА!#REF!=\"проектирование\",ЗАЯВКА!#REF!,0)","v":{"$error":"#REF!"}},{"$f":"IF(ЗАЯВКА!#REF!=\"строительно-монтажные работы\",ЗАЯВКА!#REF!,0)","v":{"$error":"#REF!"}},{"$f":"IF(ЗАЯВКА!#REF!=\"да\",ЗАЯВКА!#REF!,0)","v":{"$error":"#REF!"}}]
[{"$f":"IF(ЗАЯВКА!#REF!=\"проектирование\",ЗАЯВКА!#REF!,0)","v":{"$error":"#REF!"}},{"$f":"IF(ЗАЯВКА!#REF!=\"строительно-монтажные работы\",ЗАЯВКА!#REF!,0)","v":{"$error":"#REF!"}},{"$f":"IF(ЗАЯВКА!#REF!=\"да\",ЗАЯВКА!#REF!,0)","v":{"$error":"#REF!"}}]
[{"$f":"IF(ЗАЯВКА!#REF!=\"проектирование\",ЗАЯВКА!#REF!,0)","v":{"$error":"#REF!"}},{"$f":"IF(ЗАЯВКА!#REF!=\"строительно-монтажные работы\",ЗАЯВКА!#REF!,0)","v":{"$error":"#REF!"}},{"$f":"IF(ЗАЯВКА!#REF!=\"да\",ЗАЯВКА!#REF!,0)","v":{"$error":"#REF!"}}]
[{"$f":"IF(ЗАЯВКА!#REF!=\"проектирование\",ЗАЯВКА!#REF!,0)","v":{"$error":"#REF!"}},{"$f":"IF(ЗАЯВКА!#REF!=\"строительно-монтажные работы\",ЗАЯВКА!#REF!,0)","v":{"$error":"#REF!"}},{"$f":"IF(ЗАЯВКА!#REF!=\"да\",ЗАЯВКА!#REF!,0)","v":{"$error":"#REF!"}}]
[{"$f":"IF(ЗАЯВКА!#REF!=\"проектирование\",ЗАЯВКА!#REF!,0)","v":{"$error":"#REF!"}},{"$f":"IF(ЗАЯВКА!#REF!=\"строительно-монтажные работы\",ЗАЯВКА!#REF!,0)","v":{"$error":"#REF!"}},{"$f":"IF(ЗАЯВКА!#REF!=\"да\",ЗАЯВКА!#REF!,0)","v":{"$error":"#REF!"}}]
[{"$f":"IF(ЗАЯВКА!#REF!=\"проектирование\",ЗАЯВКА!#REF!,0)","v":{"$error":"#REF!"}},{"$f":"IF(ЗАЯВКА!#REF!=\"строительно-монтажные работы\",ЗАЯВКА!#REF!,0)","v":{"$error":"#REF!"}},{"$f":"IF(ЗАЯВКА!#REF!=\"да\",ЗАЯВКА!#REF!,0)","v":{"$error":"#REF!"}}]
[{"$f":"IF(ЗАЯВКА!#REF!=\"проектирование\",ЗАЯВКА!#REF!,0)","v":{"$error":"#REF!"}},{"$f":"IF(ЗАЯВКА!#REF!=\"строительно-монтажные работы\",ЗАЯВКА!#REF!,0)","v":{"$error":"#REF!"}},{"$f":"IF(ЗАЯВКА!#REF!=\"да\",ЗАЯВКА!#REF!,0)","v":{"$error":"#REF!"}}]
[{"$f":"IF(ЗАЯВКА!#REF!=\"проектирование\",ЗАЯВКА!#REF!,0)","v":{"$error":"#REF!"}},{"$f":"IF(ЗАЯВКА!#REF!=\"строительно-монтажные работы\",ЗАЯВКА!#REF!,0)","v":{"$error":"#REF!"}},{"$f":"IF(ЗАЯВКА!#REF!=\"да\",ЗАЯВКА!#REF!,0)","v":{"$error":"#REF!"}}]
[{"$f":"IF(ЗАЯВКА!#REF!=\"проектирование\",ЗАЯВКА!#REF!,0)","v":{"$error":"#REF!"}},{"$f":"IF(ЗАЯВКА!#REF!=\"строительно-монтажные работы\",ЗАЯВКА!#REF!,0)","v":{"$error":"#REF!"}},{"$f":"IF(ЗАЯВКА!#REF!=\"да\",ЗАЯВКА!#REF!,0)","v":{"$error":"#REF!"}}]
[{"$f":"IF(ЗАЯВКА!#REF!=\"проектирование\",ЗАЯВКА!#REF!,0)","v":{"$error":"#REF!"}},{"$f":"IF(ЗАЯВКА!#REF!=\"строительно-монтажные работы\",ЗАЯВКА!#REF!,0)","v":{"$error":"#REF!"}},{"$f":"IF(ЗАЯВКА!#REF!=\"да\",ЗАЯВКА!#REF!,0)","v":{"$error":"#REF!"}}]
[{"$f":"IF(ЗАЯВКА!#REF!=\"проектирование\",ЗАЯВКА!#REF!,0)","v":{"$error":"#REF!"}},{"$f":"IF(ЗАЯВКА!#REF!=\"строительно-монтажные работы\",ЗАЯВКА!#REF!,0)","v":{"$error":"#REF!"}},{"$f":"IF(ЗАЯВКА!#REF!=\"да\",ЗАЯВКА!#REF!,0)","v":{"$error":"#REF!"}}]
[{"$f":"IF(ЗАЯВКА!#REF!=\"проектирование\",ЗАЯВКА!#REF!,0)","v":{"$error":"#REF!"}},{"$f":"IF(ЗАЯВКА!#REF!=\"строительно-монтажные работы\",ЗАЯВКА!#REF!,0)","v":{"$error":"#REF!"}},{"$f":"IF(ЗАЯВКА!#REF!=\"да\",ЗАЯВКА!#REF!,0)","v":{"$error":"#REF!"}}]
[{"$f":"IF(ЗАЯВКА!#REF!=\"проектирование\",ЗАЯВКА!#REF!,0)","v":{"$error":"#REF!"}},{"$f":"IF(ЗАЯВКА!#REF!=\"строительно-монтажные работы\",ЗАЯВКА!#REF!,0)","v":{"$error":"#REF!"}},{"$f":"IF(ЗАЯВКА!#REF!=\"да\",ЗАЯВКА!#REF!,0)","v":{"$error":"#REF!"}}]
[{"$f":"IF(ЗАЯВКА!#REF!=\"проектирование\",ЗАЯВКА!#REF!,0)","v":{"$error":"#REF!"}},{"$f":"IF(ЗАЯВКА!#REF!=\"строительно-монтажные работы\",ЗАЯВКА!#REF!,0)","v":{"$error":"#REF!"}},{"$f":"IF(ЗАЯВКА!#REF!=\"да\",ЗАЯВКА!#REF!,0)","v":{"$error":"#REF!"}}]
[{"$f":"IF(ЗАЯВКА!#REF!=\"проектирование\",ЗАЯВКА!#REF!,0)","v":{"$error":"#REF!"}},{"$f":"IF(ЗАЯВКА!#REF!=\"строительно-монтажные работы\",ЗАЯВКА!#REF!,0)","v":{"$error":"#REF!"}},{"$f":"IF(ЗАЯВКА!#REF!=\"да\",ЗАЯВКА!#REF!,0)","v":{"$error":"#REF!"}}]
[{"$f":"IF(ЗАЯВКА!#REF!=\"проектирование\",ЗАЯВКА!#REF!,0)","v":{"$error":"#REF!"}},{"$f":"IF(ЗАЯВКА!#REF!=\"строительно-монтажные работы\",ЗАЯВКА!#REF!,0)","v":{"$error":"#REF!"}},{"$f":"IF(ЗАЯВКА!#REF!=\"да\",ЗАЯВКА!#REF!,0)","v":{"$error":"#REF!"}}]
[{"$f":"IF(ЗАЯВКА!#REF!=\"проектирование\",ЗАЯВКА!#REF!,0)","v":{"$error":"#REF!"}},{"$f":"IF(ЗАЯВКА!#REF!=\"строительно-монтажные работы\",ЗАЯВКА!#REF!,0)","v":{"$error":"#REF!"}},{"$f":"IF(ЗАЯВКА!#REF!=\"да\",ЗАЯВКА!#REF!,0)","v":{"$error":"#REF!"}}]
[{"$f":"IF(ЗАЯВКА!#REF!=\"проектирование\",ЗАЯВКА!#REF!,0)","v":{"$error":"#REF!"}},{"$f":"IF(ЗАЯВКА!#REF!=\"строительно-монтажные работы\",ЗАЯВКА!#REF!,0)","v":{"$error":"#REF!"}},{"$f":"IF(ЗАЯВКА!#REF!=\"да\",ЗАЯВКА!#REF!,0)","v":{"$error":"#REF!"}}]
[{"$f":"IF(ЗАЯВКА!#REF!=\"проектирование\",ЗАЯВКА!#REF!,0)","v":{"$error":"#REF!"}},{"$f":"IF(ЗАЯВКА!#REF!=\"строительно-монтажные работы\",ЗАЯВКА!#REF!,0)","v":{"$error":"#REF!"}},{"$f":"IF(ЗАЯВКА!#REF!=\"да\",ЗАЯВКА!#REF!,0)","v":{"$error":"#REF!"}}]
[{"$f":"IF(ЗАЯВКА!#REF!=\"проектирование\",ЗАЯВКА!#REF!,0)","v":{"$error":"#REF!"}},{"$f":"IF(ЗАЯВКА!#REF!=\"строительно-монтажные работы\",ЗАЯВКА!#REF!,0)","v":{"$error":"#REF!"}},{"$f":"IF(ЗАЯВКА!#REF!=\"да\",ЗАЯВКА!#REF!,0)","v":{"$error":"#REF!"}}]
[{"$f":"IF(ЗАЯВКА!#REF!=\"проектирование\",ЗАЯВКА!#REF!,0)","v":{"$error":"#REF!"}},{"$f":"IF(ЗАЯВКА!#REF!=\"строительно-монтажные работы\",ЗАЯВКА!#REF!,0)","v":{"$error":"#REF!"}},{"$f":"IF(ЗАЯВКА!#REF!=\"да\",ЗАЯВКА!#REF!,0)","v":{"$error":"#REF!"}}]
[{"$f":"IF(ЗАЯВКА!#REF!=\"проектирование\",ЗАЯВКА!#REF!,0)","v":{"$error":"#REF!"}},{"$f":"IF(ЗАЯВКА!#REF!=\"строительно-монтажные работы\",ЗАЯВКА!#REF!,0)","v":{"$error":"#REF!"}},{"$f":"IF(ЗАЯВКА!#REF!=\"да\",ЗАЯВКА!#REF!,0)","v":{"$error":"#REF!"}}]
[{"$f":"IF(ЗАЯВКА!#REF!=\"проектирование\",ЗАЯВКА!#REF!,0)","v":{"$error":"#REF!"}},{"$f":"IF(ЗАЯВКА!#REF!=\"строительно-монтажные работы\",ЗАЯВКА!#REF!,0)","v":{"$error":"#REF!"}},{"$f":"IF(ЗАЯВКА!#REF!=\"да\",ЗАЯВКА!#REF!,0)","v":{"$error":"#REF!"}}]
[{"$f":"IF(ЗАЯВКА!#REF!=\"проектирование\",ЗАЯВКА!#REF!,0)","v":{"$error":"#REF!"}},{"$f":"IF(ЗАЯВКА!#REF!=\"строительно-монтажные работы\",ЗАЯВКА!#REF!,0)","v":{"$error":"#REF!"}},{"$f":"IF(ЗАЯВКА!#REF!=\"да\",ЗАЯВКА!#REF!,0)","v":{"$error":"#REF!"}}]
[{"$f":"IF(ЗАЯВКА!#REF!=\"проектирование\",ЗАЯВКА!#REF!,0)","v":{"$error":"#REF!"}},{"$f":"IF(ЗАЯВКА!#REF!=\"строительно-монтажные работы\",ЗАЯВКА!#REF!,0)","v":{"$error":"#REF!"}},{"$f":"IF(ЗАЯВКА!#REF!=\"да\",ЗАЯВКА!#REF!,0)","v":{"$error":"#REF!"}}]
[{"$f":"IF(ЗАЯВКА!#REF!=\"проектирование\",ЗАЯВКА!#REF!,0)","v":{"$error":"#REF!"}},{"$f":"IF(ЗАЯВКА!#REF!=\"строительно-монтажные работы\",ЗАЯВКА!#REF!,0)","v":{"$error":"#REF!"}},{"$f":"IF(ЗАЯВКА!#REF!=\"да\",ЗАЯВКА!#REF!,0)","v":{"$error":"#REF!"}}]
[{"$f":"IF(ЗАЯВКА!#REF!=\"проектирование\",ЗАЯВКА!#REF!,0)","v":{"$error":"#REF!"}},{"$f":"IF(ЗАЯВКА!#REF!=\"строительно-монтажные работы\",ЗАЯВКА!#REF!,0)","v":{"$error":"#REF!"}},{"$f":"IF(ЗАЯВКА!#REF!=\"да\",ЗАЯВКА!#REF!,0)","v":{"$error":"#REF!"}}]
[{"$f":"IF(ЗАЯВКА!#REF!=\"проектирование\",ЗАЯВКА!#REF!,0)","v":{"$error":"#REF!"}},{"$f":"IF(ЗАЯВКА!#REF!=\"строительно-монтажные работы\",ЗАЯВКА!#REF!,0)","v":{"$error":"#REF!"}},{"$f":"IF(ЗАЯВКА!#REF!=\"да\",ЗАЯВКА!#REF!,0)","v":{"$error":"#REF!"}}]
[{"$f":"IF(ЗАЯВКА!#REF!=\"проектирование\",ЗАЯВКА!#REF!,0)","v":{"$error":"#REF!"}},{"$f":"IF(ЗАЯВКА!#REF!=\"строительно-монтажные работы\",ЗАЯВКА!#REF!,0)","v":{"$error":"#REF!"}},{"$f":"IF(ЗАЯВКА!#REF!=\"да\",ЗАЯВКА!#REF!,0)","v":{"$error":"#REF!"}}]
[{"$f":"IF(ЗАЯВКА!#REF!=\"проектирование\",ЗАЯВКА!#REF!,0)","v":{"$error":"#REF!"}},{"$f":"IF(ЗАЯВКА!#REF!=\"строительно-монтажные работы\",ЗАЯВКА!#REF!,0)","v":{"$error":"#REF!"}},{"$f":"IF(ЗАЯВКА!#REF!=\"да\",ЗАЯВКА!#REF!,0)","v":{"$error":"#REF!"}}]
[{"$f":"IF(ЗАЯВКА!#REF!=\"проектирование\",ЗАЯВКА!#REF!,0)","v":{"$error":"#REF!"}},{"$f":"IF(ЗАЯВКА!#REF!=\"строительно-монтажные работы\",ЗАЯВКА!#REF!,0)","v":{"$error":"#REF!"}},{"$f":"IF(ЗАЯВКА!#REF!=\"да\",ЗАЯВКА!#REF!,0)","v":{"$error":"#REF!"}}]
[{"$f":"IF(ЗАЯВКА!#REF!=\"проектирование\",ЗАЯВКА!#REF!,0)","v":{"$error":"#REF!"}},{"$f":"IF(ЗАЯВКА!#REF!=\"строительно-монтажные работы\",ЗАЯВКА!#REF!,0)","v":{"$error":"#REF!"}},{"$f":"IF(ЗАЯВКА!#REF!=\"да\",ЗАЯВКА!#REF!,0)","v":{"$error":"#REF!"}}]
[{"$f":"IF(ЗАЯВКА!#REF!=\"проектирование\",ЗАЯВКА!#REF!,0)","v":{"$error":"#REF!"}},{"$f":"IF(ЗАЯВКА!#REF!=\"строительно-монтажные работы\",ЗАЯВКА!#REF!,0)","v":{"$error":"#REF!"}},{"$f":"IF(ЗАЯВКА!#REF!=\"да\",ЗАЯВКА!#REF!,0)","v":{"$error":"#REF!"}}]
[{"$f":"IF(ЗАЯВКА!#REF!=\"проектирование\",ЗАЯВКА!#REF!,0)","v":{"$error":"#REF!"}},{"$f":"IF(ЗАЯВКА!#REF!=\"строительно-монтажные работы\",ЗАЯВКА!#REF!,0)","v":{"$error":"#REF!"}},{"$f":"IF(ЗАЯВКА!#REF!=\"да\",ЗАЯВКА!#REF!,0)","v":{"$error":"#REF!"}}]
[{"$f":"IF(ЗАЯВКА!#REF!=\"проектирование\",ЗАЯВКА!#REF!,0)","v":{"$error":"#REF!"}},{"$f":"IF(ЗАЯВКА!#REF!=\"строительно-монтажные работы\",ЗАЯВКА!#REF!,0)","v":{"$error":"#REF!"}},{"$f":"IF(ЗАЯВКА!#REF!=\"да\",ЗАЯВКА!#REF!,0)","v":{"$error":"#REF!"}}]
[{"$f":"IF(ЗАЯВКА!#REF!=\"проектирование\",ЗАЯВКА!#REF!,0)","v":{"$error":"#REF!"}},{"$f":"IF(ЗАЯВКА!#REF!=\"строительно-монтажные работы\",ЗАЯВКА!#REF!,0)","v":{"$error":"#REF!"}},{"$f":"IF(ЗАЯВКА!#REF!=\"да\",ЗАЯВКА!#REF!,0)","v":{"$error":"#REF!"}}]
[{"$f":"IF(ЗАЯВКА!#REF!=\"проектирование\",ЗАЯВКА!#REF!,0)","v":{"$error":"#REF!"}},{"$f":"IF(ЗАЯВКА!#REF!=\"строительно-монтажные работы\",ЗАЯВКА!#REF!,0)","v":{"$error":"#REF!"}},{"$f":"IF(ЗАЯВКА!#REF!=\"да\",ЗАЯВКА!#REF!,0)","v":{"$error":"#REF!"}}]
[{"$f":"IF(ЗАЯВКА!#REF!=\"проектирование\",ЗАЯВКА!#REF!,0)","v":{"$error":"#REF!"}},{"$f":"IF(ЗАЯВКА!#REF!=\"строительно-монтажные работы\",ЗАЯВКА!#REF!,0)","v":{"$error":"#REF!"}},{"$f":"IF(ЗАЯВКА!#REF!=\"да\",ЗАЯВКА!#REF!,0)","v":{"$error":"#REF!"}}]
[{"$f":"IF(ЗАЯВКА!#REF!=\"проектирование\",ЗАЯВКА!#REF!,0)","v":{"$error":"#REF!"}},{"$f":"IF(ЗАЯВКА!#REF!=\"строительно-монтажные работы\",ЗАЯВКА!#REF!,0)","v":{"$error":"#REF!"}},{"$f":"IF(ЗАЯВКА!#REF!=\"да\",ЗАЯВКА!#REF!,0)","v":{"$error":"#REF!"}}]
[{"$f":"IF(ЗАЯВКА!#REF!=\"проектирование\",ЗАЯВКА!#REF!,0)","v":{"$error":"#REF!"}},{"$f":"IF(ЗАЯВКА!#REF!=\"строительно-монтажные работы\",ЗАЯВКА!#REF!,0)","v":{"$error":"#REF!"}},{"$f":"IF(ЗАЯВКА!#REF!=\"да\",ЗАЯВКА!#REF!,0)","v":{"$error":"#REF!"}}]
[{"$f":"IF(ЗАЯВКА!#REF!=\"проектирование\",ЗАЯВКА!#REF!,0)","v":{"$error":"#REF!"}},{"$f":"IF(ЗАЯВКА!#REF!=\"строительно-монтажные работы\",ЗАЯВКА!#REF!,0)","v":{"$error":"#REF!"}},{"$f":"IF(ЗАЯВКА!#REF!=\"да\",ЗАЯВКА!#REF!,0)","v":{"$error":"#REF!"}}]
[{"$f":"IF(ЗАЯВКА!#REF!=\"проектирование\",ЗАЯВКА!#REF!,0)","v":{"$error":"#REF!"}},{"$f":"IF(ЗАЯВКА!#REF!=\"строительно-монтажные работы\",ЗАЯВКА!#REF!,0)","v":{"$error":"#REF!"}},{"$f":"IF(ЗАЯВКА!#REF!=\"да\",ЗАЯВКА!#REF!,0)","v":{"$error":"#REF!"}}]
[{"$f":"IF(ЗАЯВКА!#REF!=\"проектирование\",ЗАЯВКА!#REF!,0)","v":{"$error":"#REF!"}},{"$f":"IF(ЗАЯВКА!#REF!=\"строительно-монтажные работы\",ЗАЯВКА!#REF!,0)","v":{"$error":"#REF!"}},{"$f":"IF(ЗАЯВКА!#REF!=\"да\",ЗАЯВКА!#REF!,0)","v":{"$error":"#REF!"}}]
[{"$f":"IF(ЗАЯВКА!#REF!=\"проектирование\",ЗАЯВКА!#REF!,0)","v":{"$error":"#REF!"}},{"$f":"IF(ЗАЯВКА!#REF!=\"строительно-монтажные работы\",ЗАЯВКА!#REF!,0)","v":{"$error":"#REF!"}},{"$f":"IF(ЗАЯВКА!#REF!=\"да\",ЗАЯВКА!#REF!,0)","v":{"$error":"#REF!"}}]
[{"$f":"IF(ЗАЯВКА!#REF!=\"проектирование\",ЗАЯВКА!#REF!,0)","v":{"$error":"#REF!"}},{"$f":"IF(ЗАЯВКА!#REF!=\"строительно-монтажные работы\",ЗАЯВКА!#REF!,0)","v":{"$error":"#REF!"}},{"$f":"IF(ЗАЯВКА!#REF!=\"да\",ЗАЯВКА!#REF!,0)","v":{"$error":"#REF!"}}]
[{"$f":"IF(ЗАЯВКА!#REF!=\"проектирование\",ЗАЯВКА!#REF!,0)","v":{"$error":"#REF!"}},{"$f":"IF(ЗАЯВКА!#REF!=\"строительно-монтажные работы\",ЗАЯВКА!#REF!,0)","v":{"$error":"#REF!"}},{"$f":"IF(ЗАЯВКА!#REF!=\"да\",ЗАЯВКА!#REF!,0)","v":{"$error":"#REF!"}}]
[{"$f":"IF(ЗАЯВКА!#REF!=\"проектирование\",ЗАЯВКА!#REF!,0)","v":{"$error":"#REF!"}},{"$f":"IF(ЗАЯВКА!#REF!=\"строительно-монтажные работы\",ЗАЯВКА!#REF!,0)","v":{"$error":"#REF!"}},{"$f":"IF(ЗАЯВКА!#REF!=\"да\",ЗАЯВКА!#REF!,0)","v":{"$error":"#REF!"}}]
[{"$f":"IF(ЗАЯВКА!#REF!=\"проектирование\",ЗАЯВКА!#REF!,0)","v":{"$error":"#REF!"}},{"$f":"IF(ЗАЯВКА!#REF!=\"строительно-монтажные работы\",ЗАЯВКА!#REF!,0)","v":{"$error":"#REF!"}},{"$f":"IF(ЗАЯВКА!#REF!=\"да\",ЗАЯВКА!#REF!,0)","v":{"$error":"#REF!"}}]
[{"$f":"IF(ЗАЯВКА!#REF!=\"проектирование\",ЗАЯВКА!#REF!,0)","v":{"$error":"#REF!"}},{"$f":"IF(ЗАЯВКА!#REF!=\"строительно-монтажные работы\",ЗАЯВКА!#REF!,0)","v":{"$error":"#REF!"}},{"$f":"IF(ЗАЯВКА!#REF!=\"да\",ЗАЯВКА!#REF!,0)","v":{"$error":"#REF!"}}]
[{"$f":"IF(ЗАЯВКА!#REF!=\"проектирование\",ЗАЯВКА!#REF!,0)","v":{"$error":"#REF!"}},{"$f":"IF(ЗАЯВКА!#REF!=\"строительно-монтажные работы\",ЗАЯВКА!#REF!,0)","v":{"$error":"#REF!"}},{"$f":"IF(ЗАЯВКА!#REF!=\"да\",ЗАЯВКА!#REF!,0)","v":{"$error":"#REF!"}}]
[{"$f":"IF(ЗАЯВКА!#REF!=\"проектирование\",ЗАЯВКА!#REF!,0)","v":{"$error":"#REF!"}},{"$f":"IF(ЗАЯВКА!#REF!=\"строительно-монтажные работы\",ЗАЯВКА!#REF!,0)","v":{"$error":"#REF!"}},{"$f":"IF(ЗАЯВКА!#REF!=\"да\",ЗАЯВКА!#REF!,0)","v":{"$error":"#REF!"}}]
[{"$f":"IF(ЗАЯВКА!#REF!=\"проектирование\",ЗАЯВКА!#REF!,0)","v":{"$error":"#REF!"}},{"$f":"IF(ЗАЯВКА!#REF!=\"строительно-монтажные работы\",ЗАЯВКА!#REF!,0)","v":{"$error":"#REF!"}},{"$f":"IF(ЗАЯВКА!#REF!=\"да\",ЗАЯВКА!#REF!,0)","v":{"$error":"#REF!"}}]
[{"$f":"IF(ЗАЯВКА!#REF!=\"проектирование\",ЗАЯВКА!#REF!,0)","v":{"$error":"#REF!"}},{"$f":"IF(ЗАЯВКА!#REF!=\"строительно-монтажные работы\",ЗАЯВКА!#REF!,0)","v":{"$error":"#REF!"}},{"$f":"IF(ЗАЯВКА!#REF!=\"да\",ЗАЯВКА!#REF!,0)","v":{"$error":"#REF!"}}]
[{"$f":"IF(ЗАЯВКА!#REF!=\"проектирование\",ЗАЯВКА!#REF!,0)","v":{"$error":"#REF!"}},{"$f":"IF(ЗАЯВКА!#REF!=\"строительно-монтажные работы\",ЗАЯВКА!#REF!,0)","v":{"$error":"#REF!"}},{"$f":"IF(ЗАЯВКА!#REF!=\"да\",ЗАЯВКА!#REF!,0)","v":{"$error":"#REF!"}}]
[{"$f":"IF(ЗАЯВКА!#REF!=\"проектирование\",ЗАЯВКА!#REF!,0)","v":{"$error":"#REF!"}},{"$f":"IF(ЗАЯВКА!#REF!=\"строительно-монтажные работы\",ЗАЯВКА!#REF!,0)","v":{"$error":"#REF!"}},{"$f":"IF(ЗАЯВКА!#REF!=\"да\",ЗАЯВКА!#REF!,0)","v":{"$error":"#REF!"}}]
[{"$f":"IF(ЗАЯВКА!#REF!=\"проектирование\",ЗАЯВКА!#REF!,0)","v":{"$error":"#REF!"}},{"$f":"IF(ЗАЯВКА!#REF!=\"строительно-монтажные работы\",ЗАЯВКА!#REF!,0)","v":{"$error":"#REF!"}},{"$f":"IF(ЗАЯВКА!#REF!=\"да\",ЗАЯВКА!#REF!,0)","v":{"$error":"#REF!"}}]
[{"$f":"IF(ЗАЯВКА!#REF!=\"проектирование\",ЗАЯВКА!#REF!,0)","v":{"$error":"#REF!"}},{"$f":"IF(ЗАЯВКА!#REF!=\"строительно-монтажные работы\",ЗАЯВКА!#REF!,0)","v":{"$error":"#REF!"}},{"$f":"IF(ЗАЯВКА!#REF!=\"да\",ЗАЯВКА!#REF!,0)","v":{"$error":"#REF!"}}]
[{"$f":"IF(ЗАЯВКА!#REF!=\"проектирование\",ЗАЯВКА!#REF!,0)","v":{"$error":"#REF!"}},{"$f":"IF(ЗАЯВКА!#REF!=\"строительно-монтажные работы\",ЗАЯВКА!#REF!,0)","v":{"$error":"#REF!"}},{"$f":"IF(ЗАЯВКА!#REF!=\"да\",ЗАЯВКА!#REF!,0)","v":{"$error":"#REF!"}}]
[{"$f":"IF(ЗАЯВКА!#REF!=\"проектирование\",ЗАЯВКА!#REF!,0)","v":{"$error":"#REF!"}},{"$f":"IF(ЗАЯВКА!#REF!=\"строительно-монтажные работы\",ЗАЯВКА!#REF!,0)","v":{"$error":"#REF!"}},{"$f":"IF(ЗАЯВКА!#REF!=\"да\",ЗАЯВКА!#REF!,0)","v":{"$error":"#REF!"}}]
[{"$f":"IF(ЗАЯВКА!#REF!=\"проектирование\",ЗАЯВКА!#REF!,0)","v":{"$error":"#REF!"}},{"$f":"IF(ЗАЯВКА!#REF!=\"строительно-монтажные работы\",ЗАЯВКА!#REF!,0)","v":{"$error":"#REF!"}},{"$f":"IF(ЗАЯВКА!#REF!=\"да\",ЗАЯВКА!#REF!,0)","v":{"$error":"#REF!"}}]
[{"$f":"IF(ЗАЯВКА!#REF!=\"проектирование\",ЗАЯВКА!#REF!,0)","v":{"$error":"#REF!"}},{"$f":"IF(ЗАЯВКА!#REF!=\"строительно-монтажные работы\",ЗАЯВКА!#REF!,0)","v":{"$error":"#REF!"}},{"$f":"IF(ЗАЯВКА!#REF!=\"да\",ЗАЯВКА!#REF!,0)","v":{"$error":"#REF!"}}]
[{"$f":"IF(ЗАЯВКА!#REF!=\"проектирование\",ЗАЯВКА!#REF!,0)","v":{"$error":"#REF!"}},{"$f":"IF(ЗАЯВКА!#REF!=\"строительно-монтажные работы\",ЗАЯВКА!#REF!,0)","v":{"$error":"#REF!"}},{"$f":"IF(ЗАЯВКА!#REF!=\"да\",ЗАЯВКА!#REF!,0)","v":{"$error":"#REF!"}}]
[{"$f":"IF(ЗАЯВКА!#REF!=\"проектирование\",ЗАЯВКА!#REF!,0)","v":{"$error":"#REF!"}},{"$f":"IF(ЗАЯВКА!#REF!=\"строительно-монтажные работы\",ЗАЯВКА!#REF!,0)","v":{"$error":"#REF!"}},{"$f":"IF(ЗАЯВКА!#REF!=\"да\",ЗАЯВКА!#REF!,0)","v":{"$error":"#REF!"}}]
[{"$f":"IF(ЗАЯВКА!#REF!=\"проектирование\",ЗАЯВКА!#REF!,0)","v":{"$error":"#REF!"}},{"$f":"IF(ЗАЯВКА!#REF!=\"строительно-монтажные работы\",ЗАЯВКА!#REF!,0)","v":{"$error":"#REF!"}},{"$f":"IF(ЗАЯВКА!#REF!=\"да\",ЗАЯВКА!#REF!,0)","v":{"$error":"#REF!"}}]
[{"$f":"IF(ЗАЯВКА!#REF!=\"проектирование\",ЗАЯВКА!#REF!,0)","v":{"$error":"#REF!"}},{"$f":"IF(ЗАЯВКА!#REF!=\"строительно-монтажные работы\",ЗАЯВКА!#REF!,0)","v":{"$error":"#REF!"}},{"$f":"IF(ЗАЯВКА!#REF!=\"да\",ЗАЯВКА!#REF!,0)","v":{"$error":"#REF!"}}]
[{"$f":"IF(ЗАЯВКА!#REF!=\"проектирование\",ЗАЯВКА!#REF!,0)","v":{"$error":"#REF!"}},{"$f":"IF(ЗАЯВКА!#REF!=\"строительно-монтажные работы\",ЗАЯВКА!#REF!,0)","v":{"$error":"#REF!"}},{"$f":"IF(ЗАЯВКА!#REF!=\"да\",ЗАЯВКА!#REF!,0)","v":{"$error":"#REF!"}}]
[{"$f":"IF(ЗАЯВКА!#REF!=\"проектирование\",ЗАЯВКА!#REF!,0)","v":{"$error":"#REF!"}},{"$f":"IF(ЗАЯВКА!#REF!=\"строительно-монтажные работы\",ЗАЯВКА!#REF!,0)","v":{"$error":"#REF!"}},{"$f":"IF(ЗАЯВКА!#REF!=\"да\",ЗАЯВКА!#REF!,0)","v":{"$error":"#REF!"}}]
[{"$f":"IF(ЗАЯВКА!#REF!=\"проектирование\",ЗАЯВКА!#REF!,0)","v":{"$error":"#REF!"}},{"$f":"IF(ЗАЯВКА!#REF!=\"строительно-монтажные работы\",ЗАЯВКА!#REF!,0)","v":{"$error":"#REF!"}},{"$f":"IF(ЗАЯВКА!#REF!=\"да\",ЗАЯВКА!#REF!,0)","v":{"$error":"#REF!"}}]
[{"$f":"IF(ЗАЯВКА!#REF!=\"проектирование\",ЗАЯВКА!#REF!,0)","v":{"$error":"#REF!"}},{"$f":"IF(ЗАЯВКА!#REF!=\"строительно-монтажные работы\",ЗАЯВКА!#REF!,0)","v":{"$error":"#REF!"}},{"$f":"IF(ЗАЯВКА!#REF!=\"да\",ЗАЯВКА!#REF!,0)","v":{"$error":"#REF!"}}]
[{"$f":"IF(ЗАЯВКА!#REF!=\"проектирование\",ЗАЯВКА!#REF!,0)","v":{"$error":"#REF!"}},{"$f":"IF(ЗАЯВКА!#REF!=\"строительно-монтажные работы\",ЗАЯВКА!#REF!,0)","v":{"$error":"#REF!"}},{"$f":"IF(ЗАЯВКА!#REF!=\"да\",ЗАЯВКА!#REF!,0)","v":{"$error":"#REF!"}}]
[{"$f":"IF(ЗАЯВКА!#REF!=\"проектирование\",ЗАЯВКА!#REF!,0)","v":{"$error":"#REF!"}},{"$f":"IF(ЗАЯВКА!#REF!=\"строительно-монтажные работы\",ЗАЯВКА!#REF!,0)","v":{"$error":"#REF!"}},{"$f":"IF(ЗАЯВКА!#REF!=\"да\",ЗАЯВКА!#REF!,0)","v":{"$error":"#REF!"}}]
[{"$f":"IF(ЗАЯВКА!#REF!=\"проектирование\",ЗАЯВКА!#REF!,0)","v":{"$error":"#REF!"}},{"$f":"IF(ЗАЯВКА!#REF!=\"строительно-монтажные работы\",ЗАЯВКА!#REF!,0)","v":{"$error":"#REF!"}},{"$f":"IF(ЗАЯВКА!#REF!=\"да\",ЗАЯВКА!#REF!,0)","v":{"$error":"#REF!"}}]
[{"$f":"IF(ЗАЯВКА!#REF!=\"проектирование\",ЗАЯВКА!#REF!,0)","v":{"$error":"#REF!"}},{"$f":"IF(ЗАЯВКА!#REF!=\"строительно-монтажные работы\",ЗАЯВКА!#REF!,0)","v":{"$error":"#REF!"}},{"$f":"IF(ЗАЯВКА!#REF!=\"да\",ЗАЯВКА!#REF!,0)","v":{"$error":"#REF!"}}]
[{"$f":"IF(ЗАЯВКА!#REF!=\"проектирование\",ЗАЯВКА!#REF!,0)","v":{"$error":"#REF!"}},{"$f":"IF(ЗАЯВКА!#REF!=\"строительно-монтажные работы\",ЗАЯВКА!#REF!,0)","v":{"$error":"#REF!"}},{"$f":"IF(ЗАЯВКА!#REF!=\"да\",ЗАЯВКА!#REF!,0)","v":{"$error":"#REF!"}}]
[{"$f":"IF(ЗАЯВКА!#REF!=\"проектирование\",ЗАЯВКА!#REF!,0)","v":{"$error":"#REF!"}},{"$f":"IF(ЗАЯВКА!#REF!=\"строительно-монтажные работы\",ЗАЯВКА!#REF!,0)","v":{"$error":"#REF!"}},{"$f":"IF(ЗАЯВКА!#REF!=\"да\",ЗАЯВКА!#REF!,0)","v":{"$error":"#REF!"}}]
[{"$f":"IF(ЗАЯВКА!#REF!=\"проектирование\",ЗАЯВКА!#REF!,0)","v":{"$error":"#REF!"}},{"$f":"IF(ЗАЯВКА!#REF!=\"строительно-монтажные работы\",ЗАЯВКА!#REF!,0)","v":{"$error":"#REF!"}},{"$f":"IF(ЗАЯВКА!#REF!=\"да\",ЗАЯВКА!#REF!,0)","v":{"$error":"#REF!"}}]
[{"$f":"IF(ЗАЯВКА!#REF!=\"проектирование\",ЗАЯВКА!#REF!,0)","v":{"$error":"#REF!"}},{"$f":"IF(ЗАЯВКА!#REF!=\"строительно-монтажные работы\",ЗАЯВКА!#REF!,0)","v":{"$error":"#REF!"}},{"$f":"IF(ЗАЯВКА!#REF!=\"да\",ЗАЯВКА!#REF!,0)","v":{"$error":"#REF!"}}]
[{"$f":"IF(ЗАЯВКА!#REF!=\"проектирование\",ЗАЯВКА!#REF!,0)","v":{"$error":"#REF!"}},{"$f":"IF(ЗАЯВКА!#REF!=\"строительно-монтажные работы\",ЗАЯВКА!#REF!,0)","v":{"$error":"#REF!"}},{"$f":"IF(ЗАЯВКА!#REF!=\"да\",ЗАЯВКА!#REF!,0)","v":{"$error":"#REF!"}}]
[{"$f":"IF(ЗАЯВКА!#REF!=\"проектирование\",ЗАЯВКА!#REF!,0)","v":{"$error":"#REF!"}},{"$f":"IF(ЗАЯВКА!#REF!=\"строительно-монтажные работы\",ЗАЯВКА!#REF!,0)","v":{"$error":"#REF!"}},{"$f":"IF(ЗАЯВКА!#REF!=\"да\",ЗАЯВКА!#REF!,0)","v":{"$error":"#REF!"}}]
[{"$f":"IF(ЗАЯВКА!#REF!=\"проектирование\",ЗАЯВКА!#REF!,0)","v":{"$error":"#REF!"}},{"$f":"IF(ЗАЯВКА!#REF!=\"строительно-монтажные работы\",ЗАЯВКА!#REF!,0)","v":{"$error":"#REF!"}},{"$f":"IF(ЗАЯВКА!#REF!=\"да\",ЗАЯВКА!#REF!,0)","v":{"$error":"#REF!"}}]
[{"$f":"IF(ЗАЯВКА!#REF!=\"проектирование\",ЗАЯВКА!#REF!,0)","v":{"$error":"#REF!"}},{"$f":"IF(ЗАЯВКА!#REF!=\"строительно-монтажные работы\",ЗАЯВКА!#REF!,0)","v":{"$error":"#REF!"}},{"$f":"IF(ЗАЯВКА!#REF!=\"да\",ЗАЯВКА!#REF!,0)","v":{"$error":"#REF!"}}]
[{"$f":"IF(ЗАЯВКА!#REF!=\"проектирование\",ЗАЯВКА!#REF!,0)","v":{"$error":"#REF!"}},{"$f":"IF(ЗАЯВКА!#REF!=\"строительно-монтажные работы\",ЗАЯВКА!#REF!,0)","v":{"$error":"#REF!"}},{"$f":"IF(ЗАЯВКА!#REF!=\"да\",ЗАЯВКА!#REF!,0)","v":{"$error":"#REF!"}}]
[{"$f":"IF(ЗАЯВКА!#REF!=\"проектирование\",ЗАЯВКА!#REF!,0)","v":{"$error":"#REF!"}},{"$f":"IF(ЗАЯВКА!#REF!=\"строительно-монтажные работы\",ЗАЯВКА!#REF!,0)","v":{"$error":"#REF!"}},{"$f":"IF(ЗАЯВКА!#REF!=\"да\",ЗАЯВКА!#REF!,0)","v":{"$error":"#REF!"}}]
[{"$f":"IF(ЗАЯВКА!#REF!=\"проектирование\",ЗАЯВКА!#REF!,0)","v":{"$error":"#REF!"}},{"$f":"IF(ЗАЯВКА!#REF!=\"строительно-монтажные работы\",ЗАЯВКА!#REF!,0)","v":{"$error":"#REF!"}},{"$f":"IF(ЗАЯВКА!#REF!=\"да\",ЗАЯВКА!#REF!,0)","v":{"$error":"#REF!"}}]
[{"$f":"IF(ЗАЯВКА!#REF!=\"проектирование\",ЗАЯВКА!#REF!,0)","v":{"$error":"#REF!"}},{"$f":"IF(ЗАЯВКА!#REF!=\"строительно-монтажные работы\",ЗАЯВКА!#REF!,0)","v":{"$error":"#REF!"}},{"$f":"IF(ЗАЯВКА!#REF!=\"да\",ЗАЯВКА!#REF!,0)","v":{"$error":"#REF!"}}]
[{"$f":"IF(ЗАЯВКА!#REF!=\"проектирование\",ЗАЯВКА!#REF!,0)","v":{"$error":"#REF!"}},{"$f":"IF(ЗАЯВКА!#REF!=\"строительно-монтажные работы\",ЗАЯВКА!#REF!,0)","v":{"$error":"#REF!"}},{"$f":"IF(ЗАЯВКА!#REF!=\"да\",ЗАЯВКА!#REF!,0)","v":{"$error":"#REF!"}}]
[{"$f":"IF(ЗАЯВКА!#REF!=\"проектирование\",ЗАЯВКА!#REF!,0)","v":{"$error":"#REF!"}},{"$f":"IF(ЗАЯВКА!#REF!=\"строительно-монтажные работы\",ЗАЯВКА!#REF!,0)","v":{"$error":"#REF!"}},{"$f":"IF(ЗАЯВКА!#REF!=\"да\",ЗАЯВКА!#REF!,0)","v":{"$error":"#REF!"}}]
[{"$f":"IF(ЗАЯВКА!#REF!=\"проектирование\",ЗАЯВКА!#REF!,0)","v":{"$error":"#REF!"}},{"$f":"IF(ЗАЯВКА!#REF!=\"строительно-монтажные работы\",ЗАЯВКА!#REF!,0)","v":{"$error":"#REF!"}},{"$f":"IF(ЗАЯВКА!#REF!=\"да\",ЗАЯВКА!#REF!,0)","v":{"$error":"#REF!"}}]
[{"$f":"IF(ЗАЯВКА!#REF!=\"проектирование\",ЗАЯВКА!#REF!,0)","v":{"$error":"#REF!"}},{"$f":"IF(ЗАЯВКА!#REF!=\"строительно-монтажные работы\",ЗАЯВКА!#REF!,0)","v":{"$error":"#REF!"}},{"$f":"IF(ЗАЯВКА!#REF!=\"да\",ЗАЯВКА!#REF!,0)","v":{"$error":"#REF!"}}]
[{"$f":"IF(ЗАЯВКА!#REF!=\"проектирование\",ЗАЯВКА!#REF!,0)","v":{"$error":"#REF!"}},{"$f":"IF(ЗАЯВКА!#REF!=\"строительно-монтажные работы\",ЗАЯВКА!#REF!,0)","v":{"$error":"#REF!"}},{"$f":"IF(ЗАЯВКА!#REF!=\"да\",ЗАЯВКА!#REF!,0)","v":{"$error":"#REF!"}}]
[{"$f":"IF(ЗАЯВКА!#REF!=\"проектирование\",ЗАЯВКА!#REF!,0)","v":{"$error":"#REF!"}},{"$f":"IF(ЗАЯВКА!#REF!=\"строительно-монтажные работы\",ЗАЯВКА!#REF!,0)","v":{"$error":"#REF!"}},{"$f":"IF(ЗАЯВКА!#REF!=\"да\",ЗАЯВКА!#REF!,0)","v":{"$error":"#REF!"}}]
[{"$f":"IF(ЗАЯВКА!#REF!=\"проектирование\",ЗАЯВКА!#REF!,0)","v":{"$error":"#REF!"}},{"$f":"IF(ЗАЯВКА!#REF!=\"строительно-монтажные работы\",ЗАЯВКА!#REF!,0)","v":{"$error":"#REF!"}},{"$f":"IF(ЗАЯВКА!#REF!=\"да\",ЗАЯВКА!#REF!,0)","v":{"$error":"#REF!"}}]
[{"$f":"IF(ЗАЯВКА!#REF!=\"проектирование\",ЗАЯВКА!#REF!,0)","v":{"$error":"#REF!"}},{"$f":"IF(ЗАЯВКА!#REF!=\"строительно-монтажные работы\",ЗАЯВКА!#REF!,0)","v":{"$error":"#REF!"}},{"$f":"IF(ЗАЯВКА!#REF!=\"да\",ЗАЯВКА!#REF!,0)","v":{"$error":"#REF!"}}]
[{"$f":"IF(ЗАЯВКА!#REF!=\"проектирование\",ЗАЯВКА!#REF!,0)","v":{"$error":"#REF!"}},{"$f":"IF(ЗАЯВКА!#REF!=\"строительно-монтажные работы\",ЗАЯВКА!#REF!,0)","v":{"$error":"#REF!"}},{"$f":"IF(ЗАЯВКА!#REF!=\"да\",ЗАЯВКА!#REF!,0)","v":{"$error":"#REF!"}}]
[{"$f":"IF(ЗАЯВКА!#REF!=\"проектирование\",ЗАЯВКА!#REF!,0)","v":{"$error":"#REF!"}},{"$f":"IF(ЗАЯВКА!#REF!=\"строительно-монтажные работы\",ЗАЯВКА!#REF!,0)","v":{"$error":"#REF!"}},{"$f":"IF(ЗАЯВКА!#REF!=\"да\",ЗАЯВКА!#REF!,0)","v":{"$error":"#REF!"}}]
[{"$f":"IF(ЗАЯВКА!#REF!=\"проектирование\",ЗАЯВКА!#REF!,0)","v":{"$error":"#REF!"}},{"$f":"IF(ЗАЯВКА!#REF!=\"строительно-монтажные работы\",ЗАЯВКА!#REF!,0)","v":{"$error":"#REF!"}},{"$f":"IF(ЗАЯВКА!#REF!=\"да\",ЗАЯВКА!#REF!,0)","v":{"$error":"#REF!"}}]
[{"$f":"IF(ЗАЯВКА!#REF!=\"проектирование\",ЗАЯВКА!#REF!,0)","v":{"$error":"#REF!"}},{"$f":"IF(ЗАЯВКА!#REF!=\"строительно-монтажные работы\",ЗАЯВКА!#REF!,0)","v":{"$error":"#REF!"}},{"$f":"IF(ЗАЯВКА!#REF!=\"да\",ЗАЯВКА!#REF!,0)","v":{"$error":"#REF!"}}]
[{"$f":"IF(ЗАЯВКА!#REF!=\"проектирование\",ЗАЯВКА!#REF!,0)","v":{"$error":"#REF!"}},{"$f":"IF(ЗАЯВКА!#REF!=\"строительно-монтажные работы\",ЗАЯВКА!#REF!,0)","v":{"$error":"#REF!"}},{"$f":"IF(ЗАЯВКА!#REF!=\"да\",ЗАЯВКА!#REF!,0)","v":{"$error":"#REF!"}}]
[{"$f":"IF(ЗАЯВКА!#REF!=\"проектирование\",ЗАЯВКА!#REF!,0)","v":{"$error":"#REF!"}},{"$f":"IF(ЗАЯВКА!#REF!=\"строительно-монтажные работы\",ЗАЯВКА!#REF!,0)","v":{"$error":"#REF!"}},{"$f":"IF(ЗАЯВКА!#REF!=\"да\",ЗАЯВКА!#REF!,0)","v":{"$error":"#REF!"}}]
[{"$f":"IF(ЗАЯВКА!#REF!=\"проектирование\",ЗАЯВКА!#REF!,0)","v":{"$error":"#REF!"}},{"$f":"IF(ЗАЯВКА!#REF!=\"строительно-монтажные работы\",ЗАЯВКА!#REF!,0)","v":{"$error":"#REF!"}},{"$f":"IF(ЗАЯВКА!#REF!=\"да\",ЗАЯВКА!#REF!,0)","v":{"$error":"#REF!"}}]
[{"$f":"IF(ЗАЯВКА!#REF!=\"проектирование\",ЗАЯВКА!#REF!,0)","v":{"$error":"#REF!"}},{"$f":"IF(ЗАЯВКА!#REF!=\"строительно-монтажные работы\",ЗАЯВКА!#REF!,0)","v":{"$error":"#REF!"}},{"$f":"IF(ЗАЯВКА!#REF!=\"да\",ЗАЯВКА!#REF!,0)","v":{"$error":"#REF!"}}]
[{"$f":"IF(ЗАЯВКА!#REF!=\"проектирование\",ЗАЯВКА!#REF!,0)","v":{"$error":"#REF!"}},{"$f":"IF(ЗАЯВКА!#REF!=\"строительно-монтажные работы\",ЗАЯВКА!#REF!,0)","v":{"$error":"#REF!"}},{"$f":"IF(ЗАЯВКА!#REF!=\"да\",ЗАЯВКА!#REF!,0)","v":{"$error":"#REF!"}}]
[{"$f":"IF(ЗАЯВКА!#REF!=\"проектирование\",ЗАЯВКА!#REF!,0)","v":{"$error":"#REF!"}},{"$f":"IF(ЗАЯВКА!#REF!=\"строительно-монтажные работы\",ЗАЯВКА!#REF!,0)","v":{"$error":"#REF!"}},{"$f":"IF(ЗАЯВКА!#REF!=\"да\",ЗАЯВКА!#REF!,0)","v":{"$error":"#REF!"}}]
[{"$f":"IF(ЗАЯВКА!#REF!=\"проектирование\",ЗАЯВКА!#REF!,0)","v":{"$error":"#REF!"}},{"$f":"IF(ЗАЯВКА!#REF!=\"строительно-монтажные работы\",ЗАЯВКА!#REF!,0)","v":{"$error":"#REF!"}},{"$f":"IF(ЗАЯВКА!#REF!=\"да\",ЗАЯВКА!#REF!,0)","v":{"$error":"#REF!"}}]
[{"$f":"IF(ЗАЯВКА!#REF!=\"проектирование\",ЗАЯВКА!#REF!,0)","v":{"$error":"#REF!"}},{"$f":"IF(ЗАЯВКА!#REF!=\"строительно-монтажные работы\",ЗАЯВКА!#REF!,0)","v":{"$error":"#REF!"}},{"$f":"IF(ЗАЯВКА!#REF!=\"да\",ЗАЯВКА!#REF!,0)","v":{"$error":"#REF!"}}]
[{"$f":"IF(ЗАЯВКА!#REF!=\"проектирование\",ЗАЯВКА!#REF!,0)","v":{"$error":"#REF!"}},{"$f":"IF(ЗАЯВКА!#REF!=\"строительно-монтажные работы\",ЗАЯВКА!#REF!,0)","v":{"$error":"#REF!"}},{"$f":"IF(ЗАЯВКА!#REF!=\"да\",ЗАЯВКА!#REF!,0)","v":{"$error":"#REF!"}}]
[{"$f":"IF(ЗАЯВКА!#REF!=\"проектирование\",ЗАЯВКА!#REF!,0)","v":{"$error":"#REF!"}},{"$f":"IF(ЗАЯВКА!#REF!=\"строительно-монтажные работы\",ЗАЯВКА!#REF!,0)","v":{"$error":"#REF!"}},{"$f":"IF(ЗАЯВКА!#REF!=\"да\",ЗАЯВКА!#REF!,0)","v":{"$error":"#REF!"}}]
[{"$f":"IF(ЗАЯВКА!#REF!=\"проектирование\",ЗАЯВКА!#REF!,0)","v":{"$error":"#REF!"}},{"$f":"IF(ЗАЯВКА!#REF!=\"строительно-монтажные работы\",ЗАЯВКА!#REF!,0)","v":{"$error":"#REF!"}},{"$f":"IF(ЗАЯВКА!#REF!=\"да\",ЗАЯВКА!#REF!,0)","v":{"$error":"#REF!"}}]
[{"$f":"IF(ЗАЯВКА!#REF!=\"проектирование\",ЗАЯВКА!#REF!,0)","v":{"$error":"#REF!"}},{"$f":"IF(ЗАЯВКА!#REF!=\"строительно-монтажные работы\",ЗАЯВКА!#REF!,0)","v":{"$error":"#REF!"}},{"$f":"IF(ЗАЯВКА!#REF!=\"да\",ЗАЯВКА!#REF!,0)","v":{"$error":"#REF!"}}]
[{"$f":"IF(ЗАЯВКА!#REF!=\"проектирование\",ЗАЯВКА!#REF!,0)","v":{"$error":"#REF!"}},{"$f":"IF(ЗАЯВКА!#REF!=\"строительно-монтажные работы\",ЗАЯВКА!#REF!,0)","v":{"$error":"#REF!"}},{"$f":"IF(ЗАЯВКА!#REF!=\"да\",ЗАЯВКА!#REF!,0)","v":{"$error":"#REF!"}}]
[{"$f":"IF(ЗАЯВКА!#REF!=\"проектирование\",ЗАЯВКА!#REF!,0)","v":{"$error":"#REF!"}},{"$f":"IF(ЗАЯВКА!#REF!=\"строительно-монтажные работы\",ЗАЯВКА!#REF!,0)","v":{"$error":"#REF!"}},{"$f":"IF(ЗАЯВКА!#REF!=\"да\",ЗАЯВКА!#REF!,0)","v":{"$error":"#REF!"}}]
[{"$f":"IF(ЗАЯВКА!#REF!=\"проектирование\",ЗАЯВКА!#REF!,0)","v":{"$error":"#REF!"}},{"$f":"IF(ЗАЯВКА!#REF!=\"строительно-монтажные работы\",ЗАЯВКА!#REF!,0)","v":{"$error":"#REF!"}},{"$f":"IF(ЗАЯВКА!#REF!=\"да\",ЗАЯВКА!#REF!,0)","v":{"$error":"#REF!"}}]
[{"$f":"IF(ЗАЯВКА!#REF!=\"проектирование\",ЗАЯВКА!#REF!,0)","v":{"$error":"#REF!"}},{"$f":"IF(ЗАЯВКА!#REF!=\"строительно-монтажные работы\",ЗАЯВКА!#REF!,0)","v":{"$error":"#REF!"}},{"$f":"IF(ЗАЯВКА!#REF!=\"да\",ЗАЯВКА!#REF!,0)","v":{"$error":"#REF!"}}]
[{"$f":"IF(ЗАЯВКА!#REF!=\"проектирование\",ЗАЯВКА!#REF!,0)","v":{"$error":"#REF!"}},{"$f":"IF(ЗАЯВКА!#REF!=\"строительно-монтажные работы\",ЗАЯВКА!#REF!,0)","v":{"$error":"#REF!"}},{"$f":"IF(ЗАЯВКА!#REF!=\"да\",ЗАЯВКА!#REF!,0)","v":{"$error":"#REF!"}}]
[{"$f":"IF(ЗАЯВКА!#REF!=\"проектирование\",ЗАЯВКА!#REF!,0)","v":{"$error":"#REF!"}},{"$f":"IF(ЗАЯВКА!#REF!=\"строительно-монтажные работы\",ЗАЯВКА!#REF!,0)","v":{"$error":"#REF!"}},{"$f":"IF(ЗАЯВКА!#REF!=\"да\",ЗАЯВКА!#REF!,0)","v":{"$error":"#REF!"}}]
[{"$f":"IF(ЗАЯВКА!#REF!=\"проектирование\",ЗАЯВКА!#REF!,0)","v":{"$error":"#REF!"}},{"$f":"IF(ЗАЯВКА!#REF!=\"строительно-монтажные работы\",ЗАЯВКА!#REF!,0)","v":{"$error":"#REF!"}},{"$f":"IF(ЗАЯВКА!#REF!=\"да\",ЗАЯВКА!#REF!,0)","v":{"$error":"#REF!"}}]
[{"$f":"IF(ЗАЯВКА!#REF!=\"проектирование\",ЗАЯВКА!#REF!,0)","v":{"$error":"#REF!"}},{"$f":"IF(ЗАЯВКА!#REF!=\"строительно-монтажные работы\",ЗАЯВКА!#REF!,0)","v":{"$error":"#REF!"}},{"$f":"IF(ЗАЯВКА!#REF!=\"да\",ЗАЯВКА!#REF!,0)","v":{"$error":"#REF!"}}]
[{"$f":"IF(ЗАЯВКА!#REF!=\"проектирование\",ЗАЯВКА!#REF!,0)","v":{"$error":"#REF!"}},{"$f":"IF(ЗАЯВКА!#REF!=\"строительно-монтажные работы\",ЗАЯВКА!#REF!,0)","v":{"$error":"#REF!"}},{"$f":"IF(ЗАЯВКА!#REF!=\"да\",ЗАЯВКА!#REF!,0)","v":{"$error":"#REF!"}}]
[{"$f":"IF(ЗАЯВКА!#REF!=\"проектирование\",ЗАЯВКА!#REF!,0)","v":{"$error":"#REF!"}},{"$f":"IF(ЗАЯВКА!#REF!=\"строительно-монтажные работы\",ЗАЯВКА!#REF!,0)","v":{"$error":"#REF!"}},{"$f":"IF(ЗАЯВКА!#REF!=\"да\",ЗАЯВКА!#REF!,0)","v":{"$error":"#REF!"}}]
[{"$f":"IF(ЗАЯВКА!#REF!=\"проектирование\",ЗАЯВКА!#REF!,0)","v":{"$error":"#REF!"}},{"$f":"IF(ЗАЯВКА!#REF!=\"строительно-монтажные работы\",ЗАЯВКА!#REF!,0)","v":{"$error":"#REF!"}},{"$f":"IF(ЗАЯВКА!#REF!=\"да\",ЗАЯВКА!#REF!,0)","v":{"$error":"#REF!"}}]
[{"$f":"IF(ЗАЯВКА!#REF!=\"проектирование\",ЗАЯВКА!#REF!,0)","v":{"$error":"#REF!"}},{"$f":"IF(ЗАЯВКА!#REF!=\"строительно-монтажные работы\",ЗАЯВКА!#REF!,0)","v":{"$error":"#REF!"}},{"$f":"IF(ЗАЯВКА!#REF!=\"да\",ЗАЯВКА!#REF!,0)","v":{"$error":"#REF!"}}]
[{"$f":"IF(ЗАЯВКА!#REF!=\"проектирование\",ЗАЯВКА!#REF!,0)","v":{"$error":"#REF!"}},{"$f":"IF(ЗАЯВКА!#REF!=\"строительно-монтажные работы\",ЗАЯВКА!#REF!,0)","v":{"$error":"#REF!"}},{"$f":"IF(ЗАЯВКА!#REF!=\"да\",ЗАЯВКА!#REF!,0)","v":{"$error":"#REF!"}}]
[{"$f":"IF(ЗАЯВКА!#REF!=\"проектирование\",ЗАЯВКА!#REF!,0)","v":{"$error":"#REF!"}},{"$f":"IF(ЗАЯВКА!#REF!=\"строительно-монтажные работы\",ЗАЯВКА!#REF!,0)","v":{"$error":"#REF!"}},{"$f":"IF(ЗАЯВКА!#REF!=\"да\",ЗАЯВКА!#REF!,0)","v":{"$error":"#REF!"}}]
[{"$f":"IF(ЗАЯВКА!#REF!=\"проектирование\",ЗАЯВКА!#REF!,0)","v":{"$error":"#REF!"}},{"$f":"IF(ЗАЯВКА!#REF!=\"строительно-монтажные работы\",ЗАЯВКА!#REF!,0)","v":{"$error":"#REF!"}},{"$f":"IF(ЗАЯВКА!#REF!=\"да\",ЗАЯВКА!#REF!,0)","v":{"$error":"#REF!"}}]
[{"$f":"IF(ЗАЯВКА!#REF!=\"проектирование\",ЗАЯВКА!#REF!,0)","v":{"$error":"#REF!"}},{"$f":"IF(ЗАЯВКА!#REF!=\"строительно-монтажные работы\",ЗАЯВКА!#REF!,0)","v":{"$error":"#REF!"}},{"$f":"IF(ЗАЯВКА!#REF!=\"да\",ЗАЯВКА!#REF!,0)","v":{"$error":"#REF!"}}]
[{"$f":"IF(ЗАЯВКА!#REF!=\"проектирование\",ЗАЯВКА!#REF!,0)","v":{"$error":"#REF!"}},{"$f":"IF(ЗАЯВКА!#REF!=\"строительно-монтажные работы\",ЗАЯВКА!#REF!,0)","v":{"$error":"#REF!"}},{"$f":"IF(ЗАЯВКА!#REF!=\"да\",ЗАЯВКА!#REF!,0)","v":{"$error":"#REF!"}}]
[{"$f":"IF(ЗАЯВКА!#REF!=\"проектирование\",ЗАЯВКА!#REF!,0)","v":{"$error":"#REF!"}},{"$f":"IF(ЗАЯВКА!#REF!=\"строительно-монтажные работы\",ЗАЯВКА!#REF!,0)","v":{"$error":"#REF!"}},{"$f":"IF(ЗАЯВКА!#REF!=\"да\",ЗАЯВКА!#REF!,0)","v":{"$error":"#REF!"}}]
[{"$f":"IF(ЗАЯВКА!#REF!=\"проектирование\",ЗАЯВКА!#REF!,0)","v":{"$error":"#REF!"}},{"$f":"IF(ЗАЯВКА!#REF!=\"строительно-монтажные работы\",ЗАЯВКА!#REF!,0)","v":{"$error":"#REF!"}},{"$f":"IF(ЗАЯВКА!#REF!=\"да\",ЗАЯВКА!#REF!,0)","v":{"$error":"#REF!"}}]
[{"$f":"IF(ЗАЯВКА!#REF!=\"проектирование\",ЗАЯВКА!#REF!,0)","v":{"$error":"#REF!"}},{"$f":"IF(ЗАЯВКА!#REF!=\"строительно-монтажные работы\",ЗАЯВКА!#REF!,0)","v":{"$error":"#REF!"}},{"$f":"IF(ЗАЯВКА!#REF!=\"да\",ЗАЯВКА!#REF!,0)","v":{"$error":"#REF!"}}]
[{"$f":"IF(ЗАЯВКА!#REF!=\"проектирование\",ЗАЯВКА!#REF!,0)","v":{"$error":"#REF!"}},{"$f":"IF(ЗАЯВКА!#REF!=\"строительно-монтажные работы\",ЗАЯВКА!#REF!,0)","v":{"$error":"#REF!"}},{"$f":"IF(ЗАЯВКА!#REF!=\"да\",ЗАЯВКА!#REF!,0)","v":{"$error":"#REF!"}}]
[{"$f":"IF(ЗАЯВКА!#REF!=\"проектирование\",ЗАЯВКА!#REF!,0)","v":{"$error":"#REF!"}},{"$f":"IF(ЗАЯВКА!#REF!=\"строительно-монтажные работы\",ЗАЯВКА!#REF!,0)","v":{"$error":"#REF!"}},{"$f":"IF(ЗАЯВКА!#REF!=\"да\",ЗАЯВКА!#REF!,0)","v":{"$error":"#REF!"}}]
[{"$f":"IF(ЗАЯВКА!#REF!=\"проектирование\",ЗАЯВКА!#REF!,0)","v":{"$error":"#REF!"}},{"$f":"IF(ЗАЯВКА!#REF!=\"строительно-монтажные работы\",ЗАЯВКА!#REF!,0)","v":{"$error":"#REF!"}},{"$f":"IF(ЗАЯВКА!#REF!=\"да\",ЗАЯВКА!#REF!,0)","v":{"$error":"#REF!"}}]
[{"$f":"IF(ЗАЯВКА!#REF!=\"проектирование\",ЗАЯВКА!#REF!,0)","v":{"$error":"#REF!"}},{"$f":"IF(ЗАЯВКА!#REF!=\"строительно-монтажные работы\",ЗАЯВКА!#REF!,0)","v":{"$error":"#REF!"}},{"$f":"IF(ЗАЯВКА!#REF!=\"да\",ЗАЯВКА!#REF!,0)","v":{"$error":"#REF!"}}]
[{"$f":"IF(ЗАЯВКА!#REF!=\"проектирование\",ЗАЯВКА!#REF!,0)","v":{"$error":"#REF!"}},{"$f":"IF(ЗАЯВКА!#REF!=\"строительно-монтажные работы\",ЗАЯВКА!#REF!,0)","v":{"$error":"#REF!"}},{"$f":"IF(ЗАЯВКА!#REF!=\"да\",ЗАЯВКА!#REF!,0)","v":{"$error":"#REF!"}}]
[{"$f":"IF(ЗАЯВКА!#REF!=\"проектирование\",ЗАЯВКА!#REF!,0)","v":{"$error":"#REF!"}},{"$f":"IF(ЗАЯВКА!#REF!=\"строительно-монтажные работы\",ЗАЯВКА!#REF!,0)","v":{"$error":"#REF!"}},{"$f":"IF(ЗАЯВКА!#REF!=\"да\",ЗАЯВКА!#REF!,0)","v":{"$error":"#REF!"}}]
[{"$f":"IF(ЗАЯВКА!#REF!=\"проектирование\",ЗАЯВКА!#REF!,0)","v":{"$error":"#REF!"}},{"$f":"IF(ЗАЯВКА!#REF!=\"строительно-монтажные работы\",ЗАЯВКА!#REF!,0)","v":{"$error":"#REF!"}},{"$f":"IF(ЗАЯВКА!#REF!=\"да\",ЗАЯВКА!#REF!,0)","v":{"$error":"#REF!"}}]
[{"$f":"IF(ЗАЯВКА!#REF!=\"проектирование\",ЗАЯВКА!#REF!,0)","v":{"$error":"#REF!"}},{"$f":"IF(ЗАЯВКА!#REF!=\"строительно-монтажные работы\",ЗАЯВКА!#REF!,0)","v":{"$error":"#REF!"}},{"$f":"IF(ЗАЯВКА!#REF!=\"да\",ЗАЯВКА!#REF!,0)","v":{"$error":"#REF!"}}]
[{"$f":"IF(ЗАЯВКА!#REF!=\"проектирование\",ЗАЯВКА!#REF!,0)","v":{"$error":"#REF!"}},{"$f":"IF(ЗАЯВКА!#REF!=\"строительно-монтажные работы\",ЗАЯВКА!#REF!,0)","v":{"$error":"#REF!"}},{"$f":"IF(ЗАЯВКА!#REF!=\"да\",ЗАЯВКА!#REF!,0)","v":{"$error":"#REF!"}}]
[{"$f":"IF(ЗАЯВКА!#REF!=\"проектирование\",ЗАЯВКА!#REF!,0)","v":{"$error":"#REF!"}},{"$f":"IF(ЗАЯВКА!#REF!=\"строительно-монтажные работы\",ЗАЯВКА!#REF!,0)","v":{"$error":"#REF!"}},{"$f":"IF(ЗАЯВКА!#REF!=\"да\",ЗАЯВКА!#REF!,0)","v":{"$error":"#REF!"}}]
[{"$f":"IF(ЗАЯВКА!#REF!=\"проектирование\",ЗАЯВКА!#REF!,0)","v":{"$error":"#REF!"}},{"$f":"IF(ЗАЯВКА!#REF!=\"строительно-монтажные работы\",ЗАЯВКА!#REF!,0)","v":{"$error":"#REF!"}},{"$f":"IF(ЗАЯВКА!#REF!=\"да\",ЗАЯВКА!#REF!,0)","v":{"$error":"#REF!"}}]
[{"$f":"IF(ЗАЯВКА!#REF!=\"проектирование\",ЗАЯВКА!#REF!,0)","v":{"$error":"#REF!"}},{"$f":"IF(ЗАЯВКА!#REF!=\"строительно-монтажные работы\",ЗАЯВКА!#REF!,0)","v":{"$error":"#REF!"}},{"$f":"IF(ЗАЯВКА!#REF!=\"да\",ЗАЯВКА!#REF!,0)","v":{"$error":"#REF!"}}]
[{"$f":"IF(ЗАЯВКА!#REF!=\"проектирование\",ЗАЯВКА!#REF!,0)","v":{"$error":"#REF!"}},{"$f":"IF(ЗАЯВКА!#REF!=\"строительно-монтажные работы\",ЗАЯВКА!#REF!,0)","v":{"$error":"#REF!"}},{"$f":"IF(ЗАЯВКА!#REF!=\"да\",ЗАЯВКА!#REF!,0)","v":{"$error":"#REF!"}}]
[{"$f":"IF(ЗАЯВКА!#REF!=\"проектирование\",ЗАЯВКА!#REF!,0)","v":{"$error":"#REF!"}},{"$f":"IF(ЗАЯВКА!#REF!=\"строительно-монтажные работы\",ЗАЯВКА!#REF!,0)","v":{"$error":"#REF!"}},{"$f":"IF(ЗАЯВКА!#REF!=\"да\",ЗАЯВКА!#REF!,0)","v":{"$error":"#REF!"}}]
[{"$f":"IF(ЗАЯВКА!#REF!=\"проектирование\",ЗАЯВКА!#REF!,0)","v":{"$error":"#REF!"}},{"$f":"IF(ЗАЯВКА!#REF!=\"строительно-монтажные работы\",ЗАЯВКА!#REF!,0)","v":{"$error":"#REF!"}},{"$f":"IF(ЗАЯВКА!#REF!=\"да\",ЗАЯВКА!#REF!,0)","v":{"$error":"#REF!"}}]
[{"$f":"IF(ЗАЯВКА!#REF!=\"проектирование\",ЗАЯВКА!#REF!,0)","v":{"$error":"#REF!"}},{"$f":"IF(ЗАЯВКА!#REF!=\"строительно-монтажные работы\",ЗАЯВКА!#REF!,0)","v":{"$error":"#REF!"}},{"$f":"IF(ЗАЯВКА!#REF!=\"да\",ЗАЯВКА!#REF!,0)","v":{"$error":"#REF!"}}]
[{"$f":"IF(ЗАЯВКА!#REF!=\"проектирование\",ЗАЯВКА!#REF!,0)","v":{"$error":"#REF!"}},{"$f":"IF(ЗАЯВКА!#REF!=\"строительно-монтажные работы\",ЗАЯВКА!#REF!,0)","v":{"$error":"#REF!"}},{"$f":"IF(ЗАЯВКА!#REF!=\"да\",ЗАЯВКА!#REF!,0)","v":{"$error":"#REF!"}}]
[{"$f":"IF(ЗАЯВКА!#REF!=\"проектирование\",ЗАЯВКА!#REF!,0)","v":{"$error":"#REF!"}},{"$f":"IF(ЗАЯВКА!#REF!=\"строительно-монтажные работы\",ЗАЯВКА!#REF!,0)","v":{"$error":"#REF!"}},{"$f":"IF(ЗАЯВКА!#REF!=\"да\",ЗАЯВКА!#REF!,0)","v":{"$error":"#REF!"}}]
[{"$f":"IF(ЗАЯВКА!#REF!=\"проектирование\",ЗАЯВКА!#REF!,0)","v":{"$error":"#REF!"}},{"$f":"IF(ЗАЯВКА!#REF!=\"строительно-монтажные работы\",ЗАЯВКА!#REF!,0)","v":{"$error":"#REF!"}},{"$f":"IF(ЗАЯВКА!#REF!=\"да\",ЗАЯВКА!#REF!,0)","v":{"$error":"#REF!"}}]
[{"$f":"IF(ЗАЯВКА!#REF!=\"проектирование\",ЗАЯВКА!#REF!,0)","v":{"$error":"#REF!"}},{"$f":"IF(ЗАЯВКА!#REF!=\"строительно-монтажные работы\",ЗАЯВКА!#REF!,0)","v":{"$error":"#REF!"}},{"$f":"IF(ЗАЯВКА!#REF!=\"да\",ЗАЯВКА!#REF!,0)","v":{"$error":"#REF!"}}]
[{"$f":"IF(ЗАЯВКА!#REF!=\"проектирование\",ЗАЯВКА!#REF!,0)","v":{"$error":"#REF!"}},{"$f":"IF(ЗАЯВКА!#REF!=\"строительно-монтажные работы\",ЗАЯВКА!#REF!,0)","v":{"$error":"#REF!"}},{"$f":"IF(ЗАЯВКА!#REF!=\"да\",ЗАЯВКА!#REF!,0)","v":{"$error":"#REF!"}}]
[{"$f":"IF(ЗАЯВКА!#REF!=\"проектирование\",ЗАЯВКА!#REF!,0)","v":{"$error":"#REF!"}},{"$f":"IF(ЗАЯВКА!#REF!=\"строительно-монтажные работы\",ЗАЯВКА!#REF!,0)","v":{"$error":"#REF!"}},{"$f":"IF(ЗАЯВКА!#REF!=\"да\",ЗАЯВКА!#REF!,0)","v":{"$error":"#REF!"}}]
[{"$f":"IF(ЗАЯВКА!#REF!=\"проектирование\",ЗАЯВКА!#REF!,0)","v":{"$error":"#REF!"}},{"$f":"IF(ЗАЯВКА!#REF!=\"строительно-монтажные работы\",ЗАЯВКА!#REF!,0)","v":{"$error":"#REF!"}},{"$f":"IF(ЗАЯВКА!#REF!=\"да\",ЗАЯВКА!#REF!,0)","v":{"$error":"#REF!"}}]
[{"$f":"IF(ЗАЯВКА!#REF!=\"проектирование\",ЗАЯВКА!#REF!,0)","v":{"$error":"#REF!"}},{"$f":"IF(ЗАЯВКА!#REF!=\"строительно-монтажные работы\",ЗАЯВКА!#REF!,0)","v":{"$error":"#REF!"}},{"$f":"IF(ЗАЯВКА!#REF!=\"да\",ЗАЯВКА!#REF!,0)","v":{"$error":"#REF!"}}]
[{"$f":"IF(ЗАЯВКА!#REF!=\"проектирование\",ЗАЯВКА!#REF!,0)","v":{"$error":"#REF!"}},{"$f":"IF(ЗАЯВКА!#REF!=\"строительно-монтажные работы\",ЗАЯВКА!#REF!,0)","v":{"$error":"#REF!"}},{"$f":"IF(ЗАЯВКА!#REF!=\"да\",ЗАЯВКА!#REF!,0)","v":{"$error":"#REF!"}}]
[{"$f":"IF(ЗАЯВКА!#REF!=\"проектирование\",ЗАЯВКА!#REF!,0)","v":{"$error":"#REF!"}},{"$f":"IF(ЗАЯВКА!#REF!=\"строительно-монтажные работы\",ЗАЯВКА!#REF!,0)","v":{"$error":"#REF!"}},{"$f":"IF(ЗАЯВКА!#REF!=\"да\",ЗАЯВКА!#REF!,0)","v":{"$error":"#REF!"}}]
[{"$f":"IF(ЗАЯВКА!#REF!=\"проектирование\",ЗАЯВКА!#REF!,0)","v":{"$error":"#REF!"}},{"$f":"IF(ЗАЯВКА!#REF!=\"строительно-монтажные работы\",ЗАЯВКА!#REF!,0)","v":{"$error":"#REF!"}},{"$f":"IF(ЗАЯВКА!#REF!=\"да\",ЗАЯВКА!#REF!,0)","v":{"$error":"#REF!"}}]
[{"$f":"IF(ЗАЯВКА!#REF!=\"проектирование\",ЗАЯВКА!#REF!,0)","v":{"$error":"#REF!"}},{"$f":"IF(ЗАЯВКА!#REF!=\"строительно-монтажные работы\",ЗАЯВКА!#REF!,0)","v":{"$error":"#REF!"}},{"$f":"IF(ЗАЯВКА!#REF!=\"да\",ЗАЯВКА!#REF!,0)","v":{"$error":"#REF!"}}]
[{"$f":"IF(ЗАЯВКА!#REF!=\"проектирование\",ЗАЯВКА!#REF!,0)","v":{"$error":"#REF!"}},{"$f":"IF(ЗАЯВКА!#REF!=\"строительно-монтажные работы\",ЗАЯВКА!#REF!,0)","v":{"$error":"#REF!"}},{"$f":"IF(ЗАЯВКА!#REF!=\"да\",ЗАЯВКА!#REF!,0)","v":{"$error":"#REF!"}}]
[{"$f":"IF(ЗАЯВКА!#REF!=\"проектирование\",ЗАЯВКА!#REF!,0)","v":{"$error":"#REF!"}},{"$f":"IF(ЗАЯВКА!#REF!=\"строительно-монтажные работы\",ЗАЯВКА!#REF!,0)","v":{"$error":"#REF!"}},{"$f":"IF(ЗАЯВКА!#REF!=\"да\",ЗАЯВКА!#REF!,0)","v":{"$error":"#REF!"}}]
[{"$f":"IF(ЗАЯВКА!#REF!=\"проектирование\",ЗАЯВКА!#REF!,0)","v":{"$error":"#REF!"}},{"$f":"IF(ЗАЯВКА!#REF!=\"строительно-монтажные работы\",ЗАЯВКА!#REF!,0)","v":{"$error":"#REF!"}},{"$f":"IF(ЗАЯВКА!#REF!=\"да\",ЗАЯВКА!#REF!,0)","v":{"$error":"#REF!"}}]
[{"$f":"IF(ЗАЯВКА!#REF!=\"проектирование\",ЗАЯВКА!#REF!,0)","v":{"$error":"#REF!"}},{"$f":"IF(ЗАЯВКА!#REF!=\"строительно-монтажные работы\",ЗАЯВКА!#REF!,0)","v":{"$error":"#REF!"}},{"$f":"IF(ЗАЯВКА!#REF!=\"да\",ЗАЯВКА!#REF!,0)","v":{"$error":"#REF!"}}]
[{"$f":"IF(ЗАЯВКА!#REF!=\"проектирование\",ЗАЯВКА!#REF!,0)","v":{"$error":"#REF!"}},{"$f":"IF(ЗАЯВКА!#REF!=\"строительно-монтажные работы\",ЗАЯВКА!#REF!,0)","v":{"$error":"#REF!"}},{"$f":"IF(ЗАЯВКА!#REF!=\"да\",ЗАЯВКА!#REF!,0)","v":{"$error":"#REF!"}}]
[{"$f":"IF(ЗАЯВКА!#REF!=\"проектирование\",ЗАЯВКА!#REF!,0)","v":{"$error":"#REF!"}},{"$f":"IF(ЗАЯВКА!#REF!=\"строительно-монтажные работы\",ЗАЯВКА!#REF!,0)","v":{"$error":"#REF!"}},{"$f":"IF(ЗАЯВКА!#REF!=\"да\",ЗАЯВКА!#REF!,0)","v":{"$error":"#REF!"}}]
[{"$f":"IF(ЗАЯВКА!#REF!=\"проектирование\",ЗАЯВКА!#REF!,0)","v":{"$error":"#REF!"}},{"$f":"IF(ЗАЯВКА!#REF!=\"строительно-монтажные работы\",ЗАЯВКА!#REF!,0)","v":{"$error":"#REF!"}},{"$f":"IF(ЗАЯВКА!#REF!=\"да\",ЗАЯВКА!#REF!,0)","v":{"$error":"#REF!"}}]
[{"$f":"IF(ЗАЯВКА!#REF!=\"проектирование\",ЗАЯВКА!#REF!,0)","v":{"$error":"#REF!"}},{"$f":"IF(ЗАЯВКА!#REF!=\"строительно-монтажные работы\",ЗАЯВКА!#REF!,0)","v":{"$error":"#REF!"}},{"$f":"IF(ЗАЯВКА!#REF!=\"да\",ЗАЯВКА!#REF!,0)","v":{"$error":"#REF!"}}]
[{"$f":"IF(ЗАЯВКА!#REF!=\"проектирование\",ЗАЯВКА!#REF!,0)","v":{"$error":"#REF!"}},{"$f":"IF(ЗАЯВКА!#REF!=\"строительно-монтажные работы\",ЗАЯВКА!#REF!,0)","v":{"$error":"#REF!"}},{"$f":"IF(ЗАЯВКА!#REF!=\"да\",ЗАЯВКА!#REF!,0)","v":{"$error":"#REF!"}}]
[{"$f":"IF(ЗАЯВКА!#REF!=\"проектирование\",ЗАЯВКА!#REF!,0)","v":{"$error":"#REF!"}},{"$f":"IF(ЗАЯВКА!#REF!=\"строительно-монтажные работы\",ЗАЯВКА!#REF!,0)","v":{"$error":"#REF!"}},{"$f":"IF(ЗАЯВКА!#REF!=\"да\",ЗАЯВКА!#REF!,0)","v":{"$error":"#REF!"}}]
[{"$f":"IF(ЗАЯВКА!#REF!=\"проектирование\",ЗАЯВКА!#REF!,0)","v":{"$error":"#REF!"}},{"$f":"IF(ЗАЯВКА!#REF!=\"строительно-монтажные работы\",ЗАЯВКА!#REF!,0)","v":{"$error":"#REF!"}},{"$f":"IF(ЗАЯВКА!#REF!=\"да\",ЗАЯВКА!#REF!,0)","v":{"$error":"#REF!"}}]
[{"$f":"IF(ЗАЯВКА!#REF!=\"проектирование\",ЗАЯВКА!#REF!,0)","v":{"$error":"#REF!"}},{"$f":"IF(ЗАЯВКА!#REF!=\"строительно-монтажные работы\",ЗАЯВКА!#REF!,0)","v":{"$error":"#REF!"}},{"$f":"IF(ЗАЯВКА!#REF!=\"да\",ЗАЯВКА!#REF!,0)","v":{"$error":"#REF!"}}]
[{"$f":"IF(ЗАЯВКА!#REF!=\"проектирование\",ЗАЯВКА!#REF!,0)","v":{"$error":"#REF!"}},{"$f":"IF(ЗАЯВКА!#REF!=\"строительно-монтажные работы\",ЗАЯВКА!#REF!,0)","v":{"$error":"#REF!"}},{"$f":"IF(ЗАЯВКА!#REF!=\"да\",ЗАЯВКА!#REF!,0)","v":{"$error":"#REF!"}}]
[{"$f":"IF(ЗАЯВКА!#REF!=\"проектирование\",ЗАЯВКА!#REF!,0)","v":{"$error":"#REF!"}},{"$f":"IF(ЗАЯВКА!#REF!=\"строительно-монтажные работы\",ЗАЯВКА!#REF!,0)","v":{"$error":"#REF!"}},{"$f":"IF(ЗАЯВКА!#REF!=\"да\",ЗАЯВКА!#REF!,0)","v":{"$error":"#REF!"}}]
[{"$f":"IF(ЗАЯВКА!#REF!=\"проектирование\",ЗАЯВКА!#REF!,0)","v":{"$error":"#REF!"}},{"$f":"IF(ЗАЯВКА!#REF!=\"строительно-монтажные работы\",ЗАЯВКА!#REF!,0)","v":{"$error":"#REF!"}},{"$f":"IF(ЗАЯВКА!#REF!=\"да\",ЗАЯВКА!#REF!,0)","v":{"$error":"#REF!"}}]
[{"$f":"IF(ЗАЯВКА!#REF!=\"проектирование\",ЗАЯВКА!#REF!,0)","v":{"$error":"#REF!"}},{"$f":"IF(ЗАЯВКА!#REF!=\"строительно-монтажные работы\",ЗАЯВКА!#REF!,0)","v":{"$error":"#REF!"}},{"$f":"IF(ЗАЯВКА!#REF!=\"да\",ЗАЯВКА!#REF!,0)","v":{"$error":"#REF!"}}]
[{"$f":"IF(ЗАЯВКА!#REF!=\"проектирование\",ЗАЯВКА!#REF!,0)","v":{"$error":"#REF!"}},{"$f":"IF(ЗАЯВКА!#REF!=\"строительно-монтажные работы\",ЗАЯВКА!#REF!,0)","v":{"$error":"#REF!"}},{"$f":"IF(ЗАЯВКА!#REF!=\"да\",ЗАЯВКА!#REF!,0)","v":{"$error":"#REF!"}}]
[{"$f":"IF(ЗАЯВКА!#REF!=\"проектирование\",ЗАЯВКА!#REF!,0)","v":{"$error":"#REF!"}},{"$f":"IF(ЗАЯВКА!#REF!=\"строительно-монтажные работы\",ЗАЯВКА!#REF!,0)","v":{"$error":"#REF!"}},{"$f":"IF(ЗАЯВКА!#REF!=\"да\",ЗАЯВКА!#REF!,0)","v":{"$error":"#REF!"}}]
[{"$f":"IF(ЗАЯВКА!#REF!=\"проектирование\",ЗАЯВКА!#REF!,0)","v":{"$error":"#REF!"}},{"$f":"IF(ЗАЯВКА!#REF!=\"строительно-монтажные работы\",ЗАЯВКА!#REF!,0)","v":{"$error":"#REF!"}},{"$f":"IF(ЗАЯВКА!#REF!=\"да\",ЗАЯВКА!#REF!,0)","v":{"$error":"#REF!"}}]
[{"$f":"IF(ЗАЯВКА!#REF!=\"проектирование\",ЗАЯВКА!#REF!,0)","v":{"$error":"#REF!"}},{"$f":"IF(ЗАЯВКА!#REF!=\"строительно-монтажные работы\",ЗАЯВКА!#REF!,0)","v":{"$error":"#REF!"}},{"$f":"IF(ЗАЯВКА!#REF!=\"да\",ЗАЯВКА!#REF!,0)","v":{"$error":"#REF!"}}]
[{"$f":"IF(ЗАЯВКА!#REF!=\"проектирование\",ЗАЯВКА!#REF!,0)","v":{"$error":"#REF!"}},{"$f":"IF(ЗАЯВКА!#REF!=\"строительно-монтажные работы\",ЗАЯВКА!#REF!,0)","v":{"$error":"#REF!"}},{"$f":"IF(ЗАЯВКА!#REF!=\"да\",ЗАЯВКА!#REF!,0)","v":{"$error":"#REF!"}}]
[{"$f":"IF(ЗАЯВКА!#REF!=\"проектирование\",ЗАЯВКА!#REF!,0)","v":{"$error":"#REF!"}},{"$f":"IF(ЗАЯВКА!#REF!=\"строительно-монтажные работы\",ЗАЯВКА!#REF!,0)","v":{"$error":"#REF!"}},{"$f":"IF(ЗАЯВКА!#REF!=\"да\",ЗАЯВКА!#REF!,0)","v":{"$error":"#REF!"}}]
[{"$f":"IF(ЗАЯВКА!#REF!=\"проектирование\",ЗАЯВКА!#REF!,0)","v":{"$error":"#REF!"}},{"$f":"IF(ЗАЯВКА!#REF!=\"строительно-монтажные работы\",ЗАЯВКА!#REF!,0)","v":{"$error":"#REF!"}},{"$f":"IF(ЗАЯВКА!#REF!=\"да\",ЗАЯВКА!#REF!,0)","v":{"$error":"#REF!"}}]
[{"$f":"IF(ЗАЯВКА!#REF!=\"проектирование\",ЗАЯВКА!#REF!,0)","v":{"$error":"#REF!"}},{"$f":"IF(ЗАЯВКА!#REF!=\"строительно-монтажные работы\",ЗАЯВКА!#REF!,0)","v":{"$error":"#REF!"}},{"$f":"IF(ЗАЯВКА!#REF!=\"да\",ЗАЯВКА!#REF!,0)","v":{"$error":"#REF!"}}]
[{"$f":"IF(ЗАЯВКА!#REF!=\"проектирование\",ЗАЯВКА!#REF!,0)","v":{"$error":"#REF!"}},{"$f":"IF(ЗАЯВКА!#REF!=\"строительно-монтажные работы\",ЗАЯВКА!#REF!,0)","v":{"$error":"#REF!"}},{"$f":"IF(ЗАЯВКА!#REF!=\"да\",ЗАЯВКА!#REF!,0)","v":{"$error":"#REF!"}}]
[{"$f":"IF(ЗАЯВКА!#REF!=\"проектирование\",ЗАЯВКА!#REF!,0)","v":{"$error":"#REF!"}},{"$f":"IF(ЗАЯВКА!#REF!=\"строительно-монтажные работы\",ЗАЯВКА!#REF!,0)","v":{"$error":"#REF!"}},{"$f":"IF(ЗАЯВКА!#REF!=\"да\",ЗАЯВКА!#REF!,0)","v":{"$error":"#REF!"}}]
[{"$f":"IF(ЗАЯВКА!#REF!=\"проектирование\",ЗАЯВКА!#REF!,0)","v":{"$error":"#REF!"}},{"$f":"IF(ЗАЯВКА!#REF!=\"строительно-монтажные работы\",ЗАЯВКА!#REF!,0)","v":{"$error":"#REF!"}},{"$f":"IF(ЗАЯВКА!#REF!=\"да\",ЗАЯВКА!#REF!,0)","v":{"$error":"#REF!"}}]
[{"$f":"IF(ЗАЯВКА!#REF!=\"проектирование\",ЗАЯВКА!#REF!,0)","v":{"$error":"#REF!"}},{"$f":"IF(ЗАЯВКА!#REF!=\"строительно-монтажные работы\",ЗАЯВКА!#REF!,0)","v":{"$error":"#REF!"}},{"$f":"IF(ЗАЯВКА!#REF!=\"да\",ЗАЯВКА!#REF!,0)","v":{"$error":"#REF!"}}]
[{"$f":"IF(ЗАЯВКА!#REF!=\"проектирование\",ЗАЯВКА!#REF!,0)","v":{"$error":"#REF!"}},{"$f":"IF(ЗАЯВКА!#REF!=\"строительно-монтажные работы\",ЗАЯВКА!#REF!,0)","v":{"$error":"#REF!"}},{"$f":"IF(ЗАЯВКА!#REF!=\"да\",ЗАЯВКА!#REF!,0)","v":{"$error":"#REF!"}}]
[{"$f":"IF(ЗАЯВКА!#REF!=\"проектирование\",ЗАЯВКА!#REF!,0)","v":{"$error":"#REF!"}},{"$f":"IF(ЗАЯВКА!#REF!=\"строительно-монтажные работы\",ЗАЯВКА!#REF!,0)","v":{"$error":"#REF!"}},{"$f":"IF(ЗАЯВКА!#REF!=\"да\",ЗАЯВКА!#REF!,0)","v":{"$error":"#REF!"}}]
[{"$f":"IF(ЗАЯВКА!#REF!=\"проектирование\",ЗАЯВКА!#REF!,0)","v":{"$error":"#REF!"}},{"$f":"IF(ЗАЯВКА!#REF!=\"строительно-монтажные работы\",ЗАЯВКА!#REF!,0)","v":{"$error":"#REF!"}},{"$f":"IF(ЗАЯВКА!#REF!=\"да\",ЗАЯВКА!#REF!,0)","v":{"$error":"#REF!"}}]
[{"$f":"IF(ЗАЯВКА!#REF!=\"проектирование\",ЗАЯВКА!#REF!,0)","v":{"$error":"#REF!"}},{"$f":"IF(ЗАЯВКА!#REF!=\"строительно-монтажные работы\",ЗАЯВКА!#REF!,0)","v":{"$error":"#REF!"}},{"$f":"IF(ЗАЯВКА!#REF!=\"да\",ЗАЯВКА!#REF!,0)","v":{"$error":"#REF!"}}]
[{"$f":"IF(ЗАЯВКА!#REF!=\"проектирование\",ЗАЯВКА!#REF!,0)","v":{"$error":"#REF!"}},{"$f":"IF(ЗАЯВКА!#REF!=\"строительно-монтажные работы\",ЗАЯВКА!#REF!,0)","v":{"$error":"#REF!"}},{"$f":"IF(ЗАЯВКА!#REF!=\"да\",ЗАЯВКА!#REF!,0)","v":{"$error":"#REF!"}}]
[{"$f":"IF(ЗАЯВКА!#REF!=\"проектирование\",ЗАЯВКА!#REF!,0)","v":{"$error":"#REF!"}},{"$f":"IF(ЗАЯВКА!#REF!=\"строительно-монтажные работы\",ЗАЯВКА!#REF!,0)","v":{"$error":"#REF!"}},{"$f":"IF(ЗАЯВКА!#REF!=\"да\",ЗАЯВКА!#REF!,0)","v":{"$error":"#REF!"}}]
[{"$f":"IF(ЗАЯВКА!#REF!=\"проектирование\",ЗАЯВКА!#REF!,0)","v":{"$error":"#REF!"}},{"$f":"IF(ЗАЯВКА!#REF!=\"строительно-монтажные работы\",ЗАЯВКА!#REF!,0)","v":{"$error":"#REF!"}},{"$f":"IF(ЗАЯВКА!#REF!=\"да\",ЗАЯВКА!#REF!,0)","v":{"$error":"#REF!"}}]
[{"$f":"IF(ЗАЯВКА!#REF!=\"проектирование\",ЗАЯВКА!#REF!,0)","v":{"$error":"#REF!"}},{"$f":"IF(ЗАЯВКА!#REF!=\"строительно-монтажные работы\",ЗАЯВКА!#REF!,0)","v":{"$error":"#REF!"}},{"$f":"IF(ЗАЯВКА!#REF!=\"да\",ЗАЯВКА!#REF!,0)","v":{"$error":"#REF!"}}]
[{"$f":"IF(ЗАЯВКА!#REF!=\"проектирование\",ЗАЯВКА!#REF!,0)","v":{"$error":"#REF!"}},{"$f":"IF(ЗАЯВКА!#REF!=\"строительно-монтажные работы\",ЗАЯВКА!#REF!,0)","v":{"$error":"#REF!"}},{"$f":"IF(ЗАЯВКА!#REF!=\"да\",ЗАЯВКА!#REF!,0)","v":{"$error":"#REF!"}}]
[{"$f":"IF(ЗАЯВКА!#REF!=\"проектирование\",ЗАЯВКА!#REF!,0)","v":{"$error":"#REF!"}},{"$f":"IF(ЗАЯВКА!#REF!=\"строительно-монтажные работы\",ЗАЯВКА!#REF!,0)","v":{"$error":"#REF!"}},{"$f":"IF(ЗАЯВКА!#REF!=\"да\",ЗАЯВКА!#REF!,0)","v":{"$error":"#REF!"}}]
[{"$f":"IF(ЗАЯВКА!#REF!=\"проектирование\",ЗАЯВКА!#REF!,0)","v":{"$error":"#REF!"}},{"$f":"IF(ЗАЯВКА!#REF!=\"строительно-монтажные работы\",ЗАЯВКА!#REF!,0)","v":{"$error":"#REF!"}},{"$f":"IF(ЗАЯВКА!#REF!=\"да\",ЗАЯВКА!#REF!,0)","v":{"$error":"#REF!"}}]
[{"$f":"IF(ЗАЯВКА!#REF!=\"проектирование\",ЗАЯВКА!#REF!,0)","v":{"$error":"#REF!"}},{"$f":"IF(ЗАЯВКА!#REF!=\"строительно-монтажные работы\",ЗАЯВКА!#REF!,0)","v":{"$error":"#REF!"}},{"$f":"IF(ЗАЯВКА!#REF!=\"да\",ЗАЯВКА!#REF!,0)","v":{"$error":"#REF!"}}]
[{"$f":"IF(ЗАЯВКА!#REF!=\"проектирование\",ЗАЯВКА!#REF!,0)","v":{"$error":"#REF!"}},{"$f":"IF(ЗАЯВКА!#REF!=\"строительно-монтажные работы\",ЗАЯВКА!#REF!,0)","v":{"$error":"#REF!"}},{"$f":"IF(ЗАЯВКА!#REF!=\"да\",ЗАЯВКА!#REF!,0)","v":{"$error":"#REF!"}}]
[{"$f":"IF(ЗАЯВКА!#REF!=\"проектирование\",ЗАЯВКА!#REF!,0)","v":{"$error":"#REF!"}},{"$f":"IF(ЗАЯВКА!#REF!=\"строительно-монтажные работы\",ЗАЯВКА!#REF!,0)","v":{"$error":"#REF!"}},{"$f":"IF(ЗАЯВКА!#REF!=\"да\",ЗАЯВКА!#REF!,0)","v":{"$error":"#REF!"}}]
[{"$f":"IF(ЗАЯВКА!#REF!=\"проектирование\",ЗАЯВКА!#REF!,0)","v":{"$error":"#REF!"}},{"$f":"IF(ЗАЯВКА!#REF!=\"строительно-монтажные работы\",ЗАЯВКА!#REF!,0)","v":{"$error":"#REF!"}},{"$f":"IF(ЗАЯВКА!#REF!=\"да\",ЗАЯВКА!#REF!,0)","v":{"$error":"#REF!"}}]
[{"$f":"IF(ЗАЯВКА!#REF!=\"проектирование\",ЗАЯВКА!#REF!,0)","v":{"$error":"#REF!"}},{"$f":"IF(ЗАЯВКА!#REF!=\"строительно-монтажные работы\",ЗАЯВКА!#REF!,0)","v":{"$error":"#REF!"}},{"$f":"IF(ЗАЯВКА!#REF!=\"да\",ЗАЯВКА!#REF!,0)","v":{"$error":"#REF!"}}]
[{"$f":"IF(ЗАЯВКА!#REF!=\"проектирование\",ЗАЯВКА!#REF!,0)","v":{"$error":"#REF!"}},{"$f":"IF(ЗАЯВКА!#REF!=\"строительно-монтажные работы\",ЗАЯВКА!#REF!,0)","v":{"$error":"#REF!"}},{"$f":"IF(ЗАЯВКА!#REF!=\"да\",ЗАЯВКА!#REF!,0)","v":{"$error":"#REF!"}}]
[{"$f":"IF(ЗАЯВКА!#REF!=\"проектирование\",ЗАЯВКА!#REF!,0)","v":{"$error":"#REF!"}},{"$f":"IF(ЗАЯВКА!#REF!=\"строительно-монтажные работы\",ЗАЯВКА!#REF!,0)","v":{"$error":"#REF!"}},{"$f":"IF(ЗАЯВКА!#REF!=\"да\",ЗАЯВКА!#REF!,0)","v":{"$error":"#REF!"}}]
[{"$f":"IF(ЗАЯВКА!#REF!=\"проектирование\",ЗАЯВКА!#REF!,0)","v":{"$error":"#REF!"}},{"$f":"IF(ЗАЯВКА!#REF!=\"строительно-монтажные работы\",ЗАЯВКА!#REF!,0)","v":{"$error":"#REF!"}},{"$f":"IF(ЗАЯВКА!#REF!=\"да\",ЗАЯВКА!#REF!,0)","v":{"$error":"#REF!"}}]
[{"$f":"IF(ЗАЯВКА!#REF!=\"проектирование\",ЗАЯВКА!#REF!,0)","v":{"$error":"#REF!"}},{"$f":"IF(ЗАЯВКА!#REF!=\"строительно-монтажные работы\",ЗАЯВКА!#REF!,0)","v":{"$error":"#REF!"}},{"$f":"IF(ЗАЯВКА!#REF!=\"да\",ЗАЯВКА!#REF!,0)","v":{"$error":"#REF!"}}]
[{"$f":"IF(ЗАЯВКА!#REF!=\"проектирование\",ЗАЯВКА!#REF!,0)","v":{"$error":"#REF!"}},{"$f":"IF(ЗАЯВКА!#REF!=\"строительно-монтажные работы\",ЗАЯВКА!#REF!,0)","v":{"$error":"#REF!"}},{"$f":"IF(ЗАЯВКА!#REF!=\"да\",ЗАЯВКА!#REF!,0)","v":{"$error":"#REF!"}}]
[{"$f":"IF(ЗАЯВКА!#REF!=\"проектирование\",ЗАЯВКА!#REF!,0)","v":{"$error":"#REF!"}},{"$f":"IF(ЗАЯВКА!#REF!=\"строительно-монтажные работы\",ЗАЯВКА!#REF!,0)","v":{"$error":"#REF!"}},{"$f":"IF(ЗАЯВКА!#REF!=\"да\",ЗАЯВКА!#REF!,0)","v":{"$error":"#REF!"}}]
[{"$f":"IF(ЗАЯВКА!#REF!=\"проектирование\",ЗАЯВКА!#REF!,0)","v":{"$error":"#REF!"}},{"$f":"IF(ЗАЯВКА!#REF!=\"строительно-монтажные работы\",ЗАЯВКА!#REF!,0)","v":{"$error":"#REF!"}},{"$f":"IF(ЗАЯВКА!#REF!=\"да\",ЗАЯВКА!#REF!,0)","v":{"$error":"#REF!"}}]
[{"$f":"IF(ЗАЯВКА!#REF!=\"проектирование\",ЗАЯВКА!#REF!,0)","v":{"$error":"#REF!"}},{"$f":"IF(ЗАЯВКА!#REF!=\"строительно-монтажные работы\",ЗАЯВКА!#REF!,0)","v":{"$error":"#REF!"}},{"$f":"IF(ЗАЯВКА!#REF!=\"да\",ЗАЯВКА!#REF!,0)","v":{"$error":"#REF!"}}]
[{"$f":"IF(ЗАЯВКА!#REF!=\"проектирование\",ЗАЯВКА!#REF!,0)","v":{"$error":"#REF!"}},{"$f":"IF(ЗАЯВКА!#REF!=\"строительно-монтажные работы\",ЗАЯВКА!#REF!,0)","v":{"$error":"#REF!"}},{"$f":"IF(ЗАЯВКА!#REF!=\"да\",ЗАЯВКА!#REF!,0)","v":{"$error":"#REF!"}}]
[{"$f":"IF(ЗАЯВКА!#REF!=\"проектирование\",ЗАЯВКА!#REF!,0)","v":{"$error":"#REF!"}},{"$f":"IF(ЗАЯВКА!#REF!=\"строительно-монтажные работы\",ЗАЯВКА!#REF!,0)","v":{"$error":"#REF!"}},{"$f":"IF(ЗАЯВКА!#REF!=\"да\",ЗАЯВКА!#REF!,0)","v":{"$error":"#REF!"}}]
[{"$f":"IF(ЗАЯВКА!#REF!=\"проектирование\",ЗАЯВКА!#REF!,0)","v":{"$error":"#REF!"}},{"$f":"IF(ЗАЯВКА!#REF!=\"строительно-монтажные работы\",ЗАЯВКА!#REF!,0)","v":{"$error":"#REF!"}},{"$f":"IF(ЗАЯВКА!#REF!=\"да\",ЗАЯВКА!#REF!,0)","v":{"$error":"#REF!"}}]
[{"$f":"IF(ЗАЯВКА!#REF!=\"проектирование\",ЗАЯВКА!#REF!,0)","v":{"$error":"#REF!"}},{"$f":"IF(ЗАЯВКА!#REF!=\"строительно-монтажные работы\",ЗАЯВКА!#REF!,0)","v":{"$error":"#REF!"}},{"$f":"IF(ЗАЯВКА!#REF!=\"да\",ЗАЯВКА!#REF!,0)","v":{"$error":"#REF!"}}]
[{"$f":"IF(ЗАЯВКА!#REF!=\"проектирование\",ЗАЯВКА!#REF!,0)","v":{"$error":"#REF!"}},{"$f":"IF(ЗАЯВКА!#REF!=\"строительно-монтажные работы\",ЗАЯВКА!#REF!,0)","v":{"$error":"#REF!"}},{"$f":"IF(ЗАЯВКА!#REF!=\"да\",ЗАЯВКА!#REF!,0)","v":{"$error":"#REF!"}}]
[{"$f":"IF(ЗАЯВКА!#REF!=\"проектирование\",ЗАЯВКА!#REF!,0)","v":{"$error":"#REF!"}},{"$f":"IF(ЗАЯВКА!#REF!=\"строительно-монтажные работы\",ЗАЯВКА!#REF!,0)","v":{"$error":"#REF!"}},{"$f":"IF(ЗАЯВКА!#REF!=\"да\",ЗАЯВКА!#REF!,0)","v":{"$error":"#REF!"}}]
[{"$f":"IF(ЗАЯВКА!#REF!=\"проектирование\",ЗАЯВКА!#REF!,0)","v":{"$error":"#REF!"}},{"$f":"IF(ЗАЯВКА!#REF!=\"строительно-монтажные работы\",ЗАЯВКА!#REF!,0)","v":{"$error":"#REF!"}},{"$f":"IF(ЗАЯВКА!#REF!=\"да\",ЗАЯВКА!#REF!,0)","v":{"$error":"#REF!"}}]
[{"$f":"IF(ЗАЯВКА!#REF!=\"проектирование\",ЗАЯВКА!#REF!,0)","v":{"$error":"#REF!"}},{"$f":"IF(ЗАЯВКА!#REF!=\"строительно-монтажные работы\",ЗАЯВКА!#REF!,0)","v":{"$error":"#REF!"}},{"$f":"IF(ЗАЯВКА!#REF!=\"да\",ЗАЯВКА!#REF!,0)","v":{"$error":"#REF!"}}]
[{"$f":"IF(ЗАЯВКА!#REF!=\"проектирование\",ЗАЯВКА!#REF!,0)","v":{"$error":"#REF!"}},{"$f":"IF(ЗАЯВКА!#REF!=\"строительно-монтажные работы\",ЗАЯВКА!#REF!,0)","v":{"$error":"#REF!"}},{"$f":"IF(ЗАЯВКА!#REF!=\"да\",ЗАЯВКА!#REF!,0)","v":{"$error":"#REF!"}}]
[{"$f":"IF(ЗАЯВКА!#REF!=\"проектирование\",ЗАЯВКА!#REF!,0)","v":{"$error":"#REF!"}},{"$f":"IF(ЗАЯВКА!#REF!=\"строительно-монтажные работы\",ЗАЯВКА!#REF!,0)","v":{"$error":"#REF!"}},{"$f":"IF(ЗАЯВКА!#REF!=\"да\",ЗАЯВКА!#REF!,0)","v":{"$error":"#REF!"}}]
[{"$f":"IF(ЗАЯВКА!#REF!=\"проектирование\",ЗАЯВКА!#REF!,0)","v":{"$error":"#REF!"}},{"$f":"IF(ЗАЯВКА!#REF!=\"строительно-монтажные работы\",ЗАЯВКА!#REF!,0)","v":{"$error":"#REF!"}},{"$f":"IF(ЗАЯВКА!#REF!=\"да\",ЗАЯВКА!#REF!,0)","v":{"$error":"#REF!"}}]
[{"$f":"IF(ЗАЯВКА!#REF!=\"проектирование\",ЗАЯВКА!#REF!,0)","v":{"$error":"#REF!"}},{"$f":"IF(ЗАЯВКА!#REF!=\"строительно-монтажные работы\",ЗАЯВКА!#REF!,0)","v":{"$error":"#REF!"}},{"$f":"IF(ЗАЯВКА!#REF!=\"да\",ЗАЯВКА!#REF!,0)","v":{"$error":"#REF!"}}]
[{"$f":"IF(ЗАЯВКА!#REF!=\"проектирование\",ЗАЯВКА!#REF!,0)","v":{"$error":"#REF!"}},{"$f":"IF(ЗАЯВКА!#REF!=\"строительно-монтажные работы\",ЗАЯВКА!#REF!,0)","v":{"$error":"#REF!"}},{"$f":"IF(ЗАЯВКА!#REF!=\"да\",ЗАЯВКА!#REF!,0)","v":{"$error":"#REF!"}}]
[{"$f":"IF(ЗАЯВКА!#REF!=\"проектирование\",ЗАЯВКА!#REF!,0)","v":{"$error":"#REF!"}},{"$f":"IF(ЗАЯВКА!#REF!=\"строительно-монтажные работы\",ЗАЯВКА!#REF!,0)","v":{"$error":"#REF!"}},{"$f":"IF(ЗАЯВКА!#REF!=\"да\",ЗАЯВКА!#REF!,0)","v":{"$error":"#REF!"}}]
[{"$f":"IF(ЗАЯВКА!#REF!=\"проектирование\",ЗАЯВКА!#REF!,0)","v":{"$error":"#REF!"}},{"$f":"IF(ЗАЯВКА!#REF!=\"строительно-монтажные работы\",ЗАЯВКА!#REF!,0)","v":{"$error":"#REF!"}},{"$f":"IF(ЗАЯВКА!#REF!=\"да\",ЗАЯВКА!#REF!,0)","v":{"$error":"#REF!"}}]
[{"$f":"IF(ЗАЯВКА!#REF!=\"проектирование\",ЗАЯВКА!#REF!,0)","v":{"$error":"#REF!"}},{"$f":"IF(ЗАЯВКА!#REF!=\"строительно-монтажные работы\",ЗАЯВКА!#REF!,0)","v":{"$error":"#REF!"}},{"$f":"IF(ЗАЯВКА!#REF!=\"да\",ЗАЯВКА!#REF!,0)","v":{"$error":"#REF!"}}]
[{"$f":"IF(ЗАЯВКА!#REF!=\"проектирование\",ЗАЯВКА!#REF!,0)","v":{"$error":"#REF!"}},{"$f":"IF(ЗАЯВКА!#REF!=\"строительно-монтажные работы\",ЗАЯВКА!#REF!,0)","v":{"$error":"#REF!"}},{"$f":"IF(ЗАЯВКА!#REF!=\"да\",ЗАЯВКА!#REF!,0)","v":{"$error":"#REF!"}}]
[{"$f":"IF(ЗАЯВКА!#REF!=\"проектирование\",ЗАЯВКА!#REF!,0)","v":{"$error":"#REF!"}},{"$f":"IF(ЗАЯВКА!#REF!=\"строительно-монтажные работы\",ЗАЯВКА!#REF!,0)","v":{"$error":"#REF!"}},{"$f":"IF(ЗАЯВКА!#REF!=\"да\",ЗАЯВКА!#REF!,0)","v":{"$error":"#REF!"}}]
[{"$f":"IF(ЗАЯВКА!#REF!=\"проектирование\",ЗАЯВКА!#REF!,0)","v":{"$error":"#REF!"}},{"$f":"IF(ЗАЯВКА!#REF!=\"строительно-монтажные работы\",ЗАЯВКА!#REF!,0)","v":{"$error":"#REF!"}},{"$f":"IF(ЗАЯВКА!#REF!=\"да\",ЗАЯВКА!#REF!,0)","v":{"$error":"#REF!"}}]
[{"$f":"IF(ЗАЯВКА!#REF!=\"проектирование\",ЗАЯВКА!#REF!,0)","v":{"$error":"#REF!"}},{"$f":"IF(ЗАЯВКА!#REF!=\"строительно-монтажные работы\",ЗАЯВКА!#REF!,0)","v":{"$error":"#REF!"}},{"$f":"IF(ЗАЯВКА!#REF!=\"да\",ЗАЯВКА!#REF!,0)","v":{"$error":"#REF!"}}]
[{"$f":"IF(ЗАЯВКА!#REF!=\"проектирование\",ЗАЯВКА!#REF!,0)","v":{"$error":"#REF!"}},{"$f":"IF(ЗАЯВКА!#REF!=\"строительно-монтажные работы\",ЗАЯВКА!#REF!,0)","v":{"$error":"#REF!"}},{"$f":"IF(ЗАЯВКА!#REF!=\"да\",ЗАЯВКА!#REF!,0)","v":{"$error":"#REF!"}}]
[{"$f":"IF(ЗАЯВКА!#REF!=\"проектирование\",ЗАЯВКА!#REF!,0)","v":{"$error":"#REF!"}},{"$f":"IF(ЗАЯВКА!#REF!=\"строительно-монтажные работы\",ЗАЯВКА!#REF!,0)","v":{"$error":"#REF!"}},{"$f":"IF(ЗАЯВКА!#REF!=\"да\",ЗАЯВКА!#REF!,0)","v":{"$error":"#REF!"}}]
[{"$f":"IF(ЗАЯВКА!#REF!=\"проектирование\",ЗАЯВКА!#REF!,0)","v":{"$error":"#REF!"}},{"$f":"IF(ЗАЯВКА!#REF!=\"строительно-монтажные работы\",ЗАЯВКА!#REF!,0)","v":{"$error":"#REF!"}},{"$f":"IF(ЗАЯВКА!#REF!=\"да\",ЗАЯВКА!#REF!,0)","v":{"$error":"#REF!"}}]
[{"$f":"IF(ЗАЯВКА!#REF!=\"проектирование\",ЗАЯВКА!#REF!,0)","v":{"$error":"#REF!"}},{"$f":"IF(ЗАЯВКА!#REF!=\"строительно-монтажные работы\",ЗАЯВКА!#REF!,0)","v":{"$error":"#REF!"}},{"$f":"IF(ЗАЯВКА!#REF!=\"да\",ЗАЯВКА!#REF!,0)","v":{"$error":"#REF!"}}]
[{"$f":"IF(ЗАЯВКА!#REF!=\"проектирование\",ЗАЯВКА!#REF!,0)","v":{"$error":"#REF!"}},{"$f":"IF(ЗАЯВКА!#REF!=\"строительно-монтажные работы\",ЗАЯВКА!#REF!,0)","v":{"$error":"#REF!"}},{"$f":"IF(ЗАЯВКА!#REF!=\"да\",ЗАЯВКА!#REF!,0)","v":{"$error":"#REF!"}}]
[{"$f":"IF(ЗАЯВКА!#REF!=\"проектирование\",ЗАЯВКА!#REF!,0)","v":{"$error":"#REF!"}},{"$f":"IF(ЗАЯВКА!#REF!=\"строительно-монтажные работы\",ЗАЯВКА!#REF!,0)","v":{"$error":"#REF!"}},{"$f":"IF(ЗАЯВКА!#REF!=\"да\",ЗАЯВКА!#REF!,0)","v":{"$error":"#REF!"}}]
[{"$f":"IF(ЗАЯВКА!#REF!=\"проектирование\",ЗАЯВКА!#REF!,0)","v":{"$error":"#REF!"}},{"$f":"IF(ЗАЯВКА!#REF!=\"строительно-монтажные работы\",ЗАЯВКА!#REF!,0)","v":{"$error":"#REF!"}},{"$f":"IF(ЗАЯВКА!#REF!=\"да\",ЗАЯВКА!#REF!,0)","v":{"$error":"#REF!"}}]
[{"$f":"IF(ЗАЯВКА!#REF!=\"проектирование\",ЗАЯВКА!#REF!,0)","v":{"$error":"#REF!"}},{"$f":"IF(ЗАЯВКА!#REF!=\"строительно-монтажные работы\",ЗАЯВКА!#REF!,0)","v":{"$error":"#REF!"}},{"$f":"IF(ЗАЯВКА!#REF!=\"да\",ЗАЯВКА!#REF!,0)","v":{"$error":"#REF!"}}]
[{"$f":"IF(ЗАЯВКА!#REF!=\"проектирование\",ЗАЯВКА!#REF!,0)","v":{"$error":"#REF!"}},{"$f":"IF(ЗАЯВКА!#REF!=\"строительно-монтажные работы\",ЗАЯВКА!#REF!,0)","v":{"$error":"#REF!"}},{"$f":"IF(ЗАЯВКА!#REF!=\"да\",ЗАЯВКА!#REF!,0)","v":{"$error":"#REF!"}}]
[{"$f":"IF(ЗАЯВКА!#REF!=\"проектирование\",ЗАЯВКА!#REF!,0)","v":{"$error":"#REF!"}},{"$f":"IF(ЗАЯВКА!#REF!=\"строительно-монтажные работы\",ЗАЯВКА!#REF!,0)","v":{"$error":"#REF!"}},{"$f":"IF(ЗАЯВКА!#REF!=\"да\",ЗАЯВКА!#REF!,0)","v":{"$error":"#REF!"}}]
[{"$f":"IF(ЗАЯВКА!#REF!=\"проектирование\",ЗАЯВКА!#REF!,0)","v":{"$error":"#REF!"}},{"$f":"IF(ЗАЯВКА!#REF!=\"строительно-монтажные работы\",ЗАЯВКА!#REF!,0)","v":{"$error":"#REF!"}},{"$f":"IF(ЗАЯВКА!#REF!=\"да\",ЗАЯВКА!#REF!,0)","v":{"$error":"#REF!"}}]
[{"$f":"IF(ЗАЯВКА!#REF!=\"проектирование\",ЗАЯВКА!#REF!,0)","v":{"$error":"#REF!"}},{"$f":"IF(ЗАЯВКА!#REF!=\"строительно-монтажные работы\",ЗАЯВКА!#REF!,0)","v":{"$error":"#REF!"}},{"$f":"IF(ЗАЯВКА!#REF!=\"да\",ЗАЯВКА!#REF!,0)","v":{"$error":"#REF!"}}]
[{"$f":"IF(ЗАЯВКА!#REF!=\"проектирование\",ЗАЯВКА!#REF!,0)","v":{"$error":"#REF!"}},{"$f":"IF(ЗАЯВКА!#REF!=\"строительно-монтажные работы\",ЗАЯВКА!#REF!,0)","v":{"$error":"#REF!"}},{"$f":"IF(ЗАЯВКА!#REF!=\"да\",ЗАЯВКА!#REF!,0)","v":{"$error":"#REF!"}}]
[{"$f":"IF(ЗАЯВКА!#REF!=\"проектирование\",ЗАЯВКА!#REF!,0)","v":{"$error":"#REF!"}},{"$f":"IF(ЗАЯВКА!#REF!=\"строительно-монтажные работы\",ЗАЯВКА!#REF!,0)","v":{"$error":"#REF!"}},{"$f":"IF(ЗАЯВКА!#REF!=\"да\",ЗАЯВКА!#REF!,0)","v":{"$error":"#REF!"}}]
[{"$f":"IF(ЗАЯВКА!#REF!=\"проектирование\",ЗАЯВКА!#REF!,0)","v":{"$error":"#REF!"}},{"$f":"IF(ЗАЯВКА!#REF!=\"строительно-монтажные работы\",ЗАЯВКА!#REF!,0)","v":{"$error":"#REF!"}},{"$f":"IF(ЗАЯВКА!#REF!=\"да\",ЗАЯВКА!#REF!,0)","v":{"$error":"#REF!"}}]
[{"$f":"IF(ЗАЯВКА!#REF!=\"проектирование\",ЗАЯВКА!#REF!,0)","v":{"$error":"#REF!"}},{"$f":"IF(ЗАЯВКА!#REF!=\"строительно-монтажные работы\",ЗАЯВКА!#REF!,0)","v":{"$error":"#REF!"}},{"$f":"IF(ЗАЯВКА!#REF!=\"да\",ЗАЯВКА!#REF!,0)","v":{"$error":"#REF!"}}]
[{"$f":"IF(ЗАЯВКА!#REF!=\"проектирование\",ЗАЯВКА!#REF!,0)","v":{"$error":"#REF!"}},{"$f":"IF(ЗАЯВКА!#REF!=\"строительно-монтажные работы\",ЗАЯВКА!#REF!,0)","v":{"$error":"#REF!"}},{"$f":"IF(ЗАЯВКА!#REF!=\"да\",ЗАЯВКА!#REF!,0)","v":{"$error":"#REF!"}}]
[{"$f":"IF(ЗАЯВКА!#REF!=\"проектирование\",ЗАЯВКА!#REF!,0)","v":{"$error":"#REF!"}},{"$f":"IF(ЗАЯВКА!#REF!=\"строительно-монтажные работы\",ЗАЯВКА!#REF!,0)","v":{"$error":"#REF!"}},{"$f":"IF(ЗАЯВКА!#REF!=\"да\",ЗАЯВКА!#REF!,0)","v":{"$error":"#REF!"}}]
[{"$f":"IF(ЗАЯВКА!#REF!=\"проектирование\",ЗАЯВКА!#REF!,0)","v":{"$error":"#REF!"}},{"$f":"IF(ЗАЯВКА!#REF!=\"строительно-монтажные работы\",ЗАЯВКА!#REF!,0)","v":{"$error":"#REF!"}},{"$f":"IF(ЗАЯВКА!#REF!=\"да\",ЗАЯВКА!#REF!,0)","v":{"$error":"#REF!"}}]
[{"$f":"IF(ЗАЯВКА!#REF!=\"проектирование\",ЗАЯВКА!#REF!,0)","v":{"$error":"#REF!"}},{"$f":"IF(ЗАЯВКА!#REF!=\"строительно-монтажные работы\",ЗАЯВКА!#REF!,0)","v":{"$error":"#REF!"}},{"$f":"IF(ЗАЯВКА!#REF!=\"да\",ЗАЯВКА!#REF!,0)","v":{"$error":"#REF!"}}]
[{"$f":"IF(ЗАЯВКА!#REF!=\"проектирование\",ЗАЯВКА!#REF!,0)","v":{"$error":"#REF!"}},{"$f":"IF(ЗАЯВКА!#REF!=\"строительно-монтажные работы\",ЗАЯВКА!#REF!,0)","v":{"$error":"#REF!"}},{"$f":"IF(ЗАЯВКА!#REF!=\"да\",ЗАЯВКА!#REF!,0)","v":{"$error":"#REF!"}}]
[{"$f":"IF(ЗАЯВКА!#REF!=\"проектирование\",ЗАЯВКА!#REF!,0)","v":{"$error":"#REF!"}},{"$f":"IF(ЗАЯВКА!#REF!=\"строительно-монтажные работы\",ЗАЯВКА!#REF!,0)","v":{"$error":"#REF!"}},{"$f":"IF(ЗАЯВКА!#REF!=\"да\",ЗАЯВКА!#REF!,0)","v":{"$error":"#REF!"}}]
[{"$f":"IF(ЗАЯВКА!#REF!=\"проектирование\",ЗАЯВКА!#REF!,0)","v":{"$error":"#REF!"}},{"$f":"IF(ЗАЯВКА!#REF!=\"строительно-монтажные работы\",ЗАЯВКА!#REF!,0)","v":{"$error":"#REF!"}},{"$f":"IF(ЗАЯВКА!#REF!=\"да\",ЗАЯВКА!#REF!,0)","v":{"$error":"#REF!"}}]
[{"$f":"IF(ЗАЯВКА!#REF!=\"проектирование\",ЗАЯВКА!#REF!,0)","v":{"$error":"#REF!"}},{"$f":"IF(ЗАЯВКА!#REF!=\"строительно-монтажные работы\",ЗАЯВКА!#REF!,0)","v":{"$error":"#REF!"}},{"$f":"IF(ЗАЯВКА!#REF!=\"да\",ЗАЯВКА!#REF!,0)","v":{"$error":"#REF!"}}]
[{"$f":"IF(ЗАЯВКА!#REF!=\"проектирование\",ЗАЯВКА!#REF!,0)","v":{"$error":"#REF!"}},{"$f":"IF(ЗАЯВКА!#REF!=\"строительно-монтажные работы\",ЗАЯВКА!#REF!,0)","v":{"$error":"#REF!"}},{"$f":"IF(ЗАЯВКА!#REF!=\"да\",ЗАЯВКА!#REF!,0)","v":{"$error":"#REF!"}}]
[{"$f":"IF(ЗАЯВКА!#REF!=\"проектирование\",ЗАЯВКА!#REF!,0)","v":{"$error":"#REF!"}},{"$f":"IF(ЗАЯВКА!#REF!=\"строительно-монтажные работы\",ЗАЯВКА!#REF!,0)","v":{"$error":"#REF!"}},{"$f":"IF(ЗАЯВКА!#REF!=\"да\",ЗАЯВКА!#REF!,0)","v":{"$error":"#REF!"}}]
[{"$f":"IF(ЗАЯВКА!#REF!=\"проектирование\",ЗАЯВКА!#REF!,0)","v":{"$error":"#REF!"}},{"$f":"IF(ЗАЯВКА!#REF!=\"строительно-монтажные работы\",ЗАЯВКА!#REF!,0)","v":{"$error":"#REF!"}},{"$f":"IF(ЗАЯВКА!#REF!=\"да\",ЗАЯВКА!#REF!,0)","v":{"$error":"#REF!"}}]
[{"$f":"IF(ЗАЯВКА!#REF!=\"проектирование\",ЗАЯВКА!#REF!,0)","v":{"$error":"#REF!"}},{"$f":"IF(ЗАЯВКА!#REF!=\"строительно-монтажные работы\",ЗАЯВКА!#REF!,0)","v":{"$error":"#REF!"}},{"$f":"IF(ЗАЯВКА!#REF!=\"да\",ЗАЯВКА!#REF!,0)","v":{"$error":"#REF!"}}]
[{"$f":"IF(ЗАЯВКА!#REF!=\"проектирование\",ЗАЯВКА!#REF!,0)","v":{"$error":"#REF!"}},{"$f":"IF(ЗАЯВКА!#REF!=\"строительно-монтажные работы\",ЗАЯВКА!#REF!,0)","v":{"$error":"#REF!"}},{"$f":"IF(ЗАЯВКА!#REF!=\"да\",ЗАЯВКА!#REF!,0)","v":{"$error":"#REF!"}}]
[{"$f":"IF(ЗАЯВКА!#REF!=\"проектирование\",ЗАЯВКА!#REF!,0)","v":{"$error":"#REF!"}},{"$f":"IF(ЗАЯВКА!#REF!=\"строительно-монтажные работы\",ЗАЯВКА!#REF!,0)","v":{"$error":"#REF!"}},{"$f":"IF(ЗАЯВКА!#REF!=\"да\",ЗАЯВКА!#REF!,0)","v":{"$error":"#REF!"}}]
[{"$f":"IF(ЗАЯВКА!#REF!=\"проектирование\",ЗАЯВКА!#REF!,0)","v":{"$error":"#REF!"}},{"$f":"IF(ЗАЯВКА!#REF!=\"строительно-монтажные работы\",ЗАЯВКА!#REF!,0)","v":{"$error":"#REF!"}},{"$f":"IF(ЗАЯВКА!#REF!=\"да\",ЗАЯВКА!#REF!,0)","v":{"$error":"#REF!"}}]
[{"$f":"IF(ЗАЯВКА!#REF!=\"проектирование\",ЗАЯВКА!#REF!,0)","v":{"$error":"#REF!"}},{"$f":"IF(ЗАЯВКА!#REF!=\"строительно-монтажные работы\",ЗАЯВКА!#REF!,0)","v":{"$error":"#REF!"}},{"$f":"IF(ЗАЯВКА!#REF!=\"да\",ЗАЯВКА!#REF!,0)","v":{"$error":"#REF!"}}]
[{"$f":"IF(ЗАЯВКА!#REF!=\"проектирование\",ЗАЯВКА!#REF!,0)","v":{"$error":"#REF!"}},{"$f":"IF(ЗАЯВКА!#REF!=\"строительно-монтажные работы\",ЗАЯВКА!#REF!,0)","v":{"$error":"#REF!"}},{"$f":"IF(ЗАЯВКА!#REF!=\"да\",ЗАЯВКА!#REF!,0)","v":{"$error":"#REF!"}}]
[{"$f":"IF(ЗАЯВКА!#REF!=\"проектирование\",ЗАЯВКА!#REF!,0)","v":{"$error":"#REF!"}},{"$f":"IF(ЗАЯВКА!#REF!=\"строительно-монтажные работы\",ЗАЯВКА!#REF!,0)","v":{"$error":"#REF!"}},{"$f":"IF(ЗАЯВКА!#REF!=\"да\",ЗАЯВКА!#REF!,0)","v":{"$error":"#REF!"}}]
[{"$f":"IF(ЗАЯВКА!#REF!=\"проектирование\",ЗАЯВКА!#REF!,0)","v":{"$error":"#REF!"}},{"$f":"IF(ЗАЯВКА!#REF!=\"строительно-монтажные работы\",ЗАЯВКА!#REF!,0)","v":{"$error":"#REF!"}},{"$f":"IF(ЗАЯВКА!#REF!=\"да\",ЗАЯВКА!#REF!,0)","v":{"$error":"#REF!"}}]
[{"$f":"IF(ЗАЯВКА!#REF!=\"проектирование\",ЗАЯВКА!#REF!,0)","v":{"$error":"#REF!"}},{"$f":"IF(ЗАЯВКА!#REF!=\"строительно-монтажные работы\",ЗАЯВКА!#REF!,0)","v":{"$error":"#REF!"}},{"$f":"IF(ЗАЯВКА!#REF!=\"да\",ЗАЯВКА!#REF!,0)","v":{"$error":"#REF!"}}]
[{"$f":"IF(ЗАЯВКА!#REF!=\"проектирование\",ЗАЯВКА!#REF!,0)","v":{"$error":"#REF!"}},{"$f":"IF(ЗАЯВКА!#REF!=\"строительно-монтажные работы\",ЗАЯВКА!#REF!,0)","v":{"$error":"#REF!"}},{"$f":"IF(ЗАЯВКА!#REF!=\"да\",ЗАЯВКА!#REF!,0)","v":{"$error":"#REF!"}}]
[{"$f":"IF(ЗАЯВКА!#REF!=\"проектирование\",ЗАЯВКА!#REF!,0)","v":{"$error":"#REF!"}},{"$f":"IF(ЗАЯВКА!#REF!=\"строительно-монтажные работы\",ЗАЯВКА!#REF!,0)","v":{"$error":"#REF!"}},{"$f":"IF(ЗАЯВКА!#REF!=\"да\",ЗАЯВКА!#REF!,0)","v":{"$error":"#REF!"}}]
[{"$f":"IF(ЗАЯВКА!#REF!=\"проектирование\",ЗАЯВКА!#REF!,0)","v":{"$error":"#REF!"}},{"$f":"IF(ЗАЯВКА!#REF!=\"строительно-монтажные работы\",ЗАЯВКА!#REF!,0)","v":{"$error":"#REF!"}},{"$f":"IF(ЗАЯВКА!#REF!=\"да\",ЗАЯВКА!#REF!,0)","v":{"$error":"#REF!"}}]
[{"$f":"IF(ЗАЯВКА!#REF!=\"проектирование\",ЗАЯВКА!#REF!,0)","v":{"$error":"#REF!"}},{"$f":"IF(ЗАЯВКА!#REF!=\"строительно-монтажные работы\",ЗАЯВКА!#REF!,0)","v":{"$error":"#REF!"}},{"$f":"IF(ЗАЯВКА!#REF!=\"да\",ЗАЯВКА!#REF!,0)","v":{"$error":"#REF!"}}]
[{"$f":"IF(ЗАЯВКА!#REF!=\"проектирование\",ЗАЯВКА!#REF!,0)","v":{"$error":"#REF!"}},{"$f":"IF(ЗАЯВКА!#REF!=\"строительно-монтажные работы\",ЗАЯВКА!#REF!,0)","v":{"$error":"#REF!"}},{"$f":"IF(ЗАЯВКА!#REF!=\"да\",ЗАЯВКА!#REF!,0)","v":{"$error":"#REF!"}}]
[{"$f":"IF(ЗАЯВКА!#REF!=\"проектирование\",ЗАЯВКА!#REF!,0)","v":{"$error":"#REF!"}},{"$f":"IF(ЗАЯВКА!#REF!=\"строительно-монтажные работы\",ЗАЯВКА!#REF!,0)","v":{"$error":"#REF!"}},{"$f":"IF(ЗАЯВКА!#REF!=\"да\",ЗАЯВКА!#REF!,0)","v":{"$error":"#REF!"}}]
[{"$f":"IF(ЗАЯВКА!#REF!=\"проектирование\",ЗАЯВКА!#REF!,0)","v":{"$error":"#REF!"}},{"$f":"IF(ЗАЯВКА!#REF!=\"строительно-монтажные работы\",ЗАЯВКА!#REF!,0)","v":{"$error":"#REF!"}},{"$f":"IF(ЗАЯВКА!#REF!=\"да\",ЗАЯВКА!#REF!,0)","v":{"$error":"#REF!"}}]
[{"$f":"IF(ЗАЯВКА!#REF!=\"проектирование\",ЗАЯВКА!#REF!,0)","v":{"$error":"#REF!"}},{"$f":"IF(ЗАЯВКА!#REF!=\"строительно-монтажные работы\",ЗАЯВКА!#REF!,0)","v":{"$error":"#REF!"}},{"$f":"IF(ЗАЯВКА!#REF!=\"да\",ЗАЯВКА!#REF!,0)","v":{"$error":"#REF!"}}]
[{"$f":"IF(ЗАЯВКА!#REF!=\"проектирование\",ЗАЯВКА!#REF!,0)","v":{"$error":"#REF!"}},{"$f":"IF(ЗАЯВКА!#REF!=\"строительно-монтажные работы\",ЗАЯВКА!#REF!,0)","v":{"$error":"#REF!"}},{"$f":"IF(ЗАЯВКА!#REF!=\"да\",ЗАЯВКА!#REF!,0)","v":{"$error":"#REF!"}}]
[{"$f":"IF(ЗАЯВКА!#REF!=\"проектирование\",ЗАЯВКА!#REF!,0)","v":{"$error":"#REF!"}},{"$f":"IF(ЗАЯВКА!#REF!=\"строительно-монтажные работы\",ЗАЯВКА!#REF!,0)","v":{"$error":"#REF!"}},{"$f":"IF(ЗАЯВКА!#REF!=\"да\",ЗАЯВКА!#REF!,0)","v":{"$error":"#REF!"}}]
[{"$f":"IF(ЗАЯВКА!#REF!=\"проектирование\",ЗАЯВКА!#REF!,0)","v":{"$error":"#REF!"}},{"$f":"IF(ЗАЯВКА!#REF!=\"строительно-монтажные работы\",ЗАЯВКА!#REF!,0)","v":{"$error":"#REF!"}},{"$f":"IF(ЗАЯВКА!#REF!=\"да\",ЗАЯВКА!#REF!,0)","v":{"$error":"#REF!"}}]
[{"$f":"IF(ЗАЯВКА!#REF!=\"проектирование\",ЗАЯВКА!#REF!,0)","v":{"$error":"#REF!"}},{"$f":"IF(ЗАЯВКА!#REF!=\"строительно-монтажные работы\",ЗАЯВКА!#REF!,0)","v":{"$error":"#REF!"}},{"$f":"IF(ЗАЯВКА!#REF!=\"да\",ЗАЯВКА!#REF!,0)","v":{"$error":"#REF!"}}]
[{"$f":"IF(ЗАЯВКА!#REF!=\"проектирование\",ЗАЯВКА!#REF!,0)","v":{"$error":"#REF!"}},{"$f":"IF(ЗАЯВКА!#REF!=\"строительно-монтажные работы\",ЗАЯВКА!#REF!,0)","v":{"$error":"#REF!"}},{"$f":"IF(ЗАЯВКА!#REF!=\"да\",ЗАЯВКА!#REF!,0)","v":{"$error":"#REF!"}}]
[{"$f":"IF(ЗАЯВКА!#REF!=\"проектирование\",ЗАЯВКА!#REF!,0)","v":{"$error":"#REF!"}},{"$f":"IF(ЗАЯВКА!#REF!=\"строительно-монтажные работы\",ЗАЯВКА!#REF!,0)","v":{"$error":"#REF!"}},{"$f":"IF(ЗАЯВКА!#REF!=\"да\",ЗАЯВКА!#REF!,0)","v":{"$error":"#REF!"}}]
[{"$f":"IF(ЗАЯВКА!#REF!=\"проектирование\",ЗАЯВКА!#REF!,0)","v":{"$error":"#REF!"}},{"$f":"IF(ЗАЯВКА!#REF!=\"строительно-монтажные работы\",ЗАЯВКА!#REF!,0)","v":{"$error":"#REF!"}},{"$f":"IF(ЗАЯВКА!#REF!=\"да\",ЗАЯВКА!#REF!,0)","v":{"$error":"#REF!"}}]
[{"$f":"IF(ЗАЯВКА!#REF!=\"проектирование\",ЗАЯВКА!#REF!,0)","v":{"$error":"#REF!"}},{"$f":"IF(ЗАЯВКА!#REF!=\"строительно-монтажные работы\",ЗАЯВКА!#REF!,0)","v":{"$error":"#REF!"}},{"$f":"IF(ЗАЯВКА!#REF!=\"да\",ЗАЯВКА!#REF!,0)","v":{"$error":"#REF!"}}]
[{"$f":"IF(ЗАЯВКА!#REF!=\"проектирование\",ЗАЯВКА!#REF!,0)","v":{"$error":"#REF!"}},{"$f":"IF(ЗАЯВКА!#REF!=\"строительно-монтажные работы\",ЗАЯВКА!#REF!,0)","v":{"$error":"#REF!"}},{"$f":"IF(ЗАЯВКА!#REF!=\"да\",ЗАЯВКА!#REF!,0)","v":{"$error":"#REF!"}}]
[{"$f":"IF(ЗАЯВКА!#REF!=\"проектирование\",ЗАЯВКА!#REF!,0)","v":{"$error":"#REF!"}},{"$f":"IF(ЗАЯВКА!#REF!=\"строительно-монтажные работы\",ЗАЯВКА!#REF!,0)","v":{"$error":"#REF!"}},{"$f":"IF(ЗАЯВКА!#REF!=\"да\",ЗАЯВКА!#REF!,0)","v":{"$error":"#REF!"}}]
[{"$f":"IF(ЗАЯВКА!#REF!=\"проектирование\",ЗАЯВКА!#REF!,0)","v":{"$error":"#REF!"}},{"$f":"IF(ЗАЯВКА!#REF!=\"строительно-монтажные работы\",ЗАЯВКА!#REF!,0)","v":{"$error":"#REF!"}},{"$f":"IF(ЗАЯВКА!#REF!=\"да\",ЗАЯВКА!#REF!,0)","v":{"$error":"#REF!"}}]
[{"$f":"IF(ЗАЯВКА!#REF!=\"проектирование\",ЗАЯВКА!#REF!,0)","v":{"$error":"#REF!"}},{"$f":"IF(ЗАЯВКА!#REF!=\"строительно-монтажные работы\",ЗАЯВКА!#REF!,0)","v":{"$error":"#REF!"}},{"$f":"IF(ЗАЯВКА!#REF!=\"да\",ЗАЯВКА!#REF!,0)","v":{"$error":"#REF!"}}]
[{"$f":"IF(ЗАЯВКА!#REF!=\"проектирование\",ЗАЯВКА!#REF!,0)","v":{"$error":"#REF!"}},{"$f":"IF(ЗАЯВКА!#REF!=\"строительно-монтажные работы\",ЗАЯВКА!#REF!,0)","v":{"$error":"#REF!"}},{"$f":"IF(ЗАЯВКА!#REF!=\"да\",ЗАЯВКА!#REF!,0)","v":{"$error":"#REF!"}}]
[{"$f":"IF(ЗАЯВКА!#REF!=\"проектирование\",ЗАЯВКА!#REF!,0)","v":{"$error":"#REF!"}},{"$f":"IF(ЗАЯВКА!#REF!=\"строительно-монтажные работы\",ЗАЯВКА!#REF!,0)","v":{"$error":"#REF!"}},{"$f":"IF(ЗАЯВКА!#REF!=\"да\",ЗАЯВКА!#REF!,0)","v":{"$error":"#REF!"}}]
[{"$f":"IF(ЗАЯВКА!#REF!=\"проектирование\",ЗАЯВКА!#REF!,0)","v":{"$error":"#REF!"}},{"$f":"IF(ЗАЯВКА!#REF!=\"строительно-монтажные работы\",ЗАЯВКА!#REF!,0)","v":{"$error":"#REF!"}},{"$f":"IF(ЗАЯВКА!#REF!=\"да\",ЗАЯВКА!#REF!,0)","v":{"$error":"#REF!"}}]
[{"$f":"IF(ЗАЯВКА!#REF!=\"проектирование\",ЗАЯВКА!#REF!,0)","v":{"$error":"#REF!"}},{"$f":"IF(ЗАЯВКА!#REF!=\"строительно-монтажные работы\",ЗАЯВКА!#REF!,0)","v":{"$error":"#REF!"}},{"$f":"IF(ЗАЯВКА!#REF!=\"да\",ЗАЯВКА!#REF!,0)","v":{"$error":"#REF!"}}]
[{"$f":"IF(ЗАЯВКА!#REF!=\"проектирование\",ЗАЯВКА!#REF!,0)","v":{"$error":"#REF!"}},{"$f":"IF(ЗАЯВКА!#REF!=\"строительно-монтажные работы\",ЗАЯВКА!#REF!,0)","v":{"$error":"#REF!"}},{"$f":"IF(ЗАЯВКА!#REF!=\"да\",ЗАЯВКА!#REF!,0)","v":{"$error":"#REF!"}}]
[{"$f":"IF(ЗАЯВКА!#REF!=\"проектирование\",ЗАЯВКА!#REF!,0)","v":{"$error":"#REF!"}},{"$f":"IF(ЗАЯВКА!#REF!=\"строительно-монтажные работы\",ЗАЯВКА!#REF!,0)","v":{"$error":"#REF!"}},{"$f":"IF(ЗАЯВКА!#REF!=\"да\",ЗАЯВКА!#REF!,0)","v":{"$error":"#REF!"}}]
[{"$f":"IF(ЗАЯВКА!#REF!=\"проектирование\",ЗАЯВКА!#REF!,0)","v":{"$error":"#REF!"}},{"$f":"IF(ЗАЯВКА!#REF!=\"строительно-монтажные работы\",ЗАЯВКА!#REF!,0)","v":{"$error":"#REF!"}},{"$f":"IF(ЗАЯВКА!#REF!=\"да\",ЗАЯВКА!#REF!,0)","v":{"$error":"#REF!"}}]
[{"$f":"IF(ЗАЯВКА!#REF!=\"проектирование\",ЗАЯВКА!#REF!,0)","v":{"$error":"#REF!"}},{"$f":"IF(ЗАЯВКА!#REF!=\"строительно-монтажные работы\",ЗАЯВКА!#REF!,0)","v":{"$error":"#REF!"}},{"$f":"IF(ЗАЯВКА!#REF!=\"да\",ЗАЯВКА!#REF!,0)","v":{"$error":"#REF!"}}]
[{"$f":"IF(ЗАЯВКА!#REF!=\"проектирование\",ЗАЯВКА!#REF!,0)","v":{"$error":"#REF!"}},{"$f":"IF(ЗАЯВКА!#REF!=\"строительно-монтажные работы\",ЗАЯВКА!#REF!,0)","v":{"$error":"#REF!"}},{"$f":"IF(ЗАЯВКА!#REF!=\"да\",ЗАЯВКА!#REF!,0)","v":{"$error":"#REF!"}}]
[{"$f":"IF(ЗАЯВКА!#REF!=\"проектирование\",ЗАЯВКА!#REF!,0)","v":{"$error":"#REF!"}},{"$f":"IF(ЗАЯВКА!#REF!=\"строительно-монтажные работы\",ЗАЯВКА!#REF!,0)","v":{"$error":"#REF!"}},{"$f":"IF(ЗАЯВКА!#REF!=\"да\",ЗАЯВКА!#REF!,0)","v":{"$error":"#REF!"}}]
[{"$f":"IF(ЗАЯВКА!#REF!=\"проектирование\",ЗАЯВКА!#REF!,0)","v":{"$error":"#REF!"}},{"$f":"IF(ЗАЯВКА!#REF!=\"строительно-монтажные работы\",ЗАЯВКА!#REF!,0)","v":{"$error":"#REF!"}},{"$f":"IF(ЗАЯВКА!#REF!=\"да\",ЗАЯВКА!#REF!,0)","v":{"$error":"#REF!"}}]
[{"$f":"IF(ЗАЯВКА!#REF!=\"проектирование\",ЗАЯВКА!#REF!,0)","v":{"$error":"#REF!"}},{"$f":"IF(ЗАЯВКА!#REF!=\"строительно-монтажные работы\",ЗАЯВКА!#REF!,0)","v":{"$error":"#REF!"}},{"$f":"IF(ЗАЯВКА!#REF!=\"да\",ЗАЯВКА!#REF!,0)","v":{"$error":"#REF!"}}]
[{"$f":"IF(ЗАЯВКА!#REF!=\"проектирование\",ЗАЯВКА!#REF!,0)","v":{"$error":"#REF!"}},{"$f":"IF(ЗАЯВКА!#REF!=\"строительно-монтажные работы\",ЗАЯВКА!#REF!,0)","v":{"$error":"#REF!"}},{"$f":"IF(ЗАЯВКА!#REF!=\"да\",ЗАЯВКА!#REF!,0)","v":{"$error":"#REF!"}}]
[{"$f":"IF(ЗАЯВКА!#REF!=\"проектирование\",ЗАЯВКА!#REF!,0)","v":{"$error":"#REF!"}},{"$f":"IF(ЗАЯВКА!#REF!=\"строительно-монтажные работы\",ЗАЯВКА!#REF!,0)","v":{"$error":"#REF!"}},{"$f":"IF(ЗАЯВКА!#REF!=\"да\",ЗАЯВКА!#REF!,0)","v":{"$error":"#REF!"}}]
[{"$f":"IF(ЗАЯВКА!#REF!=\"проектирование\",ЗАЯВКА!#REF!,0)","v":{"$error":"#REF!"}},{"$f":"IF(ЗАЯВКА!#REF!=\"строительно-монтажные работы\",ЗАЯВКА!#REF!,0)","v":{"$error":"#REF!"}},{"$f":"IF(ЗАЯВКА!#REF!=\"да\",ЗАЯВКА!#REF!,0)","v":{"$error":"#REF!"}}]
[{"$f":"IF(ЗАЯВКА!#REF!=\"проектирование\",ЗАЯВКА!#REF!,0)","v":{"$error":"#REF!"}},{"$f":"IF(ЗАЯВКА!#REF!=\"строительно-монтажные работы\",ЗАЯВКА!#REF!,0)","v":{"$error":"#REF!"}},{"$f":"IF(ЗАЯВКА!#REF!=\"да\",ЗАЯВКА!#REF!,0)","v":{"$error":"#REF!"}}]
[{"$f":"IF(ЗАЯВКА!#REF!=\"проектирование\",ЗАЯВКА!#REF!,0)","v":{"$error":"#REF!"}},{"$f":"IF(ЗАЯВКА!#REF!=\"строительно-монтажные работы\",ЗАЯВКА!#REF!,0)","v":{"$error":"#REF!"}},{"$f":"IF(ЗАЯВКА!#REF!=\"да\",ЗАЯВКА!#REF!,0)","v":{"$error":"#REF!"}}]
[{"$f":"IF(ЗАЯВКА!#REF!=\"проектирование\",ЗАЯВКА!#REF!,0)","v":{"$error":"#REF!"}},{"$f":"IF(ЗАЯВКА!#REF!=\"строительно-монтажные работы\",ЗАЯВКА!#REF!,0)","v":{"$error":"#REF!"}},{"$f":"IF(ЗАЯВКА!#REF!=\"да\",ЗАЯВКА!#REF!,0)","v":{"$error":"#REF!"}}]
[{"$f":"IF(ЗАЯВКА!#REF!=\"проектирование\",ЗАЯВКА!#REF!,0)","v":{"$error":"#REF!"}},{"$f":"IF(ЗАЯВКА!#REF!=\"строительно-монтажные работы\",ЗАЯВКА!#REF!,0)","v":{"$error":"#REF!"}},{"$f":"IF(ЗАЯВКА!#REF!=\"да\",ЗАЯВКА!#REF!,0)","v":{"$error":"#REF!"}}]
[{"$f":"IF(ЗАЯВКА!#REF!=\"проектирование\",ЗАЯВКА!#REF!,0)","v":{"$error":"#REF!"}},{"$f":"IF(ЗАЯВКА!#REF!=\"строительно-монтажные работы\",ЗАЯВКА!#REF!,0)","v":{"$error":"#REF!"}},{"$f":"IF(ЗАЯВКА!#REF!=\"да\",ЗАЯВКА!#REF!,0)","v":{"$error":"#REF!"}}]
[{"$f":"IF(ЗАЯВКА!#REF!=\"проектирование\",ЗАЯВКА!#REF!,0)","v":{"$error":"#REF!"}},{"$f":"IF(ЗАЯВКА!#REF!=\"строительно-монтажные работы\",ЗАЯВКА!#REF!,0)","v":{"$error":"#REF!"}},{"$f":"IF(ЗАЯВКА!#REF!=\"да\",ЗАЯВКА!#REF!,0)","v":{"$error":"#REF!"}}]
[{"$f":"IF(ЗАЯВКА!#REF!=\"проектирование\",ЗАЯВКА!#REF!,0)","v":{"$error":"#REF!"}},{"$f":"IF(ЗАЯВКА!#REF!=\"строительно-монтажные работы\",ЗАЯВКА!#REF!,0)","v":{"$error":"#REF!"}},{"$f":"IF(ЗАЯВКА!#REF!=\"да\",ЗАЯВКА!#REF!,0)","v":{"$error":"#REF!"}}]
[{"$f":"IF(ЗАЯВКА!#REF!=\"проектирование\",ЗАЯВКА!#REF!,0)","v":{"$error":"#REF!"}},{"$f":"IF(ЗАЯВКА!#REF!=\"строительно-монтажные работы\",ЗАЯВКА!#REF!,0)","v":{"$error":"#REF!"}},{"$f":"IF(ЗАЯВКА!#REF!=\"да\",ЗАЯВКА!#REF!,0)","v":{"$error":"#REF!"}}]
[{"$f":"IF(ЗАЯВКА!#REF!=\"проектирование\",ЗАЯВКА!#REF!,0)","v":{"$error":"#REF!"}},{"$f":"IF(ЗАЯВКА!#REF!=\"строительно-монтажные работы\",ЗАЯВКА!#REF!,0)","v":{"$error":"#REF!"}},{"$f":"IF(ЗАЯВКА!#REF!=\"да\",ЗАЯВКА!#REF!,0)","v":{"$error":"#REF!"}}]
[{"$f":"IF(ЗАЯВКА!#REF!=\"проектирование\",ЗАЯВКА!#REF!,0)","v":{"$error":"#REF!"}},{"$f":"IF(ЗАЯВКА!#REF!=\"строительно-монтажные работы\",ЗАЯВКА!#REF!,0)","v":{"$error":"#REF!"}},{"$f":"IF(ЗАЯВКА!#REF!=\"да\",ЗАЯВКА!#REF!,0)","v":{"$error":"#REF!"}}]
[{"$f":"IF(ЗАЯВКА!#REF!=\"проектирование\",ЗАЯВКА!#REF!,0)","v":{"$error":"#REF!"}},{"$f":"IF(ЗАЯВКА!#REF!=\"строительно-монтажные работы\",ЗАЯВКА!#REF!,0)","v":{"$error":"#REF!"}},{"$f":"IF(ЗАЯВКА!#REF!=\"да\",ЗАЯВКА!#REF!,0)","v":{"$error":"#REF!"}}]
[{"$f":"IF(ЗАЯВКА!#REF!=\"проектирование\",ЗАЯВКА!#REF!,0)","v":{"$error":"#REF!"}},{"$f":"IF(ЗАЯВКА!#REF!=\"строительно-монтажные работы\",ЗАЯВКА!#REF!,0)","v":{"$error":"#REF!"}},{"$f":"IF(ЗАЯВКА!#REF!=\"да\",ЗАЯВКА!#REF!,0)","v":{"$error":"#REF!"}}]
[{"$f":"IF(ЗАЯВКА!#REF!=\"проектирование\",ЗАЯВКА!#REF!,0)","v":{"$error":"#REF!"}},{"$f":"IF(ЗАЯВКА!#REF!=\"строительно-монтажные работы\",ЗАЯВКА!#REF!,0)","v":{"$error":"#REF!"}},{"$f":"IF(ЗАЯВКА!#REF!=\"да\",ЗАЯВКА!#REF!,0)","v":{"$error":"#REF!"}}]
[{"$f":"IF(ЗАЯВКА!#REF!=\"проектирование\",ЗАЯВКА!#REF!,0)","v":{"$error":"#REF!"}},{"$f":"IF(ЗАЯВКА!#REF!=\"строительно-монтажные работы\",ЗАЯВКА!#REF!,0)","v":{"$error":"#REF!"}},{"$f":"IF(ЗАЯВКА!#REF!=\"да\",ЗАЯВКА!#REF!,0)","v":{"$error":"#REF!"}}]
[{"$f":"IF(ЗАЯВКА!#REF!=\"проектирование\",ЗАЯВКА!#REF!,0)","v":{"$error":"#REF!"}},{"$f":"IF(ЗАЯВКА!#REF!=\"строительно-монтажные работы\",ЗАЯВКА!#REF!,0)","v":{"$error":"#REF!"}},{"$f":"IF(ЗАЯВКА!#REF!=\"да\",ЗАЯВКА!#REF!,0)","v":{"$error":"#REF!"}}]
[{"$f":"IF(ЗАЯВКА!#REF!=\"проектирование\",ЗАЯВКА!#REF!,0)","v":{"$error":"#REF!"}},{"$f":"IF(ЗАЯВКА!#REF!=\"строительно-монтажные работы\",ЗАЯВКА!#REF!,0)","v":{"$error":"#REF!"}},{"$f":"IF(ЗАЯВКА!#REF!=\"да\",ЗАЯВКА!#REF!,0)","v":{"$error":"#REF!"}}]
[{"$f":"IF(ЗАЯВКА!#REF!=\"проектирование\",ЗАЯВКА!#REF!,0)","v":{"$error":"#REF!"}},{"$f":"IF(ЗАЯВКА!#REF!=\"строительно-монтажные работы\",ЗАЯВКА!#REF!,0)","v":{"$error":"#REF!"}},{"$f":"IF(ЗАЯВКА!#REF!=\"да\",ЗАЯВКА!#REF!,0)","v":{"$error":"#REF!"}}]
[{"$f":"IF(ЗАЯВКА!#REF!=\"проектирование\",ЗАЯВКА!#REF!,0)","v":{"$error":"#REF!"}},{"$f":"IF(ЗАЯВКА!#REF!=\"строительно-монтажные работы\",ЗАЯВКА!#REF!,0)","v":{"$error":"#REF!"}},{"$f":"IF(ЗАЯВКА!#REF!=\"да\",ЗАЯВКА!#REF!,0)","v":{"$error":"#REF!"}}]
[{"$f":"IF(ЗАЯВКА!#REF!=\"проектирование\",ЗАЯВКА!#REF!,0)","v":{"$error":"#REF!"}},{"$f":"IF(ЗАЯВКА!#REF!=\"строительно-монтажные работы\",ЗАЯВКА!#REF!,0)","v":{"$error":"#REF!"}},{"$f":"IF(ЗАЯВКА!#REF!=\"да\",ЗАЯВКА!#REF!,0)","v":{"$error":"#REF!"}}]
[{"$f":"IF(ЗАЯВКА!#REF!=\"проектирование\",ЗАЯВКА!#REF!,0)","v":{"$error":"#REF!"}},{"$f":"IF(ЗАЯВКА!#REF!=\"строительно-монтажные работы\",ЗАЯВКА!#REF!,0)","v":{"$error":"#REF!"}},{"$f":"IF(ЗАЯВКА!#REF!=\"да\",ЗАЯВКА!#REF!,0)","v":{"$error":"#REF!"}}]
[{"$f":"IF(ЗАЯВКА!#REF!=\"проектирование\",ЗАЯВКА!#REF!,0)","v":{"$error":"#REF!"}},{"$f":"IF(ЗАЯВКА!#REF!=\"строительно-монтажные работы\",ЗАЯВКА!#REF!,0)","v":{"$error":"#REF!"}},{"$f":"IF(ЗАЯВКА!#REF!=\"да\",ЗАЯВКА!#REF!,0)","v":{"$error":"#REF!"}}]
[{"$f":"IF(ЗАЯВКА!#REF!=\"проектирование\",ЗАЯВКА!#REF!,0)","v":{"$error":"#REF!"}},{"$f":"IF(ЗАЯВКА!#REF!=\"строительно-монтажные работы\",ЗАЯВКА!#REF!,0)","v":{"$error":"#REF!"}},{"$f":"IF(ЗАЯВКА!#REF!=\"да\",ЗАЯВКА!#REF!,0)","v":{"$error":"#REF!"}}]
[{"$f":"IF(ЗАЯВКА!#REF!=\"проектирование\",ЗАЯВКА!#REF!,0)","v":{"$error":"#REF!"}},{"$f":"IF(ЗАЯВКА!#REF!=\"строительно-монтажные работы\",ЗАЯВКА!#REF!,0)","v":{"$error":"#REF!"}},{"$f":"IF(ЗАЯВКА!#REF!=\"да\",ЗАЯВКА!#REF!,0)","v":{"$error":"#REF!"}}]
[{"$f":"IF(ЗАЯВКА!#REF!=\"проектирование\",ЗАЯВКА!#REF!,0)","v":{"$error":"#REF!"}},{"$f":"IF(ЗАЯВКА!#REF!=\"строительно-монтажные работы\",ЗАЯВКА!#REF!,0)","v":{"$error":"#REF!"}},{"$f":"IF(ЗАЯВКА!#REF!=\"да\",ЗАЯВКА!#REF!,0)","v":{"$error":"#REF!"}}]
[{"$f":"IF(ЗАЯВКА!#REF!=\"проектирование\",ЗАЯВКА!#REF!,0)","v":{"$error":"#REF!"}},{"$f":"IF(ЗАЯВКА!#REF!=\"строительно-монтажные работы\",ЗАЯВКА!#REF!,0)","v":{"$error":"#REF!"}},{"$f":"IF(ЗАЯВКА!#REF!=\"да\",ЗАЯВКА!#REF!,0)","v":{"$error":"#REF!"}}]
[{"$f":"IF(ЗАЯВКА!#REF!=\"проектирование\",ЗАЯВКА!#REF!,0)","v":{"$error":"#REF!"}},{"$f":"IF(ЗАЯВКА!#REF!=\"строительно-монтажные работы\",ЗАЯВКА!#REF!,0)","v":{"$error":"#REF!"}},{"$f":"IF(ЗАЯВКА!#REF!=\"да\",ЗАЯВКА!#REF!,0)","v":{"$error":"#REF!"}}]
[{"$f":"IF(ЗАЯВКА!#REF!=\"проектирование\",ЗАЯВКА!#REF!,0)","v":{"$error":"#REF!"}},{"$f":"IF(ЗАЯВКА!#REF!=\"строительно-монтажные работы\",ЗАЯВКА!#REF!,0)","v":{"$error":"#REF!"}},{"$f":"IF(ЗАЯВКА!#REF!=\"да\",ЗАЯВКА!#REF!,0)","v":{"$error":"#REF!"}}]
[{"$f":"IF(ЗАЯВКА!#REF!=\"проектирование\",ЗАЯВКА!#REF!,0)","v":{"$error":"#REF!"}},{"$f":"IF(ЗАЯВКА!#REF!=\"строительно-монтажные работы\",ЗАЯВКА!#REF!,0)","v":{"$error":"#REF!"}},{"$f":"IF(ЗАЯВКА!#REF!=\"да\",ЗАЯВКА!#REF!,0)","v":{"$error":"#REF!"}}]
[{"$f":"IF(ЗАЯВКА!#REF!=\"проектирование\",ЗАЯВКА!#REF!,0)","v":{"$error":"#REF!"}},{"$f":"IF(ЗАЯВКА!#REF!=\"строительно-монтажные работы\",ЗАЯВКА!#REF!,0)","v":{"$error":"#REF!"}},{"$f":"IF(ЗАЯВКА!#REF!=\"да\",ЗАЯВКА!#REF!,0)","v":{"$error":"#REF!"}}]
[{"$f":"IF(ЗАЯВКА!#REF!=\"проектирование\",ЗАЯВКА!#REF!,0)","v":{"$error":"#REF!"}},{"$f":"IF(ЗАЯВКА!#REF!=\"строительно-монтажные работы\",ЗАЯВКА!#REF!,0)","v":{"$error":"#REF!"}},{"$f":"IF(ЗАЯВКА!#REF!=\"да\",ЗАЯВКА!#REF!,0)","v":{"$error":"#REF!"}}]
[{"$f":"IF(ЗАЯВКА!#REF!=\"проектирование\",ЗАЯВКА!#REF!,0)","v":{"$error":"#REF!"}},{"$f":"IF(ЗАЯВКА!#REF!=\"строительно-монтажные работы\",ЗАЯВКА!#REF!,0)","v":{"$error":"#REF!"}},{"$f":"IF(ЗАЯВКА!#REF!=\"да\",ЗАЯВКА!#REF!,0)","v":{"$error":"#REF!"}}]
[{"$f":"IF(ЗАЯВКА!#REF!=\"проектирование\",ЗАЯВКА!#REF!,0)","v":{"$error":"#REF!"}},{"$f":"IF(ЗАЯВКА!#REF!=\"строительно-монтажные работы\",ЗАЯВКА!#REF!,0)","v":{"$error":"#REF!"}},{"$f":"IF(ЗАЯВКА!#REF!=\"да\",ЗАЯВКА!#REF!,0)","v":{"$error":"#REF!"}}]
[{"$f":"IF(ЗАЯВКА!#REF!=\"проектирование\",ЗАЯВКА!#REF!,0)","v":{"$error":"#REF!"}},{"$f":"IF(ЗАЯВКА!#REF!=\"строительно-монтажные работы\",ЗАЯВКА!#REF!,0)","v":{"$error":"#REF!"}},{"$f":"IF(ЗАЯВКА!#REF!=\"да\",ЗАЯВКА!#REF!,0)","v":{"$error":"#REF!"}}]
[{"$f":"IF(ЗАЯВКА!#REF!=\"проектирование\",ЗАЯВКА!#REF!,0)","v":{"$error":"#REF!"}},{"$f":"IF(ЗАЯВКА!#REF!=\"строительно-монтажные работы\",ЗАЯВКА!#REF!,0)","v":{"$error":"#REF!"}},{"$f":"IF(ЗАЯВКА!#REF!=\"да\",ЗАЯВКА!#REF!,0)","v":{"$error":"#REF!"}}]
[{"$f":"IF(ЗАЯВКА!#REF!=\"проектирование\",ЗАЯВКА!#REF!,0)","v":{"$error":"#REF!"}},{"$f":"IF(ЗАЯВКА!#REF!=\"строительно-монтажные работы\",ЗАЯВКА!#REF!,0)","v":{"$error":"#REF!"}},{"$f":"IF(ЗАЯВКА!#REF!=\"да\",ЗАЯВКА!#REF!,0)","v":{"$error":"#REF!"}}]
[{"$f":"IF(ЗАЯВКА!#REF!=\"проектирование\",ЗАЯВКА!#REF!,0)","v":{"$error":"#REF!"}},{"$f":"IF(ЗАЯВКА!#REF!=\"строительно-монтажные работы\",ЗАЯВКА!#REF!,0)","v":{"$error":"#REF!"}},{"$f":"IF(ЗАЯВКА!#REF!=\"да\",ЗАЯВКА!#REF!,0)","v":{"$error":"#REF!"}}]
[{"$f":"IF(ЗАЯВКА!#REF!=\"проектирование\",ЗАЯВКА!#REF!,0)","v":{"$error":"#REF!"}},{"$f":"IF(ЗАЯВКА!#REF!=\"строительно-монтажные работы\",ЗАЯВКА!#REF!,0)","v":{"$error":"#REF!"}},{"$f":"IF(ЗАЯВКА!#REF!=\"да\",ЗАЯВКА!#REF!,0)","v":{"$error":"#REF!"}}]
[{"$f":"IF(ЗАЯВКА!#REF!=\"проектирование\",ЗАЯВКА!#REF!,0)","v":{"$error":"#REF!"}},{"$f":"IF(ЗАЯВКА!#REF!=\"строительно-монтажные работы\",ЗАЯВКА!#REF!,0)","v":{"$error":"#REF!"}},{"$f":"IF(ЗАЯВКА!#REF!=\"да\",ЗАЯВКА!#REF!,0)","v":{"$error":"#REF!"}}]
[{"$f":"IF(ЗАЯВКА!#REF!=\"проектирование\",ЗАЯВКА!#REF!,0)","v":{"$error":"#REF!"}},{"$f":"IF(ЗАЯВКА!#REF!=\"строительно-монтажные работы\",ЗАЯВКА!#REF!,0)","v":{"$error":"#REF!"}},{"$f":"IF(ЗАЯВКА!#REF!=\"да\",ЗАЯВКА!#REF!,0)","v":{"$error":"#REF!"}}]
[{"$f":"IF(ЗАЯВКА!#REF!=\"проектирование\",ЗАЯВКА!#REF!,0)","v":{"$error":"#REF!"}},{"$f":"IF(ЗАЯВКА!#REF!=\"строительно-монтажные работы\",ЗАЯВКА!#REF!,0)","v":{"$error":"#REF!"}},{"$f":"IF(ЗАЯВКА!#REF!=\"да\",ЗАЯВКА!#REF!,0)","v":{"$error":"#REF!"}}]
[{"$f":"IF(ЗАЯВКА!#REF!=\"проектирование\",ЗАЯВКА!#REF!,0)","v":{"$error":"#REF!"}},{"$f":"IF(ЗАЯВКА!#REF!=\"строительно-монтажные работы\",ЗАЯВКА!#REF!,0)","v":{"$error":"#REF!"}},{"$f":"IF(ЗАЯВКА!#REF!=\"да\",ЗАЯВКА!#REF!,0)","v":{"$error":"#REF!"}}]
[{"$f":"IF(ЗАЯВКА!#REF!=\"проектирование\",ЗАЯВКА!#REF!,0)","v":{"$error":"#REF!"}},{"$f":"IF(ЗАЯВКА!#REF!=\"строительно-монтажные работы\",ЗАЯВКА!#REF!,0)","v":{"$error":"#REF!"}},{"$f":"IF(ЗАЯВКА!#REF!=\"да\",ЗАЯВКА!#REF!,0)","v":{"$error":"#REF!"}}]
[{"$f":"IF(ЗАЯВКА!#REF!=\"проектирование\",ЗАЯВКА!#REF!,0)","v":{"$error":"#REF!"}},{"$f":"IF(ЗАЯВКА!#REF!=\"строительно-монтажные работы\",ЗАЯВКА!#REF!,0)","v":{"$error":"#REF!"}},{"$f":"IF(ЗАЯВКА!#REF!=\"да\",ЗАЯВКА!#REF!,0)","v":{"$error":"#REF!"}}]
[{"$f":"IF(ЗАЯВКА!#REF!=\"проектирование\",ЗАЯВКА!#REF!,0)","v":{"$error":"#REF!"}},{"$f":"IF(ЗАЯВКА!#REF!=\"строительно-монтажные работы\",ЗАЯВКА!#REF!,0)","v":{"$error":"#REF!"}},{"$f":"IF(ЗАЯВКА!#REF!=\"да\",ЗАЯВКА!#REF!,0)","v":{"$error":"#REF!"}}]
[{"$f":"IF(ЗАЯВКА!#REF!=\"проектирование\",ЗАЯВКА!#REF!,0)","v":{"$error":"#REF!"}},{"$f":"IF(ЗАЯВКА!#REF!=\"строительно-монтажные работы\",ЗАЯВКА!#REF!,0)","v":{"$error":"#REF!"}},{"$f":"IF(ЗАЯВКА!#REF!=\"да\",ЗАЯВКА!#REF!,0)","v":{"$error":"#REF!"}}]
[{"$f":"IF(ЗАЯВКА!#REF!=\"проектирование\",ЗАЯВКА!#REF!,0)","v":{"$error":"#REF!"}},{"$f":"IF(ЗАЯВКА!#REF!=\"строительно-монтажные работы\",ЗАЯВКА!#REF!,0)","v":{"$error":"#REF!"}},{"$f":"IF(ЗАЯВКА!#REF!=\"да\",ЗАЯВКА!#REF!,0)","v":{"$error":"#REF!"}}]
[{"$f":"IF(ЗАЯВКА!#REF!=\"проектирование\",ЗАЯВКА!#REF!,0)","v":{"$error":"#REF!"}},{"$f":"IF(ЗАЯВКА!#REF!=\"строительно-монтажные работы\",ЗАЯВКА!#REF!,0)","v":{"$error":"#REF!"}},{"$f":"IF(ЗАЯВКА!#REF!=\"да\",ЗАЯВКА!#REF!,0)","v":{"$error":"#REF!"}}]
[{"$f":"IF(ЗАЯВКА!#REF!=\"проектирование\",ЗАЯВКА!#REF!,0)","v":{"$error":"#REF!"}},{"$f":"IF(ЗАЯВКА!#REF!=\"строительно-монтажные работы\",ЗАЯВКА!#REF!,0)","v":{"$error":"#REF!"}},{"$f":"IF(ЗАЯВКА!#REF!=\"да\",ЗАЯВКА!#REF!,0)","v":{"$error":"#REF!"}}]
[{"$f":"IF(ЗАЯВКА!#REF!=\"проектирование\",ЗАЯВКА!#REF!,0)","v":{"$error":"#REF!"}},{"$f":"IF(ЗАЯВКА!#REF!=\"строительно-монтажные работы\",ЗАЯВКА!#REF!,0)","v":{"$error":"#REF!"}},{"$f":"IF(ЗАЯВКА!#REF!=\"да\",ЗАЯВКА!#REF!,0)","v":{"$error":"#REF!"}}]
[{"$f":"IF(ЗАЯВКА!#REF!=\"проектирование\",ЗАЯВКА!#REF!,0)","v":{"$error":"#REF!"}},{"$f":"IF(ЗАЯВКА!#REF!=\"строительно-монтажные работы\",ЗАЯВКА!#REF!,0)","v":{"$error":"#REF!"}},{"$f":"IF(ЗАЯВКА!#REF!=\"да\",ЗАЯВКА!#REF!,0)","v":{"$error":"#REF!"}}]
[{"$f":"IF(ЗАЯВКА!#REF!=\"проектирование\",ЗАЯВКА!#REF!,0)","v":{"$error":"#REF!"}},{"$f":"IF(ЗАЯВКА!#REF!=\"строительно-монтажные работы\",ЗАЯВКА!#REF!,0)","v":{"$error":"#REF!"}},{"$f":"IF(ЗАЯВКА!#REF!=\"да\",ЗАЯВКА!#REF!,0)","v":{"$error":"#REF!"}}]
[{"$f":"IF(ЗАЯВКА!#REF!=\"проектирование\",ЗАЯВКА!#REF!,0)","v":{"$error":"#REF!"}},{"$f":"IF(ЗАЯВКА!#REF!=\"строительно-монтажные работы\",ЗАЯВКА!#REF!,0)","v":{"$error":"#REF!"}},{"$f":"IF(ЗАЯВКА!#REF!=\"да\",ЗАЯВКА!#REF!,0)","v":{"$error":"#REF!"}}]
[{"$f":"IF(ЗАЯВКА!#REF!=\"проектирование\",ЗАЯВКА!#REF!,0)","v":{"$error":"#REF!"}},{"$f":"IF(ЗАЯВКА!#REF!=\"строительно-монтажные работы\",ЗАЯВКА!#REF!,0)","v":{"$error":"#REF!"}},{"$f":"IF(ЗАЯВКА!#REF!=\"да\",ЗАЯВКА!#REF!,0)","v":{"$error":"#REF!"}}]
[{"$f":"IF(ЗАЯВКА!#REF!=\"проектирование\",ЗАЯВКА!#REF!,0)","v":{"$error":"#REF!"}},{"$f":"IF(ЗАЯВКА!#REF!=\"строительно-монтажные работы\",ЗАЯВКА!#REF!,0)","v":{"$error":"#REF!"}},{"$f":"IF(ЗАЯВКА!#REF!=\"да\",ЗАЯВКА!#REF!,0)","v":{"$error":"#REF!"}}]
[{"$f":"IF(ЗАЯВКА!#REF!=\"проектирование\",ЗАЯВКА!#REF!,0)","v":{"$error":"#REF!"}},{"$f":"IF(ЗАЯВКА!#REF!=\"строительно-монтажные работы\",ЗАЯВКА!#REF!,0)","v":{"$error":"#REF!"}},{"$f":"IF(ЗАЯВКА!#REF!=\"да\",ЗАЯВКА!#REF!,0)","v":{"$error":"#REF!"}}]
[{"$f":"IF(ЗАЯВКА!#REF!=\"проектирование\",ЗАЯВКА!#REF!,0)","v":{"$error":"#REF!"}},{"$f":"IF(ЗАЯВКА!#REF!=\"строительно-монтажные работы\",ЗАЯВКА!#REF!,0)","v":{"$error":"#REF!"}},{"$f":"IF(ЗАЯВКА!#REF!=\"да\",ЗАЯВКА!#REF!,0)","v":{"$error":"#REF!"}}]
[{"$f":"IF(ЗАЯВКА!#REF!=\"проектирование\",ЗАЯВКА!#REF!,0)","v":{"$error":"#REF!"}},{"$f":"IF(ЗАЯВКА!#REF!=\"строительно-монтажные работы\",ЗАЯВКА!#REF!,0)","v":{"$error":"#REF!"}},{"$f":"IF(ЗАЯВКА!#REF!=\"да\",ЗАЯВКА!#REF!,0)","v":{"$error":"#REF!"}}]
[{"$f":"IF(ЗАЯВКА!#REF!=\"проектирование\",ЗАЯВКА!#REF!,0)","v":{"$error":"#REF!"}},{"$f":"IF(ЗАЯВКА!#REF!=\"строительно-монтажные работы\",ЗАЯВКА!#REF!,0)","v":{"$error":"#REF!"}},{"$f":"IF(ЗАЯВКА!#REF!=\"да\",ЗАЯВКА!#REF!,0)","v":{"$error":"#REF!"}}]
[{"$f":"IF(ЗАЯВКА!#REF!=\"проектирование\",ЗАЯВКА!#REF!,0)","v":{"$error":"#REF!"}},{"$f":"IF(ЗАЯВКА!#REF!=\"строительно-монтажные работы\",ЗАЯВКА!#REF!,0)","v":{"$error":"#REF!"}},{"$f":"IF(ЗАЯВКА!#REF!=\"да\",ЗАЯВКА!#REF!,0)","v":{"$error":"#REF!"}}]
[{"$f":"IF(ЗАЯВКА!#REF!=\"проектирование\",ЗАЯВКА!#REF!,0)","v":{"$error":"#REF!"}},{"$f":"IF(ЗАЯВКА!#REF!=\"строительно-монтажные работы\",ЗАЯВКА!#REF!,0)","v":{"$error":"#REF!"}},{"$f":"IF(ЗАЯВКА!#REF!=\"да\",ЗАЯВКА!#REF!,0)","v":{"$error":"#REF!"}}]
[{"$f":"IF(ЗАЯВКА!#REF!=\"проектирование\",ЗАЯВКА!#REF!,0)","v":{"$error":"#REF!"}},{"$f":"IF(ЗАЯВКА!#REF!=\"строительно-монтажные работы\",ЗАЯВКА!#REF!,0)","v":{"$error":"#REF!"}},{"$f":"IF(ЗАЯВКА!#REF!=\"да\",ЗАЯВКА!#REF!,0)","v":{"$error":"#REF!"}}]
[{"$f":"IF(ЗАЯВКА!#REF!=\"проектирование\",ЗАЯВКА!#REF!,0)","v":{"$error":"#REF!"}},{"$f":"IF(ЗАЯВКА!#REF!=\"строительно-монтажные работы\",ЗАЯВКА!#REF!,0)","v":{"$error":"#REF!"}},{"$f":"IF(ЗАЯВКА!#REF!=\"да\",ЗАЯВКА!#REF!,0)","v":{"$error":"#REF!"}}]
[{"$f":"IF(ЗАЯВКА!#REF!=\"проектирование\",ЗАЯВКА!#REF!,0)","v":{"$error":"#REF!"}},{"$f":"IF(ЗАЯВКА!#REF!=\"строительно-монтажные работы\",ЗАЯВКА!#REF!,0)","v":{"$error":"#REF!"}},{"$f":"IF(ЗАЯВКА!#REF!=\"да\",ЗАЯВКА!#REF!,0)","v":{"$error":"#REF!"}}]
[{"$f":"IF(ЗАЯВКА!#REF!=\"проектирование\",ЗАЯВКА!#REF!,0)","v":{"$error":"#REF!"}},{"$f":"IF(ЗАЯВКА!#REF!=\"строительно-монтажные работы\",ЗАЯВКА!#REF!,0)","v":{"$error":"#REF!"}},{"$f":"IF(ЗАЯВКА!#REF!=\"да\",ЗАЯВКА!#REF!,0)","v":{"$error":"#REF!"}}]
[{"$f":"IF(ЗАЯВКА!#REF!=\"проектирование\",ЗАЯВКА!#REF!,0)","v":{"$error":"#REF!"}},{"$f":"IF(ЗАЯВКА!#REF!=\"строительно-монтажные работы\",ЗАЯВКА!#REF!,0)","v":{"$error":"#REF!"}},{"$f":"IF(ЗАЯВКА!#REF!=\"да\",ЗАЯВКА!#REF!,0)","v":{"$error":"#REF!"}}]
[{"$f":"IF(ЗАЯВКА!#REF!=\"проектирование\",ЗАЯВКА!#REF!,0)","v":{"$error":"#REF!"}},{"$f":"IF(ЗАЯВКА!#REF!=\"строительно-монтажные работы\",ЗАЯВКА!#REF!,0)","v":{"$error":"#REF!"}},{"$f":"IF(ЗАЯВКА!#REF!=\"да\",ЗАЯВКА!#REF!,0)","v":{"$error":"#REF!"}}]
[{"$f":"IF(ЗАЯВКА!#REF!=\"проектирование\",ЗАЯВКА!#REF!,0)","v":{"$error":"#REF!"}},{"$f":"IF(ЗАЯВКА!#REF!=\"строительно-монтажные работы\",ЗАЯВКА!#REF!,0)","v":{"$error":"#REF!"}},{"$f":"IF(ЗАЯВКА!#REF!=\"да\",ЗАЯВКА!#REF!,0)","v":{"$error":"#REF!"}}]
[{"$f":"IF(ЗАЯВКА!#REF!=\"проектирование\",ЗАЯВКА!#REF!,0)","v":{"$error":"#REF!"}},{"$f":"IF(ЗАЯВКА!#REF!=\"строительно-монтажные работы\",ЗАЯВКА!#REF!,0)","v":{"$error":"#REF!"}},{"$f":"IF(ЗАЯВКА!#REF!=\"да\",ЗАЯВКА!#REF!,0)","v":{"$error":"#REF!"}}]
[{"$f":"IF(ЗАЯВКА!#REF!=\"проектирование\",ЗАЯВКА!#REF!,0)","v":{"$error":"#REF!"}},{"$f":"IF(ЗАЯВКА!#REF!=\"строительно-монтажные работы\",ЗАЯВКА!#REF!,0)","v":{"$error":"#REF!"}},{"$f":"IF(ЗАЯВКА!#REF!=\"да\",ЗАЯВКА!#REF!,0)","v":{"$error":"#REF!"}}]
[{"$f":"IF(ЗАЯВКА!#REF!=\"проектирование\",ЗАЯВКА!#REF!,0)","v":{"$error":"#REF!"}},{"$f":"IF(ЗАЯВКА!#REF!=\"строительно-монтажные работы\",ЗАЯВКА!#REF!,0)","v":{"$error":"#REF!"}},{"$f":"IF(ЗАЯВКА!#REF!=\"да\",ЗАЯВКА!#REF!,0)","v":{"$error":"#REF!"}}]
[{"$f":"IF(ЗАЯВКА!#REF!=\"проектирование\",ЗАЯВКА!#REF!,0)","v":{"$error":"#REF!"}},{"$f":"IF(ЗАЯВКА!#REF!=\"строительно-монтажные работы\",ЗАЯВКА!#REF!,0)","v":{"$error":"#REF!"}},{"$f":"IF(ЗАЯВКА!#REF!=\"да\",ЗАЯВКА!#REF!,0)","v":{"$error":"#REF!"}}]
[{"$f":"IF(ЗАЯВКА!#REF!=\"проектирование\",ЗАЯВКА!#REF!,0)","v":{"$error":"#REF!"}},{"$f":"IF(ЗАЯВКА!#REF!=\"строительно-монтажные работы\",ЗАЯВКА!#REF!,0)","v":{"$error":"#REF!"}},{"$f":"IF(ЗАЯВКА!#REF!=\"да\",ЗАЯВКА!#REF!,0)","v":{"$error":"#REF!"}}]
[{"$f":"IF(ЗАЯВКА!#REF!=\"проектирование\",ЗАЯВКА!#REF!,0)","v":{"$error":"#REF!"}},{"$f":"IF(ЗАЯВКА!#REF!=\"строительно-монтажные работы\",ЗАЯВКА!#REF!,0)","v":{"$error":"#REF!"}},{"$f":"IF(ЗАЯВКА!#REF!=\"да\",ЗАЯВКА!#REF!,0)","v":{"$error":"#REF!"}}]
[{"$f":"IF(ЗАЯВКА!#REF!=\"проектирование\",ЗАЯВКА!#REF!,0)","v":{"$error":"#REF!"}},{"$f":"IF(ЗАЯВКА!#REF!=\"строительно-монтажные работы\",ЗАЯВКА!#REF!,0)","v":{"$error":"#REF!"}},{"$f":"IF(ЗАЯВКА!#REF!=\"да\",ЗАЯВКА!#REF!,0)","v":{"$error":"#REF!"}}]
[{"$f":"IF(ЗАЯВКА!#REF!=\"проектирование\",ЗАЯВКА!#REF!,0)","v":{"$error":"#REF!"}},{"$f":"IF(ЗАЯВКА!#REF!=\"строительно-монтажные работы\",ЗАЯВКА!#REF!,0)","v":{"$error":"#REF!"}},{"$f":"IF(ЗАЯВКА!#REF!=\"да\",ЗАЯВКА!#REF!,0)","v":{"$error":"#REF!"}}]
[{"$f":"IF(ЗАЯВКА!#REF!=\"проектирование\",ЗАЯВКА!#REF!,0)","v":{"$error":"#REF!"}},{"$f":"IF(ЗАЯВКА!#REF!=\"строительно-монтажные работы\",ЗАЯВКА!#REF!,0)","v":{"$error":"#REF!"}},{"$f":"IF(ЗАЯВКА!#REF!=\"да\",ЗАЯВКА!#REF!,0)","v":{"$error":"#REF!"}}]
[{"$f":"IF(ЗАЯВКА!#REF!=\"проектирование\",ЗАЯВКА!#REF!,0)","v":{"$error":"#REF!"}},{"$f":"IF(ЗАЯВКА!#REF!=\"строительно-монтажные работы\",ЗАЯВКА!#REF!,0)","v":{"$error":"#REF!"}},{"$f":"IF(ЗАЯВКА!#REF!=\"да\",ЗАЯВКА!#REF!,0)","v":{"$error":"#REF!"}}]
[{"$f":"IF(ЗАЯВКА!#REF!=\"проектирование\",ЗАЯВКА!#REF!,0)","v":{"$error":"#REF!"}},{"$f":"IF(ЗАЯВКА!#REF!=\"строительно-монтажные работы\",ЗАЯВКА!#REF!,0)","v":{"$error":"#REF!"}},{"$f":"IF(ЗАЯВКА!#REF!=\"да\",ЗАЯВКА!#REF!,0)","v":{"$error":"#REF!"}}]
[{"$f":"IF(ЗАЯВКА!#REF!=\"проектирование\",ЗАЯВКА!#REF!,0)","v":{"$error":"#REF!"}},{"$f":"IF(ЗАЯВКА!#REF!=\"строительно-монтажные работы\",ЗАЯВКА!#REF!,0)","v":{"$error":"#REF!"}},{"$f":"IF(ЗАЯВКА!#REF!=\"да\",ЗАЯВКА!#REF!,0)","v":{"$error":"#REF!"}}]
[{"$f":"IF(ЗАЯВКА!#REF!=\"проектирование\",ЗАЯВКА!#REF!,0)","v":{"$error":"#REF!"}},{"$f":"IF(ЗАЯВКА!#REF!=\"строительно-монтажные работы\",ЗАЯВКА!#REF!,0)","v":{"$error":"#REF!"}},{"$f":"IF(ЗАЯВКА!#REF!=\"да\",ЗАЯВКА!#REF!,0)","v":{"$error":"#REF!"}}]
[{"$f":"IF(ЗАЯВКА!#REF!=\"проектирование\",ЗАЯВКА!#REF!,0)","v":{"$error":"#REF!"}},{"$f":"IF(ЗАЯВКА!#REF!=\"строительно-монтажные работы\",ЗАЯВКА!#REF!,0)","v":{"$error":"#REF!"}},{"$f":"IF(ЗАЯВКА!#REF!=\"да\",ЗАЯВКА!#REF!,0)","v":{"$error":"#REF!"}}]
[{"$f":"IF(ЗАЯВКА!#REF!=\"проектирование\",ЗАЯВКА!#REF!,0)","v":{"$error":"#REF!"}},{"$f":"IF(ЗАЯВКА!#REF!=\"строительно-монтажные работы\",ЗАЯВКА!#REF!,0)","v":{"$error":"#REF!"}},{"$f":"IF(ЗАЯВКА!#REF!=\"да\",ЗАЯВКА!#REF!,0)","v":{"$error":"#REF!"}}]
[{"$f":"IF(ЗАЯВКА!#REF!=\"проектирование\",ЗАЯВКА!#REF!,0)","v":{"$error":"#REF!"}},{"$f":"IF(ЗАЯВКА!#REF!=\"строительно-монтажные работы\",ЗАЯВКА!#REF!,0)","v":{"$error":"#REF!"}},{"$f":"IF(ЗАЯВКА!#REF!=\"да\",ЗАЯВКА!#REF!,0)","v":{"$error":"#REF!"}}]
[{"$f":"IF(ЗАЯВКА!#REF!=\"проектирование\",ЗАЯВКА!#REF!,0)","v":{"$error":"#REF!"}},{"$f":"IF(ЗАЯВКА!#REF!=\"строительно-монтажные работы\",ЗАЯВКА!#REF!,0)","v":{"$error":"#REF!"}},{"$f":"IF(ЗАЯВКА!#REF!=\"да\",ЗАЯВКА!#REF!,0)","v":{"$error":"#REF!"}}]
[{"$f":"IF(ЗАЯВКА!#REF!=\"проектирование\",ЗАЯВКА!#REF!,0)","v":{"$error":"#REF!"}},{"$f":"IF(ЗАЯВКА!#REF!=\"строительно-монтажные работы\",ЗАЯВКА!#REF!,0)","v":{"$error":"#REF!"}},{"$f":"IF(ЗАЯВКА!#REF!=\"да\",ЗАЯВКА!#REF!,0)","v":{"$error":"#REF!"}}]
[{"$f":"IF(ЗАЯВКА!#REF!=\"проектирование\",ЗАЯВКА!#REF!,0)","v":{"$error":"#REF!"}},{"$f":"IF(ЗАЯВКА!#REF!=\"строительно-монтажные работы\",ЗАЯВКА!#REF!,0)","v":{"$error":"#REF!"}},{"$f":"IF(ЗАЯВКА!#REF!=\"да\",ЗАЯВКА!#REF!,0)","v":{"$error":"#REF!"}}]
[{"$f":"IF(ЗАЯВКА!#REF!=\"проектирование\",ЗАЯВКА!#REF!,0)","v":{"$error":"#REF!"}},{"$f":"IF(ЗАЯВКА!#REF!=\"строительно-монтажные работы\",ЗАЯВКА!#REF!,0)","v":{"$error":"#REF!"}},{"$f":"IF(ЗАЯВКА!#REF!=\"да\",ЗАЯВКА!#REF!,0)","v":{"$error":"#REF!"}}]
[{"$f":"IF(ЗАЯВКА!#REF!=\"проектирование\",ЗАЯВКА!#REF!,0)","v":{"$error":"#REF!"}},{"$f":"IF(ЗАЯВКА!#REF!=\"строительно-монтажные работы\",ЗАЯВКА!#REF!,0)","v":{"$error":"#REF!"}},{"$f":"IF(ЗАЯВКА!#REF!=\"да\",ЗАЯВКА!#REF!,0)","v":{"$error":"#REF!"}}]
[{"$f":"IF(ЗАЯВКА!#REF!=\"проектирование\",ЗАЯВКА!#REF!,0)","v":{"$error":"#REF!"}},{"$f":"IF(ЗАЯВКА!#REF!=\"строительно-монтажные работы\",ЗАЯВКА!#REF!,0)","v":{"$error":"#REF!"}},{"$f":"IF(ЗАЯВКА!#REF!=\"да\",ЗАЯВКА!#REF!,0)","v":{"$error":"#REF!"}}]
[{"$f":"IF(ЗАЯВКА!#REF!=\"проектирование\",ЗАЯВКА!#REF!,0)","v":{"$error":"#REF!"}},{"$f":"IF(ЗАЯВКА!#REF!=\"строительно-монтажные работы\",ЗАЯВКА!#REF!,0)","v":{"$error":"#REF!"}},{"$f":"IF(ЗАЯВКА!#REF!=\"да\",ЗАЯВКА!#REF!,0)","v":{"$error":"#REF!"}}]
[{"$f":"IF(ЗАЯВКА!#REF!=\"проектирование\",ЗАЯВКА!#REF!,0)","v":{"$error":"#REF!"}},{"$f":"IF(ЗАЯВКА!#REF!=\"строительно-монтажные работы\",ЗАЯВКА!#REF!,0)","v":{"$error":"#REF!"}},{"$f":"IF(ЗАЯВКА!#REF!=\"да\",ЗАЯВКА!#REF!,0)","v":{"$error":"#REF!"}}]
[{"$f":"IF(ЗАЯВКА!#REF!=\"проектирование\",ЗАЯВКА!#REF!,0)","v":{"$error":"#REF!"}},{"$f":"IF(ЗАЯВКА!#REF!=\"строительно-монтажные работы\",ЗАЯВКА!#REF!,0)","v":{"$error":"#REF!"}},{"$f":"IF(ЗАЯВКА!#REF!=\"да\",ЗАЯВКА!#REF!,0)","v":{"$error":"#REF!"}}]
[{"$f":"IF(ЗАЯВКА!#REF!=\"проектирование\",ЗАЯВКА!#REF!,0)","v":{"$error":"#REF!"}},{"$f":"IF(ЗАЯВКА!#REF!=\"строительно-монтажные работы\",ЗАЯВКА!#REF!,0)","v":{"$error":"#REF!"}},{"$f":"IF(ЗАЯВКА!#REF!=\"да\",ЗАЯВКА!#REF!,0)","v":{"$error":"#REF!"}}]
[{"$f":"IF(ЗАЯВКА!#REF!=\"проектирование\",ЗАЯВКА!#REF!,0)","v":{"$error":"#REF!"}},{"$f":"IF(ЗАЯВКА!#REF!=\"строительно-монтажные работы\",ЗАЯВКА!#REF!,0)","v":{"$error":"#REF!"}},{"$f":"IF(ЗАЯВКА!#REF!=\"да\",ЗАЯВКА!#REF!,0)","v":{"$error":"#REF!"}}]
[{"$f":"IF(ЗАЯВКА!#REF!=\"проектирование\",ЗАЯВКА!#REF!,0)","v":{"$error":"#REF!"}},{"$f":"IF(ЗАЯВКА!#REF!=\"строительно-монтажные работы\",ЗАЯВКА!#REF!,0)","v":{"$error":"#REF!"}},{"$f":"IF(ЗАЯВКА!#REF!=\"да\",ЗАЯВКА!#REF!,0)","v":{"$error":"#REF!"}}]
[{"$f":"IF(ЗАЯВКА!#REF!=\"проектирование\",ЗАЯВКА!#REF!,0)","v":{"$error":"#REF!"}},{"$f":"IF(ЗАЯВКА!#REF!=\"строительно-монтажные работы\",ЗАЯВКА!#REF!,0)","v":{"$error":"#REF!"}},{"$f":"IF(ЗАЯВКА!#REF!=\"да\",ЗАЯВКА!#REF!,0)","v":{"$error":"#REF!"}}]
[{"$f":"IF(ЗАЯВКА!#REF!=\"проектирование\",ЗАЯВКА!#REF!,0)","v":{"$error":"#REF!"}},{"$f":"IF(ЗАЯВКА!#REF!=\"строительно-монтажные работы\",ЗАЯВКА!#REF!,0)","v":{"$error":"#REF!"}},{"$f":"IF(ЗАЯВКА!#REF!=\"да\",ЗАЯВКА!#REF!,0)","v":{"$error":"#REF!"}}]
[{"$f":"IF(ЗАЯВКА!#REF!=\"проектирование\",ЗАЯВКА!#REF!,0)","v":{"$error":"#REF!"}},{"$f":"IF(ЗАЯВКА!#REF!=\"строительно-монтажные работы\",ЗАЯВКА!#REF!,0)","v":{"$error":"#REF!"}},{"$f":"IF(ЗАЯВКА!#REF!=\"да\",ЗАЯВКА!#REF!,0)","v":{"$error":"#REF!"}}]
[{"$f":"IF(ЗАЯВКА!#REF!=\"проектирование\",ЗАЯВКА!#REF!,0)","v":{"$error":"#REF!"}},{"$f":"IF(ЗАЯВКА!#REF!=\"строительно-монтажные работы\",ЗАЯВКА!#REF!,0)","v":{"$error":"#REF!"}},{"$f":"IF(ЗАЯВКА!#REF!=\"да\",ЗАЯВКА!#REF!,0)","v":{"$error":"#REF!"}}]
[{"$f":"IF(ЗАЯВКА!#REF!=\"проектирование\",ЗАЯВКА!#REF!,0)","v":{"$error":"#REF!"}},{"$f":"IF(ЗАЯВКА!#REF!=\"строительно-монтажные работы\",ЗАЯВКА!#REF!,0)","v":{"$error":"#REF!"}},{"$f":"IF(ЗАЯВКА!#REF!=\"да\",ЗАЯВКА!#REF!,0)","v":{"$error":"#REF!"}}]
[{"$f":"IF(ЗАЯВКА!#REF!=\"проектирование\",ЗАЯВКА!#REF!,0)","v":{"$error":"#REF!"}},{"$f":"IF(ЗАЯВКА!#REF!=\"строительно-монтажные работы\",ЗАЯВКА!#REF!,0)","v":{"$error":"#REF!"}},{"$f":"IF(ЗАЯВКА!#REF!=\"да\",ЗАЯВКА!#REF!,0)","v":{"$error":"#REF!"}}]
[{"$f":"IF(ЗАЯВКА!#REF!=\"проектирование\",ЗАЯВКА!#REF!,0)","v":{"$error":"#REF!"}},{"$f":"IF(ЗАЯВКА!#REF!=\"строительно-монтажные работы\",ЗАЯВКА!#REF!,0)","v":{"$error":"#REF!"}},{"$f":"IF(ЗАЯВКА!#REF!=\"да\",ЗАЯВКА!#REF!,0)","v":{"$error":"#REF!"}}]
[{"$f":"IF(ЗАЯВКА!#REF!=\"проектирование\",ЗАЯВКА!#REF!,0)","v":{"$error":"#REF!"}},{"$f":"IF(ЗАЯВКА!#REF!=\"строительно-монтажные работы\",ЗАЯВКА!#REF!,0)","v":{"$error":"#REF!"}},{"$f":"IF(ЗАЯВКА!#REF!=\"да\",ЗАЯВКА!#REF!,0)","v":{"$error":"#REF!"}}]
[{"$f":"IF(ЗАЯВКА!#REF!=\"проектирование\",ЗАЯВКА!#REF!,0)","v":{"$error":"#REF!"}},{"$f":"IF(ЗАЯВКА!#REF!=\"строительно-монтажные работы\",ЗАЯВКА!#REF!,0)","v":{"$error":"#REF!"}},{"$f":"IF(ЗАЯВКА!#REF!=\"да\",ЗАЯВКА!#REF!,0)","v":{"$error":"#REF!"}}]
[{"$f":"IF(ЗАЯВКА!#REF!=\"проектирование\",ЗАЯВКА!#REF!,0)","v":{"$error":"#REF!"}},{"$f":"IF(ЗАЯВКА!#REF!=\"строительно-монтажные работы\",ЗАЯВКА!#REF!,0)","v":{"$error":"#REF!"}},{"$f":"IF(ЗАЯВКА!#REF!=\"да\",ЗАЯВКА!#REF!,0)","v":{"$error":"#REF!"}}]
[{"$f":"IF(ЗАЯВКА!#REF!=\"проектирование\",ЗАЯВКА!#REF!,0)","v":{"$error":"#REF!"}},{"$f":"IF(ЗАЯВКА!#REF!=\"строительно-монтажные работы\",ЗАЯВКА!#REF!,0)","v":{"$error":"#REF!"}},{"$f":"IF(ЗАЯВКА!#REF!=\"да\",ЗАЯВКА!#REF!,0)","v":{"$error":"#REF!"}}]
[{"$f":"IF(ЗАЯВКА!#REF!=\"проектирование\",ЗАЯВКА!#REF!,0)","v":{"$error":"#REF!"}},{"$f":"IF(ЗАЯВКА!#REF!=\"строительно-монтажные работы\",ЗАЯВКА!#REF!,0)","v":{"$error":"#REF!"}},{"$f":"IF(ЗАЯВКА!#REF!=\"да\",ЗАЯВКА!#REF!,0)","v":{"$error":"#REF!"}}]
[{"$f":"IF(ЗАЯВКА!#REF!=\"проектирование\",ЗАЯВКА!#REF!,0)","v":{"$error":"#REF!"}},{"$f":"IF(ЗАЯВКА!#REF!=\"строительно-монтажные работы\",ЗАЯВКА!#REF!,0)","v":{"$error":"#REF!"}},{"$f":"IF(ЗАЯВКА!#REF!=\"да\",ЗАЯВКА!#REF!,0)","v":{"$error":"#REF!"}}]
[{"$f":"IF(ЗАЯВКА!#REF!=\"проектирование\",ЗАЯВКА!#REF!,0)","v":{"$error":"#REF!"}},{"$f":"IF(ЗАЯВКА!#REF!=\"строительно-монтажные работы\",ЗАЯВКА!#REF!,0)","v":{"$error":"#REF!"}},{"$f":"IF(ЗАЯВКА!#REF!=\"да\",ЗАЯВКА!#REF!,0)","v":{"$error":"#REF!"}}]
[{"$f":"IF(ЗАЯВКА!#REF!=\"проектирование\",ЗАЯВКА!#REF!,0)","v":{"$error":"#REF!"}},{"$f":"IF(ЗАЯВКА!#REF!=\"строительно-монтажные работы\",ЗАЯВКА!#REF!,0)","v":{"$error":"#REF!"}},{"$f":"IF(ЗАЯВКА!#REF!=\"да\",ЗАЯВКА!#REF!,0)","v":{"$error":"#REF!"}}]
[{"$f":"IF(ЗАЯВКА!#REF!=\"проектирование\",ЗАЯВКА!#REF!,0)","v":{"$error":"#REF!"}},{"$f":"IF(ЗАЯВКА!#REF!=\"строительно-монтажные работы\",ЗАЯВКА!#REF!,0)","v":{"$error":"#REF!"}},{"$f":"IF(ЗАЯВКА!#REF!=\"да\",ЗАЯВКА!#REF!,0)","v":{"$error":"#REF!"}}]
[{"$f":"IF(ЗАЯВКА!#REF!=\"проектирование\",ЗАЯВКА!#REF!,0)","v":{"$error":"#REF!"}},{"$f":"IF(ЗАЯВКА!#REF!=\"строительно-монтажные работы\",ЗАЯВКА!#REF!,0)","v":{"$error":"#REF!"}},{"$f":"IF(ЗАЯВКА!#REF!=\"да\",ЗАЯВКА!#REF!,0)","v":{"$error":"#REF!"}}]
[{"$f":"IF(ЗАЯВКА!#REF!=\"проектирование\",ЗАЯВКА!#REF!,0)","v":{"$error":"#REF!"}},{"$f":"IF(ЗАЯВКА!#REF!=\"строительно-монтажные работы\",ЗАЯВКА!#REF!,0)","v":{"$error":"#REF!"}},{"$f":"IF(ЗАЯВКА!#REF!=\"да\",ЗАЯВКА!#REF!,0)","v":{"$error":"#REF!"}}]
[{"$f":"IF(ЗАЯВКА!#REF!=\"проектирование\",ЗАЯВКА!#REF!,0)","v":{"$error":"#REF!"}},{"$f":"IF(ЗАЯВКА!#REF!=\"строительно-монтажные работы\",ЗАЯВКА!#REF!,0)","v":{"$error":"#REF!"}},{"$f":"IF(ЗАЯВКА!#REF!=\"да\",ЗАЯВКА!#REF!,0)","v":{"$error":"#REF!"}}]
[{"$f":"IF(ЗАЯВКА!#REF!=\"проектирование\",ЗАЯВКА!#REF!,0)","v":{"$error":"#REF!"}},{"$f":"IF(ЗАЯВКА!#REF!=\"строительно-монтажные работы\",ЗАЯВКА!#REF!,0)","v":{"$error":"#REF!"}},{"$f":"IF(ЗАЯВКА!#REF!=\"да\",ЗАЯВКА!#REF!,0)","v":{"$error":"#REF!"}}]
[{"$f":"IF(ЗАЯВКА!#REF!=\"проектирование\",ЗАЯВКА!#REF!,0)","v":{"$error":"#REF!"}},{"$f":"IF(ЗАЯВКА!#REF!=\"строительно-монтажные работы\",ЗАЯВКА!#REF!,0)","v":{"$error":"#REF!"}},{"$f":"IF(ЗАЯВКА!#REF!=\"да\",ЗАЯВКА!#REF!,0)","v":{"$error":"#REF!"}}]
[{"$f":"IF(ЗАЯВКА!#REF!=\"проектирование\",ЗАЯВКА!#REF!,0)","v":{"$error":"#REF!"}},{"$f":"IF(ЗАЯВКА!#REF!=\"строительно-монтажные работы\",ЗАЯВКА!#REF!,0)","v":{"$error":"#REF!"}},{"$f":"IF(ЗАЯВКА!#REF!=\"да\",ЗАЯВКА!#REF!,0)","v":{"$error":"#REF!"}}]
[{"$f":"IF(ЗАЯВКА!#REF!=\"проектирование\",ЗАЯВКА!#REF!,0)","v":{"$error":"#REF!"}},{"$f":"IF(ЗАЯВКА!#REF!=\"строительно-монтажные работы\",ЗАЯВКА!#REF!,0)","v":{"$error":"#REF!"}},{"$f":"IF(ЗАЯВКА!#REF!=\"да\",ЗАЯВКА!#REF!,0)","v":{"$error":"#REF!"}}]
[{"$f":"IF(ЗАЯВКА!#REF!=\"проектирование\",ЗАЯВКА!#REF!,0)","v":{"$error":"#REF!"}},{"$f":"IF(ЗАЯВКА!#REF!=\"строительно-монтажные работы\",ЗАЯВКА!#REF!,0)","v":{"$error":"#REF!"}},{"$f":"IF(ЗАЯВКА!#REF!=\"да\",ЗАЯВКА!#REF!,0)","v":{"$error":"#REF!"}}]
[{"$f":"IF(ЗАЯВКА!#REF!=\"проектирование\",ЗАЯВКА!#REF!,0)","v":{"$error":"#REF!"}},{"$f":"IF(ЗАЯВКА!#REF!=\"строительно-монтажные работы\",ЗАЯВКА!#REF!,0)","v":{"$error":"#REF!"}},{"$f":"IF(ЗАЯВКА!#REF!=\"да\",ЗАЯВКА!#REF!,0)","v":{"$error":"#REF!"}}]
[{"$f":"IF(ЗАЯВКА!#REF!=\"проектирование\",ЗАЯВКА!#REF!,0)","v":{"$error":"#REF!"}},{"$f":"IF(ЗАЯВКА!#REF!=\"строительно-монтажные работы\",ЗАЯВКА!#REF!,0)","v":{"$error":"#REF!"}},{"$f":"IF(ЗАЯВКА!#REF!=\"да\",ЗАЯВКА!#REF!,0)","v":{"$error":"#REF!"}}]
[{"$f":"IF(ЗАЯВКА!#REF!=\"проектирование\",ЗАЯВКА!#REF!,0)","v":{"$error":"#REF!"}},{"$f":"IF(ЗАЯВКА!#REF!=\"строительно-монтажные работы\",ЗАЯВКА!#REF!,0)","v":{"$error":"#REF!"}},{"$f":"IF(ЗАЯВКА!#REF!=\"да\",ЗАЯВКА!#REF!,0)","v":{"$error":"#REF!"}}]
[{"$f":"IF(ЗАЯВКА!#REF!=\"проектирование\",ЗАЯВКА!#REF!,0)","v":{"$error":"#REF!"}},{"$f":"IF(ЗАЯВКА!#REF!=\"строительно-монтажные работы\",ЗАЯВКА!#REF!,0)","v":{"$error":"#REF!"}},{"$f":"IF(ЗАЯВКА!#REF!=\"да\",ЗАЯВКА!#REF!,0)","v":{"$error":"#REF!"}}]
[{"$f":"IF(ЗАЯВКА!#REF!=\"проектирование\",ЗАЯВКА!#REF!,0)","v":{"$error":"#REF!"}},{"$f":"IF(ЗАЯВКА!#REF!=\"строительно-монтажные работы\",ЗАЯВКА!#REF!,0)","v":{"$error":"#REF!"}},{"$f":"IF(ЗАЯВКА!#REF!=\"да\",ЗАЯВКА!#REF!,0)","v":{"$error":"#REF!"}}]
[{"$f":"IF(ЗАЯВКА!#REF!=\"проектирование\",ЗАЯВКА!#REF!,0)","v":{"$error":"#REF!"}},{"$f":"IF(ЗАЯВКА!#REF!=\"строительно-монтажные работы\",ЗАЯВКА!#REF!,0)","v":{"$error":"#REF!"}},{"$f":"IF(ЗАЯВКА!#REF!=\"да\",ЗАЯВКА!#REF!,0)","v":{"$error":"#REF!"}}]
[{"$f":"IF(ЗАЯВКА!#REF!=\"проектирование\",ЗАЯВКА!#REF!,0)","v":{"$error":"#REF!"}},{"$f":"IF(ЗАЯВКА!#REF!=\"строительно-монтажные работы\",ЗАЯВКА!#REF!,0)","v":{"$error":"#REF!"}},{"$f":"IF(ЗАЯВКА!#REF!=\"да\",ЗАЯВКА!#REF!,0)","v":{"$error":"#REF!"}}]
[{"$f":"IF(ЗАЯВКА!#REF!=\"проектирование\",ЗАЯВКА!#REF!,0)","v":{"$error":"#REF!"}},{"$f":"IF(ЗАЯВКА!#REF!=\"строительно-монтажные работы\",ЗАЯВКА!#REF!,0)","v":{"$error":"#REF!"}},{"$f":"IF(ЗАЯВКА!#REF!=\"да\",ЗАЯВКА!#REF!,0)","v":{"$error":"#REF!"}}]
[{"$f":"IF(ЗАЯВКА!#REF!=\"проектирование\",ЗАЯВКА!#REF!,0)","v":{"$error":"#REF!"}},{"$f":"IF(ЗАЯВКА!#REF!=\"строительно-монтажные работы\",ЗАЯВКА!#REF!,0)","v":{"$error":"#REF!"}},{"$f":"IF(ЗАЯВКА!#REF!=\"да\",ЗАЯВКА!#REF!,0)","v":{"$error":"#REF!"}}]
[{"$f":"IF(ЗАЯВКА!#REF!=\"проектирование\",ЗАЯВКА!#REF!,0)","v":{"$error":"#REF!"}},{"$f":"IF(ЗАЯВКА!#REF!=\"строительно-монтажные работы\",ЗАЯВКА!#REF!,0)","v":{"$error":"#REF!"}},{"$f":"IF(ЗАЯВКА!#REF!=\"да\",ЗАЯВКА!#REF!,0)","v":{"$error":"#REF!"}}]
[{"$f":"IF(ЗАЯВКА!#REF!=\"проектирование\",ЗАЯВКА!#REF!,0)","v":{"$error":"#REF!"}},{"$f":"IF(ЗАЯВКА!#REF!=\"строительно-монтажные работы\",ЗАЯВКА!#REF!,0)","v":{"$error":"#REF!"}},{"$f":"IF(ЗАЯВКА!#REF!=\"да\",ЗАЯВКА!#REF!,0)","v":{"$error":"#REF!"}}]
[{"$f":"IF(ЗАЯВКА!#REF!=\"проектирование\",ЗАЯВКА!#REF!,0)","v":{"$error":"#REF!"}},{"$f":"IF(ЗАЯВКА!#REF!=\"строительно-монтажные работы\",ЗАЯВКА!#REF!,0)","v":{"$error":"#REF!"}},{"$f":"IF(ЗАЯВКА!#REF!=\"да\",ЗАЯВКА!#REF!,0)","v":{"$error":"#REF!"}}]
[{"$f":"IF(ЗАЯВКА!#REF!=\"проектирование\",ЗАЯВКА!#REF!,0)","v":{"$error":"#REF!"}},{"$f":"IF(ЗАЯВКА!#REF!=\"строительно-монтажные работы\",ЗАЯВКА!#REF!,0)","v":{"$error":"#REF!"}},{"$f":"IF(ЗАЯВКА!#REF!=\"да\",ЗАЯВКА!#REF!,0)","v":{"$error":"#REF!"}}]
[{"$f":"IF(ЗАЯВКА!#REF!=\"проектирование\",ЗАЯВКА!#REF!,0)","v":{"$error":"#REF!"}},{"$f":"IF(ЗАЯВКА!#REF!=\"строительно-монтажные работы\",ЗАЯВКА!#REF!,0)","v":{"$error":"#REF!"}},{"$f":"IF(ЗАЯВКА!#REF!=\"да\",ЗАЯВКА!#REF!,0)","v":{"$error":"#REF!"}}]
[{"$f":"IF(ЗАЯВКА!#REF!=\"проектирование\",ЗАЯВКА!#REF!,0)","v":{"$error":"#REF!"}},{"$f":"IF(ЗАЯВКА!#REF!=\"строительно-монтажные работы\",ЗАЯВКА!#REF!,0)","v":{"$error":"#REF!"}},{"$f":"IF(ЗАЯВКА!#REF!=\"да\",ЗАЯВКА!#REF!,0)","v":{"$error":"#REF!"}}]
[{"$f":"IF(ЗАЯВКА!#REF!=\"проектирование\",ЗАЯВКА!#REF!,0)","v":{"$error":"#REF!"}},{"$f":"IF(ЗАЯВКА!#REF!=\"строительно-монтажные работы\",ЗАЯВКА!#REF!,0)","v":{"$error":"#REF!"}},{"$f":"IF(ЗАЯВКА!#REF!=\"да\",ЗАЯВКА!#REF!,0)","v":{"$error":"#REF!"}}]
[{"$f":"IF(ЗАЯВКА!#REF!=\"проектирование\",ЗАЯВКА!#REF!,0)","v":{"$error":"#REF!"}},{"$f":"IF(ЗАЯВКА!#REF!=\"строительно-монтажные работы\",ЗАЯВКА!#REF!,0)","v":{"$error":"#REF!"}},{"$f":"IF(ЗАЯВКА!#REF!=\"да\",ЗАЯВКА!#REF!,0)","v":{"$error":"#REF!"}}]
[{"$f":"IF(ЗАЯВКА!#REF!=\"проектирование\",ЗАЯВКА!#REF!,0)","v":{"$error":"#REF!"}},{"$f":"IF(ЗАЯВКА!#REF!=\"строительно-монтажные работы\",ЗАЯВКА!#REF!,0)","v":{"$error":"#REF!"}},{"$f":"IF(ЗАЯВКА!#REF!=\"да\",ЗАЯВКА!#REF!,0)","v":{"$error":"#REF!"}}]
[{"$f":"IF(ЗАЯВКА!#REF!=\"проектирование\",ЗАЯВКА!#REF!,0)","v":{"$error":"#REF!"}},{"$f":"IF(ЗАЯВКА!#REF!=\"строительно-монтажные работы\",ЗАЯВКА!#REF!,0)","v":{"$error":"#REF!"}},{"$f":"IF(ЗАЯВКА!#REF!=\"да\",ЗАЯВКА!#REF!,0)","v":{"$error":"#REF!"}}]
[{"$f":"IF(ЗАЯВКА!#REF!=\"проектирование\",ЗАЯВКА!#REF!,0)","v":{"$error":"#REF!"}},{"$f":"IF(ЗАЯВКА!#REF!=\"строительно-монтажные работы\",ЗАЯВКА!#REF!,0)","v":{"$error":"#REF!"}},{"$f":"IF(ЗАЯВКА!#REF!=\"да\",ЗАЯВКА!#REF!,0)","v":{"$error":"#REF!"}}]
[{"$f":"IF(ЗАЯВКА!#REF!=\"проектирование\",ЗАЯВКА!#REF!,0)","v":{"$error":"#REF!"}},{"$f":"IF(ЗАЯВКА!#REF!=\"строительно-монтажные работы\",ЗАЯВКА!#REF!,0)","v":{"$error":"#REF!"}},{"$f":"IF(ЗАЯВКА!#REF!=\"да\",ЗАЯВКА!#REF!,0)","v":{"$error":"#REF!"}}]
[{"$f":"IF(ЗАЯВКА!#REF!=\"проектирование\",ЗАЯВКА!#REF!,0)","v":{"$error":"#REF!"}},{"$f":"IF(ЗАЯВКА!#REF!=\"строительно-монтажные работы\",ЗАЯВКА!#REF!,0)","v":{"$error":"#REF!"}},{"$f":"IF(ЗАЯВКА!#REF!=\"да\",ЗАЯВКА!#REF!,0)","v":{"$error":"#REF!"}}]
[{"$f":"IF(ЗАЯВКА!#REF!=\"проектирование\",ЗАЯВКА!#REF!,0)","v":{"$error":"#REF!"}},{"$f":"IF(ЗАЯВКА!#REF!=\"строительно-монтажные работы\",ЗАЯВКА!#REF!,0)","v":{"$error":"#REF!"}},{"$f":"IF(ЗАЯВКА!#REF!=\"да\",ЗАЯВКА!#REF!,0)","v":{"$error":"#REF!"}}]
[{"$f":"IF(ЗАЯВКА!#REF!=\"проектирование\",ЗАЯВКА!#REF!,0)","v":{"$error":"#REF!"}},{"$f":"IF(ЗАЯВКА!#REF!=\"строительно-монтажные работы\",ЗАЯВКА!#REF!,0)","v":{"$error":"#REF!"}},{"$f":"IF(ЗАЯВКА!#REF!=\"да\",ЗАЯВКА!#REF!,0)","v":{"$error":"#REF!"}}]
[{"$f":"IF(ЗАЯВКА!#REF!=\"проектирование\",ЗАЯВКА!#REF!,0)","v":{"$error":"#REF!"}},{"$f":"IF(ЗАЯВКА!#REF!=\"строительно-монтажные работы\",ЗАЯВКА!#REF!,0)","v":{"$error":"#REF!"}},{"$f":"IF(ЗАЯВКА!#REF!=\"да\",ЗАЯВКА!#REF!,0)","v":{"$error":"#REF!"}}]
[{"$f":"IF(ЗАЯВКА!#REF!=\"проектирование\",ЗАЯВКА!#REF!,0)","v":{"$error":"#REF!"}},{"$f":"IF(ЗАЯВКА!#REF!=\"строительно-монтажные работы\",ЗАЯВКА!#REF!,0)","v":{"$error":"#REF!"}},{"$f":"IF(ЗАЯВКА!#REF!=\"да\",ЗАЯВКА!#REF!,0)","v":{"$error":"#REF!"}}]
[{"$f":"IF(ЗАЯВКА!#REF!=\"проектирование\",ЗАЯВКА!#REF!,0)","v":{"$error":"#REF!"}},{"$f":"IF(ЗАЯВКА!#REF!=\"строительно-монтажные работы\",ЗАЯВКА!#REF!,0)","v":{"$error":"#REF!"}},{"$f":"IF(ЗАЯВКА!#REF!=\"да\",ЗАЯВКА!#REF!,0)","v":{"$error":"#REF!"}}]
[{"$f":"IF(ЗАЯВКА!#REF!=\"проектирование\",ЗАЯВКА!#REF!,0)","v":{"$error":"#REF!"}},{"$f":"IF(ЗАЯВКА!#REF!=\"строительно-монтажные работы\",ЗАЯВКА!#REF!,0)","v":{"$error":"#REF!"}},{"$f":"IF(ЗАЯВКА!#REF!=\"да\",ЗАЯВКА!#REF!,0)","v":{"$error":"#REF!"}}]
[{"$f":"IF(ЗАЯВКА!#REF!=\"проектирование\",ЗАЯВКА!#REF!,0)","v":{"$error":"#REF!"}},{"$f":"IF(ЗАЯВКА!#REF!=\"строительно-монтажные работы\",ЗАЯВКА!#REF!,0)","v":{"$error":"#REF!"}},{"$f":"IF(ЗАЯВКА!#REF!=\"да\",ЗАЯВКА!#REF!,0)","v":{"$error":"#REF!"}}]
[{"$f":"IF(ЗАЯВКА!#REF!=\"проектирование\",ЗАЯВКА!#REF!,0)","v":{"$error":"#REF!"}},{"$f":"IF(ЗАЯВКА!#REF!=\"строительно-монтажные работы\",ЗАЯВКА!#REF!,0)","v":{"$error":"#REF!"}},{"$f":"IF(ЗАЯВКА!#REF!=\"да\",ЗАЯВКА!#REF!,0)","v":{"$error":"#REF!"}}]
[{"$f":"IF(ЗАЯВКА!#REF!=\"проектирование\",ЗАЯВКА!#REF!,0)","v":{"$error":"#REF!"}},{"$f":"IF(ЗАЯВКА!#REF!=\"строительно-монтажные работы\",ЗАЯВКА!#REF!,0)","v":{"$error":"#REF!"}},{"$f":"IF(ЗАЯВКА!#REF!=\"да\",ЗАЯВКА!#REF!,0)","v":{"$error":"#REF!"}}]
[{"$f":"IF(ЗАЯВКА!#REF!=\"проектирование\",ЗАЯВКА!#REF!,0)","v":{"$error":"#REF!"}},{"$f":"IF(ЗАЯВКА!#REF!=\"строительно-монтажные работы\",ЗАЯВКА!#REF!,0)","v":{"$error":"#REF!"}},{"$f":"IF(ЗАЯВКА!#REF!=\"да\",ЗАЯВКА!#REF!,0)","v":{"$error":"#REF!"}}]
[{"$f":"IF(ЗАЯВКА!#REF!=\"проектирование\",ЗАЯВКА!#REF!,0)","v":{"$error":"#REF!"}},{"$f":"IF(ЗАЯВКА!#REF!=\"строительно-монтажные работы\",ЗАЯВКА!#REF!,0)","v":{"$error":"#REF!"}},{"$f":"IF(ЗАЯВКА!#REF!=\"да\",ЗАЯВКА!#REF!,0)","v":{"$error":"#REF!"}}]
[{"$f":"IF(ЗАЯВКА!#REF!=\"проектирование\",ЗАЯВКА!#REF!,0)","v":{"$error":"#REF!"}},{"$f":"IF(ЗАЯВКА!#REF!=\"строительно-монтажные работы\",ЗАЯВКА!#REF!,0)","v":{"$error":"#REF!"}},{"$f":"IF(ЗАЯВКА!#REF!=\"да\",ЗАЯВКА!#REF!,0)","v":{"$error":"#REF!"}}]
[{"$f":"IF(ЗАЯВКА!#REF!=\"проектирование\",ЗАЯВКА!#REF!,0)","v":{"$error":"#REF!"}},{"$f":"IF(ЗАЯВКА!#REF!=\"строительно-монтажные работы\",ЗАЯВКА!#REF!,0)","v":{"$error":"#REF!"}},{"$f":"IF(ЗАЯВКА!#REF!=\"да\",ЗАЯВКА!#REF!,0)","v":{"$error":"#REF!"}}]
[{"$f":"IF(ЗАЯВКА!#REF!=\"проектирование\",ЗАЯВКА!#REF!,0)","v":{"$error":"#REF!"}},{"$f":"IF(ЗАЯВКА!#REF!=\"строительно-монтажные работы\",ЗАЯВКА!#REF!,0)","v":{"$error":"#REF!"}},{"$f":"IF(ЗАЯВКА!#REF!=\"да\",ЗАЯВКА!#REF!,0)","v":{"$error":"#REF!"}}]
[{"$f":"IF(ЗАЯВКА!#REF!=\"проектирование\",ЗАЯВКА!#REF!,0)","v":{"$error":"#REF!"}},{"$f":"IF(ЗАЯВКА!#REF!=\"строительно-монтажные работы\",ЗАЯВКА!#REF!,0)","v":{"$error":"#REF!"}},{"$f":"IF(ЗАЯВКА!#REF!=\"да\",ЗАЯВКА!#REF!,0)","v":{"$error":"#REF!"}}]
[{"$f":"IF(ЗАЯВКА!#REF!=\"проектирование\",ЗАЯВКА!#REF!,0)","v":{"$error":"#REF!"}},{"$f":"IF(ЗАЯВКА!#REF!=\"строительно-монтажные работы\",ЗАЯВКА!#REF!,0)","v":{"$error":"#REF!"}},{"$f":"IF(ЗАЯВКА!#REF!=\"да\",ЗАЯВКА!#REF!,0)","v":{"$error":"#REF!"}}]
[{"$f":"IF(ЗАЯВКА!#REF!=\"проектирование\",ЗАЯВКА!#REF!,0)","v":{"$error":"#REF!"}},{"$f":"IF(ЗАЯВКА!#REF!=\"строительно-монтажные работы\",ЗАЯВКА!#REF!,0)","v":{"$error":"#REF!"}},{"$f":"IF(ЗАЯВКА!#REF!=\"да\",ЗАЯВКА!#REF!,0)","v":{"$error":"#REF!"}}]
[{"$f":"IF(ЗАЯВКА!#REF!=\"проектирование\",ЗАЯВКА!#REF!,0)","v":{"$error":"#REF!"}},{"$f":"IF(ЗАЯВКА!#REF!=\"строительно-монтажные работы\",ЗАЯВКА!#REF!,0)","v":{"$error":"#REF!"}},{"$f":"IF(ЗАЯВКА!#REF!=\"да\",ЗАЯВКА!#REF!,0)","v":{"$error":"#REF!"}}]
[{"$f":"IF(ЗАЯВКА!#REF!=\"проектирование\",ЗАЯВКА!#REF!,0)","v":{"$error":"#REF!"}},{"$f":"IF(ЗАЯВКА!#REF!=\"строительно-монтажные работы\",ЗАЯВКА!#REF!,0)","v":{"$error":"#REF!"}},{"$f":"IF(ЗАЯВКА!#REF!=\"да\",ЗАЯВКА!#REF!,0)","v":{"$error":"#REF!"}}]
[{"$f":"IF(ЗАЯВКА!#REF!=\"проектирование\",ЗАЯВКА!#REF!,0)","v":{"$error":"#REF!"}},{"$f":"IF(ЗАЯВКА!#REF!=\"строительно-монтажные работы\",ЗАЯВКА!#REF!,0)","v":{"$error":"#REF!"}},{"$f":"IF(ЗАЯВКА!#REF!=\"да\",ЗАЯВКА!#REF!,0)","v":{"$error":"#REF!"}}]
[{"$f":"IF(ЗАЯВКА!#REF!=\"проектирование\",ЗАЯВКА!#REF!,0)","v":{"$error":"#REF!"}},{"$f":"IF(ЗАЯВКА!#REF!=\"строительно-монтажные работы\",ЗАЯВКА!#REF!,0)","v":{"$error":"#REF!"}},{"$f":"IF(ЗАЯВКА!#REF!=\"да\",ЗАЯВКА!#REF!,0)","v":{"$error":"#REF!"}}]
[{"$f":"IF(ЗАЯВКА!#REF!=\"проектирование\",ЗАЯВКА!#REF!,0)","v":{"$error":"#REF!"}},{"$f":"IF(ЗАЯВКА!#REF!=\"строительно-монтажные работы\",ЗАЯВКА!#REF!,0)","v":{"$error":"#REF!"}},{"$f":"IF(ЗАЯВКА!#REF!=\"да\",ЗАЯВКА!#REF!,0)","v":{"$error":"#REF!"}}]
[{"$f":"IF(ЗАЯВКА!#REF!=\"проектирование\",ЗАЯВКА!#REF!,0)","v":{"$error":"#REF!"}},{"$f":"IF(ЗАЯВКА!#REF!=\"строительно-монтажные работы\",ЗАЯВКА!#REF!,0)","v":{"$error":"#REF!"}},{"$f":"IF(ЗАЯВКА!#REF!=\"да\",ЗАЯВКА!#REF!,0)","v":{"$error":"#REF!"}}]
[{"$f":"IF(ЗАЯВКА!#REF!=\"проектирование\",ЗАЯВКА!#REF!,0)","v":{"$error":"#REF!"}},{"$f":"IF(ЗАЯВКА!#REF!=\"строительно-монтажные работы\",ЗАЯВКА!#REF!,0)","v":{"$error":"#REF!"}},{"$f":"IF(ЗАЯВКА!#REF!=\"да\",ЗАЯВКА!#REF!,0)","v":{"$error":"#REF!"}}]
[{"$f":"IF(ЗАЯВКА!#REF!=\"проектирование\",ЗАЯВКА!#REF!,0)","v":{"$error":"#REF!"}},{"$f":"IF(ЗАЯВКА!#REF!=\"строительно-монтажные работы\",ЗАЯВКА!#REF!,0)","v":{"$error":"#REF!"}},{"$f":"IF(ЗАЯВКА!#REF!=\"да\",ЗАЯВКА!#REF!,0)","v":{"$error":"#REF!"}}]
[{"$f":"IF(ЗАЯВКА!#REF!=\"проектирование\",ЗАЯВКА!#REF!,0)","v":{"$error":"#REF!"}},{"$f":"IF(ЗАЯВКА!#REF!=\"строительно-монтажные работы\",ЗАЯВКА!#REF!,0)","v":{"$error":"#REF!"}},{"$f":"IF(ЗАЯВКА!#REF!=\"да\",ЗАЯВКА!#REF!,0)","v":{"$error":"#REF!"}}]
[{"$f":"IF(ЗАЯВКА!#REF!=\"проектирование\",ЗАЯВКА!#REF!,0)","v":{"$error":"#REF!"}},{"$f":"IF(ЗАЯВКА!#REF!=\"строительно-монтажные работы\",ЗАЯВКА!#REF!,0)","v":{"$error":"#REF!"}},{"$f":"IF(ЗАЯВКА!#REF!=\"да\",ЗАЯВКА!#REF!,0)","v":{"$error":"#REF!"}}]
[{"$f":"IF(ЗАЯВКА!#REF!=\"проектирование\",ЗАЯВКА!#REF!,0)","v":{"$error":"#REF!"}},{"$f":"IF(ЗАЯВКА!#REF!=\"строительно-монтажные работы\",ЗАЯВКА!#REF!,0)","v":{"$error":"#REF!"}},{"$f":"IF(ЗАЯВКА!#REF!=\"да\",ЗАЯВКА!#REF!,0)","v":{"$error":"#REF!"}}]
[{"$f":"IF(ЗАЯВКА!#REF!=\"проектирование\",ЗАЯВКА!#REF!,0)","v":{"$error":"#REF!"}},{"$f":"IF(ЗАЯВКА!#REF!=\"строительно-монтажные работы\",ЗАЯВКА!#REF!,0)","v":{"$error":"#REF!"}},{"$f":"IF(ЗАЯВКА!#REF!=\"да\",ЗАЯВКА!#REF!,0)","v":{"$error":"#REF!"}}]
[{"$f":"IF(ЗАЯВКА!#REF!=\"проектирование\",ЗАЯВКА!#REF!,0)","v":{"$error":"#REF!"}},{"$f":"IF(ЗАЯВКА!#REF!=\"строительно-монтажные работы\",ЗАЯВКА!#REF!,0)","v":{"$error":"#REF!"}},{"$f":"IF(ЗАЯВКА!#REF!=\"да\",ЗАЯВКА!#REF!,0)","v":{"$error":"#REF!"}}]
[{"$f":"IF(ЗАЯВКА!#REF!=\"проектирование\",ЗАЯВКА!#REF!,0)","v":{"$error":"#REF!"}},{"$f":"IF(ЗАЯВКА!#REF!=\"строительно-монтажные работы\",ЗАЯВКА!#REF!,0)","v":{"$error":"#REF!"}},{"$f":"IF(ЗАЯВКА!#REF!=\"да\",ЗАЯВКА!#REF!,0)","v":{"$error":"#REF!"}}]
[{"$f":"IF(ЗАЯВКА!#REF!=\"проектирование\",ЗАЯВКА!#REF!,0)","v":{"$error":"#REF!"}},{"$f":"IF(ЗАЯВКА!#REF!=\"строительно-монтажные работы\",ЗАЯВКА!#REF!,0)","v":{"$error":"#REF!"}},{"$f":"IF(ЗАЯВКА!#REF!=\"да\",ЗАЯВКА!#REF!,0)","v":{"$error":"#REF!"}}]
[{"$f":"IF(ЗАЯВКА!#REF!=\"проектирование\",ЗАЯВКА!#REF!,0)","v":{"$error":"#REF!"}},{"$f":"IF(ЗАЯВКА!#REF!=\"строительно-монтажные работы\",ЗАЯВКА!#REF!,0)","v":{"$error":"#REF!"}},{"$f":"IF(ЗАЯВКА!#REF!=\"да\",ЗАЯВКА!#REF!,0)","v":{"$error":"#REF!"}}]
[{"$f":"IF(ЗАЯВКА!#REF!=\"проектирование\",ЗАЯВКА!#REF!,0)","v":{"$error":"#REF!"}},{"$f":"IF(ЗАЯВКА!#REF!=\"строительно-монтажные работы\",ЗАЯВКА!#REF!,0)","v":{"$error":"#REF!"}},{"$f":"IF(ЗАЯВКА!#REF!=\"да\",ЗАЯВКА!#REF!,0)","v":{"$error":"#REF!"}}]
[{"$f":"IF(ЗАЯВКА!#REF!=\"проектирование\",ЗАЯВКА!#REF!,0)","v":{"$error":"#REF!"}},{"$f":"IF(ЗАЯВКА!#REF!=\"строительно-монтажные работы\",ЗАЯВКА!#REF!,0)","v":{"$error":"#REF!"}},{"$f":"IF(ЗАЯВКА!#REF!=\"да\",ЗАЯВКА!#REF!,0)","v":{"$error":"#REF!"}}]
[{"$f":"IF(ЗАЯВКА!#REF!=\"проектирование\",ЗАЯВКА!#REF!,0)","v":{"$error":"#REF!"}},{"$f":"IF(ЗАЯВКА!#REF!=\"строительно-монтажные работы\",ЗАЯВКА!#REF!,0)","v":{"$error":"#REF!"}},{"$f":"IF(ЗАЯВКА!#REF!=\"да\",ЗАЯВКА!#REF!,0)","v":{"$error":"#REF!"}}]
[{"$f":"IF(ЗАЯВКА!#REF!=\"проектирование\",ЗАЯВКА!#REF!,0)","v":{"$error":"#REF!"}},{"$f":"IF(ЗАЯВКА!#REF!=\"строительно-монтажные работы\",ЗАЯВКА!#REF!,0)","v":{"$error":"#REF!"}},{"$f":"IF(ЗАЯВКА!#REF!=\"да\",ЗАЯВКА!#REF!,0)","v":{"$error":"#REF!"}}]
[{"$f":"IF(ЗАЯВКА!#REF!=\"проектирование\",ЗАЯВКА!#REF!,0)","v":{"$error":"#REF!"}},{"$f":"IF(ЗАЯВКА!#REF!=\"строительно-монтажные работы\",ЗАЯВКА!#REF!,0)","v":{"$error":"#REF!"}},{"$f":"IF(ЗАЯВКА!#REF!=\"да\",ЗАЯВКА!#REF!,0)","v":{"$error":"#REF!"}}]
[{"$f":"IF(ЗАЯВКА!#REF!=\"проектирование\",ЗАЯВКА!#REF!,0)","v":{"$error":"#REF!"}},{"$f":"IF(ЗАЯВКА!#REF!=\"строительно-монтажные работы\",ЗАЯВКА!#REF!,0)","v":{"$error":"#REF!"}},{"$f":"IF(ЗАЯВКА!#REF!=\"да\",ЗАЯВКА!#REF!,0)","v":{"$error":"#REF!"}}]
[{"$f":"IF(ЗАЯВКА!#REF!=\"проектирование\",ЗАЯВКА!#REF!,0)","v":{"$error":"#REF!"}},{"$f":"IF(ЗАЯВКА!#REF!=\"строительно-монтажные работы\",ЗАЯВКА!#REF!,0)","v":{"$error":"#REF!"}},{"$f":"IF(ЗАЯВКА!#REF!=\"да\",ЗАЯВКА!#REF!,0)","v":{"$error":"#REF!"}}]
[{"$f":"IF(ЗАЯВКА!#REF!=\"проектирование\",ЗАЯВКА!#REF!,0)","v":{"$error":"#REF!"}},{"$f":"IF(ЗАЯВКА!#REF!=\"строительно-монтажные работы\",ЗАЯВКА!#REF!,0)","v":{"$error":"#REF!"}},{"$f":"IF(ЗАЯВКА!#REF!=\"да\",ЗАЯВКА!#REF!,0)","v":{"$error":"#REF!"}}]
[{"$f":"IF(ЗАЯВКА!#REF!=\"проектирование\",ЗАЯВКА!#REF!,0)","v":{"$error":"#REF!"}},{"$f":"IF(ЗАЯВКА!#REF!=\"строительно-монтажные работы\",ЗАЯВКА!#REF!,0)","v":{"$error":"#REF!"}},{"$f":"IF(ЗАЯВКА!#REF!=\"да\",ЗАЯВКА!#REF!,0)","v":{"$error":"#REF!"}}]
[{"$f":"IF(ЗАЯВКА!#REF!=\"проектирование\",ЗАЯВКА!#REF!,0)","v":{"$error":"#REF!"}},{"$f":"IF(ЗАЯВКА!#REF!=\"строительно-монтажные работы\",ЗАЯВКА!#REF!,0)","v":{"$error":"#REF!"}},{"$f":"IF(ЗАЯВКА!#REF!=\"да\",ЗАЯВКА!#REF!,0)","v":{"$error":"#REF!"}}]
[{"$f":"IF(ЗАЯВКА!#REF!=\"проектирование\",ЗАЯВКА!#REF!,0)","v":{"$error":"#REF!"}},{"$f":"IF(ЗАЯВКА!#REF!=\"строительно-монтажные работы\",ЗАЯВКА!#REF!,0)","v":{"$error":"#REF!"}},{"$f":"IF(ЗАЯВКА!#REF!=\"да\",ЗАЯВКА!#REF!,0)","v":{"$error":"#REF!"}}]
[{"$f":"IF(ЗАЯВКА!#REF!=\"проектирование\",ЗАЯВКА!#REF!,0)","v":{"$error":"#REF!"}},{"$f":"IF(ЗАЯВКА!#REF!=\"строительно-монтажные работы\",ЗАЯВКА!#REF!,0)","v":{"$error":"#REF!"}},{"$f":"IF(ЗАЯВКА!#REF!=\"да\",ЗАЯВКА!#REF!,0)","v":{"$error":"#REF!"}}]
[{"$f":"IF(ЗАЯВКА!#REF!=\"проектирование\",ЗАЯВКА!#REF!,0)","v":{"$error":"#REF!"}},{"$f":"IF(ЗАЯВКА!#REF!=\"строительно-монтажные работы\",ЗАЯВКА!#REF!,0)","v":{"$error":"#REF!"}},{"$f":"IF(ЗАЯВКА!#REF!=\"да\",ЗАЯВКА!#REF!,0)","v":{"$error":"#REF!"}}]
[{"$f":"IF(ЗАЯВКА!#REF!=\"проектирование\",ЗАЯВКА!#REF!,0)","v":{"$error":"#REF!"}},{"$f":"IF(ЗАЯВКА!#REF!=\"строительно-монтажные работы\",ЗАЯВКА!#REF!,0)","v":{"$error":"#REF!"}},{"$f":"IF(ЗАЯВКА!#REF!=\"да\",ЗАЯВКА!#REF!,0)","v":{"$error":"#REF!"}}]
[{"$f":"IF(ЗАЯВКА!#REF!=\"проектирование\",ЗАЯВКА!#REF!,0)","v":{"$error":"#REF!"}},{"$f":"IF(ЗАЯВКА!#REF!=\"строительно-монтажные работы\",ЗАЯВКА!#REF!,0)","v":{"$error":"#REF!"}},{"$f":"IF(ЗАЯВКА!#REF!=\"да\",ЗАЯВКА!#REF!,0)","v":{"$error":"#REF!"}}]
[{"$f":"IF(ЗАЯВКА!#REF!=\"проектирование\",ЗАЯВКА!#REF!,0)","v":{"$error":"#REF!"}},{"$f":"IF(ЗАЯВКА!#REF!=\"строительно-монтажные работы\",ЗАЯВКА!#REF!,0)","v":{"$error":"#REF!"}},{"$f":"IF(ЗАЯВКА!#REF!=\"да\",ЗАЯВКА!#REF!,0)","v":{"$error":"#REF!"}}]
[{"$f":"IF(ЗАЯВКА!#REF!=\"проектирование\",ЗАЯВКА!#REF!,0)","v":{"$error":"#REF!"}},{"$f":"IF(ЗАЯВКА!#REF!=\"строительно-монтажные работы\",ЗАЯВКА!#REF!,0)","v":{"$error":"#REF!"}},{"$f":"IF(ЗАЯВКА!#REF!=\"да\",ЗАЯВКА!#REF!,0)","v":{"$error":"#REF!"}}]
[{"$f":"IF(ЗАЯВКА!#REF!=\"проектирование\",ЗАЯВКА!#REF!,0)","v":{"$error":"#REF!"}},{"$f":"IF(ЗАЯВКА!#REF!=\"строительно-монтажные работы\",ЗАЯВКА!#REF!,0)","v":{"$error":"#REF!"}},{"$f":"IF(ЗАЯВКА!#REF!=\"да\",ЗАЯВКА!#REF!,0)","v":{"$error":"#REF!"}}]
[{"$f":"IF(ЗАЯВКА!#REF!=\"проектирование\",ЗАЯВКА!#REF!,0)","v":{"$error":"#REF!"}},{"$f":"IF(ЗАЯВКА!#REF!=\"строительно-монтажные работы\",ЗАЯВКА!#REF!,0)","v":{"$error":"#REF!"}},{"$f":"IF(ЗАЯВКА!#REF!=\"да\",ЗАЯВКА!#REF!,0)","v":{"$error":"#REF!"}}]
[{"$f":"IF(ЗАЯВКА!#REF!=\"проектирование\",ЗАЯВКА!#REF!,0)","v":{"$error":"#REF!"}},{"$f":"IF(ЗАЯВКА!#REF!=\"строительно-монтажные работы\",ЗАЯВКА!#REF!,0)","v":{"$error":"#REF!"}},{"$f":"IF(ЗАЯВКА!#REF!=\"да\",ЗАЯВКА!#REF!,0)","v":{"$error":"#REF!"}}]
[{"$f":"IF(ЗАЯВКА!#REF!=\"проектирование\",ЗАЯВКА!#REF!,0)","v":{"$error":"#REF!"}},{"$f":"IF(ЗАЯВКА!#REF!=\"строительно-монтажные работы\",ЗАЯВКА!#REF!,0)","v":{"$error":"#REF!"}},{"$f":"IF(ЗАЯВКА!#REF!=\"да\",ЗАЯВКА!#REF!,0)","v":{"$error":"#REF!"}}]
[{"$f":"IF(ЗАЯВКА!#REF!=\"проектирование\",ЗАЯВКА!#REF!,0)","v":{"$error":"#REF!"}},{"$f":"IF(ЗАЯВКА!#REF!=\"строительно-монтажные работы\",ЗАЯВКА!#REF!,0)","v":{"$error":"#REF!"}},{"$f":"IF(ЗАЯВКА!#REF!=\"да\",ЗАЯВКА!#REF!,0)","v":{"$error":"#REF!"}}]
[{"$f":"IF(ЗАЯВКА!#REF!=\"проектирование\",ЗАЯВКА!#REF!,0)","v":{"$error":"#REF!"}},{"$f":"IF(ЗАЯВКА!#REF!=\"строительно-монтажные работы\",ЗАЯВКА!#REF!,0)","v":{"$error":"#REF!"}},{"$f":"IF(ЗАЯВКА!#REF!=\"да\",ЗАЯВКА!#REF!,0)","v":{"$error":"#REF!"}}]
[{"$f":"IF(ЗАЯВКА!#REF!=\"проектирование\",ЗАЯВКА!#REF!,0)","v":{"$error":"#REF!"}},{"$f":"IF(ЗАЯВКА!#REF!=\"строительно-монтажные работы\",ЗАЯВКА!#REF!,0)","v":{"$error":"#REF!"}},{"$f":"IF(ЗАЯВКА!#REF!=\"да\",ЗАЯВКА!#REF!,0)","v":{"$error":"#REF!"}}]
[{"$f":"IF(ЗАЯВКА!#REF!=\"проектирование\",ЗАЯВКА!#REF!,0)","v":{"$error":"#REF!"}},{"$f":"IF(ЗАЯВКА!#REF!=\"строительно-монтажные работы\",ЗАЯВКА!#REF!,0)","v":{"$error":"#REF!"}},{"$f":"IF(ЗАЯВКА!#REF!=\"да\",ЗАЯВКА!#REF!,0)","v":{"$error":"#REF!"}}]
[{"$f":"IF(ЗАЯВКА!#REF!=\"проектирование\",ЗАЯВКА!#REF!,0)","v":{"$error":"#REF!"}},{"$f":"IF(ЗАЯВКА!#REF!=\"строительно-монтажные работы\",ЗАЯВКА!#REF!,0)","v":{"$error":"#REF!"}},{"$f":"IF(ЗАЯВКА!#REF!=\"да\",ЗАЯВКА!#REF!,0)","v":{"$error":"#REF!"}}]
[{"$f":"IF(ЗАЯВКА!#REF!=\"проектирование\",ЗАЯВКА!#REF!,0)","v":{"$error":"#REF!"}},{"$f":"IF(ЗАЯВКА!#REF!=\"строительно-монтажные работы\",ЗАЯВКА!#REF!,0)","v":{"$error":"#REF!"}},{"$f":"IF(ЗАЯВКА!#REF!=\"да\",ЗАЯВКА!#REF!,0)","v":{"$error":"#REF!"}}]
[{"$f":"IF(ЗАЯВКА!#REF!=\"проектирование\",ЗАЯВКА!#REF!,0)","v":{"$error":"#REF!"}},{"$f":"IF(ЗАЯВКА!#REF!=\"строительно-монтажные работы\",ЗАЯВКА!#REF!,0)","v":{"$error":"#REF!"}},{"$f":"IF(ЗАЯВКА!#REF!=\"да\",ЗАЯВКА!#REF!,0)","v":{"$error":"#REF!"}}]
[{"$f":"IF(ЗАЯВКА!#REF!=\"проектирование\",ЗАЯВКА!#REF!,0)","v":{"$error":"#REF!"}},{"$f":"IF(ЗАЯВКА!#REF!=\"строительно-монтажные работы\",ЗАЯВКА!#REF!,0)","v":{"$error":"#REF!"}},{"$f":"IF(ЗАЯВКА!#REF!=\"да\",ЗАЯВКА!#REF!,0)","v":{"$error":"#REF!"}}]
[{"$f":"IF(ЗАЯВКА!#REF!=\"проектирование\",ЗАЯВКА!#REF!,0)","v":{"$error":"#REF!"}},{"$f":"IF(ЗАЯВКА!#REF!=\"строительно-монтажные работы\",ЗАЯВКА!#REF!,0)","v":{"$error":"#REF!"}},{"$f":"IF(ЗАЯВКА!#REF!=\"да\",ЗАЯВКА!#REF!,0)","v":{"$error":"#REF!"}}]
[{"$f":"IF(ЗАЯВКА!#REF!=\"проектирование\",ЗАЯВКА!#REF!,0)","v":{"$error":"#REF!"}},{"$f":"IF(ЗАЯВКА!#REF!=\"строительно-монтажные работы\",ЗАЯВКА!#REF!,0)","v":{"$error":"#REF!"}},{"$f":"IF(ЗАЯВКА!#REF!=\"да\",ЗАЯВКА!#REF!,0)","v":{"$error":"#REF!"}}]
[{"$f":"IF(ЗАЯВКА!#REF!=\"проектирование\",ЗАЯВКА!#REF!,0)","v":{"$error":"#REF!"}},{"$f":"IF(ЗАЯВКА!#REF!=\"строительно-монтажные работы\",ЗАЯВКА!#REF!,0)","v":{"$error":"#REF!"}},{"$f":"IF(ЗАЯВКА!#REF!=\"да\",ЗАЯВКА!#REF!,0)","v":{"$error":"#REF!"}}]
[{"$f":"IF(ЗАЯВКА!#REF!=\"проектирование\",ЗАЯВКА!#REF!,0)","v":{"$error":"#REF!"}},{"$f":"IF(ЗАЯВКА!#REF!=\"строительно-монтажные работы\",ЗАЯВКА!#REF!,0)","v":{"$error":"#REF!"}},{"$f":"IF(ЗАЯВКА!#REF!=\"да\",ЗАЯВКА!#REF!,0)","v":{"$error":"#REF!"}}]
[{"$f":"IF(ЗАЯВКА!#REF!=\"проектирование\",ЗАЯВКА!#REF!,0)","v":{"$error":"#REF!"}},{"$f":"IF(ЗАЯВКА!#REF!=\"строительно-монтажные работы\",ЗАЯВКА!#REF!,0)","v":{"$error":"#REF!"}},{"$f":"IF(ЗАЯВКА!#REF!=\"да\",ЗАЯВКА!#REF!,0)","v":{"$error":"#REF!"}}]
[{"$f":"IF(ЗАЯВКА!#REF!=\"проектирование\",ЗАЯВКА!#REF!,0)","v":{"$error":"#REF!"}},{"$f":"IF(ЗАЯВКА!#REF!=\"строительно-монтажные работы\",ЗАЯВКА!#REF!,0)","v":{"$error":"#REF!"}},{"$f":"IF(ЗАЯВКА!#REF!=\"да\",ЗАЯВКА!#REF!,0)","v":{"$error":"#REF!"}}]
[{"$f":"IF(ЗАЯВКА!#REF!=\"проектирование\",ЗАЯВКА!#REF!,0)","v":{"$error":"#REF!"}},{"$f":"IF(ЗАЯВКА!#REF!=\"строительно-монтажные работы\",ЗАЯВКА!#REF!,0)","v":{"$error":"#REF!"}},{"$f":"IF(ЗАЯВКА!#REF!=\"да\",ЗАЯВКА!#REF!,0)","v":{"$error":"#REF!"}}]
[{"$f":"IF(ЗАЯВКА!#REF!=\"проектирование\",ЗАЯВКА!#REF!,0)","v":{"$error":"#REF!"}},{"$f":"IF(ЗАЯВКА!#REF!=\"строительно-монтажные работы\",ЗАЯВКА!#REF!,0)","v":{"$error":"#REF!"}},{"$f":"IF(ЗАЯВКА!#REF!=\"да\",ЗАЯВКА!#REF!,0)","v":{"$error":"#REF!"}}]
[{"$f":"IF(ЗАЯВКА!#REF!=\"проектирование\",ЗАЯВКА!#REF!,0)","v":{"$error":"#REF!"}},{"$f":"IF(ЗАЯВКА!#REF!=\"строительно-монтажные работы\",ЗАЯВКА!#REF!,0)","v":{"$error":"#REF!"}},{"$f":"IF(ЗАЯВКА!#REF!=\"да\",ЗАЯВКА!#REF!,0)","v":{"$error":"#REF!"}}]
[{"$f":"IF(ЗАЯВКА!#REF!=\"проектирование\",ЗАЯВКА!#REF!,0)","v":{"$error":"#REF!"}},{"$f":"IF(ЗАЯВКА!#REF!=\"строительно-монтажные работы\",ЗАЯВКА!#REF!,0)","v":{"$error":"#REF!"}},{"$f":"IF(ЗАЯВКА!#REF!=\"да\",ЗАЯВКА!#REF!,0)","v":{"$error":"#REF!"}}]
[{"$f":"IF(ЗАЯВКА!#REF!=\"проектирование\",ЗАЯВКА!#REF!,0)","v":{"$error":"#REF!"}},{"$f":"IF(ЗАЯВКА!#REF!=\"строительно-монтажные работы\",ЗАЯВКА!#REF!,0)","v":{"$error":"#REF!"}},{"$f":"IF(ЗАЯВКА!#REF!=\"да\",ЗАЯВКА!#REF!,0)","v":{"$error":"#REF!"}}]
[{"$f":"IF(ЗАЯВКА!#REF!=\"проектирование\",ЗАЯВКА!#REF!,0)","v":{"$error":"#REF!"}},{"$f":"IF(ЗАЯВКА!#REF!=\"строительно-монтажные работы\",ЗАЯВКА!#REF!,0)","v":{"$error":"#REF!"}},{"$f":"IF(ЗАЯВКА!#REF!=\"да\",ЗАЯВКА!#REF!,0)","v":{"$error":"#REF!"}}]
[{"$f":"IF(ЗАЯВКА!#REF!=\"проектирование\",ЗАЯВКА!#REF!,0)","v":{"$error":"#REF!"}},{"$f":"IF(ЗАЯВКА!#REF!=\"строительно-монтажные работы\",ЗАЯВКА!#REF!,0)","v":{"$error":"#REF!"}},{"$f":"IF(ЗАЯВКА!#REF!=\"да\",ЗАЯВКА!#REF!,0)","v":{"$error":"#REF!"}}]
[{"$f":"IF(ЗАЯВКА!#REF!=\"проектирование\",ЗАЯВКА!#REF!,0)","v":{"$error":"#REF!"}},{"$f":"IF(ЗАЯВКА!#REF!=\"строительно-монтажные работы\",ЗАЯВКА!#REF!,0)","v":{"$error":"#REF!"}},{"$f":"IF(ЗАЯВКА!#REF!=\"да\",ЗАЯВКА!#REF!,0)","v":{"$error":"#REF!"}}]
[{"$f":"IF(ЗАЯВКА!#REF!=\"проектирование\",ЗАЯВКА!#REF!,0)","v":{"$error":"#REF!"}},{"$f":"IF(ЗАЯВКА!#REF!=\"строительно-монтажные работы\",ЗАЯВКА!#REF!,0)","v":{"$error":"#REF!"}},{"$f":"IF(ЗАЯВКА!#REF!=\"да\",ЗАЯВКА!#REF!,0)","v":{"$error":"#REF!"}}]
[{"$f":"IF(ЗАЯВКА!#REF!=\"проектирование\",ЗАЯВКА!#REF!,0)","v":{"$error":"#REF!"}},{"$f":"IF(ЗАЯВКА!#REF!=\"строительно-монтажные работы\",ЗАЯВКА!#REF!,0)","v":{"$error":"#REF!"}},{"$f":"IF(ЗАЯВКА!#REF!=\"да\",ЗАЯВКА!#REF!,0)","v":{"$error":"#REF!"}}]
[{"$f":"IF(ЗАЯВКА!#REF!=\"проектирование\",ЗАЯВКА!#REF!,0)","v":{"$error":"#REF!"}},{"$f":"IF(ЗАЯВКА!#REF!=\"строительно-монтажные работы\",ЗАЯВКА!#REF!,0)","v":{"$error":"#REF!"}},{"$f":"IF(ЗАЯВКА!#REF!=\"да\",ЗАЯВКА!#REF!,0)","v":{"$error":"#REF!"}}]
[{"$f":"IF(ЗАЯВКА!#REF!=\"проектирование\",ЗАЯВКА!#REF!,0)","v":{"$error":"#REF!"}},{"$f":"IF(ЗАЯВКА!#REF!=\"строительно-монтажные работы\",ЗАЯВКА!#REF!,0)","v":{"$error":"#REF!"}},{"$f":"IF(ЗАЯВКА!#REF!=\"да\",ЗАЯВКА!#REF!,0)","v":{"$error":"#REF!"}}]
[{"$f":"IF(ЗАЯВКА!#REF!=\"проектирование\",ЗАЯВКА!#REF!,0)","v":{"$error":"#REF!"}},{"$f":"IF(ЗАЯВКА!#REF!=\"строительно-монтажные работы\",ЗАЯВКА!#REF!,0)","v":{"$error":"#REF!"}},{"$f":"IF(ЗАЯВКА!#REF!=\"да\",ЗАЯВКА!#REF!,0)","v":{"$error":"#REF!"}}]
[{"$f":"IF(ЗАЯВКА!#REF!=\"проектирование\",ЗАЯВКА!#REF!,0)","v":{"$error":"#REF!"}},{"$f":"IF(ЗАЯВКА!#REF!=\"строительно-монтажные работы\",ЗАЯВКА!#REF!,0)","v":{"$error":"#REF!"}},{"$f":"IF(ЗАЯВКА!#REF!=\"да\",ЗАЯВКА!#REF!,0)","v":{"$error":"#REF!"}}]
[{"$f":"IF(ЗАЯВКА!#REF!=\"проектирование\",ЗАЯВКА!#REF!,0)","v":{"$error":"#REF!"}},{"$f":"IF(ЗАЯВКА!#REF!=\"строительно-монтажные работы\",ЗАЯВКА!#REF!,0)","v":{"$error":"#REF!"}},{"$f":"IF(ЗАЯВКА!#REF!=\"да\",ЗАЯВКА!#REF!,0)","v":{"$error":"#REF!"}}]
[{"$f":"IF(ЗАЯВКА!#REF!=\"проектирование\",ЗАЯВКА!#REF!,0)","v":{"$error":"#REF!"}},{"$f":"IF(ЗАЯВКА!#REF!=\"строительно-монтажные работы\",ЗАЯВКА!#REF!,0)","v":{"$error":"#REF!"}},{"$f":"IF(ЗАЯВКА!#REF!=\"да\",ЗАЯВКА!#REF!,0)","v":{"$error":"#REF!"}}]
[{"$f":"IF(ЗАЯВКА!#REF!=\"проектирование\",ЗАЯВКА!#REF!,0)","v":{"$error":"#REF!"}},{"$f":"IF(ЗАЯВКА!#REF!=\"строительно-монтажные работы\",ЗАЯВКА!#REF!,0)","v":{"$error":"#REF!"}},{"$f":"IF(ЗАЯВКА!#REF!=\"да\",ЗАЯВКА!#REF!,0)","v":{"$error":"#REF!"}}]
[{"$f":"IF(ЗАЯВКА!#REF!=\"проектирование\",ЗАЯВКА!#REF!,0)","v":{"$error":"#REF!"}},{"$f":"IF(ЗАЯВКА!#REF!=\"строительно-монтажные работы\",ЗАЯВКА!#REF!,0)","v":{"$error":"#REF!"}},{"$f":"IF(ЗАЯВКА!#REF!=\"да\",ЗАЯВКА!#REF!,0)","v":{"$error":"#REF!"}}]
[{"$f":"IF(ЗАЯВКА!#REF!=\"проектирование\",ЗАЯВКА!#REF!,0)","v":{"$error":"#REF!"}},{"$f":"IF(ЗАЯВКА!#REF!=\"строительно-монтажные работы\",ЗАЯВКА!#REF!,0)","v":{"$error":"#REF!"}},{"$f":"IF(ЗАЯВКА!#REF!=\"да\",ЗАЯВКА!#REF!,0)","v":{"$error":"#REF!"}}]
[{"$f":"IF(ЗАЯВКА!#REF!=\"проектирование\",ЗАЯВКА!#REF!,0)","v":{"$error":"#REF!"}},{"$f":"IF(ЗАЯВКА!#REF!=\"строительно-монтажные работы\",ЗАЯВКА!#REF!,0)","v":{"$error":"#REF!"}},{"$f":"IF(ЗАЯВКА!#REF!=\"да\",ЗАЯВКА!#REF!,0)","v":{"$error":"#REF!"}}]
[{"$f":"IF(ЗАЯВКА!#REF!=\"проектирование\",ЗАЯВКА!#REF!,0)","v":{"$error":"#REF!"}},{"$f":"IF(ЗАЯВКА!#REF!=\"строительно-монтажные работы\",ЗАЯВКА!#REF!,0)","v":{"$error":"#REF!"}},{"$f":"IF(ЗАЯВКА!#REF!=\"да\",ЗАЯВКА!#REF!,0)","v":{"$error":"#REF!"}}]
[{"$f":"IF(ЗАЯВКА!#REF!=\"проектирование\",ЗАЯВКА!#REF!,0)","v":{"$error":"#REF!"}},{"$f":"IF(ЗАЯВКА!#REF!=\"строительно-монтажные работы\",ЗАЯВКА!#REF!,0)","v":{"$error":"#REF!"}},{"$f":"IF(ЗАЯВКА!#REF!=\"да\",ЗАЯВКА!#REF!,0)","v":{"$error":"#REF!"}}]
[{"$f":"IF(ЗАЯВКА!#REF!=\"проектирование\",ЗАЯВКА!#REF!,0)","v":{"$error":"#REF!"}},{"$f":"IF(ЗАЯВКА!#REF!=\"строительно-монтажные работы\",ЗАЯВКА!#REF!,0)","v":{"$error":"#REF!"}},{"$f":"IF(ЗАЯВКА!#REF!=\"да\",ЗАЯВКА!#REF!,0)","v":{"$error":"#REF!"}}]
[{"$f":"IF(ЗАЯВКА!#REF!=\"проектирование\",ЗАЯВКА!#REF!,0)","v":{"$error":"#REF!"}},{"$f":"IF(ЗАЯВКА!#REF!=\"строительно-монтажные работы\",ЗАЯВКА!#REF!,0)","v":{"$error":"#REF!"}},{"$f":"IF(ЗАЯВКА!#REF!=\"да\",ЗАЯВКА!#REF!,0)","v":{"$error":"#REF!"}}]
[{"$f":"IF(ЗАЯВКА!#REF!=\"проектирование\",ЗАЯВКА!#REF!,0)","v":{"$error":"#REF!"}},{"$f":"IF(ЗАЯВКА!#REF!=\"строительно-монтажные работы\",ЗАЯВКА!#REF!,0)","v":{"$error":"#REF!"}},{"$f":"IF(ЗАЯВКА!#REF!=\"да\",ЗАЯВКА!#REF!,0)","v":{"$error":"#REF!"}}]
[{"$f":"IF(ЗАЯВКА!#REF!=\"проектирование\",ЗАЯВКА!#REF!,0)","v":{"$error":"#REF!"}},{"$f":"IF(ЗАЯВКА!#REF!=\"строительно-монтажные работы\",ЗАЯВКА!#REF!,0)","v":{"$error":"#REF!"}},{"$f":"IF(ЗАЯВКА!#REF!=\"да\",ЗАЯВКА!#REF!,0)","v":{"$error":"#REF!"}}]
[{"$f":"IF(ЗАЯВКА!#REF!=\"проектирование\",ЗАЯВКА!#REF!,0)","v":{"$error":"#REF!"}},{"$f":"IF(ЗАЯВКА!#REF!=\"строительно-монтажные работы\",ЗАЯВКА!#REF!,0)","v":{"$error":"#REF!"}},{"$f":"IF(ЗАЯВКА!#REF!=\"да\",ЗАЯВКА!#REF!,0)","v":{"$error":"#REF!"}}]
[{"$f":"IF(ЗАЯВКА!#REF!=\"проектирование\",ЗАЯВКА!#REF!,0)","v":{"$error":"#REF!"}},{"$f":"IF(ЗАЯВКА!#REF!=\"строительно-монтажные работы\",ЗАЯВКА!#REF!,0)","v":{"$error":"#REF!"}},{"$f":"IF(ЗАЯВКА!#REF!=\"да\",ЗАЯВКА!#REF!,0)","v":{"$error":"#REF!"}}]
[{"$f":"IF(ЗАЯВКА!#REF!=\"проектирование\",ЗАЯВКА!#REF!,0)","v":{"$error":"#REF!"}},{"$f":"IF(ЗАЯВКА!#REF!=\"строительно-монтажные работы\",ЗАЯВКА!#REF!,0)","v":{"$error":"#REF!"}},{"$f":"IF(ЗАЯВКА!#REF!=\"да\",ЗАЯВКА!#REF!,0)","v":{"$error":"#REF!"}}]
[{"$f":"IF(ЗАЯВКА!#REF!=\"проектирование\",ЗАЯВКА!#REF!,0)","v":{"$error":"#REF!"}},{"$f":"IF(ЗАЯВКА!#REF!=\"строительно-монтажные работы\",ЗАЯВКА!#REF!,0)","v":{"$error":"#REF!"}},{"$f":"IF(ЗАЯВКА!#REF!=\"да\",ЗАЯВКА!#REF!,0)","v":{"$error":"#REF!"}}]
[{"$f":"IF(ЗАЯВКА!#REF!=\"проектирование\",ЗАЯВКА!#REF!,0)","v":{"$error":"#REF!"}},{"$f":"IF(ЗАЯВКА!#REF!=\"строительно-монтажные работы\",ЗАЯВКА!#REF!,0)","v":{"$error":"#REF!"}},{"$f":"IF(ЗАЯВКА!#REF!=\"да\",ЗАЯВКА!#REF!,0)","v":{"$error":"#REF!"}}]
[{"$f":"IF(ЗАЯВКА!#REF!=\"проектирование\",ЗАЯВКА!#REF!,0)","v":{"$error":"#REF!"}},{"$f":"IF(ЗАЯВКА!#REF!=\"строительно-монтажные работы\",ЗАЯВКА!#REF!,0)","v":{"$error":"#REF!"}},{"$f":"IF(ЗАЯВКА!#REF!=\"да\",ЗАЯВКА!#REF!,0)","v":{"$error":"#REF!"}}]
[{"$f":"IF(ЗАЯВКА!#REF!=\"проектирование\",ЗАЯВКА!#REF!,0)","v":{"$error":"#REF!"}},{"$f":"IF(ЗАЯВКА!#REF!=\"строительно-монтажные работы\",ЗАЯВКА!#REF!,0)","v":{"$error":"#REF!"}},{"$f":"IF(ЗАЯВКА!#REF!=\"да\",ЗАЯВКА!#REF!,0)","v":{"$error":"#REF!"}}]
[{"$f":"IF(ЗАЯВКА!#REF!=\"проектирование\",ЗАЯВКА!#REF!,0)","v":{"$error":"#REF!"}},{"$f":"IF(ЗАЯВКА!#REF!=\"строительно-монтажные работы\",ЗАЯВКА!#REF!,0)","v":{"$error":"#REF!"}},{"$f":"IF(ЗАЯВКА!#REF!=\"да\",ЗАЯВКА!#REF!,0)","v":{"$error":"#REF!"}}]
[{"$f":"IF(ЗАЯВКА!#REF!=\"проектирование\",ЗАЯВКА!#REF!,0)","v":{"$error":"#REF!"}},{"$f":"IF(ЗАЯВКА!#REF!=\"строительно-монтажные работы\",ЗАЯВКА!#REF!,0)","v":{"$error":"#REF!"}},{"$f":"IF(ЗАЯВКА!#REF!=\"да\",ЗАЯВКА!#REF!,0)","v":{"$error":"#REF!"}}]
[{"$f":"IF(ЗАЯВКА!#REF!=\"проектирование\",ЗАЯВКА!#REF!,0)","v":{"$error":"#REF!"}},{"$f":"IF(ЗАЯВКА!#REF!=\"строительно-монтажные работы\",ЗАЯВКА!#REF!,0)","v":{"$error":"#REF!"}},{"$f":"IF(ЗАЯВКА!#REF!=\"да\",ЗАЯВКА!#REF!,0)","v":{"$error":"#REF!"}}]
[{"$f":"IF(ЗАЯВКА!#REF!=\"проектирование\",ЗАЯВКА!#REF!,0)","v":{"$error":"#REF!"}},{"$f":"IF(ЗАЯВКА!#REF!=\"строительно-монтажные работы\",ЗАЯВКА!#REF!,0)","v":{"$error":"#REF!"}},{"$f":"IF(ЗАЯВКА!#REF!=\"да\",ЗАЯВКА!#REF!,0)","v":{"$error":"#REF!"}}]
[{"$f":"IF(ЗАЯВКА!#REF!=\"проектирование\",ЗАЯВКА!#REF!,0)","v":{"$error":"#REF!"}},{"$f":"IF(ЗАЯВКА!#REF!=\"строительно-монтажные работы\",ЗАЯВКА!#REF!,0)","v":{"$error":"#REF!"}},{"$f":"IF(ЗАЯВКА!#REF!=\"да\",ЗАЯВКА!#REF!,0)","v":{"$error":"#REF!"}}]
[{"$f":"IF(ЗАЯВКА!#REF!=\"проектирование\",ЗАЯВКА!#REF!,0)","v":{"$error":"#REF!"}},{"$f":"IF(ЗАЯВКА!#REF!=\"строительно-монтажные работы\",ЗАЯВКА!#REF!,0)","v":{"$error":"#REF!"}},{"$f":"IF(ЗАЯВКА!#REF!=\"да\",ЗАЯВКА!#REF!,0)","v":{"$error":"#REF!"}}]
[{"$f":"IF(ЗАЯВКА!#REF!=\"проектирование\",ЗАЯВКА!#REF!,0)","v":{"$error":"#REF!"}},{"$f":"IF(ЗАЯВКА!#REF!=\"строительно-монтажные работы\",ЗАЯВКА!#REF!,0)","v":{"$error":"#REF!"}},{"$f":"IF(ЗАЯВКА!#REF!=\"да\",ЗАЯВКА!#REF!,0)","v":{"$error":"#REF!"}}]
[{"$f":"IF(ЗАЯВКА!#REF!=\"проектирование\",ЗАЯВКА!#REF!,0)","v":{"$error":"#REF!"}},{"$f":"IF(ЗАЯВКА!#REF!=\"строительно-монтажные работы\",ЗАЯВКА!#REF!,0)","v":{"$error":"#REF!"}},{"$f":"IF(ЗАЯВКА!#REF!=\"да\",ЗАЯВКА!#REF!,0)","v":{"$error":"#REF!"}}]
[{"$f":"IF(ЗАЯВКА!#REF!=\"проектирование\",ЗАЯВКА!#REF!,0)","v":{"$error":"#REF!"}},{"$f":"IF(ЗАЯВКА!#REF!=\"строительно-монтажные работы\",ЗАЯВКА!#REF!,0)","v":{"$error":"#REF!"}},{"$f":"IF(ЗАЯВКА!#REF!=\"да\",ЗАЯВКА!#REF!,0)","v":{"$error":"#REF!"}}]
[{"$f":"IF(ЗАЯВКА!#REF!=\"проектирование\",ЗАЯВКА!#REF!,0)","v":{"$error":"#REF!"}},{"$f":"IF(ЗАЯВКА!#REF!=\"строительно-монтажные работы\",ЗАЯВКА!#REF!,0)","v":{"$error":"#REF!"}},{"$f":"IF(ЗАЯВКА!#REF!=\"да\",ЗАЯВКА!#REF!,0)","v":{"$error":"#REF!"}}]
[{"$f":"IF(ЗАЯВКА!#REF!=\"проектирование\",ЗАЯВКА!#REF!,0)","v":{"$error":"#REF!"}},{"$f":"IF(ЗАЯВКА!#REF!=\"строительно-монтажные работы\",ЗАЯВКА!#REF!,0)","v":{"$error":"#REF!"}},{"$f":"IF(ЗАЯВКА!#REF!=\"да\",ЗАЯВКА!#REF!,0)","v":{"$error":"#REF!"}}]
[{"$f":"IF(ЗАЯВКА!#REF!=\"проектирование\",ЗАЯВКА!#REF!,0)","v":{"$error":"#REF!"}},{"$f":"IF(ЗАЯВКА!#REF!=\"строительно-монтажные работы\",ЗАЯВКА!#REF!,0)","v":{"$error":"#REF!"}},{"$f":"IF(ЗАЯВКА!#REF!=\"да\",ЗАЯВКА!#REF!,0)","v":{"$error":"#REF!"}}]
[{"$f":"IF(ЗАЯВКА!#REF!=\"проектирование\",ЗАЯВКА!#REF!,0)","v":{"$error":"#REF!"}},{"$f":"IF(ЗАЯВКА!#REF!=\"строительно-монтажные работы\",ЗАЯВКА!#REF!,0)","v":{"$error":"#REF!"}},{"$f":"IF(ЗАЯВКА!#REF!=\"да\",ЗАЯВКА!#REF!,0)","v":{"$error":"#REF!"}}]
[{"$f":"IF(ЗАЯВКА!#REF!=\"проектирование\",ЗАЯВКА!#REF!,0)","v":{"$error":"#REF!"}},{"$f":"IF(ЗАЯВКА!#REF!=\"строительно-монтажные работы\",ЗАЯВКА!#REF!,0)","v":{"$error":"#REF!"}},{"$f":"IF(ЗАЯВКА!#REF!=\"да\",ЗАЯВКА!#REF!,0)","v":{"$error":"#REF!"}}]
[{"$f":"IF(ЗАЯВКА!#REF!=\"проектирование\",ЗАЯВКА!#REF!,0)","v":{"$error":"#REF!"}},{"$f":"IF(ЗАЯВКА!#REF!=\"строительно-монтажные работы\",ЗАЯВКА!#REF!,0)","v":{"$error":"#REF!"}},{"$f":"IF(ЗАЯВКА!#REF!=\"да\",ЗАЯВКА!#REF!,0)","v":{"$error":"#REF!"}}]
[{"$f":"IF(ЗАЯВКА!#REF!=\"проектирование\",ЗАЯВКА!#REF!,0)","v":{"$error":"#REF!"}},{"$f":"IF(ЗАЯВКА!#REF!=\"строительно-монтажные работы\",ЗАЯВКА!#REF!,0)","v":{"$error":"#REF!"}},{"$f":"IF(ЗАЯВКА!#REF!=\"да\",ЗАЯВКА!#REF!,0)","v":{"$error":"#REF!"}}]
[{"$f":"IF(ЗАЯВКА!#REF!=\"проектирование\",ЗАЯВКА!#REF!,0)","v":{"$error":"#REF!"}},{"$f":"IF(ЗАЯВКА!#REF!=\"строительно-монтажные работы\",ЗАЯВКА!#REF!,0)","v":{"$error":"#REF!"}},{"$f":"IF(ЗАЯВКА!#REF!=\"да\",ЗАЯВКА!#REF!,0)","v":{"$error":"#REF!"}}]
[{"$f":"IF(ЗАЯВКА!#REF!=\"проектирование\",ЗАЯВКА!#REF!,0)","v":{"$error":"#REF!"}},{"$f":"IF(ЗАЯВКА!#REF!=\"строительно-монтажные работы\",ЗАЯВКА!#REF!,0)","v":{"$error":"#REF!"}},{"$f":"IF(ЗАЯВКА!#REF!=\"да\",ЗАЯВКА!#REF!,0)","v":{"$error":"#REF!"}}]
[{"$f":"IF(ЗАЯВКА!#REF!=\"проектирование\",ЗАЯВКА!#REF!,0)","v":{"$error":"#REF!"}},{"$f":"IF(ЗАЯВКА!#REF!=\"строительно-монтажные работы\",ЗАЯВКА!#REF!,0)","v":{"$error":"#REF!"}},{"$f":"IF(ЗАЯВКА!#REF!=\"да\",ЗАЯВКА!#REF!,0)","v":{"$error":"#REF!"}}]
[{"$f":"IF(ЗАЯВКА!#REF!=\"проектирование\",ЗАЯВКА!#REF!,0)","v":{"$error":"#REF!"}},{"$f":"IF(ЗАЯВКА!#REF!=\"строительно-монтажные работы\",ЗАЯВКА!#REF!,0)","v":{"$error":"#REF!"}},{"$f":"IF(ЗАЯВКА!#REF!=\"да\",ЗАЯВКА!#REF!,0)","v":{"$error":"#REF!"}}]
[{"$f":"IF(ЗАЯВКА!#REF!=\"проектирование\",ЗАЯВКА!#REF!,0)","v":{"$error":"#REF!"}},{"$f":"IF(ЗАЯВКА!#REF!=\"строительно-монтажные работы\",ЗАЯВКА!#REF!,0)","v":{"$error":"#REF!"}},{"$f":"IF(ЗАЯВКА!#REF!=\"да\",ЗАЯВКА!#REF!,0)","v":{"$error":"#REF!"}}]
[{"$f":"IF(ЗАЯВКА!#REF!=\"проектирование\",ЗАЯВКА!#REF!,0)","v":{"$error":"#REF!"}},{"$f":"IF(ЗАЯВКА!#REF!=\"строительно-монтажные работы\",ЗАЯВКА!#REF!,0)","v":{"$error":"#REF!"}},{"$f":"IF(ЗАЯВКА!#REF!=\"да\",ЗАЯВКА!#REF!,0)","v":{"$error":"#REF!"}}]
[{"$f":"IF(ЗАЯВКА!#REF!=\"проектирование\",ЗАЯВКА!#REF!,0)","v":{"$error":"#REF!"}},{"$f":"IF(ЗАЯВКА!#REF!=\"строительно-монтажные работы\",ЗАЯВКА!#REF!,0)","v":{"$error":"#REF!"}},{"$f":"IF(ЗАЯВКА!#REF!=\"да\",ЗАЯВКА!#REF!,0)","v":{"$error":"#REF!"}}]
[{"$f":"IF(ЗАЯВКА!#REF!=\"проектирование\",ЗАЯВКА!#REF!,0)","v":{"$error":"#REF!"}},{"$f":"IF(ЗАЯВКА!#REF!=\"строительно-монтажные работы\",ЗАЯВКА!#REF!,0)","v":{"$error":"#REF!"}},{"$f":"IF(ЗАЯВКА!#REF!=\"да\",ЗАЯВКА!#REF!,0)","v":{"$error":"#REF!"}}]
[{"$f":"IF(ЗАЯВКА!#REF!=\"проектирование\",ЗАЯВКА!#REF!,0)","v":{"$error":"#REF!"}},{"$f":"IF(ЗАЯВКА!#REF!=\"строительно-монтажные работы\",ЗАЯВКА!#REF!,0)","v":{"$error":"#REF!"}},{"$f":"IF(ЗАЯВКА!#REF!=\"да\",ЗАЯВКА!#REF!,0)","v":{"$error":"#REF!"}}]
[{"$f":"IF(ЗАЯВКА!#REF!=\"проектирование\",ЗАЯВКА!#REF!,0)","v":{"$error":"#REF!"}},{"$f":"IF(ЗАЯВКА!#REF!=\"строительно-монтажные работы\",ЗАЯВКА!#REF!,0)","v":{"$error":"#REF!"}},{"$f":"IF(ЗАЯВКА!#REF!=\"да\",ЗАЯВКА!#REF!,0)","v":{"$error":"#REF!"}}]
[{"$f":"IF(ЗАЯВКА!#REF!=\"проектирование\",ЗАЯВКА!#REF!,0)","v":{"$error":"#REF!"}},{"$f":"IF(ЗАЯВКА!#REF!=\"строительно-монтажные работы\",ЗАЯВКА!#REF!,0)","v":{"$error":"#REF!"}},{"$f":"IF(ЗАЯВКА!#REF!=\"да\",ЗАЯВКА!#REF!,0)","v":{"$error":"#REF!"}}]
[{"$f":"IF(ЗАЯВКА!#REF!=\"проектирование\",ЗАЯВКА!#REF!,0)","v":{"$error":"#REF!"}},{"$f":"IF(ЗАЯВКА!#REF!=\"строительно-монтажные работы\",ЗАЯВКА!#REF!,0)","v":{"$error":"#REF!"}},{"$f":"IF(ЗАЯВКА!#REF!=\"да\",ЗАЯВКА!#REF!,0)","v":{"$error":"#REF!"}}]
[{"$f":"IF(ЗАЯВКА!#REF!=\"проектирование\",ЗАЯВКА!#REF!,0)","v":{"$error":"#REF!"}},{"$f":"IF(ЗАЯВКА!#REF!=\"строительно-монтажные работы\",ЗАЯВКА!#REF!,0)","v":{"$error":"#REF!"}},{"$f":"IF(ЗАЯВКА!#REF!=\"да\",ЗАЯВКА!#REF!,0)","v":{"$error":"#REF!"}}]
[{"$f":"IF(ЗАЯВКА!#REF!=\"проектирование\",ЗАЯВКА!#REF!,0)","v":{"$error":"#REF!"}},{"$f":"IF(ЗАЯВКА!#REF!=\"строительно-монтажные работы\",ЗАЯВКА!#REF!,0)","v":{"$error":"#REF!"}},{"$f":"IF(ЗАЯВКА!#REF!=\"да\",ЗАЯВКА!#REF!,0)","v":{"$error":"#REF!"}}]
[{"$f":"IF(ЗАЯВКА!#REF!=\"проектирование\",ЗАЯВКА!#REF!,0)","v":{"$error":"#REF!"}},{"$f":"IF(ЗАЯВКА!#REF!=\"строительно-монтажные работы\",ЗАЯВКА!#REF!,0)","v":{"$error":"#REF!"}},{"$f":"IF(ЗАЯВКА!#REF!=\"да\",ЗАЯВКА!#REF!,0)","v":{"$error":"#REF!"}}]
[{"$f":"IF(ЗАЯВКА!#REF!=\"проектирование\",ЗАЯВКА!#REF!,0)","v":{"$error":"#REF!"}},{"$f":"IF(ЗАЯВКА!#REF!=\"строительно-монтажные работы\",ЗАЯВКА!#REF!,0)","v":{"$error":"#REF!"}},{"$f":"IF(ЗАЯВКА!#REF!=\"да\",ЗАЯВКА!#REF!,0)","v":{"$error":"#REF!"}}]
[{"$f":"IF(ЗАЯВКА!#REF!=\"проектирование\",ЗАЯВКА!#REF!,0)","v":{"$error":"#REF!"}},{"$f":"IF(ЗАЯВКА!#REF!=\"строительно-монтажные работы\",ЗАЯВКА!#REF!,0)","v":{"$error":"#REF!"}},{"$f":"IF(ЗАЯВКА!#REF!=\"да\",ЗАЯВКА!#REF!,0)","v":{"$error":"#REF!"}}]
[{"$f":"IF(ЗАЯВКА!#REF!=\"проектирование\",ЗАЯВКА!#REF!,0)","v":{"$error":"#REF!"}},{"$f":"IF(ЗАЯВКА!#REF!=\"строительно-монтажные работы\",ЗАЯВКА!#REF!,0)","v":{"$error":"#REF!"}},{"$f":"IF(ЗАЯВКА!#REF!=\"да\",ЗАЯВКА!#REF!,0)","v":{"$error":"#REF!"}}]
[{"$f":"IF(ЗАЯВКА!#REF!=\"проектирование\",ЗАЯВКА!#REF!,0)","v":{"$error":"#REF!"}},{"$f":"IF(ЗАЯВКА!#REF!=\"строительно-монтажные работы\",ЗАЯВКА!#REF!,0)","v":{"$error":"#REF!"}},{"$f":"IF(ЗАЯВКА!#REF!=\"да\",ЗАЯВКА!#REF!,0)","v":{"$error":"#REF!"}}]
[{"$f":"IF(ЗАЯВКА!#REF!=\"проектирование\",ЗАЯВКА!#REF!,0)","v":{"$error":"#REF!"}},{"$f":"IF(ЗАЯВКА!#REF!=\"строительно-монтажные работы\",ЗАЯВКА!#REF!,0)","v":{"$error":"#REF!"}},{"$f":"IF(ЗАЯВКА!#REF!=\"да\",ЗАЯВКА!#REF!,0)","v":{"$error":"#REF!"}}]
[{"$f":"IF(ЗАЯВКА!#REF!=\"проектирование\",ЗАЯВКА!#REF!,0)","v":{"$error":"#REF!"}},{"$f":"IF(ЗАЯВКА!#REF!=\"строительно-монтажные работы\",ЗАЯВКА!#REF!,0)","v":{"$error":"#REF!"}},{"$f":"IF(ЗАЯВКА!#REF!=\"да\",ЗАЯВКА!#REF!,0)","v":{"$error":"#REF!"}}]
[{"$f":"IF(ЗАЯВКА!#REF!=\"проектирование\",ЗАЯВКА!#REF!,0)","v":{"$error":"#REF!"}},{"$f":"IF(ЗАЯВКА!#REF!=\"строительно-монтажные работы\",ЗАЯВКА!#REF!,0)","v":{"$error":"#REF!"}},{"$f":"IF(ЗАЯВКА!#REF!=\"да\",ЗАЯВКА!#REF!,0)","v":{"$error":"#REF!"}}]
[{"$f":"IF(ЗАЯВКА!#REF!=\"проектирование\",ЗАЯВКА!#REF!,0)","v":{"$error":"#REF!"}},{"$f":"IF(ЗАЯВКА!#REF!=\"строительно-монтажные работы\",ЗАЯВКА!#REF!,0)","v":{"$error":"#REF!"}},{"$f":"IF(ЗАЯВКА!#REF!=\"да\",ЗАЯВКА!#REF!,0)","v":{"$error":"#REF!"}}]
[{"$f":"IF(ЗАЯВКА!#REF!=\"проектирование\",ЗАЯВКА!#REF!,0)","v":{"$error":"#REF!"}},{"$f":"IF(ЗАЯВКА!#REF!=\"строительно-монтажные работы\",ЗАЯВКА!#REF!,0)","v":{"$error":"#REF!"}},{"$f":"IF(ЗАЯВКА!#REF!=\"да\",ЗАЯВКА!#REF!,0)","v":{"$error":"#REF!"}}]
[{"$f":"IF(ЗАЯВКА!#REF!=\"проектирование\",ЗАЯВКА!#REF!,0)","v":{"$error":"#REF!"}},{"$f":"IF(ЗАЯВКА!#REF!=\"строительно-монтажные работы\",ЗАЯВКА!#REF!,0)","v":{"$error":"#REF!"}},{"$f":"IF(ЗАЯВКА!#REF!=\"да\",ЗАЯВКА!#REF!,0)","v":{"$error":"#REF!"}}]
[{"$f":"IF(ЗАЯВКА!#REF!=\"проектирование\",ЗАЯВКА!#REF!,0)","v":{"$error":"#REF!"}},{"$f":"IF(ЗАЯВКА!#REF!=\"строительно-монтажные работы\",ЗАЯВКА!#REF!,0)","v":{"$error":"#REF!"}},{"$f":"IF(ЗАЯВКА!#REF!=\"да\",ЗАЯВКА!#REF!,0)","v":{"$error":"#REF!"}}]
[{"$f":"IF(ЗАЯВКА!#REF!=\"проектирование\",ЗАЯВКА!#REF!,0)","v":{"$error":"#REF!"}},{"$f":"IF(ЗАЯВКА!#REF!=\"строительно-монтажные работы\",ЗАЯВКА!#REF!,0)","v":{"$error":"#REF!"}},{"$f":"IF(ЗАЯВКА!#REF!=\"да\",ЗАЯВКА!#REF!,0)","v":{"$error":"#REF!"}}]
[{"$f":"IF(ЗАЯВКА!#REF!=\"проектирование\",ЗАЯВКА!#REF!,0)","v":{"$error":"#REF!"}},{"$f":"IF(ЗАЯВКА!#REF!=\"строительно-монтажные работы\",ЗАЯВКА!#REF!,0)","v":{"$error":"#REF!"}},{"$f":"IF(ЗАЯВКА!#REF!=\"да\",ЗАЯВКА!#REF!,0)","v":{"$error":"#REF!"}}]
[{"$f":"IF(ЗАЯВКА!#REF!=\"проектирование\",ЗАЯВКА!#REF!,0)","v":{"$error":"#REF!"}},{"$f":"IF(ЗАЯВКА!#REF!=\"строительно-монтажные работы\",ЗАЯВКА!#REF!,0)","v":{"$error":"#REF!"}},{"$f":"IF(ЗАЯВКА!#REF!=\"да\",ЗАЯВКА!#REF!,0)","v":{"$error":"#REF!"}}]
[{"$f":"IF(ЗАЯВКА!#REF!=\"проектирование\",ЗАЯВКА!#REF!,0)","v":{"$error":"#REF!"}},{"$f":"IF(ЗАЯВКА!#REF!=\"строительно-монтажные работы\",ЗАЯВКА!#REF!,0)","v":{"$error":"#REF!"}},{"$f":"IF(ЗАЯВКА!#REF!=\"да\",ЗАЯВКА!#REF!,0)","v":{"$error":"#REF!"}}]
[{"$f":"IF(ЗАЯВКА!#REF!=\"проектирование\",ЗАЯВКА!#REF!,0)","v":{"$error":"#REF!"}},{"$f":"IF(ЗАЯВКА!#REF!=\"строительно-монтажные работы\",ЗАЯВКА!#REF!,0)","v":{"$error":"#REF!"}},{"$f":"IF(ЗАЯВКА!#REF!=\"да\",ЗАЯВКА!#REF!,0)","v":{"$error":"#REF!"}}]
[{"$f":"IF(ЗАЯВКА!#REF!=\"проектирование\",ЗАЯВКА!#REF!,0)","v":{"$error":"#REF!"}},{"$f":"IF(ЗАЯВКА!#REF!=\"строительно-монтажные работы\",ЗАЯВКА!#REF!,0)","v":{"$error":"#REF!"}},{"$f":"IF(ЗАЯВКА!#REF!=\"да\",ЗАЯВКА!#REF!,0)","v":{"$error":"#REF!"}}]
[{"$f":"IF(ЗАЯВКА!#REF!=\"проектирование\",ЗАЯВКА!#REF!,0)","v":{"$error":"#REF!"}},{"$f":"IF(ЗАЯВКА!#REF!=\"строительно-монтажные работы\",ЗАЯВКА!#REF!,0)","v":{"$error":"#REF!"}},{"$f":"IF(ЗАЯВКА!#REF!=\"да\",ЗАЯВКА!#REF!,0)","v":{"$error":"#REF!"}}]
[{"$f":"IF(ЗАЯВКА!#REF!=\"проектирование\",ЗАЯВКА!#REF!,0)","v":{"$error":"#REF!"}},{"$f":"IF(ЗАЯВКА!#REF!=\"строительно-монтажные работы\",ЗАЯВКА!#REF!,0)","v":{"$error":"#REF!"}},{"$f":"IF(ЗАЯВКА!#REF!=\"да\",ЗАЯВКА!#REF!,0)","v":{"$error":"#REF!"}}]
[{"$f":"IF(ЗАЯВКА!#REF!=\"проектирование\",ЗАЯВКА!#REF!,0)","v":{"$error":"#REF!"}},{"$f":"IF(ЗАЯВКА!#REF!=\"строительно-монтажные работы\",ЗАЯВКА!#REF!,0)","v":{"$error":"#REF!"}},{"$f":"IF(ЗАЯВКА!#REF!=\"да\",ЗАЯВКА!#REF!,0)","v":{"$error":"#REF!"}}]
[{"$f":"IF(ЗАЯВКА!#REF!=\"проектирование\",ЗАЯВКА!#REF!,0)","v":{"$error":"#REF!"}},{"$f":"IF(ЗАЯВКА!#REF!=\"строительно-монтажные работы\",ЗАЯВКА!#REF!,0)","v":{"$error":"#REF!"}},{"$f":"IF(ЗАЯВКА!#REF!=\"да\",ЗАЯВКА!#REF!,0)","v":{"$error":"#REF!"}}]
[{"$f":"IF(ЗАЯВКА!#REF!=\"проектирование\",ЗАЯВКА!#REF!,0)","v":{"$error":"#REF!"}},{"$f":"IF(ЗАЯВКА!#REF!=\"строительно-монтажные работы\",ЗАЯВКА!#REF!,0)","v":{"$error":"#REF!"}},{"$f":"IF(ЗАЯВКА!#REF!=\"да\",ЗАЯВКА!#REF!,0)","v":{"$error":"#REF!"}}]
[{"$f":"IF(ЗАЯВКА!#REF!=\"проектирование\",ЗАЯВКА!#REF!,0)","v":{"$error":"#REF!"}},{"$f":"IF(ЗАЯВКА!#REF!=\"строительно-монтажные работы\",ЗАЯВКА!#REF!,0)","v":{"$error":"#REF!"}},{"$f":"IF(ЗАЯВКА!#REF!=\"да\",ЗАЯВКА!#REF!,0)","v":{"$error":"#REF!"}}]
[{"$f":"IF(ЗАЯВКА!#REF!=\"проектирование\",ЗАЯВКА!#REF!,0)","v":{"$error":"#REF!"}},{"$f":"IF(ЗАЯВКА!#REF!=\"строительно-монтажные работы\",ЗАЯВКА!#REF!,0)","v":{"$error":"#REF!"}},{"$f":"IF(ЗАЯВКА!#REF!=\"да\",ЗАЯВКА!#REF!,0)","v":{"$error":"#REF!"}}]
[{"$f":"IF(ЗАЯВКА!#REF!=\"проектирование\",ЗАЯВКА!#REF!,0)","v":{"$error":"#REF!"}},{"$f":"IF(ЗАЯВКА!#REF!=\"строительно-монтажные работы\",ЗАЯВКА!#REF!,0)","v":{"$error":"#REF!"}},{"$f":"IF(ЗАЯВКА!#REF!=\"да\",ЗАЯВКА!#REF!,0)","v":{"$error":"#REF!"}}]
[{"$f":"IF(ЗАЯВКА!#REF!=\"проектирование\",ЗАЯВКА!#REF!,0)","v":{"$error":"#REF!"}},{"$f":"IF(ЗАЯВКА!#REF!=\"строительно-монтажные работы\",ЗАЯВКА!#REF!,0)","v":{"$error":"#REF!"}},{"$f":"IF(ЗАЯВКА!#REF!=\"да\",ЗАЯВКА!#REF!,0)","v":{"$error":"#REF!"}}]
[{"$f":"IF(ЗАЯВКА!#REF!=\"проектирование\",ЗАЯВКА!#REF!,0)","v":{"$error":"#REF!"}},{"$f":"IF(ЗАЯВКА!#REF!=\"строительно-монтажные работы\",ЗАЯВКА!#REF!,0)","v":{"$error":"#REF!"}},{"$f":"IF(ЗАЯВКА!#REF!=\"да\",ЗАЯВКА!#REF!,0)","v":{"$error":"#REF!"}}]
[{"$f":"IF(ЗАЯВКА!#REF!=\"проектирование\",ЗАЯВКА!#REF!,0)","v":{"$error":"#REF!"}},{"$f":"IF(ЗАЯВКА!#REF!=\"строительно-монтажные работы\",ЗАЯВКА!#REF!,0)","v":{"$error":"#REF!"}},{"$f":"IF(ЗАЯВКА!#REF!=\"да\",ЗАЯВКА!#REF!,0)","v":{"$error":"#REF!"}}]
[{"$f":"IF(ЗАЯВКА!#REF!=\"проектирование\",ЗАЯВКА!#REF!,0)","v":{"$error":"#REF!"}},{"$f":"IF(ЗАЯВКА!#REF!=\"строительно-монтажные работы\",ЗАЯВКА!#REF!,0)","v":{"$error":"#REF!"}},{"$f":"IF(ЗАЯВКА!#REF!=\"да\",ЗАЯВКА!#REF!,0)","v":{"$error":"#REF!"}}]
[{"$f":"IF(ЗАЯВКА!#REF!=\"проектирование\",ЗАЯВКА!#REF!,0)","v":{"$error":"#REF!"}},{"$f":"IF(ЗАЯВКА!#REF!=\"строительно-монтажные работы\",ЗАЯВКА!#REF!,0)","v":{"$error":"#REF!"}},{"$f":"IF(ЗАЯВКА!#REF!=\"да\",ЗАЯВКА!#REF!,0)","v":{"$error":"#REF!"}}]
[{"$f":"IF(ЗАЯВКА!#REF!=\"проектирование\",ЗАЯВКА!#REF!,0)","v":{"$error":"#REF!"}},{"$f":"IF(ЗАЯВКА!#REF!=\"строительно-монтажные работы\",ЗАЯВКА!#REF!,0)","v":{"$error":"#REF!"}},{"$f":"IF(ЗАЯВКА!#REF!=\"да\",ЗАЯВКА!#REF!,0)","v":{"$error":"#REF!"}}]
[{"$f":"IF(ЗАЯВКА!#REF!=\"проектирование\",ЗАЯВКА!#REF!,0)","v":{"$error":"#REF!"}},{"$f":"IF(ЗАЯВКА!#REF!=\"строительно-монтажные работы\",ЗАЯВКА!#REF!,0)","v":{"$error":"#REF!"}},{"$f":"IF(ЗАЯВКА!#REF!=\"да\",ЗАЯВКА!#REF!,0)","v":{"$error":"#REF!"}}]
[{"$f":"IF(ЗАЯВКА!#REF!=\"проектирование\",ЗАЯВКА!#REF!,0)","v":{"$error":"#REF!"}},{"$f":"IF(ЗАЯВКА!#REF!=\"строительно-монтажные работы\",ЗАЯВКА!#REF!,0)","v":{"$error":"#REF!"}},{"$f":"IF(ЗАЯВКА!#REF!=\"да\",ЗАЯВКА!#REF!,0)","v":{"$error":"#REF!"}}]
[{"$f":"IF(ЗАЯВКА!#REF!=\"проектирование\",ЗАЯВКА!#REF!,0)","v":{"$error":"#REF!"}},{"$f":"IF(ЗАЯВКА!#REF!=\"строительно-монтажные работы\",ЗАЯВКА!#REF!,0)","v":{"$error":"#REF!"}},{"$f":"IF(ЗАЯВКА!#REF!=\"да\",ЗАЯВКА!#REF!,0)","v":{"$error":"#REF!"}}]
[{"$f":"IF(ЗАЯВКА!#REF!=\"проектирование\",ЗАЯВКА!#REF!,0)","v":{"$error":"#REF!"}},{"$f":"IF(ЗАЯВКА!#REF!=\"строительно-монтажные работы\",ЗАЯВКА!#REF!,0)","v":{"$error":"#REF!"}},{"$f":"IF(ЗАЯВКА!#REF!=\"да\",ЗАЯВКА!#REF!,0)","v":{"$error":"#REF!"}}]
[{"$f":"IF(ЗАЯВКА!#REF!=\"проектирование\",ЗАЯВКА!#REF!,0)","v":{"$error":"#REF!"}},{"$f":"IF(ЗАЯВКА!#REF!=\"строительно-монтажные работы\",ЗАЯВКА!#REF!,0)","v":{"$error":"#REF!"}},{"$f":"IF(ЗАЯВКА!#REF!=\"да\",ЗАЯВКА!#REF!,0)","v":{"$error":"#REF!"}}]
[{"$f":"IF(ЗАЯВКА!#REF!=\"проектирование\",ЗАЯВКА!#REF!,0)","v":{"$error":"#REF!"}},{"$f":"IF(ЗАЯВКА!#REF!=\"строительно-монтажные работы\",ЗАЯВКА!#REF!,0)","v":{"$error":"#REF!"}},{"$f":"IF(ЗАЯВКА!#REF!=\"да\",ЗАЯВКА!#REF!,0)","v":{"$error":"#REF!"}}]
[{"$f":"IF(ЗАЯВКА!#REF!=\"проектирование\",ЗАЯВКА!#REF!,0)","v":{"$error":"#REF!"}},{"$f":"IF(ЗАЯВКА!#REF!=\"строительно-монтажные работы\",ЗАЯВКА!#REF!,0)","v":{"$error":"#REF!"}},{"$f":"IF(ЗАЯВКА!#REF!=\"да\",ЗАЯВКА!#REF!,0)","v":{"$error":"#REF!"}}]
[{"$f":"IF(ЗАЯВКА!#REF!=\"проектирование\",ЗАЯВКА!#REF!,0)","v":{"$error":"#REF!"}},{"$f":"IF(ЗАЯВКА!#REF!=\"строительно-монтажные работы\",ЗАЯВКА!#REF!,0)","v":{"$error":"#REF!"}},{"$f":"IF(ЗАЯВКА!#REF!=\"да\",ЗАЯВКА!#REF!,0)","v":{"$error":"#REF!"}}]
[{"$f":"IF(ЗАЯВКА!#REF!=\"проектирование\",ЗАЯВКА!#REF!,0)","v":{"$error":"#REF!"}},{"$f":"IF(ЗАЯВКА!#REF!=\"строительно-монтажные работы\",ЗАЯВКА!#REF!,0)","v":{"$error":"#REF!"}},{"$f":"IF(ЗАЯВКА!#REF!=\"да\",ЗАЯВКА!#REF!,0)","v":{"$error":"#REF!"}}]
[{"$f":"IF(ЗАЯВКА!#REF!=\"проектирование\",ЗАЯВКА!#REF!,0)","v":{"$error":"#REF!"}},{"$f":"IF(ЗАЯВКА!#REF!=\"строительно-монтажные работы\",ЗАЯВКА!#REF!,0)","v":{"$error":"#REF!"}},{"$f":"IF(ЗАЯВКА!#REF!=\"да\",ЗАЯВКА!#REF!,0)","v":{"$error":"#REF!"}}]
[{"$f":"IF(ЗАЯВКА!#REF!=\"проектирование\",ЗАЯВКА!#REF!,0)","v":{"$error":"#REF!"}},{"$f":"IF(ЗАЯВКА!#REF!=\"строительно-монтажные работы\",ЗАЯВКА!#REF!,0)","v":{"$error":"#REF!"}},{"$f":"IF(ЗАЯВКА!#REF!=\"да\",ЗАЯВКА!#REF!,0)","v":{"$error":"#REF!"}}]
[{"$f":"IF(ЗАЯВКА!#REF!=\"проектирование\",ЗАЯВКА!#REF!,0)","v":{"$error":"#REF!"}},{"$f":"IF(ЗАЯВКА!#REF!=\"строительно-монтажные работы\",ЗАЯВКА!#REF!,0)","v":{"$error":"#REF!"}},{"$f":"IF(ЗАЯВКА!#REF!=\"да\",ЗАЯВКА!#REF!,0)","v":{"$error":"#REF!"}}]
[{"$f":"IF(ЗАЯВКА!#REF!=\"проектирование\",ЗАЯВКА!#REF!,0)","v":{"$error":"#REF!"}},{"$f":"IF(ЗАЯВКА!#REF!=\"строительно-монтажные работы\",ЗАЯВКА!#REF!,0)","v":{"$error":"#REF!"}},{"$f":"IF(ЗАЯВКА!#REF!=\"да\",ЗАЯВКА!#REF!,0)","v":{"$error":"#REF!"}}]
[{"$f":"IF(ЗАЯВКА!#REF!=\"проектирование\",ЗАЯВКА!#REF!,0)","v":{"$error":"#REF!"}},{"$f":"IF(ЗАЯВКА!#REF!=\"строительно-монтажные работы\",ЗАЯВКА!#REF!,0)","v":{"$error":"#REF!"}},{"$f":"IF(ЗАЯВКА!#REF!=\"да\",ЗАЯВКА!#REF!,0)","v":{"$error":"#REF!"}}]
[{"$f":"IF(ЗАЯВКА!#REF!=\"проектирование\",ЗАЯВКА!#REF!,0)","v":{"$error":"#REF!"}},{"$f":"IF(ЗАЯВКА!#REF!=\"строительно-монтажные работы\",ЗАЯВКА!#REF!,0)","v":{"$error":"#REF!"}},{"$f":"IF(ЗАЯВКА!#REF!=\"да\",ЗАЯВКА!#REF!,0)","v":{"$error":"#REF!"}}]
[{"$f":"IF(ЗАЯВКА!#REF!=\"проектирование\",ЗАЯВКА!#REF!,0)","v":{"$error":"#REF!"}},{"$f":"IF(ЗАЯВКА!#REF!=\"строительно-монтажные работы\",ЗАЯВКА!#REF!,0)","v":{"$error":"#REF!"}},{"$f":"IF(ЗАЯВКА!#REF!=\"да\",ЗАЯВКА!#REF!,0)","v":{"$error":"#REF!"}}]
[{"$f":"IF(ЗАЯВКА!#REF!=\"проектирование\",ЗАЯВКА!#REF!,0)","v":{"$error":"#REF!"}},{"$f":"IF(ЗАЯВКА!#REF!=\"строительно-монтажные работы\",ЗАЯВКА!#REF!,0)","v":{"$error":"#REF!"}},{"$f":"IF(ЗАЯВКА!#REF!=\"да\",ЗАЯВКА!#REF!,0)","v":{"$error":"#REF!"}}]
[{"$f":"IF(ЗАЯВКА!#REF!=\"проектирование\",ЗАЯВКА!#REF!,0)","v":{"$error":"#REF!"}},{"$f":"IF(ЗАЯВКА!#REF!=\"строительно-монтажные работы\",ЗАЯВКА!#REF!,0)","v":{"$error":"#REF!"}},{"$f":"IF(ЗАЯВКА!#REF!=\"да\",ЗАЯВКА!#REF!,0)","v":{"$error":"#REF!"}}]
[{"$f":"IF(ЗАЯВКА!#REF!=\"проектирование\",ЗАЯВКА!#REF!,0)","v":{"$error":"#REF!"}},{"$f":"IF(ЗАЯВКА!#REF!=\"строительно-монтажные работы\",ЗАЯВКА!#REF!,0)","v":{"$error":"#REF!"}},{"$f":"IF(ЗАЯВКА!#REF!=\"да\",ЗАЯВКА!#REF!,0)","v":{"$error":"#REF!"}}]
[{"$f":"IF(ЗАЯВКА!#REF!=\"проектирование\",ЗАЯВКА!#REF!,0)","v":{"$error":"#REF!"}},{"$f":"IF(ЗАЯВКА!#REF!=\"строительно-монтажные работы\",ЗАЯВКА!#REF!,0)","v":{"$error":"#REF!"}},{"$f":"IF(ЗАЯВКА!#REF!=\"да\",ЗАЯВКА!#REF!,0)","v":{"$error":"#REF!"}}]
[{"$f":"IF(ЗАЯВКА!#REF!=\"проектирование\",ЗАЯВКА!#REF!,0)","v":{"$error":"#REF!"}},{"$f":"IF(ЗАЯВКА!#REF!=\"строительно-монтажные работы\",ЗАЯВКА!#REF!,0)","v":{"$error":"#REF!"}},{"$f":"IF(ЗАЯВКА!#REF!=\"да\",ЗАЯВКА!#REF!,0)","v":{"$error":"#REF!"}}]
[{"$f":"IF(ЗАЯВКА!#REF!=\"проектирование\",ЗАЯВКА!#REF!,0)","v":{"$error":"#REF!"}},{"$f":"IF(ЗАЯВКА!#REF!=\"строительно-монтажные работы\",ЗАЯВКА!#REF!,0)","v":{"$error":"#REF!"}},{"$f":"IF(ЗАЯВКА!#REF!=\"да\",ЗАЯВКА!#REF!,0)","v":{"$error":"#REF!"}}]
[{"$f":"IF(ЗАЯВКА!#REF!=\"проектирование\",ЗАЯВКА!#REF!,0)","v":{"$error":"#REF!"}},{"$f":"IF(ЗАЯВКА!#REF!=\"строительно-монтажные работы\",ЗАЯВКА!#REF!,0)","v":{"$error":"#REF!"}},{"$f":"IF(ЗАЯВКА!#REF!=\"да\",ЗАЯВКА!#REF!,0)","v":{"$error":"#REF!"}}]
[{"$f":"IF(ЗАЯВКА!#REF!=\"проектирование\",ЗАЯВКА!#REF!,0)","v":{"$error":"#REF!"}},{"$f":"IF(ЗАЯВКА!#REF!=\"строительно-монтажные работы\",ЗАЯВКА!#REF!,0)","v":{"$error":"#REF!"}},{"$f":"IF(ЗАЯВКА!#REF!=\"да\",ЗАЯВКА!#REF!,0)","v":{"$error":"#REF!"}}]
[{"$f":"IF(ЗАЯВКА!#REF!=\"проектирование\",ЗАЯВКА!#REF!,0)","v":{"$error":"#REF!"}},{"$f":"IF(ЗАЯВКА!#REF!=\"строительно-монтажные работы\",ЗАЯВКА!#REF!,0)","v":{"$error":"#REF!"}},{"$f":"IF(ЗАЯВКА!#REF!=\"да\",ЗАЯВКА!#REF!,0)","v":{"$error":"#REF!"}}]
[{"$f":"IF(ЗАЯВКА!#REF!=\"проектирование\",ЗАЯВКА!#REF!,0)","v":{"$error":"#REF!"}},{"$f":"IF(ЗАЯВКА!#REF!=\"строительно-монтажные работы\",ЗАЯВКА!#REF!,0)","v":{"$error":"#REF!"}},{"$f":"IF(ЗАЯВКА!#REF!=\"да\",ЗАЯВКА!#REF!,0)","v":{"$error":"#REF!"}}]
[{"$f":"IF(ЗАЯВКА!#REF!=\"проектирование\",ЗАЯВКА!#REF!,0)","v":{"$error":"#REF!"}},{"$f":"IF(ЗАЯВКА!#REF!=\"строительно-монтажные работы\",ЗАЯВКА!#REF!,0)","v":{"$error":"#REF!"}},{"$f":"IF(ЗАЯВКА!#REF!=\"да\",ЗАЯВКА!#REF!,0)","v":{"$error":"#REF!"}}]
[{"$f":"IF(ЗАЯВКА!#REF!=\"проектирование\",ЗАЯВКА!#REF!,0)","v":{"$error":"#REF!"}},{"$f":"IF(ЗАЯВКА!#REF!=\"строительно-монтажные работы\",ЗАЯВКА!#REF!,0)","v":{"$error":"#REF!"}},{"$f":"IF(ЗАЯВКА!#REF!=\"да\",ЗАЯВКА!#REF!,0)","v":{"$error":"#REF!"}}]
[{"$f":"IF(ЗАЯВКА!#REF!=\"проектирование\",ЗАЯВКА!#REF!,0)","v":{"$error":"#REF!"}},{"$f":"IF(ЗАЯВКА!#REF!=\"строительно-монтажные работы\",ЗАЯВКА!#REF!,0)","v":{"$error":"#REF!"}},{"$f":"IF(ЗАЯВКА!#REF!=\"да\",ЗАЯВКА!#REF!,0)","v":{"$error":"#REF!"}}]
[{"$f":"IF(ЗАЯВКА!#REF!=\"проектирование\",ЗАЯВКА!#REF!,0)","v":{"$error":"#REF!"}},{"$f":"IF(ЗАЯВКА!#REF!=\"строительно-монтажные работы\",ЗАЯВКА!#REF!,0)","v":{"$error":"#REF!"}},{"$f":"IF(ЗАЯВКА!#REF!=\"да\",ЗАЯВКА!#REF!,0)","v":{"$error":"#REF!"}}]
[{"$f":"IF(ЗАЯВКА!#REF!=\"проектирование\",ЗАЯВКА!#REF!,0)","v":{"$error":"#REF!"}},{"$f":"IF(ЗАЯВКА!#REF!=\"строительно-монтажные работы\",ЗАЯВКА!#REF!,0)","v":{"$error":"#REF!"}},{"$f":"IF(ЗАЯВКА!#REF!=\"да\",ЗАЯВКА!#REF!,0)","v":{"$error":"#REF!"}}]
[{"$f":"IF(ЗАЯВКА!#REF!=\"проектирование\",ЗАЯВКА!#REF!,0)","v":{"$error":"#REF!"}},{"$f":"IF(ЗАЯВКА!#REF!=\"строительно-монтажные работы\",ЗАЯВКА!#REF!,0)","v":{"$error":"#REF!"}},{"$f":"IF(ЗАЯВКА!#REF!=\"да\",ЗАЯВКА!#REF!,0)","v":{"$error":"#REF!"}}]
[{"$f":"IF(ЗАЯВКА!#REF!=\"проектирование\",ЗАЯВКА!#REF!,0)","v":{"$error":"#REF!"}},{"$f":"IF(ЗАЯВКА!#REF!=\"строительно-монтажные работы\",ЗАЯВКА!#REF!,0)","v":{"$error":"#REF!"}},{"$f":"IF(ЗАЯВКА!#REF!=\"да\",ЗАЯВКА!#REF!,0)","v":{"$error":"#REF!"}}]
[{"$f":"IF(ЗАЯВКА!#REF!=\"проектирование\",ЗАЯВКА!#REF!,0)","v":{"$error":"#REF!"}},{"$f":"IF(ЗАЯВКА!#REF!=\"строительно-монтажные работы\",ЗАЯВКА!#REF!,0)","v":{"$error":"#REF!"}},{"$f":"IF(ЗАЯВКА!#REF!=\"да\",ЗАЯВКА!#REF!,0)","v":{"$error":"#REF!"}}]
[{"$f":"IF(ЗАЯВКА!#REF!=\"проектирование\",ЗАЯВКА!#REF!,0)","v":{"$error":"#REF!"}},{"$f":"IF(ЗАЯВКА!#REF!=\"строительно-монтажные работы\",ЗАЯВКА!#REF!,0)","v":{"$error":"#REF!"}},{"$f":"IF(ЗАЯВКА!#REF!=\"да\",ЗАЯВКА!#REF!,0)","v":{"$error":"#REF!"}}]
[{"$f":"IF(ЗАЯВКА!#REF!=\"проектирование\",ЗАЯВКА!#REF!,0)","v":{"$error":"#REF!"}},{"$f":"IF(ЗАЯВКА!#REF!=\"строительно-монтажные работы\",ЗАЯВКА!#REF!,0)","v":{"$error":"#REF!"}},{"$f":"IF(ЗАЯВКА!#REF!=\"да\",ЗАЯВКА!#REF!,0)","v":{"$error":"#REF!"}}]
[{"$f":"IF(ЗАЯВКА!#REF!=\"проектирование\",ЗАЯВКА!#REF!,0)","v":{"$error":"#REF!"}},{"$f":"IF(ЗАЯВКА!#REF!=\"строительно-монтажные работы\",ЗАЯВКА!#REF!,0)","v":{"$error":"#REF!"}},{"$f":"IF(ЗАЯВКА!#REF!=\"да\",ЗАЯВКА!#REF!,0)","v":{"$error":"#REF!"}}]
[{"$f":"IF(ЗАЯВКА!#REF!=\"проектирование\",ЗАЯВКА!#REF!,0)","v":{"$error":"#REF!"}},{"$f":"IF(ЗАЯВКА!#REF!=\"строительно-монтажные работы\",ЗАЯВКА!#REF!,0)","v":{"$error":"#REF!"}},{"$f":"IF(ЗАЯВКА!#REF!=\"да\",ЗАЯВКА!#REF!,0)","v":{"$error":"#REF!"}}]
[{"$f":"IF(ЗАЯВКА!#REF!=\"проектирование\",ЗАЯВКА!#REF!,0)","v":{"$error":"#REF!"}},{"$f":"IF(ЗАЯВКА!#REF!=\"строительно-монтажные работы\",ЗАЯВКА!#REF!,0)","v":{"$error":"#REF!"}},{"$f":"IF(ЗАЯВКА!#REF!=\"да\",ЗАЯВКА!#REF!,0)","v":{"$error":"#REF!"}}]
[{"$f":"IF(ЗАЯВКА!#REF!=\"проектирование\",ЗАЯВКА!#REF!,0)","v":{"$error":"#REF!"}},{"$f":"IF(ЗАЯВКА!#REF!=\"строительно-монтажные работы\",ЗАЯВКА!#REF!,0)","v":{"$error":"#REF!"}},{"$f":"IF(ЗАЯВКА!#REF!=\"да\",ЗАЯВКА!#REF!,0)","v":{"$error":"#REF!"}}]
[{"$f":"IF(ЗАЯВКА!#REF!=\"проектирование\",ЗАЯВКА!#REF!,0)","v":{"$error":"#REF!"}},{"$f":"IF(ЗАЯВКА!#REF!=\"строительно-монтажные работы\",ЗАЯВКА!#REF!,0)","v":{"$error":"#REF!"}},{"$f":"IF(ЗАЯВКА!#REF!=\"да\",ЗАЯВКА!#REF!,0)","v":{"$error":"#REF!"}}]
[{"$f":"IF(ЗАЯВКА!#REF!=\"проектирование\",ЗАЯВКА!#REF!,0)","v":{"$error":"#REF!"}},{"$f":"IF(ЗАЯВКА!#REF!=\"строительно-монтажные работы\",ЗАЯВКА!#REF!,0)","v":{"$error":"#REF!"}},{"$f":"IF(ЗАЯВКА!#REF!=\"да\",ЗАЯВКА!#REF!,0)","v":{"$error":"#REF!"}}]
[{"$f":"IF(ЗАЯВКА!#REF!=\"проектирование\",ЗАЯВКА!#REF!,0)","v":{"$error":"#REF!"}},{"$f":"IF(ЗАЯВКА!#REF!=\"строительно-монтажные работы\",ЗАЯВКА!#REF!,0)","v":{"$error":"#REF!"}},{"$f":"IF(ЗАЯВКА!#REF!=\"да\",ЗАЯВКА!#REF!,0)","v":{"$error":"#REF!"}}]
[{"$f":"IF(ЗАЯВКА!#REF!=\"проектирование\",ЗАЯВКА!#REF!,0)","v":{"$error":"#REF!"}},{"$f":"IF(ЗАЯВКА!#REF!=\"строительно-монтажные работы\",ЗАЯВКА!#REF!,0)","v":{"$error":"#REF!"}},{"$f":"IF(ЗАЯВКА!#REF!=\"да\",ЗАЯВКА!#REF!,0)","v":{"$error":"#REF!"}}]
[{"$f":"IF(ЗАЯВКА!#REF!=\"проектирование\",ЗАЯВКА!#REF!,0)","v":{"$error":"#REF!"}},{"$f":"IF(ЗАЯВКА!#REF!=\"строительно-монтажные работы\",ЗАЯВКА!#REF!,0)","v":{"$error":"#REF!"}},{"$f":"IF(ЗАЯВКА!#REF!=\"да\",ЗАЯВКА!#REF!,0)","v":{"$error":"#REF!"}}]
[{"$f":"IF(ЗАЯВКА!#REF!=\"проектирование\",ЗАЯВКА!#REF!,0)","v":{"$error":"#REF!"}},{"$f":"IF(ЗАЯВКА!#REF!=\"строительно-монтажные работы\",ЗАЯВКА!#REF!,0)","v":{"$error":"#REF!"}},{"$f":"IF(ЗАЯВКА!#REF!=\"да\",ЗАЯВКА!#REF!,0)","v":{"$error":"#REF!"}}]
[{"$f":"IF(ЗАЯВКА!#REF!=\"проектирование\",ЗАЯВКА!#REF!,0)","v":{"$error":"#REF!"}},{"$f":"IF(ЗАЯВКА!#REF!=\"строительно-монтажные работы\",ЗАЯВКА!#REF!,0)","v":{"$error":"#REF!"}},{"$f":"IF(ЗАЯВКА!#REF!=\"да\",ЗАЯВКА!#REF!,0)","v":{"$error":"#REF!"}}]
[{"$f":"IF(ЗАЯВКА!#REF!=\"проектирование\",ЗАЯВКА!#REF!,0)","v":{"$error":"#REF!"}},{"$f":"IF(ЗАЯВКА!#REF!=\"строительно-монтажные работы\",ЗАЯВКА!#REF!,0)","v":{"$error":"#REF!"}},{"$f":"IF(ЗАЯВКА!#REF!=\"да\",ЗАЯВКА!#REF!,0)","v":{"$error":"#REF!"}}]
[{"$f":"IF(ЗАЯВКА!#REF!=\"проектирование\",ЗАЯВКА!#REF!,0)","v":{"$error":"#REF!"}},{"$f":"IF(ЗАЯВКА!#REF!=\"строительно-монтажные работы\",ЗАЯВКА!#REF!,0)","v":{"$error":"#REF!"}},{"$f":"IF(ЗАЯВКА!#REF!=\"да\",ЗАЯВКА!#REF!,0)","v":{"$error":"#REF!"}}]
[{"$f":"IF(ЗАЯВКА!#REF!=\"проектирование\",ЗАЯВКА!#REF!,0)","v":{"$error":"#REF!"}},{"$f":"IF(ЗАЯВКА!#REF!=\"строительно-монтажные работы\",ЗАЯВКА!#REF!,0)","v":{"$error":"#REF!"}},{"$f":"IF(ЗАЯВКА!#REF!=\"да\",ЗАЯВКА!#REF!,0)","v":{"$error":"#REF!"}}]
[{"$f":"IF(ЗАЯВКА!#REF!=\"проектирование\",ЗАЯВКА!#REF!,0)","v":{"$error":"#REF!"}},{"$f":"IF(ЗАЯВКА!#REF!=\"строительно-монтажные работы\",ЗАЯВКА!#REF!,0)","v":{"$error":"#REF!"}},{"$f":"IF(ЗАЯВКА!#REF!=\"да\",ЗАЯВКА!#REF!,0)","v":{"$error":"#REF!"}}]
[{"$f":"IF(ЗАЯВКА!#REF!=\"проектирование\",ЗАЯВКА!#REF!,0)","v":{"$error":"#REF!"}},{"$f":"IF(ЗАЯВКА!#REF!=\"строительно-монтажные работы\",ЗАЯВКА!#REF!,0)","v":{"$error":"#REF!"}},{"$f":"IF(ЗАЯВКА!#REF!=\"да\",ЗАЯВКА!#REF!,0)","v":{"$error":"#REF!"}}]
[{"$f":"IF(ЗАЯВКА!#REF!=\"проектирование\",ЗАЯВКА!#REF!,0)","v":{"$error":"#REF!"}},{"$f":"IF(ЗАЯВКА!#REF!=\"строительно-монтажные работы\",ЗАЯВКА!#REF!,0)","v":{"$error":"#REF!"}},{"$f":"IF(ЗАЯВКА!#REF!=\"да\",ЗАЯВКА!#REF!,0)","v":{"$error":"#REF!"}}]
[{"$f":"IF(ЗАЯВКА!#REF!=\"проектирование\",ЗАЯВКА!#REF!,0)","v":{"$error":"#REF!"}},{"$f":"IF(ЗАЯВКА!#REF!=\"строительно-монтажные работы\",ЗАЯВКА!#REF!,0)","v":{"$error":"#REF!"}},{"$f":"IF(ЗАЯВКА!#REF!=\"да\",ЗАЯВКА!#REF!,0)","v":{"$error":"#REF!"}}]
[{"$f":"IF(ЗАЯВКА!#REF!=\"проектирование\",ЗАЯВКА!#REF!,0)","v":{"$error":"#REF!"}},{"$f":"IF(ЗАЯВКА!#REF!=\"строительно-монтажные работы\",ЗАЯВКА!#REF!,0)","v":{"$error":"#REF!"}},{"$f":"IF(ЗАЯВКА!#REF!=\"да\",ЗАЯВКА!#REF!,0)","v":{"$error":"#REF!"}}]
[{"$f":"IF(ЗАЯВКА!#REF!=\"проектирование\",ЗАЯВКА!#REF!,0)","v":{"$error":"#REF!"}},{"$f":"IF(ЗАЯВКА!#REF!=\"строительно-монтажные работы\",ЗАЯВКА!#REF!,0)","v":{"$error":"#REF!"}},{"$f":"IF(ЗАЯВКА!#REF!=\"да\",ЗАЯВКА!#REF!,0)","v":{"$error":"#REF!"}}]
[{"$f":"IF(ЗАЯВКА!#REF!=\"проектирование\",ЗАЯВКА!#REF!,0)","v":{"$error":"#REF!"}},{"$f":"IF(ЗАЯВКА!#REF!=\"строительно-монтажные работы\",ЗАЯВКА!#REF!,0)","v":{"$error":"#REF!"}},{"$f":"IF(ЗАЯВКА!#REF!=\"да\",ЗАЯВКА!#REF!,0)","v":{"$error":"#REF!"}}]
[{"$f":"IF(ЗАЯВКА!#REF!=\"проектирование\",ЗАЯВКА!#REF!,0)","v":{"$error":"#REF!"}},{"$f":"IF(ЗАЯВКА!#REF!=\"строительно-монтажные работы\",ЗАЯВКА!#REF!,0)","v":{"$error":"#REF!"}},{"$f":"IF(ЗАЯВКА!#REF!=\"да\",ЗАЯВКА!#REF!,0)","v":{"$error":"#REF!"}}]
[{"$f":"IF(ЗАЯВКА!#REF!=\"проектирование\",ЗАЯВКА!#REF!,0)","v":{"$error":"#REF!"}},{"$f":"IF(ЗАЯВКА!#REF!=\"строительно-монтажные работы\",ЗАЯВКА!#REF!,0)","v":{"$error":"#REF!"}},{"$f":"IF(ЗАЯВКА!#REF!=\"да\",ЗАЯВКА!#REF!,0)","v":{"$error":"#REF!"}}]
[{"$f":"IF(ЗАЯВКА!#REF!=\"проектирование\",ЗАЯВКА!#REF!,0)","v":{"$error":"#REF!"}},{"$f":"IF(ЗАЯВКА!#REF!=\"строительно-монтажные работы\",ЗАЯВКА!#REF!,0)","v":{"$error":"#REF!"}},{"$f":"IF(ЗАЯВКА!#REF!=\"да\",ЗАЯВКА!#REF!,0)","v":{"$error":"#REF!"}}]
[{"$f":"IF(ЗАЯВКА!#REF!=\"проектирование\",ЗАЯВКА!#REF!,0)","v":{"$error":"#REF!"}},{"$f":"IF(ЗАЯВКА!#REF!=\"строительно-монтажные работы\",ЗАЯВКА!#REF!,0)","v":{"$error":"#REF!"}},{"$f":"IF(ЗАЯВКА!#REF!=\"да\",ЗАЯВКА!#REF!,0)","v":{"$error":"#REF!"}}]
[{"$f":"IF(ЗАЯВКА!#REF!=\"проектирование\",ЗАЯВКА!#REF!,0)","v":{"$error":"#REF!"}},{"$f":"IF(ЗАЯВКА!#REF!=\"строительно-монтажные работы\",ЗАЯВКА!#REF!,0)","v":{"$error":"#REF!"}},{"$f":"IF(ЗАЯВКА!#REF!=\"да\",ЗАЯВКА!#REF!,0)","v":{"$error":"#REF!"}}]
[{"$f":"IF(ЗАЯВКА!#REF!=\"проектирование\",ЗАЯВКА!#REF!,0)","v":{"$error":"#REF!"}},{"$f":"IF(ЗАЯВКА!#REF!=\"строительно-монтажные работы\",ЗАЯВКА!#REF!,0)","v":{"$error":"#REF!"}},{"$f":"IF(ЗАЯВКА!#REF!=\"да\",ЗАЯВКА!#REF!,0)","v":{"$error":"#REF!"}}]
[{"$f":"IF(ЗАЯВКА!#REF!=\"проектирование\",ЗАЯВКА!#REF!,0)","v":{"$error":"#REF!"}},{"$f":"IF(ЗАЯВКА!#REF!=\"строительно-монтажные работы\",ЗАЯВКА!#REF!,0)","v":{"$error":"#REF!"}},{"$f":"IF(ЗАЯВКА!#REF!=\"да\",ЗАЯВКА!#REF!,0)","v":{"$error":"#REF!"}}]
[{"$f":"IF(ЗАЯВКА!#REF!=\"проектирование\",ЗАЯВКА!#REF!,0)","v":{"$error":"#REF!"}},{"$f":"IF(ЗАЯВКА!#REF!=\"строительно-монтажные работы\",ЗАЯВКА!#REF!,0)","v":{"$error":"#REF!"}},{"$f":"IF(ЗАЯВКА!#REF!=\"да\",ЗАЯВКА!#REF!,0)","v":{"$error":"#REF!"}}]
[{"$f":"IF(ЗАЯВКА!#REF!=\"проектирование\",ЗАЯВКА!#REF!,0)","v":{"$error":"#REF!"}},{"$f":"IF(ЗАЯВКА!#REF!=\"строительно-монтажные работы\",ЗАЯВКА!#REF!,0)","v":{"$error":"#REF!"}},{"$f":"IF(ЗАЯВКА!#REF!=\"да\",ЗАЯВКА!#REF!,0)","v":{"$error":"#REF!"}}]
[{"$f":"IF(ЗАЯВКА!#REF!=\"проектирование\",ЗАЯВКА!#REF!,0)","v":{"$error":"#REF!"}},{"$f":"IF(ЗАЯВКА!#REF!=\"строительно-монтажные работы\",ЗАЯВКА!#REF!,0)","v":{"$error":"#REF!"}},{"$f":"IF(ЗАЯВКА!#REF!=\"да\",ЗАЯВКА!#REF!,0)","v":{"$error":"#REF!"}}]
[{"$f":"IF(ЗАЯВКА!#REF!=\"проектирование\",ЗАЯВКА!#REF!,0)","v":{"$error":"#REF!"}},{"$f":"IF(ЗАЯВКА!#REF!=\"строительно-монтажные работы\",ЗАЯВКА!#REF!,0)","v":{"$error":"#REF!"}},{"$f":"IF(ЗАЯВКА!#REF!=\"да\",ЗАЯВКА!#REF!,0)","v":{"$error":"#REF!"}}]
[{"$f":"IF(ЗАЯВКА!#REF!=\"проектирование\",ЗАЯВКА!#REF!,0)","v":{"$error":"#REF!"}},{"$f":"IF(ЗАЯВКА!#REF!=\"строительно-монтажные работы\",ЗАЯВКА!#REF!,0)","v":{"$error":"#REF!"}},{"$f":"IF(ЗАЯВКА!#REF!=\"да\",ЗАЯВКА!#REF!,0)","v":{"$error":"#REF!"}}]
[{"$f":"IF(ЗАЯВКА!#REF!=\"проектирование\",ЗАЯВКА!#REF!,0)","v":{"$error":"#REF!"}},{"$f":"IF(ЗАЯВКА!#REF!=\"строительно-монтажные работы\",ЗАЯВКА!#REF!,0)","v":{"$error":"#REF!"}},{"$f":"IF(ЗАЯВКА!#REF!=\"да\",ЗАЯВКА!#REF!,0)","v":{"$error":"#REF!"}}]
[{"$f":"IF(ЗАЯВКА!#REF!=\"проектирование\",ЗАЯВКА!#REF!,0)","v":{"$error":"#REF!"}},{"$f":"IF(ЗАЯВКА!#REF!=\"строительно-монтажные работы\",ЗАЯВКА!#REF!,0)","v":{"$error":"#REF!"}},{"$f":"IF(ЗАЯВКА!#REF!=\"да\",ЗАЯВКА!#REF!,0)","v":{"$error":"#REF!"}}]
[{"$f":"IF(ЗАЯВКА!#REF!=\"проектирование\",ЗАЯВКА!#REF!,0)","v":{"$error":"#REF!"}},{"$f":"IF(ЗАЯВКА!#REF!=\"строительно-монтажные работы\",ЗАЯВКА!#REF!,0)","v":{"$error":"#REF!"}},{"$f":"IF(ЗАЯВКА!#REF!=\"да\",ЗАЯВКА!#REF!,0)","v":{"$error":"#REF!"}}]
[{"$f":"IF(ЗАЯВКА!#REF!=\"проектирование\",ЗАЯВКА!#REF!,0)","v":{"$error":"#REF!"}},{"$f":"IF(ЗАЯВКА!#REF!=\"строительно-монтажные работы\",ЗАЯВКА!#REF!,0)","v":{"$error":"#REF!"}},{"$f":"IF(ЗАЯВКА!#REF!=\"да\",ЗАЯВКА!#REF!,0)","v":{"$error":"#REF!"}}]
[{"$f":"IF(ЗАЯВКА!#REF!=\"проектирование\",ЗАЯВКА!#REF!,0)","v":{"$error":"#REF!"}},{"$f":"IF(ЗАЯВКА!#REF!=\"строительно-монтажные работы\",ЗАЯВКА!#REF!,0)","v":{"$error":"#REF!"}},{"$f":"IF(ЗАЯВКА!#REF!=\"да\",ЗАЯВКА!#REF!,0)","v":{"$error":"#REF!"}}]
[{"$f":"IF(ЗАЯВКА!#REF!=\"проектирование\",ЗАЯВКА!#REF!,0)","v":{"$error":"#REF!"}},{"$f":"IF(ЗАЯВКА!#REF!=\"строительно-монтажные работы\",ЗАЯВКА!#REF!,0)","v":{"$error":"#REF!"}},{"$f":"IF(ЗАЯВКА!#REF!=\"да\",ЗАЯВКА!#REF!,0)","v":{"$error":"#REF!"}}]
[{"$f":"IF(ЗАЯВКА!#REF!=\"проектирование\",ЗАЯВКА!#REF!,0)","v":{"$error":"#REF!"}},{"$f":"IF(ЗАЯВКА!#REF!=\"строительно-монтажные работы\",ЗАЯВКА!#REF!,0)","v":{"$error":"#REF!"}},{"$f":"IF(ЗАЯВКА!#REF!=\"да\",ЗАЯВКА!#REF!,0)","v":{"$error":"#REF!"}}]
[{"$f":"IF(ЗАЯВКА!#REF!=\"проектирование\",ЗАЯВКА!#REF!,0)","v":{"$error":"#REF!"}},{"$f":"IF(ЗАЯВКА!#REF!=\"строительно-монтажные работы\",ЗАЯВКА!#REF!,0)","v":{"$error":"#REF!"}},{"$f":"IF(ЗАЯВКА!#REF!=\"да\",ЗАЯВКА!#REF!,0)","v":{"$error":"#REF!"}}]
[{"$f":"IF(ЗАЯВКА!#REF!=\"проектирование\",ЗАЯВКА!#REF!,0)","v":{"$error":"#REF!"}},{"$f":"IF(ЗАЯВКА!#REF!=\"строительно-монтажные работы\",ЗАЯВКА!#REF!,0)","v":{"$error":"#REF!"}},{"$f":"IF(ЗАЯВКА!#REF!=\"да\",ЗАЯВКА!#REF!,0)","v":{"$error":"#REF!"}}]
[{"$f":"IF(ЗАЯВКА!#REF!=\"проектирование\",ЗАЯВКА!#REF!,0)","v":{"$error":"#REF!"}},{"$f":"IF(ЗАЯВКА!#REF!=\"строительно-монтажные работы\",ЗАЯВКА!#REF!,0)","v":{"$error":"#REF!"}},{"$f":"IF(ЗАЯВКА!#REF!=\"да\",ЗАЯВКА!#REF!,0)","v":{"$error":"#REF!"}}]
[{"$f":"IF(ЗАЯВКА!#REF!=\"проектирование\",ЗАЯВКА!#REF!,0)","v":{"$error":"#REF!"}},{"$f":"IF(ЗАЯВКА!#REF!=\"строительно-монтажные работы\",ЗАЯВКА!#REF!,0)","v":{"$error":"#REF!"}},{"$f":"IF(ЗАЯВКА!#REF!=\"да\",ЗАЯВКА!#REF!,0)","v":{"$error":"#REF!"}}]
[{"$f":"IF(ЗАЯВКА!#REF!=\"проектирование\",ЗАЯВКА!#REF!,0)","v":{"$error":"#REF!"}},{"$f":"IF(ЗАЯВКА!#REF!=\"строительно-монтажные работы\",ЗАЯВКА!#REF!,0)","v":{"$error":"#REF!"}},{"$f":"IF(ЗАЯВКА!#REF!=\"да\",ЗАЯВКА!#REF!,0)","v":{"$error":"#REF!"}}]
[{"$f":"IF(ЗАЯВКА!#REF!=\"проектирование\",ЗАЯВКА!#REF!,0)","v":{"$error":"#REF!"}},{"$f":"IF(ЗАЯВКА!#REF!=\"строительно-монтажные работы\",ЗАЯВКА!#REF!,0)","v":{"$error":"#REF!"}},{"$f":"IF(ЗАЯВКА!#REF!=\"да\",ЗАЯВКА!#REF!,0)","v":{"$error":"#REF!"}}]
[{"$f":"IF(ЗАЯВКА!#REF!=\"проектирование\",ЗАЯВКА!#REF!,0)","v":{"$error":"#REF!"}},{"$f":"IF(ЗАЯВКА!#REF!=\"строительно-монтажные работы\",ЗАЯВКА!#REF!,0)","v":{"$error":"#REF!"}},{"$f":"IF(ЗАЯВКА!#REF!=\"да\",ЗАЯВКА!#REF!,0)","v":{"$error":"#REF!"}}]
[{"$f":"IF(ЗАЯВКА!#REF!=\"проектирование\",ЗАЯВКА!#REF!,0)","v":{"$error":"#REF!"}},{"$f":"IF(ЗАЯВКА!#REF!=\"строительно-монтажные работы\",ЗАЯВКА!#REF!,0)","v":{"$error":"#REF!"}},{"$f":"IF(ЗАЯВКА!#REF!=\"да\",ЗАЯВКА!#REF!,0)","v":{"$error":"#REF!"}}]
[{"$f":"IF(ЗАЯВКА!#REF!=\"проектирование\",ЗАЯВКА!#REF!,0)","v":{"$error":"#REF!"}},{"$f":"IF(ЗАЯВКА!#REF!=\"строительно-монтажные работы\",ЗАЯВКА!#REF!,0)","v":{"$error":"#REF!"}},{"$f":"IF(ЗАЯВКА!#REF!=\"да\",ЗАЯВКА!#REF!,0)","v":{"$error":"#REF!"}}]
[{"$f":"IF(ЗАЯВКА!#REF!=\"проектирование\",ЗАЯВКА!#REF!,0)","v":{"$error":"#REF!"}},{"$f":"IF(ЗАЯВКА!#REF!=\"строительно-монтажные работы\",ЗАЯВКА!#REF!,0)","v":{"$error":"#REF!"}},{"$f":"IF(ЗАЯВКА!#REF!=\"да\",ЗАЯВКА!#REF!,0)","v":{"$error":"#REF!"}}]
[{"$f":"IF(ЗАЯВКА!#REF!=\"проектирование\",ЗАЯВКА!#REF!,0)","v":{"$error":"#REF!"}},{"$f":"IF(ЗАЯВКА!#REF!=\"строительно-монтажные работы\",ЗАЯВКА!#REF!,0)","v":{"$error":"#REF!"}},{"$f":"IF(ЗАЯВКА!#REF!=\"да\",ЗАЯВКА!#REF!,0)","v":{"$error":"#REF!"}}]
[{"$f":"IF(ЗАЯВКА!#REF!=\"проектирование\",ЗАЯВКА!#REF!,0)","v":{"$error":"#REF!"}},{"$f":"IF(ЗАЯВКА!#REF!=\"строительно-монтажные работы\",ЗАЯВКА!#REF!,0)","v":{"$error":"#REF!"}},{"$f":"IF(ЗАЯВКА!#REF!=\"да\",ЗАЯВКА!#REF!,0)","v":{"$error":"#REF!"}}]
[{"$f":"IF(ЗАЯВКА!#REF!=\"проектирование\",ЗАЯВКА!#REF!,0)","v":{"$error":"#REF!"}},{"$f":"IF(ЗАЯВКА!#REF!=\"строительно-монтажные работы\",ЗАЯВКА!#REF!,0)","v":{"$error":"#REF!"}},{"$f":"IF(ЗАЯВКА!#REF!=\"да\",ЗАЯВКА!#REF!,0)","v":{"$error":"#REF!"}}]
[{"$f":"IF(ЗАЯВКА!#REF!=\"проектирование\",ЗАЯВКА!#REF!,0)","v":{"$error":"#REF!"}},{"$f":"IF(ЗАЯВКА!#REF!=\"строительно-монтажные работы\",ЗАЯВКА!#REF!,0)","v":{"$error":"#REF!"}},{"$f":"IF(ЗАЯВКА!#REF!=\"да\",ЗАЯВКА!#REF!,0)","v":{"$error":"#REF!"}}]
[{"$f":"IF(ЗАЯВКА!#REF!=\"проектирование\",ЗАЯВКА!#REF!,0)","v":{"$error":"#REF!"}},{"$f":"IF(ЗАЯВКА!#REF!=\"строительно-монтажные работы\",ЗАЯВКА!#REF!,0)","v":{"$error":"#REF!"}},{"$f":"IF(ЗАЯВКА!#REF!=\"да\",ЗАЯВКА!#REF!,0)","v":{"$error":"#REF!"}}]
[{"$f":"IF(ЗАЯВКА!#REF!=\"проектирование\",ЗАЯВКА!#REF!,0)","v":{"$error":"#REF!"}},{"$f":"IF(ЗАЯВКА!#REF!=\"строительно-монтажные работы\",ЗАЯВКА!#REF!,0)","v":{"$error":"#REF!"}},{"$f":"IF(ЗАЯВКА!#REF!=\"да\",ЗАЯВКА!#REF!,0)","v":{"$error":"#REF!"}}]
[{"$f":"IF(ЗАЯВКА!#REF!=\"проектирование\",ЗАЯВКА!#REF!,0)","v":{"$error":"#REF!"}},{"$f":"IF(ЗАЯВКА!#REF!=\"строительно-монтажные работы\",ЗАЯВКА!#REF!,0)","v":{"$error":"#REF!"}},{"$f":"IF(ЗАЯВКА!#REF!=\"да\",ЗАЯВКА!#REF!,0)","v":{"$error":"#REF!"}}]
[{"$f":"IF(ЗАЯВКА!#REF!=\"проектирование\",ЗАЯВКА!#REF!,0)","v":{"$error":"#REF!"}},{"$f":"IF(ЗАЯВКА!#REF!=\"строительно-монтажные работы\",ЗАЯВКА!#REF!,0)","v":{"$error":"#REF!"}},{"$f":"IF(ЗАЯВКА!#REF!=\"да\",ЗАЯВКА!#REF!,0)","v":{"$error":"#REF!"}}]
[{"$f":"IF(ЗАЯВКА!#REF!=\"проектирование\",ЗАЯВКА!#REF!,0)","v":{"$error":"#REF!"}},{"$f":"IF(ЗАЯВКА!#REF!=\"строительно-монтажные работы\",ЗАЯВКА!#REF!,0)","v":{"$error":"#REF!"}},{"$f":"IF(ЗАЯВКА!#REF!=\"да\",ЗАЯВКА!#REF!,0)","v":{"$error":"#REF!"}}]
[{"$f":"IF(ЗАЯВКА!#REF!=\"проектирование\",ЗАЯВКА!#REF!,0)","v":{"$error":"#REF!"}},{"$f":"IF(ЗАЯВКА!#REF!=\"строительно-монтажные работы\",ЗАЯВКА!#REF!,0)","v":{"$error":"#REF!"}},{"$f":"IF(ЗАЯВКА!#REF!=\"да\",ЗАЯВКА!#REF!,0)","v":{"$error":"#REF!"}}]
[{"$f":"IF(ЗАЯВКА!#REF!=\"проектирование\",ЗАЯВКА!#REF!,0)","v":{"$error":"#REF!"}},{"$f":"IF(ЗАЯВКА!#REF!=\"строительно-монтажные работы\",ЗАЯВКА!#REF!,0)","v":{"$error":"#REF!"}},{"$f":"IF(ЗАЯВКА!#REF!=\"да\",ЗАЯВКА!#REF!,0)","v":{"$error":"#REF!"}}]
[{"$f":"IF(ЗАЯВКА!#REF!=\"проектирование\",ЗАЯВКА!#REF!,0)","v":{"$error":"#REF!"}},{"$f":"IF(ЗАЯВКА!#REF!=\"строительно-монтажные работы\",ЗАЯВКА!#REF!,0)","v":{"$error":"#REF!"}},{"$f":"IF(ЗАЯВКА!#REF!=\"да\",ЗАЯВКА!#REF!,0)","v":{"$error":"#REF!"}}]
[{"$f":"IF(ЗАЯВКА!#REF!=\"проектирование\",ЗАЯВКА!#REF!,0)","v":{"$error":"#REF!"}},{"$f":"IF(ЗАЯВКА!#REF!=\"строительно-монтажные работы\",ЗАЯВКА!#REF!,0)","v":{"$error":"#REF!"}},{"$f":"IF(ЗАЯВКА!#REF!=\"да\",ЗАЯВКА!#REF!,0)","v":{"$error":"#REF!"}}]
[{"$f":"IF(ЗАЯВКА!#REF!=\"проектирование\",ЗАЯВКА!#REF!,0)","v":{"$error":"#REF!"}},{"$f":"IF(ЗАЯВКА!#REF!=\"строительно-монтажные работы\",ЗАЯВКА!#REF!,0)","v":{"$error":"#REF!"}},{"$f":"IF(ЗАЯВКА!#REF!=\"да\",ЗАЯВКА!#REF!,0)","v":{"$error":"#REF!"}}]
[{"$f":"IF(ЗАЯВКА!#REF!=\"проектирование\",ЗАЯВКА!#REF!,0)","v":{"$error":"#REF!"}},{"$f":"IF(ЗАЯВКА!#REF!=\"строительно-монтажные работы\",ЗАЯВКА!#REF!,0)","v":{"$error":"#REF!"}},{"$f":"IF(ЗАЯВКА!#REF!=\"да\",ЗАЯВКА!#REF!,0)","v":{"$error":"#REF!"}}]
[{"$f":"IF(ЗАЯВКА!#REF!=\"проектирование\",ЗАЯВКА!#REF!,0)","v":{"$error":"#REF!"}},{"$f":"IF(ЗАЯВКА!#REF!=\"строительно-монтажные работы\",ЗАЯВКА!#REF!,0)","v":{"$error":"#REF!"}},{"$f":"IF(ЗАЯВКА!#REF!=\"да\",ЗАЯВКА!#REF!,0)","v":{"$error":"#REF!"}}]
[{"$f":"IF(ЗАЯВКА!#REF!=\"проектирование\",ЗАЯВКА!#REF!,0)","v":{"$error":"#REF!"}},{"$f":"IF(ЗАЯВКА!#REF!=\"строительно-монтажные работы\",ЗАЯВКА!#REF!,0)","v":{"$error":"#REF!"}},{"$f":"IF(ЗАЯВКА!#REF!=\"да\",ЗАЯВКА!#REF!,0)","v":{"$error":"#REF!"}}]
[{"$f":"IF(ЗАЯВКА!#REF!=\"проектирование\",ЗАЯВКА!#REF!,0)","v":{"$error":"#REF!"}},{"$f":"IF(ЗАЯВКА!#REF!=\"строительно-монтажные работы\",ЗАЯВКА!#REF!,0)","v":{"$error":"#REF!"}},{"$f":"IF(ЗАЯВКА!#REF!=\"да\",ЗАЯВКА!#REF!,0)","v":{"$error":"#REF!"}}]
[{"$f":"IF(ЗАЯВКА!#REF!=\"проектирование\",ЗАЯВКА!#REF!,0)","v":{"$error":"#REF!"}},{"$f":"IF(ЗАЯВКА!#REF!=\"строительно-монтажные работы\",ЗАЯВКА!#REF!,0)","v":{"$error":"#REF!"}},{"$f":"IF(ЗАЯВКА!#REF!=\"да\",ЗАЯВКА!#REF!,0)","v":{"$error":"#REF!"}}]
[{"$f":"IF(ЗАЯВКА!#REF!=\"проектирование\",ЗАЯВКА!#REF!,0)","v":{"$error":"#REF!"}},{"$f":"IF(ЗАЯВКА!#REF!=\"строительно-монтажные работы\",ЗАЯВКА!#REF!,0)","v":{"$error":"#REF!"}},{"$f":"IF(ЗАЯВКА!#REF!=\"да\",ЗАЯВКА!#REF!,0)","v":{"$error":"#REF!"}}]
[{"$f":"IF(ЗАЯВКА!#REF!=\"проектирование\",ЗАЯВКА!#REF!,0)","v":{"$error":"#REF!"}},{"$f":"IF(ЗАЯВКА!#REF!=\"строительно-монтажные работы\",ЗАЯВКА!#REF!,0)","v":{"$error":"#REF!"}},{"$f":"IF(ЗАЯВКА!#REF!=\"да\",ЗАЯВКА!#REF!,0)","v":{"$error":"#REF!"}}]
[{"$f":"IF(ЗАЯВКА!#REF!=\"проектирование\",ЗАЯВКА!#REF!,0)","v":{"$error":"#REF!"}},{"$f":"IF(ЗАЯВКА!#REF!=\"строительно-монтажные работы\",ЗАЯВКА!#REF!,0)","v":{"$error":"#REF!"}},{"$f":"IF(ЗАЯВКА!#REF!=\"да\",ЗАЯВКА!#REF!,0)","v":{"$error":"#REF!"}}]
[{"$f":"IF(ЗАЯВКА!#REF!=\"проектирование\",ЗАЯВКА!#REF!,0)","v":{"$error":"#REF!"}},{"$f":"IF(ЗАЯВКА!#REF!=\"строительно-монтажные работы\",ЗАЯВКА!#REF!,0)","v":{"$error":"#REF!"}},{"$f":"IF(ЗАЯВКА!#REF!=\"да\",ЗАЯВКА!#REF!,0)","v":{"$error":"#REF!"}}]
[{"$f":"IF(ЗАЯВКА!#REF!=\"проектирование\",ЗАЯВКА!#REF!,0)","v":{"$error":"#REF!"}},{"$f":"IF(ЗАЯВКА!#REF!=\"строительно-монтажные работы\",ЗАЯВКА!#REF!,0)","v":{"$error":"#REF!"}},{"$f":"IF(ЗАЯВКА!#REF!=\"да\",ЗАЯВКА!#REF!,0)","v":{"$error":"#REF!"}}]
[{"$f":"IF(ЗАЯВКА!#REF!=\"проектирование\",ЗАЯВКА!#REF!,0)","v":{"$error":"#REF!"}},{"$f":"IF(ЗАЯВКА!#REF!=\"строительно-монтажные работы\",ЗАЯВКА!#REF!,0)","v":{"$error":"#REF!"}},{"$f":"IF(ЗАЯВКА!#REF!=\"да\",ЗАЯВКА!#REF!,0)","v":{"$error":"#REF!"}}]
[{"$f":"IF(ЗАЯВКА!#REF!=\"проектирование\",ЗАЯВКА!#REF!,0)","v":{"$error":"#REF!"}},{"$f":"IF(ЗАЯВКА!#REF!=\"строительно-монтажные работы\",ЗАЯВКА!#REF!,0)","v":{"$error":"#REF!"}},{"$f":"IF(ЗАЯВКА!#REF!=\"да\",ЗАЯВКА!#REF!,0)","v":{"$error":"#REF!"}}]
[{"$f":"IF(ЗАЯВКА!#REF!=\"проектирование\",ЗАЯВКА!#REF!,0)","v":{"$error":"#REF!"}},{"$f":"IF(ЗАЯВКА!#REF!=\"строительно-монтажные работы\",ЗАЯВКА!#REF!,0)","v":{"$error":"#REF!"}},{"$f":"IF(ЗАЯВКА!#REF!=\"да\",ЗАЯВКА!#REF!,0)","v":{"$error":"#REF!"}}]
[{"$f":"IF(ЗАЯВКА!#REF!=\"проектирование\",ЗАЯВКА!#REF!,0)","v":{"$error":"#REF!"}},{"$f":"IF(ЗАЯВКА!#REF!=\"строительно-монтажные работы\",ЗАЯВКА!#REF!,0)","v":{"$error":"#REF!"}},{"$f":"IF(ЗАЯВКА!#REF!=\"да\",ЗАЯВКА!#REF!,0)","v":{"$error":"#REF!"}}]
[{"$f":"IF(ЗАЯВКА!#REF!=\"проектирование\",ЗАЯВКА!#REF!,0)","v":{"$error":"#REF!"}},{"$f":"IF(ЗАЯВКА!#REF!=\"строительно-монтажные работы\",ЗАЯВКА!#REF!,0)","v":{"$error":"#REF!"}},{"$f":"IF(ЗАЯВКА!#REF!=\"да\",ЗАЯВКА!#REF!,0)","v":{"$error":"#REF!"}}]
[{"$f":"IF(ЗАЯВКА!#REF!=\"проектирование\",ЗАЯВКА!#REF!,0)","v":{"$error":"#REF!"}},{"$f":"IF(ЗАЯВКА!#REF!=\"строительно-монтажные работы\",ЗАЯВКА!#REF!,0)","v":{"$error":"#REF!"}},{"$f":"IF(ЗАЯВКА!#REF!=\"да\",ЗАЯВКА!#REF!,0)","v":{"$error":"#REF!"}}]
[{"$f":"IF(ЗАЯВКА!#REF!=\"проектирование\",ЗАЯВКА!#REF!,0)","v":{"$error":"#REF!"}},{"$f":"IF(ЗАЯВКА!#REF!=\"строительно-монтажные работы\",ЗАЯВКА!#REF!,0)","v":{"$error":"#REF!"}},{"$f":"IF(ЗАЯВКА!#REF!=\"да\",ЗАЯВКА!#REF!,0)","v":{"$error":"#REF!"}}]
[{"$f":"IF(ЗАЯВКА!#REF!=\"проектирование\",ЗАЯВКА!#REF!,0)","v":{"$error":"#REF!"}},{"$f":"IF(ЗАЯВКА!#REF!=\"строительно-монтажные работы\",ЗАЯВКА!#REF!,0)","v":{"$error":"#REF!"}},{"$f":"IF(ЗАЯВКА!#REF!=\"да\",ЗАЯВКА!#REF!,0)","v":{"$error":"#REF!"}}]
[{"$f":"IF(ЗАЯВКА!#REF!=\"проектирование\",ЗАЯВКА!#REF!,0)","v":{"$error":"#REF!"}},{"$f":"IF(ЗАЯВКА!#REF!=\"строительно-монтажные работы\",ЗАЯВКА!#REF!,0)","v":{"$error":"#REF!"}},{"$f":"IF(ЗАЯВКА!#REF!=\"да\",ЗАЯВКА!#REF!,0)","v":{"$error":"#REF!"}}]
[{"$f":"IF(ЗАЯВКА!#REF!=\"проектирование\",ЗАЯВКА!#REF!,0)","v":{"$error":"#REF!"}},{"$f":"IF(ЗАЯВКА!#REF!=\"строительно-монтажные работы\",ЗАЯВКА!#REF!,0)","v":{"$error":"#REF!"}},{"$f":"IF(ЗАЯВКА!#REF!=\"да\",ЗАЯВКА!#REF!,0)","v":{"$error":"#REF!"}}]
[{"$f":"IF(ЗАЯВКА!#REF!=\"проектирование\",ЗАЯВКА!#REF!,0)","v":{"$error":"#REF!"}},{"$f":"IF(ЗАЯВКА!#REF!=\"строительно-монтажные работы\",ЗАЯВКА!#REF!,0)","v":{"$error":"#REF!"}},{"$f":"IF(ЗАЯВКА!#REF!=\"да\",ЗАЯВКА!#REF!,0)","v":{"$error":"#REF!"}}]
[{"$f":"IF(ЗАЯВКА!#REF!=\"проектирование\",ЗАЯВКА!#REF!,0)","v":{"$error":"#REF!"}},{"$f":"IF(ЗАЯВКА!#REF!=\"строительно-монтажные работы\",ЗАЯВКА!#REF!,0)","v":{"$error":"#REF!"}},{"$f":"IF(ЗАЯВКА!#REF!=\"да\",ЗАЯВКА!#REF!,0)","v":{"$error":"#REF!"}}]
[{"$f":"IF(ЗАЯВКА!#REF!=\"проектирование\",ЗАЯВКА!#REF!,0)","v":{"$error":"#REF!"}},{"$f":"IF(ЗАЯВКА!#REF!=\"строительно-монтажные работы\",ЗАЯВКА!#REF!,0)","v":{"$error":"#REF!"}},{"$f":"IF(ЗАЯВКА!#REF!=\"да\",ЗАЯВКА!#REF!,0)","v":{"$error":"#REF!"}}]
[{"$f":"IF(ЗАЯВКА!#REF!=\"проектирование\",ЗАЯВКА!#REF!,0)","v":{"$error":"#REF!"}},{"$f":"IF(ЗАЯВКА!#REF!=\"строительно-монтажные работы\",ЗАЯВКА!#REF!,0)","v":{"$error":"#REF!"}},{"$f":"IF(ЗАЯВКА!#REF!=\"да\",ЗАЯВКА!#REF!,0)","v":{"$error":"#REF!"}}]
[{"$f":"IF(ЗАЯВКА!#REF!=\"проектирование\",ЗАЯВКА!#REF!,0)","v":{"$error":"#REF!"}},{"$f":"IF(ЗАЯВКА!#REF!=\"строительно-монтажные работы\",ЗАЯВКА!#REF!,0)","v":{"$error":"#REF!"}},{"$f":"IF(ЗАЯВКА!#REF!=\"да\",ЗАЯВКА!#REF!,0)","v":{"$error":"#REF!"}}]
[{"$f":"IF(ЗАЯВКА!#REF!=\"проектирование\",ЗАЯВКА!#REF!,0)","v":{"$error":"#REF!"}},{"$f":"IF(ЗАЯВКА!#REF!=\"строительно-монтажные работы\",ЗАЯВКА!#REF!,0)","v":{"$error":"#REF!"}},{"$f":"IF(ЗАЯВКА!#REF!=\"да\",ЗАЯВКА!#REF!,0)","v":{"$error":"#REF!"}}]
[{"$f":"IF(ЗАЯВКА!#REF!=\"проектирование\",ЗАЯВКА!#REF!,0)","v":{"$error":"#REF!"}},{"$f":"IF(ЗАЯВКА!#REF!=\"строительно-монтажные работы\",ЗАЯВКА!#REF!,0)","v":{"$error":"#REF!"}},{"$f":"IF(ЗАЯВКА!#REF!=\"да\",ЗАЯВКА!#REF!,0)","v":{"$error":"#REF!"}}]
[{"$f":"IF(ЗАЯВКА!#REF!=\"проектирование\",ЗАЯВКА!#REF!,0)","v":{"$error":"#REF!"}},{"$f":"IF(ЗАЯВКА!#REF!=\"строительно-монтажные работы\",ЗАЯВКА!#REF!,0)","v":{"$error":"#REF!"}},{"$f":"IF(ЗАЯВКА!#REF!=\"да\",ЗАЯВКА!#REF!,0)","v":{"$error":"#REF!"}}]
[{"$f":"IF(ЗАЯВКА!#REF!=\"проектирование\",ЗАЯВКА!#REF!,0)","v":{"$error":"#REF!"}},{"$f":"IF(ЗАЯВКА!#REF!=\"строительно-монтажные работы\",ЗАЯВКА!#REF!,0)","v":{"$error":"#REF!"}},{"$f":"IF(ЗАЯВКА!#REF!=\"да\",ЗАЯВКА!#REF!,0)","v":{"$error":"#REF!"}}]
[{"$f":"IF(ЗАЯВКА!#REF!=\"проектирование\",ЗАЯВКА!#REF!,0)","v":{"$error":"#REF!"}},{"$f":"IF(ЗАЯВКА!#REF!=\"строительно-монтажные работы\",ЗАЯВКА!#REF!,0)","v":{"$error":"#REF!"}},{"$f":"IF(ЗАЯВКА!#REF!=\"да\",ЗАЯВКА!#REF!,0)","v":{"$error":"#REF!"}}]
[{"$f":"IF(ЗАЯВКА!#REF!=\"проектирование\",ЗАЯВКА!#REF!,0)","v":{"$error":"#REF!"}},{"$f":"IF(ЗАЯВКА!#REF!=\"строительно-монтажные работы\",ЗАЯВКА!#REF!,0)","v":{"$error":"#REF!"}},{"$f":"IF(ЗАЯВКА!#REF!=\"да\",ЗАЯВКА!#REF!,0)","v":{"$error":"#REF!"}}]
[{"$f":"IF(ЗАЯВКА!#REF!=\"проектирование\",ЗАЯВКА!#REF!,0)","v":{"$error":"#REF!"}},{"$f":"IF(ЗАЯВКА!#REF!=\"строительно-монтажные работы\",ЗАЯВКА!#REF!,0)","v":{"$error":"#REF!"}},{"$f":"IF(ЗАЯВКА!#REF!=\"да\",ЗАЯВКА!#REF!,0)","v":{"$error":"#REF!"}}]
[{"$f":"IF(ЗАЯВКА!#REF!=\"проектирование\",ЗАЯВКА!#REF!,0)","v":{"$error":"#REF!"}},{"$f":"IF(ЗАЯВКА!#REF!=\"строительно-монтажные работы\",ЗАЯВКА!#REF!,0)","v":{"$error":"#REF!"}},{"$f":"IF(ЗАЯВКА!#REF!=\"да\",ЗАЯВКА!#REF!,0)","v":{"$error":"#REF!"}}]
[{"$f":"IF(ЗАЯВКА!#REF!=\"проектирование\",ЗАЯВКА!#REF!,0)","v":{"$error":"#REF!"}},{"$f":"IF(ЗАЯВКА!#REF!=\"строительно-монтажные работы\",ЗАЯВКА!#REF!,0)","v":{"$error":"#REF!"}},{"$f":"IF(ЗАЯВКА!#REF!=\"да\",ЗАЯВКА!#REF!,0)","v":{"$error":"#REF!"}}]
[{"$f":"IF(ЗАЯВКА!#REF!=\"проектирование\",ЗАЯВКА!#REF!,0)","v":{"$error":"#REF!"}},{"$f":"IF(ЗАЯВКА!#REF!=\"строительно-монтажные работы\",ЗАЯВКА!#REF!,0)","v":{"$error":"#REF!"}},{"$f":"IF(ЗАЯВКА!#REF!=\"да\",ЗАЯВКА!#REF!,0)","v":{"$error":"#REF!"}}]
[{"$f":"IF(ЗАЯВКА!#REF!=\"проектирование\",ЗАЯВКА!#REF!,0)","v":{"$error":"#REF!"}},{"$f":"IF(ЗАЯВКА!#REF!=\"строительно-монтажные работы\",ЗАЯВКА!#REF!,0)","v":{"$error":"#REF!"}},{"$f":"IF(ЗАЯВКА!#REF!=\"да\",ЗАЯВКА!#REF!,0)","v":{"$error":"#REF!"}}]
[{"$f":"IF(ЗАЯВКА!#REF!=\"проектирование\",ЗАЯВКА!#REF!,0)","v":{"$error":"#REF!"}},{"$f":"IF(ЗАЯВКА!#REF!=\"строительно-монтажные работы\",ЗАЯВКА!#REF!,0)","v":{"$error":"#REF!"}},{"$f":"IF(ЗАЯВКА!#REF!=\"да\",ЗАЯВКА!#REF!,0)","v":{"$error":"#REF!"}}]
[{"$f":"IF(ЗАЯВКА!#REF!=\"проектирование\",ЗАЯВКА!#REF!,0)","v":{"$error":"#REF!"}},{"$f":"IF(ЗАЯВКА!#REF!=\"строительно-монтажные работы\",ЗАЯВКА!#REF!,0)","v":{"$error":"#REF!"}},{"$f":"IF(ЗАЯВКА!#REF!=\"да\",ЗАЯВКА!#REF!,0)","v":{"$error":"#REF!"}}]
[{"$f":"IF(ЗАЯВКА!#REF!=\"проектирование\",ЗАЯВКА!#REF!,0)","v":{"$error":"#REF!"}},{"$f":"IF(ЗАЯВКА!#REF!=\"строительно-монтажные работы\",ЗАЯВКА!#REF!,0)","v":{"$error":"#REF!"}},{"$f":"IF(ЗАЯВКА!#REF!=\"да\",ЗАЯВКА!#REF!,0)","v":{"$error":"#REF!"}}]
[{"$f":"IF(ЗАЯВКА!#REF!=\"проектирование\",ЗАЯВКА!#REF!,0)","v":{"$error":"#REF!"}},{"$f":"IF(ЗАЯВКА!#REF!=\"строительно-монтажные работы\",ЗАЯВКА!#REF!,0)","v":{"$error":"#REF!"}},{"$f":"IF(ЗАЯВКА!#REF!=\"да\",ЗАЯВКА!#REF!,0)","v":{"$error":"#REF!"}}]
[{"$f":"IF(ЗАЯВКА!#REF!=\"проектирование\",ЗАЯВКА!#REF!,0)","v":{"$error":"#REF!"}},{"$f":"IF(ЗАЯВКА!#REF!=\"строительно-монтажные работы\",ЗАЯВКА!#REF!,0)","v":{"$error":"#REF!"}},{"$f":"IF(ЗАЯВКА!#REF!=\"да\",ЗАЯВКА!#REF!,0)","v":{"$error":"#REF!"}}]
[{"$f":"IF(ЗАЯВКА!#REF!=\"проектирование\",ЗАЯВКА!#REF!,0)","v":{"$error":"#REF!"}},{"$f":"IF(ЗАЯВКА!#REF!=\"строительно-монтажные работы\",ЗАЯВКА!#REF!,0)","v":{"$error":"#REF!"}},{"$f":"IF(ЗАЯВКА!#REF!=\"да\",ЗАЯВКА!#REF!,0)","v":{"$error":"#REF!"}}]
[{"$f":"IF(ЗАЯВКА!#REF!=\"проектирование\",ЗАЯВКА!#REF!,0)","v":{"$error":"#REF!"}},{"$f":"IF(ЗАЯВКА!#REF!=\"строительно-монтажные работы\",ЗАЯВКА!#REF!,0)","v":{"$error":"#REF!"}},{"$f":"IF(ЗАЯВКА!#REF!=\"да\",ЗАЯВКА!#REF!,0)","v":{"$error":"#REF!"}}]
[{"$f":"IF(ЗАЯВКА!#REF!=\"проектирование\",ЗАЯВКА!#REF!,0)","v":{"$error":"#REF!"}},{"$f":"IF(ЗАЯВКА!#REF!=\"строительно-монтажные работы\",ЗАЯВКА!#REF!,0)","v":{"$error":"#REF!"}},{"$f":"IF(ЗАЯВКА!#REF!=\"да\",ЗАЯВКА!#REF!,0)","v":{"$error":"#REF!"}}]
[{"$f":"IF(ЗАЯВКА!#REF!=\"проектирование\",ЗАЯВКА!#REF!,0)","v":{"$error":"#REF!"}},{"$f":"IF(ЗАЯВКА!#REF!=\"строительно-монтажные работы\",ЗАЯВКА!#REF!,0)","v":{"$error":"#REF!"}},{"$f":"IF(ЗАЯВКА!#REF!=\"да\",ЗАЯВКА!#REF!,0)","v":{"$error":"#REF!"}}]
[{"$f":"IF(ЗАЯВКА!#REF!=\"проектирование\",ЗАЯВКА!#REF!,0)","v":{"$error":"#REF!"}},{"$f":"IF(ЗАЯВКА!#REF!=\"строительно-монтажные работы\",ЗАЯВКА!#REF!,0)","v":{"$error":"#REF!"}},{"$f":"IF(ЗАЯВКА!#REF!=\"да\",ЗАЯВКА!#REF!,0)","v":{"$error":"#REF!"}}]
[{"$f":"IF(ЗАЯВКА!#REF!=\"проектирование\",ЗАЯВКА!#REF!,0)","v":{"$error":"#REF!"}},{"$f":"IF(ЗАЯВКА!#REF!=\"строительно-монтажные работы\",ЗАЯВКА!#REF!,0)","v":{"$error":"#REF!"}},{"$f":"IF(ЗАЯВКА!#REF!=\"да\",ЗАЯВКА!#REF!,0)","v":{"$error":"#REF!"}}]
[{"$f":"IF(ЗАЯВКА!#REF!=\"проектирование\",ЗАЯВКА!#REF!,0)","v":{"$error":"#REF!"}},{"$f":"IF(ЗАЯВКА!#REF!=\"строительно-монтажные работы\",ЗАЯВКА!#REF!,0)","v":{"$error":"#REF!"}},{"$f":"IF(ЗАЯВКА!#REF!=\"да\",ЗАЯВКА!#REF!,0)","v":{"$error":"#REF!"}}]
[{"$f":"IF(ЗАЯВКА!#REF!=\"проектирование\",ЗАЯВКА!#REF!,0)","v":{"$error":"#REF!"}},{"$f":"IF(ЗАЯВКА!#REF!=\"строительно-монтажные работы\",ЗАЯВКА!#REF!,0)","v":{"$error":"#REF!"}},{"$f":"IF(ЗАЯВКА!#REF!=\"да\",ЗАЯВКА!#REF!,0)","v":{"$error":"#REF!"}}]
[{"$f":"IF(ЗАЯВКА!#REF!=\"проектирование\",ЗАЯВКА!#REF!,0)","v":{"$error":"#REF!"}},{"$f":"IF(ЗАЯВКА!#REF!=\"строительно-монтажные работы\",ЗАЯВКА!#REF!,0)","v":{"$error":"#REF!"}},{"$f":"IF(ЗАЯВКА!#REF!=\"да\",ЗАЯВКА!#REF!,0)","v":{"$error":"#REF!"}}]
[{"$f":"IF(ЗАЯВКА!#REF!=\"проектирование\",ЗАЯВКА!#REF!,0)","v":{"$error":"#REF!"}},{"$f":"IF(ЗАЯВКА!#REF!=\"строительно-монтажные работы\",ЗАЯВКА!#REF!,0)","v":{"$error":"#REF!"}},{"$f":"IF(ЗАЯВКА!#REF!=\"да\",ЗАЯВКА!#REF!,0)","v":{"$error":"#REF!"}}]
[{"$f":"IF(ЗАЯВКА!#REF!=\"проектирование\",ЗАЯВКА!#REF!,0)","v":{"$error":"#REF!"}},{"$f":"IF(ЗАЯВКА!#REF!=\"строительно-монтажные работы\",ЗАЯВКА!#REF!,0)","v":{"$error":"#REF!"}},{"$f":"IF(ЗАЯВКА!#REF!=\"да\",ЗАЯВКА!#REF!,0)","v":{"$error":"#REF!"}}]
[{"$f":"IF(ЗАЯВКА!#REF!=\"проектирование\",ЗАЯВКА!#REF!,0)","v":{"$error":"#REF!"}},{"$f":"IF(ЗАЯВКА!#REF!=\"строительно-монтажные работы\",ЗАЯВКА!#REF!,0)","v":{"$error":"#REF!"}},{"$f":"IF(ЗАЯВКА!#REF!=\"да\",ЗАЯВКА!#REF!,0)","v":{"$error":"#REF!"}}]
[{"$f":"IF(ЗАЯВКА!#REF!=\"проектирование\",ЗАЯВКА!#REF!,0)","v":{"$error":"#REF!"}},{"$f":"IF(ЗАЯВКА!#REF!=\"строительно-монтажные работы\",ЗАЯВКА!#REF!,0)","v":{"$error":"#REF!"}},{"$f":"IF(ЗАЯВКА!#REF!=\"да\",ЗАЯВКА!#REF!,0)","v":{"$error":"#REF!"}}]
[{"$f":"IF(ЗАЯВКА!#REF!=\"проектирование\",ЗАЯВКА!#REF!,0)","v":{"$error":"#REF!"}},{"$f":"IF(ЗАЯВКА!#REF!=\"строительно-монтажные работы\",ЗАЯВКА!#REF!,0)","v":{"$error":"#REF!"}},{"$f":"IF(ЗАЯВКА!#REF!=\"да\",ЗАЯВКА!#REF!,0)","v":{"$error":"#REF!"}}]
[{"$f":"IF(ЗАЯВКА!#REF!=\"проектирование\",ЗАЯВКА!#REF!,0)","v":{"$error":"#REF!"}},{"$f":"IF(ЗАЯВКА!#REF!=\"строительно-монтажные работы\",ЗАЯВКА!#REF!,0)","v":{"$error":"#REF!"}},{"$f":"IF(ЗАЯВКА!#REF!=\"да\",ЗАЯВКА!#REF!,0)","v":{"$error":"#REF!"}}]
[{"$f":"IF(ЗАЯВКА!#REF!=\"проектирование\",ЗАЯВКА!#REF!,0)","v":{"$error":"#REF!"}},{"$f":"IF(ЗАЯВКА!#REF!=\"строительно-монтажные работы\",ЗАЯВКА!#REF!,0)","v":{"$error":"#REF!"}},{"$f":"IF(ЗАЯВКА!#REF!=\"да\",ЗАЯВКА!#REF!,0)","v":{"$error":"#REF!"}}]
[{"$f":"IF(ЗАЯВКА!#REF!=\"проектирование\",ЗАЯВКА!#REF!,0)","v":{"$error":"#REF!"}},{"$f":"IF(ЗАЯВКА!#REF!=\"строительно-монтажные работы\",ЗАЯВКА!#REF!,0)","v":{"$error":"#REF!"}},{"$f":"IF(ЗАЯВКА!#REF!=\"да\",ЗАЯВКА!#REF!,0)","v":{"$error":"#REF!"}}]
[{"$f":"IF(ЗАЯВКА!#REF!=\"проектирование\",ЗАЯВКА!#REF!,0)","v":{"$error":"#REF!"}},{"$f":"IF(ЗАЯВКА!#REF!=\"строительно-монтажные работы\",ЗАЯВКА!#REF!,0)","v":{"$error":"#REF!"}},{"$f":"IF(ЗАЯВКА!#REF!=\"да\",ЗАЯВКА!#REF!,0)","v":{"$error":"#REF!"}}]
[{"$f":"IF(ЗАЯВКА!#REF!=\"проектирование\",ЗАЯВКА!#REF!,0)","v":{"$error":"#REF!"}},{"$f":"IF(ЗАЯВКА!#REF!=\"строительно-монтажные работы\",ЗАЯВКА!#REF!,0)","v":{"$error":"#REF!"}},{"$f":"IF(ЗАЯВКА!#REF!=\"да\",ЗАЯВКА!#REF!,0)","v":{"$error":"#REF!"}}]
[{"$f":"IF(ЗАЯВКА!#REF!=\"проектирование\",ЗАЯВКА!#REF!,0)","v":{"$error":"#REF!"}},{"$f":"IF(ЗАЯВКА!#REF!=\"строительно-монтажные работы\",ЗАЯВКА!#REF!,0)","v":{"$error":"#REF!"}},{"$f":"IF(ЗАЯВКА!#REF!=\"да\",ЗАЯВКА!#REF!,0)","v":{"$error":"#REF!"}}]
[{"$f":"IF(ЗАЯВКА!#REF!=\"проектирование\",ЗАЯВКА!#REF!,0)","v":{"$error":"#REF!"}},{"$f":"IF(ЗАЯВКА!#REF!=\"строительно-монтажные работы\",ЗАЯВКА!#REF!,0)","v":{"$error":"#REF!"}},{"$f":"IF(ЗАЯВКА!#REF!=\"да\",ЗАЯВКА!#REF!,0)","v":{"$error":"#REF!"}}]
[{"$f":"IF(ЗАЯВКА!#REF!=\"проектирование\",ЗАЯВКА!#REF!,0)","v":{"$error":"#REF!"}},{"$f":"IF(ЗАЯВКА!#REF!=\"строительно-монтажные работы\",ЗАЯВКА!#REF!,0)","v":{"$error":"#REF!"}},{"$f":"IF(ЗАЯВКА!#REF!=\"да\",ЗАЯВКА!#REF!,0)","v":{"$error":"#REF!"}}]
[{"$f":"IF(ЗАЯВКА!#REF!=\"проектирование\",ЗАЯВКА!#REF!,0)","v":{"$error":"#REF!"}},{"$f":"IF(ЗАЯВКА!#REF!=\"строительно-монтажные работы\",ЗАЯВКА!#REF!,0)","v":{"$error":"#REF!"}},{"$f":"IF(ЗАЯВКА!#REF!=\"да\",ЗАЯВКА!#REF!,0)","v":{"$error":"#REF!"}}]
[{"$f":"IF(ЗАЯВКА!#REF!=\"проектирование\",ЗАЯВКА!#REF!,0)","v":{"$error":"#REF!"}},{"$f":"IF(ЗАЯВКА!#REF!=\"строительно-монтажные работы\",ЗАЯВКА!#REF!,0)","v":{"$error":"#REF!"}},{"$f":"IF(ЗАЯВКА!#REF!=\"да\",ЗАЯВКА!#REF!,0)","v":{"$error":"#REF!"}}]
[{"$f":"IF(ЗАЯВКА!#REF!=\"проектирование\",ЗАЯВКА!#REF!,0)","v":{"$error":"#REF!"}},{"$f":"IF(ЗАЯВКА!#REF!=\"строительно-монтажные работы\",ЗАЯВКА!#REF!,0)","v":{"$error":"#REF!"}},{"$f":"IF(ЗАЯВКА!#REF!=\"да\",ЗАЯВКА!#REF!,0)","v":{"$error":"#REF!"}}]
[{"$f":"IF(ЗАЯВКА!#REF!=\"проектирование\",ЗАЯВКА!#REF!,0)","v":{"$error":"#REF!"}},{"$f":"IF(ЗАЯВКА!#REF!=\"строительно-монтажные работы\",ЗАЯВКА!#REF!,0)","v":{"$error":"#REF!"}},{"$f":"IF(ЗАЯВКА!#REF!=\"да\",ЗАЯВКА!#REF!,0)","v":{"$error":"#REF!"}}]
[{"$f":"IF(ЗАЯВКА!#REF!=\"проектирование\",ЗАЯВКА!#REF!,0)","v":{"$error":"#REF!"}},{"$f":"IF(ЗАЯВКА!#REF!=\"строительно-монтажные работы\",ЗАЯВКА!#REF!,0)","v":{"$error":"#REF!"}},{"$f":"IF(ЗАЯВКА!#REF!=\"да\",ЗАЯВКА!#REF!,0)","v":{"$error":"#REF!"}}]
[{"$f":"IF(ЗАЯВКА!#REF!=\"проектирование\",ЗАЯВКА!#REF!,0)","v":{"$error":"#REF!"}},{"$f":"IF(ЗАЯВКА!#REF!=\"строительно-монтажные работы\",ЗАЯВКА!#REF!,0)","v":{"$error":"#REF!"}},{"$f":"IF(ЗАЯВКА!#REF!=\"да\",ЗАЯВКА!#REF!,0)","v":{"$error":"#REF!"}}]
[{"$f":"IF(ЗАЯВКА!#REF!=\"проектирование\",ЗАЯВКА!#REF!,0)","v":{"$error":"#REF!"}},{"$f":"IF(ЗАЯВКА!#REF!=\"строительно-монтажные работы\",ЗАЯВКА!#REF!,0)","v":{"$error":"#REF!"}},{"$f":"IF(ЗАЯВКА!#REF!=\"да\",ЗАЯВКА!#REF!,0)","v":{"$error":"#REF!"}}]
[{"$f":"IF(ЗАЯВКА!#REF!=\"проектирование\",ЗАЯВКА!#REF!,0)","v":{"$error":"#REF!"}},{"$f":"IF(ЗАЯВКА!#REF!=\"строительно-монтажные работы\",ЗАЯВКА!#REF!,0)","v":{"$error":"#REF!"}},{"$f":"IF(ЗАЯВКА!#REF!=\"да\",ЗАЯВКА!#REF!,0)","v":{"$error":"#REF!"}}]
[{"$f":"IF(ЗАЯВКА!#REF!=\"проектирование\",ЗАЯВКА!#REF!,0)","v":{"$error":"#REF!"}},{"$f":"IF(ЗАЯВКА!#REF!=\"строительно-монтажные работы\",ЗАЯВКА!#REF!,0)","v":{"$error":"#REF!"}},{"$f":"IF(ЗАЯВКА!#REF!=\"да\",ЗАЯВКА!#REF!,0)","v":{"$error":"#REF!"}}]
[{"$f":"IF(ЗАЯВКА!#REF!=\"проектирование\",ЗАЯВКА!#REF!,0)","v":{"$error":"#REF!"}},{"$f":"IF(ЗАЯВКА!#REF!=\"строительно-монтажные работы\",ЗАЯВКА!#REF!,0)","v":{"$error":"#REF!"}},{"$f":"IF(ЗАЯВКА!#REF!=\"да\",ЗАЯВКА!#REF!,0)","v":{"$error":"#REF!"}}]
[{"$f":"IF(ЗАЯВКА!#REF!=\"проектирование\",ЗАЯВКА!#REF!,0)","v":{"$error":"#REF!"}},{"$f":"IF(ЗАЯВКА!#REF!=\"строительно-монтажные работы\",ЗАЯВКА!#REF!,0)","v":{"$error":"#REF!"}},{"$f":"IF(ЗАЯВКА!#REF!=\"да\",ЗАЯВКА!#REF!,0)","v":{"$error":"#REF!"}}]
[{"$f":"IF(ЗАЯВКА!#REF!=\"проектирование\",ЗАЯВКА!#REF!,0)","v":{"$error":"#REF!"}},{"$f":"IF(ЗАЯВКА!#REF!=\"строительно-монтажные работы\",ЗАЯВКА!#REF!,0)","v":{"$error":"#REF!"}},{"$f":"IF(ЗАЯВКА!#REF!=\"да\",ЗАЯВКА!#REF!,0)","v":{"$error":"#REF!"}}]
[{"$f":"IF(ЗАЯВКА!#REF!=\"проектирование\",ЗАЯВКА!#REF!,0)","v":{"$error":"#REF!"}},{"$f":"IF(ЗАЯВКА!#REF!=\"строительно-монтажные работы\",ЗАЯВКА!#REF!,0)","v":{"$error":"#REF!"}},{"$f":"IF(ЗАЯВКА!#REF!=\"да\",ЗАЯВКА!#REF!,0)","v":{"$error":"#REF!"}}]
[{"$f":"IF(ЗАЯВКА!#REF!=\"проектирование\",ЗАЯВКА!#REF!,0)","v":{"$error":"#REF!"}},{"$f":"IF(ЗАЯВКА!#REF!=\"строительно-монтажные работы\",ЗАЯВКА!#REF!,0)","v":{"$error":"#REF!"}},{"$f":"IF(ЗАЯВКА!#REF!=\"да\",ЗАЯВКА!#REF!,0)","v":{"$error":"#REF!"}}]
[{"$f":"IF(ЗАЯВКА!#REF!=\"проектирование\",ЗАЯВКА!#REF!,0)","v":{"$error":"#REF!"}},{"$f":"IF(ЗАЯВКА!#REF!=\"строительно-монтажные работы\",ЗАЯВКА!#REF!,0)","v":{"$error":"#REF!"}},{"$f":"IF(ЗАЯВКА!#REF!=\"да\",ЗАЯВКА!#REF!,0)","v":{"$error":"#REF!"}}]
[{"$f":"IF(ЗАЯВКА!#REF!=\"проектирование\",ЗАЯВКА!#REF!,0)","v":{"$error":"#REF!"}},{"$f":"IF(ЗАЯВКА!#REF!=\"строительно-монтажные работы\",ЗАЯВКА!#REF!,0)","v":{"$error":"#REF!"}},{"$f":"IF(ЗАЯВКА!#REF!=\"да\",ЗАЯВКА!#REF!,0)","v":{"$error":"#REF!"}}]
[{"$f":"IF(ЗАЯВКА!#REF!=\"проектирование\",ЗАЯВКА!#REF!,0)","v":{"$error":"#REF!"}},{"$f":"IF(ЗАЯВКА!#REF!=\"строительно-монтажные работы\",ЗАЯВКА!#REF!,0)","v":{"$error":"#REF!"}},{"$f":"IF(ЗАЯВКА!#REF!=\"да\",ЗАЯВКА!#REF!,0)","v":{"$error":"#REF!"}}]
[{"$f":"IF(ЗАЯВКА!#REF!=\"проектирование\",ЗАЯВКА!#REF!,0)","v":{"$error":"#REF!"}},{"$f":"IF(ЗАЯВКА!#REF!=\"строительно-монтажные работы\",ЗАЯВКА!#REF!,0)","v":{"$error":"#REF!"}},{"$f":"IF(ЗАЯВКА!#REF!=\"да\",ЗАЯВКА!#REF!,0)","v":{"$error":"#REF!"}}]
[{"$f":"IF(ЗАЯВКА!#REF!=\"проектирование\",ЗАЯВКА!#REF!,0)","v":{"$error":"#REF!"}},{"$f":"IF(ЗАЯВКА!#REF!=\"строительно-монтажные работы\",ЗАЯВКА!#REF!,0)","v":{"$error":"#REF!"}},{"$f":"IF(ЗАЯВКА!#REF!=\"да\",ЗАЯВКА!#REF!,0)","v":{"$error":"#REF!"}}]
[{"$f":"IF(ЗАЯВКА!#REF!=\"проектирование\",ЗАЯВКА!#REF!,0)","v":{"$error":"#REF!"}},{"$f":"IF(ЗАЯВКА!#REF!=\"строительно-монтажные работы\",ЗАЯВКА!#REF!,0)","v":{"$error":"#REF!"}},{"$f":"IF(ЗАЯВКА!#REF!=\"да\",ЗАЯВКА!#REF!,0)","v":{"$error":"#REF!"}}]
[{"$f":"IF(ЗАЯВКА!#REF!=\"проектирование\",ЗАЯВКА!#REF!,0)","v":{"$error":"#REF!"}},{"$f":"IF(ЗАЯВКА!#REF!=\"строительно-монтажные работы\",ЗАЯВКА!#REF!,0)","v":{"$error":"#REF!"}},{"$f":"IF(ЗАЯВКА!#REF!=\"да\",ЗАЯВКА!#REF!,0)","v":{"$error":"#REF!"}}]
[{"$f":"IF(ЗАЯВКА!#REF!=\"проектирование\",ЗАЯВКА!#REF!,0)","v":{"$error":"#REF!"}},{"$f":"IF(ЗАЯВКА!#REF!=\"строительно-монтажные работы\",ЗАЯВКА!#REF!,0)","v":{"$error":"#REF!"}},{"$f":"IF(ЗАЯВКА!#REF!=\"да\",ЗАЯВКА!#REF!,0)","v":{"$error":"#REF!"}}]
[{"$f":"IF(ЗАЯВКА!#REF!=\"проектирование\",ЗАЯВКА!#REF!,0)","v":{"$error":"#REF!"}},{"$f":"IF(ЗАЯВКА!#REF!=\"строительно-монтажные работы\",ЗАЯВКА!#REF!,0)","v":{"$error":"#REF!"}},{"$f":"IF(ЗАЯВКА!#REF!=\"да\",ЗАЯВКА!#REF!,0)","v":{"$error":"#REF!"}}]
[{"$f":"IF(ЗАЯВКА!#REF!=\"проектирование\",ЗАЯВКА!#REF!,0)","v":{"$error":"#REF!"}},{"$f":"IF(ЗАЯВКА!#REF!=\"строительно-монтажные работы\",ЗАЯВКА!#REF!,0)","v":{"$error":"#REF!"}},{"$f":"IF(ЗАЯВКА!#REF!=\"да\",ЗАЯВКА!#REF!,0)","v":{"$error":"#REF!"}}]
[{"$f":"IF(ЗАЯВКА!#REF!=\"проектирование\",ЗАЯВКА!#REF!,0)","v":{"$error":"#REF!"}},{"$f":"IF(ЗАЯВКА!#REF!=\"строительно-монтажные работы\",ЗАЯВКА!#REF!,0)","v":{"$error":"#REF!"}},{"$f":"IF(ЗАЯВКА!#REF!=\"да\",ЗАЯВКА!#REF!,0)","v":{"$error":"#REF!"}}]
[{"$f":"IF(ЗАЯВКА!#REF!=\"проектирование\",ЗАЯВКА!#REF!,0)","v":{"$error":"#REF!"}},{"$f":"IF(ЗАЯВКА!#REF!=\"строительно-монтажные работы\",ЗАЯВКА!#REF!,0)","v":{"$error":"#REF!"}},{"$f":"IF(ЗАЯВКА!#REF!=\"да\",ЗАЯВКА!#REF!,0)","v":{"$error":"#REF!"}}]
[{"$f":"IF(ЗАЯВКА!#REF!=\"проектирование\",ЗАЯВКА!#REF!,0)","v":{"$error":"#REF!"}},{"$f":"IF(ЗАЯВКА!#REF!=\"строительно-монтажные работы\",ЗАЯВКА!#REF!,0)","v":{"$error":"#REF!"}},{"$f":"IF(ЗАЯВКА!#REF!=\"да\",ЗАЯВКА!#REF!,0)","v":{"$error":"#REF!"}}]
[{"$f":"IF(ЗАЯВКА!#REF!=\"проектирование\",ЗАЯВКА!#REF!,0)","v":{"$error":"#REF!"}},{"$f":"IF(ЗАЯВКА!#REF!=\"строительно-монтажные работы\",ЗАЯВКА!#REF!,0)","v":{"$error":"#REF!"}},{"$f":"IF(ЗАЯВКА!#REF!=\"да\",ЗАЯВКА!#REF!,0)","v":{"$error":"#REF!"}}]
[{"$f":"IF(ЗАЯВКА!#REF!=\"проектирование\",ЗАЯВКА!#REF!,0)","v":{"$error":"#REF!"}},{"$f":"IF(ЗАЯВКА!#REF!=\"строительно-монтажные работы\",ЗАЯВКА!#REF!,0)","v":{"$error":"#REF!"}},{"$f":"IF(ЗАЯВКА!#REF!=\"да\",ЗАЯВКА!#REF!,0)","v":{"$error":"#REF!"}}]
[{"$f":"IF(ЗАЯВКА!#REF!=\"проектирование\",ЗАЯВКА!#REF!,0)","v":{"$error":"#REF!"}},{"$f":"IF(ЗАЯВКА!#REF!=\"строительно-монтажные работы\",ЗАЯВКА!#REF!,0)","v":{"$error":"#REF!"}},{"$f":"IF(ЗАЯВКА!#REF!=\"да\",ЗАЯВКА!#REF!,0)","v":{"$error":"#REF!"}}]
[{"$f":"IF(ЗАЯВКА!#REF!=\"проектирование\",ЗАЯВКА!#REF!,0)","v":{"$error":"#REF!"}},{"$f":"IF(ЗАЯВКА!#REF!=\"строительно-монтажные работы\",ЗАЯВКА!#REF!,0)","v":{"$error":"#REF!"}},{"$f":"IF(ЗАЯВКА!#REF!=\"да\",ЗАЯВКА!#REF!,0)","v":{"$error":"#REF!"}}]
[{"$f":"IF(ЗАЯВКА!#REF!=\"проектирование\",ЗАЯВКА!#REF!,0)","v":{"$error":"#REF!"}},{"$f":"IF(ЗАЯВКА!#REF!=\"строительно-монтажные работы\",ЗАЯВКА!#REF!,0)","v":{"$error":"#REF!"}},{"$f":"IF(ЗАЯВКА!#REF!=\"да\",ЗАЯВКА!#REF!,0)","v":{"$error":"#REF!"}}]
[{"$f":"IF(ЗАЯВКА!#REF!=\"проектирование\",ЗАЯВКА!#REF!,0)","v":{"$error":"#REF!"}},{"$f":"IF(ЗАЯВКА!#REF!=\"строительно-монтажные работы\",ЗАЯВКА!#REF!,0)","v":{"$error":"#REF!"}},{"$f":"IF(ЗАЯВКА!#REF!=\"да\",ЗАЯВКА!#REF!,0)","v":{"$error":"#REF!"}}]
[{"$f":"IF(ЗАЯВКА!#REF!=\"проектирование\",ЗАЯВКА!#REF!,0)","v":{"$error":"#REF!"}},{"$f":"IF(ЗАЯВКА!#REF!=\"строительно-монтажные работы\",ЗАЯВКА!#REF!,0)","v":{"$error":"#REF!"}},{"$f":"IF(ЗАЯВКА!#REF!=\"да\",ЗАЯВКА!#REF!,0)","v":{"$error":"#REF!"}}]
[{"$f":"IF(ЗАЯВКА!#REF!=\"проектирование\",ЗАЯВКА!#REF!,0)","v":{"$error":"#REF!"}},{"$f":"IF(ЗАЯВКА!#REF!=\"строительно-монтажные работы\",ЗАЯВКА!#REF!,0)","v":{"$error":"#REF!"}},{"$f":"IF(ЗАЯВКА!#REF!=\"да\",ЗАЯВКА!#REF!,0)","v":{"$error":"#REF!"}}]
[{"$f":"IF(ЗАЯВКА!#REF!=\"проектирование\",ЗАЯВКА!#REF!,0)","v":{"$error":"#REF!"}},{"$f":"IF(ЗАЯВКА!#REF!=\"строительно-монтажные работы\",ЗАЯВКА!#REF!,0)","v":{"$error":"#REF!"}},{"$f":"IF(ЗАЯВКА!#REF!=\"да\",ЗАЯВКА!#REF!,0)","v":{"$error":"#REF!"}}]
[{"$f":"IF(ЗАЯВКА!#REF!=\"проектирование\",ЗАЯВКА!#REF!,0)","v":{"$error":"#REF!"}},{"$f":"IF(ЗАЯВКА!#REF!=\"строительно-монтажные работы\",ЗАЯВКА!#REF!,0)","v":{"$error":"#REF!"}},{"$f":"IF(ЗАЯВКА!#REF!=\"да\",ЗАЯВКА!#REF!,0)","v":{"$error":"#REF!"}}]
[{"$f":"IF(ЗАЯВКА!#REF!=\"проектирование\",ЗАЯВКА!#REF!,0)","v":{"$error":"#REF!"}},{"$f":"IF(ЗАЯВКА!#REF!=\"строительно-монтажные работы\",ЗАЯВКА!#REF!,0)","v":{"$error":"#REF!"}},{"$f":"IF(ЗАЯВКА!#REF!=\"да\",ЗАЯВКА!#REF!,0)","v":{"$error":"#REF!"}}]
[{"$f":"IF(ЗАЯВКА!#REF!=\"проектирование\",ЗАЯВКА!#REF!,0)","v":{"$error":"#REF!"}},{"$f":"IF(ЗАЯВКА!#REF!=\"строительно-монтажные работы\",ЗАЯВКА!#REF!,0)","v":{"$error":"#REF!"}},{"$f":"IF(ЗАЯВКА!#REF!=\"да\",ЗАЯВКА!#REF!,0)","v":{"$error":"#REF!"}}]
[{"$f":"IF(ЗАЯВКА!#REF!=\"проектирование\",ЗАЯВКА!#REF!,0)","v":{"$error":"#REF!"}},{"$f":"IF(ЗАЯВКА!#REF!=\"строительно-монтажные работы\",ЗАЯВКА!#REF!,0)","v":{"$error":"#REF!"}},{"$f":"IF(ЗАЯВКА!#REF!=\"да\",ЗАЯВКА!#REF!,0)","v":{"$error":"#REF!"}}]
[{"$f":"IF(ЗАЯВКА!#REF!=\"проектирование\",ЗАЯВКА!#REF!,0)","v":{"$error":"#REF!"}},{"$f":"IF(ЗАЯВКА!#REF!=\"строительно-монтажные работы\",ЗАЯВКА!#REF!,0)","v":{"$error":"#REF!"}},{"$f":"IF(ЗАЯВКА!#REF!=\"да\",ЗАЯВКА!#REF!,0)","v":{"$error":"#REF!"}}]
[{"$f":"IF(ЗАЯВКА!#REF!=\"проектирование\",ЗАЯВКА!#REF!,0)","v":{"$error":"#REF!"}},{"$f":"IF(ЗАЯВКА!#REF!=\"строительно-монтажные работы\",ЗАЯВКА!#REF!,0)","v":{"$error":"#REF!"}},{"$f":"IF(ЗАЯВКА!#REF!=\"да\",ЗАЯВКА!#REF!,0)","v":{"$error":"#REF!"}}]
[{"$f":"IF(ЗАЯВКА!#REF!=\"проектирование\",ЗАЯВКА!#REF!,0)","v":{"$error":"#REF!"}},{"$f":"IF(ЗАЯВКА!#REF!=\"строительно-монтажные работы\",ЗАЯВКА!#REF!,0)","v":{"$error":"#REF!"}},{"$f":"IF(ЗАЯВКА!#REF!=\"да\",ЗАЯВКА!#REF!,0)","v":{"$error":"#REF!"}}]
[{"$f":"IF(ЗАЯВКА!#REF!=\"проектирование\",ЗАЯВКА!#REF!,0)","v":{"$error":"#REF!"}},{"$f":"IF(ЗАЯВКА!#REF!=\"строительно-монтажные работы\",ЗАЯВКА!#REF!,0)","v":{"$error":"#REF!"}},{"$f":"IF(ЗАЯВКА!#REF!=\"да\",ЗАЯВКА!#REF!,0)","v":{"$error":"#REF!"}}]
[{"$f":"IF(ЗАЯВКА!#REF!=\"проектирование\",ЗАЯВКА!#REF!,0)","v":{"$error":"#REF!"}},{"$f":"IF(ЗАЯВКА!#REF!=\"строительно-монтажные работы\",ЗАЯВКА!#REF!,0)","v":{"$error":"#REF!"}},{"$f":"IF(ЗАЯВКА!#REF!=\"да\",ЗАЯВКА!#REF!,0)","v":{"$error":"#REF!"}}]
[{"$f":"IF(ЗАЯВКА!#REF!=\"проектирование\",ЗАЯВКА!#REF!,0)","v":{"$error":"#REF!"}},{"$f":"IF(ЗАЯВКА!#REF!=\"строительно-монтажные работы\",ЗАЯВКА!#REF!,0)","v":{"$error":"#REF!"}},{"$f":"IF(ЗАЯВКА!#REF!=\"да\",ЗАЯВКА!#REF!,0)","v":{"$error":"#REF!"}}]
[{"$f":"IF(ЗАЯВКА!#REF!=\"проектирование\",ЗАЯВКА!#REF!,0)","v":{"$error":"#REF!"}},{"$f":"IF(ЗАЯВКА!#REF!=\"строительно-монтажные работы\",ЗАЯВКА!#REF!,0)","v":{"$error":"#REF!"}},{"$f":"IF(ЗАЯВКА!#REF!=\"да\",ЗАЯВКА!#REF!,0)","v":{"$error":"#REF!"}}]
[{"$f":"IF(ЗАЯВКА!#REF!=\"проектирование\",ЗАЯВКА!#REF!,0)","v":{"$error":"#REF!"}},{"$f":"IF(ЗАЯВКА!#REF!=\"строительно-монтажные работы\",ЗАЯВКА!#REF!,0)","v":{"$error":"#REF!"}},{"$f":"IF(ЗАЯВКА!#REF!=\"да\",ЗАЯВКА!#REF!,0)","v":{"$error":"#REF!"}}]
[{"$f":"IF(ЗАЯВКА!#REF!=\"проектирование\",ЗАЯВКА!#REF!,0)","v":{"$error":"#REF!"}},{"$f":"IF(ЗАЯВКА!#REF!=\"строительно-монтажные работы\",ЗАЯВКА!#REF!,0)","v":{"$error":"#REF!"}},{"$f":"IF(ЗАЯВКА!#REF!=\"да\",ЗАЯВКА!#REF!,0)","v":{"$error":"#REF!"}}]
[{"$f":"IF(ЗАЯВКА!#REF!=\"проектирование\",ЗАЯВКА!#REF!,0)","v":{"$error":"#REF!"}},{"$f":"IF(ЗАЯВКА!#REF!=\"строительно-монтажные работы\",ЗАЯВКА!#REF!,0)","v":{"$error":"#REF!"}},{"$f":"IF(ЗАЯВКА!#REF!=\"да\",ЗАЯВКА!#REF!,0)","v":{"$error":"#REF!"}}]
[{"$f":"IF(ЗАЯВКА!#REF!=\"проектирование\",ЗАЯВКА!#REF!,0)","v":{"$error":"#REF!"}},{"$f":"IF(ЗАЯВКА!#REF!=\"строительно-монтажные работы\",ЗАЯВКА!#REF!,0)","v":{"$error":"#REF!"}},{"$f":"IF(ЗАЯВКА!#REF!=\"да\",ЗАЯВКА!#REF!,0)","v":{"$error":"#REF!"}}]
[{"$f":"IF(ЗАЯВКА!#REF!=\"проектирование\",ЗАЯВКА!#REF!,0)","v":{"$error":"#REF!"}},{"$f":"IF(ЗАЯВКА!#REF!=\"строительно-монтажные работы\",ЗАЯВКА!#REF!,0)","v":{"$error":"#REF!"}},{"$f":"IF(ЗАЯВКА!#REF!=\"да\",ЗАЯВКА!#REF!,0)","v":{"$error":"#REF!"}}]
[{"$f":"IF(ЗАЯВКА!#REF!=\"проектирование\",ЗАЯВКА!#REF!,0)","v":{"$error":"#REF!"}},{"$f":"IF(ЗАЯВКА!#REF!=\"строительно-монтажные работы\",ЗАЯВКА!#REF!,0)","v":{"$error":"#REF!"}},{"$f":"IF(ЗАЯВКА!#REF!=\"да\",ЗАЯВКА!#REF!,0)","v":{"$error":"#REF!"}}]
[{"$f":"IF(ЗАЯВКА!#REF!=\"проектирование\",ЗАЯВКА!#REF!,0)","v":{"$error":"#REF!"}},{"$f":"IF(ЗАЯВКА!#REF!=\"строительно-монтажные работы\",ЗАЯВКА!#REF!,0)","v":{"$error":"#REF!"}},{"$f":"IF(ЗАЯВКА!#REF!=\"да\",ЗАЯВКА!#REF!,0)","v":{"$error":"#REF!"}}]
[{"$f":"IF(ЗАЯВКА!#REF!=\"проектирование\",ЗАЯВКА!#REF!,0)","v":{"$error":"#REF!"}},{"$f":"IF(ЗАЯВКА!#REF!=\"строительно-монтажные работы\",ЗАЯВКА!#REF!,0)","v":{"$error":"#REF!"}},{"$f":"IF(ЗАЯВКА!#REF!=\"да\",ЗАЯВКА!#REF!,0)","v":{"$error":"#REF!"}}]
[{"$f":"IF(ЗАЯВКА!#REF!=\"проектирование\",ЗАЯВКА!#REF!,0)","v":{"$error":"#REF!"}},{"$f":"IF(ЗАЯВКА!#REF!=\"строительно-монтажные работы\",ЗАЯВКА!#REF!,0)","v":{"$error":"#REF!"}},{"$f":"IF(ЗАЯВКА!#REF!=\"да\",ЗАЯВКА!#REF!,0)","v":{"$error":"#REF!"}}]
[{"$f":"IF(ЗАЯВКА!#REF!=\"проектирование\",ЗАЯВКА!#REF!,0)","v":{"$error":"#REF!"}},{"$f":"IF(ЗАЯВКА!#REF!=\"строительно-монтажные работы\",ЗАЯВКА!#REF!,0)","v":{"$error":"#REF!"}},{"$f":"IF(ЗАЯВКА!#REF!=\"да\",ЗАЯВКА!#REF!,0)","v":{"$error":"#REF!"}}]
[{"$f":"IF(ЗАЯВКА!#REF!=\"проектирование\",ЗАЯВКА!#REF!,0)","v":{"$error":"#REF!"}},{"$f":"IF(ЗАЯВКА!#REF!=\"строительно-монтажные работы\",ЗАЯВКА!#REF!,0)","v":{"$error":"#REF!"}},{"$f":"IF(ЗАЯВКА!#REF!=\"да\",ЗАЯВКА!#REF!,0)","v":{"$error":"#REF!"}}]
[{"$f":"IF(ЗАЯВКА!#REF!=\"проектирование\",ЗАЯВКА!#REF!,0)","v":{"$error":"#REF!"}},{"$f":"IF(ЗАЯВКА!#REF!=\"строительно-монтажные работы\",ЗАЯВКА!#REF!,0)","v":{"$error":"#REF!"}},{"$f":"IF(ЗАЯВКА!#REF!=\"да\",ЗАЯВКА!#REF!,0)","v":{"$error":"#REF!"}}]
[{"$f":"IF(ЗАЯВКА!#REF!=\"проектирование\",ЗАЯВКА!#REF!,0)","v":{"$error":"#REF!"}},{"$f":"IF(ЗАЯВКА!#REF!=\"строительно-монтажные работы\",ЗАЯВКА!#REF!,0)","v":{"$error":"#REF!"}},{"$f":"IF(ЗАЯВКА!#REF!=\"да\",ЗАЯВКА!#REF!,0)","v":{"$error":"#REF!"}}]
[{"$f":"IF(ЗАЯВКА!#REF!=\"проектирование\",ЗАЯВКА!#REF!,0)","v":{"$error":"#REF!"}},{"$f":"IF(ЗАЯВКА!#REF!=\"строительно-монтажные работы\",ЗАЯВКА!#REF!,0)","v":{"$error":"#REF!"}},{"$f":"IF(ЗАЯВКА!#REF!=\"да\",ЗАЯВКА!#REF!,0)","v":{"$error":"#REF!"}}]
[{"$f":"IF(ЗАЯВКА!#REF!=\"проектирование\",ЗАЯВКА!#REF!,0)","v":{"$error":"#REF!"}},{"$f":"IF(ЗАЯВКА!#REF!=\"строительно-монтажные работы\",ЗАЯВКА!#REF!,0)","v":{"$error":"#REF!"}},{"$f":"IF(ЗАЯВКА!#REF!=\"да\",ЗАЯВКА!#REF!,0)","v":{"$error":"#REF!"}}]
[{"$f":"IF(ЗАЯВКА!#REF!=\"проектирование\",ЗАЯВКА!#REF!,0)","v":{"$error":"#REF!"}},{"$f":"IF(ЗАЯВКА!#REF!=\"строительно-монтажные работы\",ЗАЯВКА!#REF!,0)","v":{"$error":"#REF!"}},{"$f":"IF(ЗАЯВКА!#REF!=\"да\",ЗАЯВКА!#REF!,0)","v":{"$error":"#REF!"}}]
[{"$f":"IF(ЗАЯВКА!#REF!=\"проектирование\",ЗАЯВКА!#REF!,0)","v":{"$error":"#REF!"}},{"$f":"IF(ЗАЯВКА!#REF!=\"строительно-монтажные работы\",ЗАЯВКА!#REF!,0)","v":{"$error":"#REF!"}},{"$f":"IF(ЗАЯВКА!#REF!=\"да\",ЗАЯВКА!#REF!,0)","v":{"$error":"#REF!"}}]
[{"$f":"IF(ЗАЯВКА!#REF!=\"проектирование\",ЗАЯВКА!#REF!,0)","v":{"$error":"#REF!"}},{"$f":"IF(ЗАЯВКА!#REF!=\"строительно-монтажные работы\",ЗАЯВКА!#REF!,0)","v":{"$error":"#REF!"}},{"$f":"IF(ЗАЯВКА!#REF!=\"да\",ЗАЯВКА!#REF!,0)","v":{"$error":"#REF!"}}]
[{"$f":"IF(ЗАЯВКА!#REF!=\"проектирование\",ЗАЯВКА!#REF!,0)","v":{"$error":"#REF!"}},{"$f":"IF(ЗАЯВКА!#REF!=\"строительно-монтажные работы\",ЗАЯВКА!#REF!,0)","v":{"$error":"#REF!"}},{"$f":"IF(ЗАЯВКА!#REF!=\"да\",ЗАЯВКА!#REF!,0)","v":{"$error":"#REF!"}}]
[{"$f":"IF(ЗАЯВКА!#REF!=\"проектирование\",ЗАЯВКА!#REF!,0)","v":{"$error":"#REF!"}},{"$f":"IF(ЗАЯВКА!#REF!=\"строительно-монтажные работы\",ЗАЯВКА!#REF!,0)","v":{"$error":"#REF!"}},{"$f":"IF(ЗАЯВКА!#REF!=\"да\",ЗАЯВКА!#REF!,0)","v":{"$error":"#REF!"}}]
[{"$f":"IF(ЗАЯВКА!#REF!=\"проектирование\",ЗАЯВКА!#REF!,0)","v":{"$error":"#REF!"}},{"$f":"IF(ЗАЯВКА!#REF!=\"строительно-монтажные работы\",ЗАЯВКА!#REF!,0)","v":{"$error":"#REF!"}},{"$f":"IF(ЗАЯВКА!#REF!=\"да\",ЗАЯВКА!#REF!,0)","v":{"$error":"#REF!"}}]
[{"$f":"IF(ЗАЯВКА!#REF!=\"проектирование\",ЗАЯВКА!#REF!,0)","v":{"$error":"#REF!"}},{"$f":"IF(ЗАЯВКА!#REF!=\"строительно-монтажные работы\",ЗАЯВКА!#REF!,0)","v":{"$error":"#REF!"}},{"$f":"IF(ЗАЯВКА!#REF!=\"да\",ЗАЯВКА!#REF!,0)","v":{"$error":"#REF!"}}]
[{"$f":"IF(ЗАЯВКА!#REF!=\"проектирование\",ЗАЯВКА!#REF!,0)","v":{"$error":"#REF!"}},{"$f":"IF(ЗАЯВКА!#REF!=\"строительно-монтажные работы\",ЗАЯВКА!#REF!,0)","v":{"$error":"#REF!"}},{"$f":"IF(ЗАЯВКА!#REF!=\"да\",ЗАЯВКА!#REF!,0)","v":{"$error":"#REF!"}}]
[{"$f":"IF(ЗАЯВКА!#REF!=\"проектирование\",ЗАЯВКА!#REF!,0)","v":{"$error":"#REF!"}},{"$f":"IF(ЗАЯВКА!#REF!=\"строительно-монтажные работы\",ЗАЯВКА!#REF!,0)","v":{"$error":"#REF!"}},{"$f":"IF(ЗАЯВКА!#REF!=\"да\",ЗАЯВКА!#REF!,0)","v":{"$error":"#REF!"}}]
[{"$f":"IF(ЗАЯВКА!#REF!=\"проектирование\",ЗАЯВКА!#REF!,0)","v":{"$error":"#REF!"}},{"$f":"IF(ЗАЯВКА!#REF!=\"строительно-монтажные работы\",ЗАЯВКА!#REF!,0)","v":{"$error":"#REF!"}},{"$f":"IF(ЗАЯВКА!#REF!=\"да\",ЗАЯВКА!#REF!,0)","v":{"$error":"#REF!"}}]
[{"$f":"IF(ЗАЯВКА!#REF!=\"проектирование\",ЗАЯВКА!#REF!,0)","v":{"$error":"#REF!"}},{"$f":"IF(ЗАЯВКА!#REF!=\"строительно-монтажные работы\",ЗАЯВКА!#REF!,0)","v":{"$error":"#REF!"}},{"$f":"IF(ЗАЯВКА!#REF!=\"да\",ЗАЯВКА!#REF!,0)","v":{"$error":"#REF!"}}]
[{"$f":"IF(ЗАЯВКА!#REF!=\"проектирование\",ЗАЯВКА!#REF!,0)","v":{"$error":"#REF!"}},{"$f":"IF(ЗАЯВКА!#REF!=\"строительно-монтажные работы\",ЗАЯВКА!#REF!,0)","v":{"$error":"#REF!"}},{"$f":"IF(ЗАЯВКА!#REF!=\"да\",ЗАЯВКА!#REF!,0)","v":{"$error":"#REF!"}}]
[{"$f":"IF(ЗАЯВКА!#REF!=\"проектирование\",ЗАЯВКА!#REF!,0)","v":{"$error":"#REF!"}},{"$f":"IF(ЗАЯВКА!#REF!=\"строительно-монтажные работы\",ЗАЯВКА!#REF!,0)","v":{"$error":"#REF!"}},{"$f":"IF(ЗАЯВКА!#REF!=\"да\",ЗАЯВКА!#REF!,0)","v":{"$error":"#REF!"}}]
[{"$f":"IF(ЗАЯВКА!#REF!=\"проектирование\",ЗАЯВКА!#REF!,0)","v":{"$error":"#REF!"}},{"$f":"IF(ЗАЯВКА!#REF!=\"строительно-монтажные работы\",ЗАЯВКА!#REF!,0)","v":{"$error":"#REF!"}},{"$f":"IF(ЗАЯВКА!#REF!=\"да\",ЗАЯВКА!#REF!,0)","v":{"$error":"#REF!"}}]
[{"$f":"IF(ЗАЯВКА!#REF!=\"проектирование\",ЗАЯВКА!#REF!,0)","v":{"$error":"#REF!"}},{"$f":"IF(ЗАЯВКА!#REF!=\"строительно-монтажные работы\",ЗАЯВКА!#REF!,0)","v":{"$error":"#REF!"}},{"$f":"IF(ЗАЯВКА!#REF!=\"да\",ЗАЯВКА!#REF!,0)","v":{"$error":"#REF!"}}]
[{"$f":"IF(ЗАЯВКА!#REF!=\"проектирование\",ЗАЯВКА!#REF!,0)","v":{"$error":"#REF!"}},{"$f":"IF(ЗАЯВКА!#REF!=\"строительно-монтажные работы\",ЗАЯВКА!#REF!,0)","v":{"$error":"#REF!"}},{"$f":"IF(ЗАЯВКА!#REF!=\"да\",ЗАЯВКА!#REF!,0)","v":{"$error":"#REF!"}}]
[{"$f":"IF(ЗАЯВКА!#REF!=\"проектирование\",ЗАЯВКА!#REF!,0)","v":{"$error":"#REF!"}},{"$f":"IF(ЗАЯВКА!#REF!=\"строительно-монтажные работы\",ЗАЯВКА!#REF!,0)","v":{"$error":"#REF!"}},{"$f":"IF(ЗАЯВКА!#REF!=\"да\",ЗАЯВКА!#REF!,0)","v":{"$error":"#REF!"}}]
[{"$f":"IF(ЗАЯВКА!#REF!=\"проектирование\",ЗАЯВКА!#REF!,0)","v":{"$error":"#REF!"}},{"$f":"IF(ЗАЯВКА!#REF!=\"строительно-монтажные работы\",ЗАЯВКА!#REF!,0)","v":{"$error":"#REF!"}},{"$f":"IF(ЗАЯВКА!#REF!=\"да\",ЗАЯВКА!#REF!,0)","v":{"$error":"#REF!"}}]
[{"$f":"IF(ЗАЯВКА!#REF!=\"проектирование\",ЗАЯВКА!#REF!,0)","v":{"$error":"#REF!"}},{"$f":"IF(ЗАЯВКА!#REF!=\"строительно-монтажные работы\",ЗАЯВКА!#REF!,0)","v":{"$error":"#REF!"}},{"$f":"IF(ЗАЯВКА!#REF!=\"да\",ЗАЯВКА!#REF!,0)","v":{"$error":"#REF!"}}]
[{"$f":"IF(ЗАЯВКА!#REF!=\"проектирование\",ЗАЯВКА!#REF!,0)","v":{"$error":"#REF!"}},{"$f":"IF(ЗАЯВКА!#REF!=\"строительно-монтажные работы\",ЗАЯВКА!#REF!,0)","v":{"$error":"#REF!"}},{"$f":"IF(ЗАЯВКА!#REF!=\"да\",ЗАЯВКА!#REF!,0)","v":{"$error":"#REF!"}}]
[{"$f":"IF(ЗАЯВКА!#REF!=\"проектирование\",ЗАЯВКА!#REF!,0)","v":{"$error":"#REF!"}},{"$f":"IF(ЗАЯВКА!#REF!=\"строительно-монтажные работы\",ЗАЯВКА!#REF!,0)","v":{"$error":"#REF!"}},{"$f":"IF(ЗАЯВКА!#REF!=\"да\",ЗАЯВКА!#REF!,0)","v":{"$error":"#REF!"}}]
[{"$f":"IF(ЗАЯВКА!#REF!=\"проектирование\",ЗАЯВКА!#REF!,0)","v":{"$error":"#REF!"}},{"$f":"IF(ЗАЯВКА!#REF!=\"строительно-монтажные работы\",ЗАЯВКА!#REF!,0)","v":{"$error":"#REF!"}},{"$f":"IF(ЗАЯВКА!#REF!=\"да\",ЗАЯВКА!#REF!,0)","v":{"$error":"#REF!"}}]
[{"$f":"IF(ЗАЯВКА!#REF!=\"проектирование\",ЗАЯВКА!#REF!,0)","v":{"$error":"#REF!"}},{"$f":"IF(ЗАЯВКА!#REF!=\"строительно-монтажные работы\",ЗАЯВКА!#REF!,0)","v":{"$error":"#REF!"}},{"$f":"IF(ЗАЯВКА!#REF!=\"да\",ЗАЯВКА!#REF!,0)","v":{"$error":"#REF!"}}]
[{"$f":"IF(ЗАЯВКА!#REF!=\"проектирование\",ЗАЯВКА!#REF!,0)","v":{"$error":"#REF!"}},{"$f":"IF(ЗАЯВКА!#REF!=\"строительно-монтажные работы\",ЗАЯВКА!#REF!,0)","v":{"$error":"#REF!"}},{"$f":"IF(ЗАЯВКА!#REF!=\"да\",ЗАЯВКА!#REF!,0)","v":{"$error":"#REF!"}}]
[{"$f":"IF(ЗАЯВКА!#REF!=\"проектирование\",ЗАЯВКА!#REF!,0)","v":{"$error":"#REF!"}},{"$f":"IF(ЗАЯВКА!#REF!=\"строительно-монтажные работы\",ЗАЯВКА!#REF!,0)","v":{"$error":"#REF!"}},{"$f":"IF(ЗАЯВКА!#REF!=\"да\",ЗАЯВКА!#REF!,0)","v":{"$error":"#REF!"}}]
[{"$f":"IF(ЗАЯВКА!#REF!=\"проектирование\",ЗАЯВКА!#REF!,0)","v":{"$error":"#REF!"}},{"$f":"IF(ЗАЯВКА!#REF!=\"строительно-монтажные работы\",ЗАЯВКА!#REF!,0)","v":{"$error":"#REF!"}},{"$f":"IF(ЗАЯВКА!#REF!=\"да\",ЗАЯВКА!#REF!,0)","v":{"$error":"#REF!"}}]
[{"$f":"IF(ЗАЯВКА!#REF!=\"проектирование\",ЗАЯВКА!#REF!,0)","v":{"$error":"#REF!"}},{"$f":"IF(ЗАЯВКА!#REF!=\"строительно-монтажные работы\",ЗАЯВКА!#REF!,0)","v":{"$error":"#REF!"}},{"$f":"IF(ЗАЯВКА!#REF!=\"да\",ЗАЯВКА!#REF!,0)","v":{"$error":"#REF!"}}]
[{"$f":"IF(ЗАЯВКА!#REF!=\"проектирование\",ЗАЯВКА!#REF!,0)","v":{"$error":"#REF!"}},{"$f":"IF(ЗАЯВКА!#REF!=\"строительно-монтажные работы\",ЗАЯВКА!#REF!,0)","v":{"$error":"#REF!"}},{"$f":"IF(ЗАЯВКА!#REF!=\"да\",ЗАЯВКА!#REF!,0)","v":{"$error":"#REF!"}}]
[{"$f":"IF(ЗАЯВКА!#REF!=\"проектирование\",ЗАЯВКА!#REF!,0)","v":{"$error":"#REF!"}},{"$f":"IF(ЗАЯВКА!#REF!=\"строительно-монтажные работы\",ЗАЯВКА!#REF!,0)","v":{"$error":"#REF!"}},{"$f":"IF(ЗАЯВКА!#REF!=\"да\",ЗАЯВКА!#REF!,0)","v":{"$error":"#REF!"}}]
[{"$f":"IF(ЗАЯВКА!#REF!=\"проектирование\",ЗАЯВКА!#REF!,0)","v":{"$error":"#REF!"}},{"$f":"IF(ЗАЯВКА!#REF!=\"строительно-монтажные работы\",ЗАЯВКА!#REF!,0)","v":{"$error":"#REF!"}},{"$f":"IF(ЗАЯВКА!#REF!=\"да\",ЗАЯВКА!#REF!,0)","v":{"$error":"#REF!"}}]
[{"$f":"IF(ЗАЯВКА!#REF!=\"проектирование\",ЗАЯВКА!#REF!,0)","v":{"$error":"#REF!"}},{"$f":"IF(ЗАЯВКА!#REF!=\"строительно-монтажные работы\",ЗАЯВКА!#REF!,0)","v":{"$error":"#REF!"}},{"$f":"IF(ЗАЯВКА!#REF!=\"да\",ЗАЯВКА!#REF!,0)","v":{"$error":"#REF!"}}]
[{"$f":"IF(ЗАЯВКА!#REF!=\"проектирование\",ЗАЯВКА!#REF!,0)","v":{"$error":"#REF!"}},{"$f":"IF(ЗАЯВКА!#REF!=\"строительно-монтажные работы\",ЗАЯВКА!#REF!,0)","v":{"$error":"#REF!"}},{"$f":"IF(ЗАЯВКА!#REF!=\"да\",ЗАЯВКА!#REF!,0)","v":{"$error":"#REF!"}}]
[{"$f":"IF(ЗАЯВКА!#REF!=\"проектирование\",ЗАЯВКА!#REF!,0)","v":{"$error":"#REF!"}},{"$f":"IF(ЗАЯВКА!#REF!=\"строительно-монтажные работы\",ЗАЯВКА!#REF!,0)","v":{"$error":"#REF!"}},{"$f":"IF(ЗАЯВКА!#REF!=\"да\",ЗАЯВКА!#REF!,0)","v":{"$error":"#REF!"}}]
[{"$f":"IF(ЗАЯВКА!#REF!=\"проектирование\",ЗАЯВКА!#REF!,0)","v":{"$error":"#REF!"}},{"$f":"IF(ЗАЯВКА!#REF!=\"строительно-монтажные работы\",ЗАЯВКА!#REF!,0)","v":{"$error":"#REF!"}},{"$f":"IF(ЗАЯВКА!#REF!=\"да\",ЗАЯВКА!#REF!,0)","v":{"$error":"#REF!"}}]
[{"$f":"IF(ЗАЯВКА!#REF!=\"проектирование\",ЗАЯВКА!#REF!,0)","v":{"$error":"#REF!"}},{"$f":"IF(ЗАЯВКА!#REF!=\"строительно-монтажные работы\",ЗАЯВКА!#REF!,0)","v":{"$error":"#REF!"}},{"$f":"IF(ЗАЯВКА!#REF!=\"да\",ЗАЯВКА!#REF!,0)","v":{"$error":"#REF!"}}]
[{"$f":"IF(ЗАЯВКА!#REF!=\"проектирование\",ЗАЯВКА!#REF!,0)","v":{"$error":"#REF!"}},{"$f":"IF(ЗАЯВКА!#REF!=\"строительно-монтажные работы\",ЗАЯВКА!#REF!,0)","v":{"$error":"#REF!"}},{"$f":"IF(ЗАЯВКА!#REF!=\"да\",ЗАЯВКА!#REF!,0)","v":{"$error":"#REF!"}}]
[{"$f":"IF(ЗАЯВКА!#REF!=\"проектирование\",ЗАЯВКА!#REF!,0)","v":{"$error":"#REF!"}},{"$f":"IF(ЗАЯВКА!#REF!=\"строительно-монтажные работы\",ЗАЯВКА!#REF!,0)","v":{"$error":"#REF!"}},{"$f":"IF(ЗАЯВКА!#REF!=\"да\",ЗАЯВКА!#REF!,0)","v":{"$error":"#REF!"}}]
[{"$f":"IF(ЗАЯВКА!#REF!=\"проектирование\",ЗАЯВКА!#REF!,0)","v":{"$error":"#REF!"}},{"$f":"IF(ЗАЯВКА!#REF!=\"строительно-монтажные работы\",ЗАЯВКА!#REF!,0)","v":{"$error":"#REF!"}},{"$f":"IF(ЗАЯВКА!#REF!=\"да\",ЗАЯВКА!#REF!,0)","v":{"$error":"#REF!"}}]
[{"$f":"IF(ЗАЯВКА!#REF!=\"проектирование\",ЗАЯВКА!#REF!,0)","v":{"$error":"#REF!"}},{"$f":"IF(ЗАЯВКА!#REF!=\"строительно-монтажные работы\",ЗАЯВКА!#REF!,0)","v":{"$error":"#REF!"}},{"$f":"IF(ЗАЯВКА!#REF!=\"да\",ЗАЯВКА!#REF!,0)","v":{"$error":"#REF!"}}]
[{"$f":"IF(ЗАЯВКА!#REF!=\"проектирование\",ЗАЯВКА!#REF!,0)","v":{"$error":"#REF!"}},{"$f":"IF(ЗАЯВКА!#REF!=\"строительно-монтажные работы\",ЗАЯВКА!#REF!,0)","v":{"$error":"#REF!"}},{"$f":"IF(ЗАЯВКА!#REF!=\"да\",ЗАЯВКА!#REF!,0)","v":{"$error":"#REF!"}}]
[{"$f":"IF(ЗАЯВКА!#REF!=\"проектирование\",ЗАЯВКА!#REF!,0)","v":{"$error":"#REF!"}},{"$f":"IF(ЗАЯВКА!#REF!=\"строительно-монтажные работы\",ЗАЯВКА!#REF!,0)","v":{"$error":"#REF!"}},{"$f":"IF(ЗАЯВКА!#REF!=\"да\",ЗАЯВКА!#REF!,0)","v":{"$error":"#REF!"}}]
[{"$f":"IF(ЗАЯВКА!#REF!=\"проектирование\",ЗАЯВКА!#REF!,0)","v":{"$error":"#REF!"}},{"$f":"IF(ЗАЯВКА!#REF!=\"строительно-монтажные работы\",ЗАЯВКА!#REF!,0)","v":{"$error":"#REF!"}},{"$f":"IF(ЗАЯВКА!#REF!=\"да\",ЗАЯВКА!#REF!,0)","v":{"$error":"#REF!"}}]
[{"$f":"IF(ЗАЯВКА!#REF!=\"проектирование\",ЗАЯВКА!#REF!,0)","v":{"$error":"#REF!"}},{"$f":"IF(ЗАЯВКА!#REF!=\"строительно-монтажные работы\",ЗАЯВКА!#REF!,0)","v":{"$error":"#REF!"}},{"$f":"IF(ЗАЯВКА!#REF!=\"да\",ЗАЯВКА!#REF!,0)","v":{"$error":"#REF!"}}]
[{"$f":"IF(ЗАЯВКА!#REF!=\"проектирование\",ЗАЯВКА!#REF!,0)","v":{"$error":"#REF!"}},{"$f":"IF(ЗАЯВКА!#REF!=\"строительно-монтажные работы\",ЗАЯВКА!#REF!,0)","v":{"$error":"#REF!"}},{"$f":"IF(ЗАЯВКА!#REF!=\"да\",ЗАЯВКА!#REF!,0)","v":{"$error":"#REF!"}}]
[{"$f":"IF(ЗАЯВКА!#REF!=\"проектирование\",ЗАЯВКА!#REF!,0)","v":{"$error":"#REF!"}},{"$f":"IF(ЗАЯВКА!#REF!=\"строительно-монтажные работы\",ЗАЯВКА!#REF!,0)","v":{"$error":"#REF!"}},{"$f":"IF(ЗАЯВКА!#REF!=\"да\",ЗАЯВКА!#REF!,0)","v":{"$error":"#REF!"}}]
[{"$f":"IF(ЗАЯВКА!#REF!=\"проектирование\",ЗАЯВКА!#REF!,0)","v":{"$error":"#REF!"}},{"$f":"IF(ЗАЯВКА!#REF!=\"строительно-монтажные работы\",ЗАЯВКА!#REF!,0)","v":{"$error":"#REF!"}},{"$f":"IF(ЗАЯВКА!#REF!=\"да\",ЗАЯВКА!#REF!,0)","v":{"$error":"#REF!"}}]
[{"$f":"IF(ЗАЯВКА!#REF!=\"проектирование\",ЗАЯВКА!#REF!,0)","v":{"$error":"#REF!"}},{"$f":"IF(ЗАЯВКА!#REF!=\"строительно-монтажные работы\",ЗАЯВКА!#REF!,0)","v":{"$error":"#REF!"}},{"$f":"IF(ЗАЯВКА!#REF!=\"да\",ЗАЯВКА!#REF!,0)","v":{"$error":"#REF!"}}]
[{"$f":"IF(ЗАЯВКА!#REF!=\"проектирование\",ЗАЯВКА!#REF!,0)","v":{"$error":"#REF!"}},{"$f":"IF(ЗАЯВКА!#REF!=\"строительно-монтажные работы\",ЗАЯВКА!#REF!,0)","v":{"$error":"#REF!"}},{"$f":"IF(ЗАЯВКА!#REF!=\"да\",ЗАЯВКА!#REF!,0)","v":{"$error":"#REF!"}}]
[{"$f":"IF(ЗАЯВКА!#REF!=\"проектирование\",ЗАЯВКА!#REF!,0)","v":{"$error":"#REF!"}},{"$f":"IF(ЗАЯВКА!#REF!=\"строительно-монтажные работы\",ЗАЯВКА!#REF!,0)","v":{"$error":"#REF!"}},{"$f":"IF(ЗАЯВКА!#REF!=\"да\",ЗАЯВКА!#REF!,0)","v":{"$error":"#REF!"}}]
[{"$f":"IF(ЗАЯВКА!#REF!=\"проектирование\",ЗАЯВКА!#REF!,0)","v":{"$error":"#REF!"}},{"$f":"IF(ЗАЯВКА!#REF!=\"строительно-монтажные работы\",ЗАЯВКА!#REF!,0)","v":{"$error":"#REF!"}},{"$f":"IF(ЗАЯВКА!#REF!=\"да\",ЗАЯВКА!#REF!,0)","v":{"$error":"#REF!"}}]
[{"$f":"IF(ЗАЯВКА!#REF!=\"проектирование\",ЗАЯВКА!#REF!,0)","v":{"$error":"#REF!"}},{"$f":"IF(ЗАЯВКА!#REF!=\"строительно-монтажные работы\",ЗАЯВКА!#REF!,0)","v":{"$error":"#REF!"}},{"$f":"IF(ЗАЯВКА!#REF!=\"да\",ЗАЯВКА!#REF!,0)","v":{"$error":"#REF!"}}]
[{"$f":"IF(ЗАЯВКА!#REF!=\"проектирование\",ЗАЯВКА!#REF!,0)","v":{"$error":"#REF!"}},{"$f":"IF(ЗАЯВКА!#REF!=\"строительно-монтажные работы\",ЗАЯВКА!#REF!,0)","v":{"$error":"#REF!"}},{"$f":"IF(ЗАЯВКА!#REF!=\"да\",ЗАЯВКА!#REF!,0)","v":{"$error":"#REF!"}}]
[{"$f":"IF(ЗАЯВКА!#REF!=\"проектирование\",ЗАЯВКА!#REF!,0)","v":{"$error":"#REF!"}},{"$f":"IF(ЗАЯВКА!#REF!=\"строительно-монтажные работы\",ЗАЯВКА!#REF!,0)","v":{"$error":"#REF!"}},{"$f":"IF(ЗАЯВКА!#REF!=\"да\",ЗАЯВКА!#REF!,0)","v":{"$error":"#REF!"}}]
[{"$f":"IF(ЗАЯВКА!#REF!=\"проектирование\",ЗАЯВКА!#REF!,0)","v":{"$error":"#REF!"}},{"$f":"IF(ЗАЯВКА!#REF!=\"строительно-монтажные работы\",ЗАЯВКА!#REF!,0)","v":{"$error":"#REF!"}},{"$f":"IF(ЗАЯВКА!#REF!=\"да\",ЗАЯВКА!#REF!,0)","v":{"$error":"#REF!"}}]
[{"$f":"IF(ЗАЯВКА!#REF!=\"проектирование\",ЗАЯВКА!#REF!,0)","v":{"$error":"#REF!"}},{"$f":"IF(ЗАЯВКА!#REF!=\"строительно-монтажные работы\",ЗАЯВКА!#REF!,0)","v":{"$error":"#REF!"}},{"$f":"IF(ЗАЯВКА!#REF!=\"да\",ЗАЯВКА!#REF!,0)","v":{"$error":"#REF!"}}]
[{"$f":"IF(ЗАЯВКА!#REF!=\"проектирование\",ЗАЯВКА!#REF!,0)","v":{"$error":"#REF!"}},{"$f":"IF(ЗАЯВКА!#REF!=\"строительно-монтажные работы\",ЗАЯВКА!#REF!,0)","v":{"$error":"#REF!"}},{"$f":"IF(ЗАЯВКА!#REF!=\"да\",ЗАЯВКА!#REF!,0)","v":{"$error":"#REF!"}}]
[{"$f":"IF(ЗАЯВКА!#REF!=\"проектирование\",ЗАЯВКА!#REF!,0)","v":{"$error":"#REF!"}},{"$f":"IF(ЗАЯВКА!#REF!=\"строительно-монтажные работы\",ЗАЯВКА!#REF!,0)","v":{"$error":"#REF!"}},{"$f":"IF(ЗАЯВКА!#REF!=\"да\",ЗАЯВКА!#REF!,0)","v":{"$error":"#REF!"}}]
[{"$f":"IF(ЗАЯВКА!#REF!=\"проектирование\",ЗАЯВКА!#REF!,0)","v":{"$error":"#REF!"}},{"$f":"IF(ЗАЯВКА!#REF!=\"строительно-монтажные работы\",ЗАЯВКА!#REF!,0)","v":{"$error":"#REF!"}},{"$f":"IF(ЗАЯВКА!#REF!=\"да\",ЗАЯВКА!#REF!,0)","v":{"$error":"#REF!"}}]
[{"$f":"IF(ЗАЯВКА!#REF!=\"проектирование\",ЗАЯВКА!#REF!,0)","v":{"$error":"#REF!"}},{"$f":"IF(ЗАЯВКА!#REF!=\"строительно-монтажные работы\",ЗАЯВКА!#REF!,0)","v":{"$error":"#REF!"}},{"$f":"IF(ЗАЯВКА!#REF!=\"да\",ЗАЯВКА!#REF!,0)","v":{"$error":"#REF!"}}]
[{"$f":"IF(ЗАЯВКА!#REF!=\"проектирование\",ЗАЯВКА!#REF!,0)","v":{"$error":"#REF!"}},{"$f":"IF(ЗАЯВКА!#REF!=\"строительно-монтажные работы\",ЗАЯВКА!#REF!,0)","v":{"$error":"#REF!"}},{"$f":"IF(ЗАЯВКА!#REF!=\"да\",ЗАЯВКА!#REF!,0)","v":{"$error":"#REF!"}}]
[{"$f":"IF(ЗАЯВКА!#REF!=\"проектирование\",ЗАЯВКА!#REF!,0)","v":{"$error":"#REF!"}},{"$f":"IF(ЗАЯВКА!#REF!=\"строительно-монтажные работы\",ЗАЯВКА!#REF!,0)","v":{"$error":"#REF!"}},{"$f":"IF(ЗАЯВКА!#REF!=\"да\",ЗАЯВКА!#REF!,0)","v":{"$error":"#REF!"}}]
[{"$f":"IF(ЗАЯВКА!#REF!=\"проектирование\",ЗАЯВКА!#REF!,0)","v":{"$error":"#REF!"}},{"$f":"IF(ЗАЯВКА!#REF!=\"строительно-монтажные работы\",ЗАЯВКА!#REF!,0)","v":{"$error":"#REF!"}},{"$f":"IF(ЗАЯВКА!#REF!=\"да\",ЗАЯВКА!#REF!,0)","v":{"$error":"#REF!"}}]
[{"$f":"IF(ЗАЯВКА!#REF!=\"проектирование\",ЗАЯВКА!#REF!,0)","v":{"$error":"#REF!"}},{"$f":"IF(ЗАЯВКА!#REF!=\"строительно-монтажные работы\",ЗАЯВКА!#REF!,0)","v":{"$error":"#REF!"}},{"$f":"IF(ЗАЯВКА!#REF!=\"да\",ЗАЯВКА!#REF!,0)","v":{"$error":"#REF!"}}]
[{"$f":"IF(ЗАЯВКА!#REF!=\"проектирование\",ЗАЯВКА!#REF!,0)","v":{"$error":"#REF!"}},{"$f":"IF(ЗАЯВКА!#REF!=\"строительно-монтажные работы\",ЗАЯВКА!#REF!,0)","v":{"$error":"#REF!"}},{"$f":"IF(ЗАЯВКА!#REF!=\"да\",ЗАЯВКА!#REF!,0)","v":{"$error":"#REF!"}}]
[{"$f":"IF(ЗАЯВКА!#REF!=\"проектирование\",ЗАЯВКА!#REF!,0)","v":{"$error":"#REF!"}},{"$f":"IF(ЗАЯВКА!#REF!=\"строительно-монтажные работы\",ЗАЯВКА!#REF!,0)","v":{"$error":"#REF!"}},{"$f":"IF(ЗАЯВКА!#REF!=\"да\",ЗАЯВКА!#REF!,0)","v":{"$error":"#REF!"}}]
[{"$f":"IF(ЗАЯВКА!#REF!=\"проектирование\",ЗАЯВКА!#REF!,0)","v":{"$error":"#REF!"}},{"$f":"IF(ЗАЯВКА!#REF!=\"строительно-монтажные работы\",ЗАЯВКА!#REF!,0)","v":{"$error":"#REF!"}},{"$f":"IF(ЗАЯВКА!#REF!=\"да\",ЗАЯВКА!#REF!,0)","v":{"$error":"#REF!"}}]
[{"$f":"IF(ЗАЯВКА!#REF!=\"проектирование\",ЗАЯВКА!#REF!,0)","v":{"$error":"#REF!"}},{"$f":"IF(ЗАЯВКА!#REF!=\"строительно-монтажные работы\",ЗАЯВКА!#REF!,0)","v":{"$error":"#REF!"}},{"$f":"IF(ЗАЯВКА!#REF!=\"да\",ЗАЯВКА!#REF!,0)","v":{"$error":"#REF!"}}]
[{"$f":"IF(ЗАЯВКА!#REF!=\"проектирование\",ЗАЯВКА!#REF!,0)","v":{"$error":"#REF!"}},{"$f":"IF(ЗАЯВКА!#REF!=\"строительно-монтажные работы\",ЗАЯВКА!#REF!,0)","v":{"$error":"#REF!"}},{"$f":"IF(ЗАЯВКА!#REF!=\"да\",ЗАЯВКА!#REF!,0)","v":{"$error":"#REF!"}}]
[{"$f":"IF(ЗАЯВКА!#REF!=\"проектирование\",ЗАЯВКА!#REF!,0)","v":{"$error":"#REF!"}},{"$f":"IF(ЗАЯВКА!#REF!=\"строительно-монтажные работы\",ЗАЯВКА!#REF!,0)","v":{"$error":"#REF!"}},{"$f":"IF(ЗАЯВКА!#REF!=\"да\",ЗАЯВКА!#REF!,0)","v":{"$error":"#REF!"}}]
[{"$f":"IF(ЗАЯВКА!#REF!=\"проектирование\",ЗАЯВКА!#REF!,0)","v":{"$error":"#REF!"}},{"$f":"IF(ЗАЯВКА!#REF!=\"строительно-монтажные работы\",ЗАЯВКА!#REF!,0)","v":{"$error":"#REF!"}},{"$f":"IF(ЗАЯВКА!#REF!=\"да\",ЗАЯВКА!#REF!,0)","v":{"$error":"#REF!"}}]
[{"$f":"IF(ЗАЯВКА!#REF!=\"проектирование\",ЗАЯВКА!#REF!,0)","v":{"$error":"#REF!"}},{"$f":"IF(ЗАЯВКА!#REF!=\"строительно-монтажные работы\",ЗАЯВКА!#REF!,0)","v":{"$error":"#REF!"}},{"$f":"IF(ЗАЯВКА!#REF!=\"да\",ЗАЯВКА!#REF!,0)","v":{"$error":"#REF!"}}]
[{"$f":"IF(ЗАЯВКА!#REF!=\"проектирование\",ЗАЯВКА!#REF!,0)","v":{"$error":"#REF!"}},{"$f":"IF(ЗАЯВКА!#REF!=\"строительно-монтажные работы\",ЗАЯВКА!#REF!,0)","v":{"$error":"#REF!"}},{"$f":"IF(ЗАЯВКА!#REF!=\"да\",ЗАЯВКА!#REF!,0)","v":{"$error":"#REF!"}}]
[{"$f":"IF(ЗАЯВКА!#REF!=\"проектирование\",ЗАЯВКА!#REF!,0)","v":{"$error":"#REF!"}},{"$f":"IF(ЗАЯВКА!#REF!=\"строительно-монтажные работы\",ЗАЯВКА!#REF!,0)","v":{"$error":"#REF!"}},{"$f":"IF(ЗАЯВКА!#REF!=\"да\",ЗАЯВКА!#REF!,0)","v":{"$error":"#REF!"}}]
[{"$f":"IF(ЗАЯВКА!#REF!=\"проектирование\",ЗАЯВКА!#REF!,0)","v":{"$error":"#REF!"}},{"$f":"IF(ЗАЯВКА!#REF!=\"строительно-монтажные работы\",ЗАЯВКА!#REF!,0)","v":{"$error":"#REF!"}},{"$f":"IF(ЗАЯВКА!#REF!=\"да\",ЗАЯВКА!#REF!,0)","v":{"$error":"#REF!"}}]
[{"$f":"IF(ЗАЯВКА!#REF!=\"проектирование\",ЗАЯВКА!#REF!,0)","v":{"$error":"#REF!"}},{"$f":"IF(ЗАЯВКА!#REF!=\"строительно-монтажные работы\",ЗАЯВКА!#REF!,0)","v":{"$error":"#REF!"}},{"$f":"IF(ЗАЯВКА!#REF!=\"да\",ЗАЯВКА!#REF!,0)","v":{"$error":"#REF!"}}]
[{"$f":"IF(ЗАЯВКА!#REF!=\"проектирование\",ЗАЯВКА!#REF!,0)","v":{"$error":"#REF!"}},{"$f":"IF(ЗАЯВКА!#REF!=\"строительно-монтажные работы\",ЗАЯВКА!#REF!,0)","v":{"$error":"#REF!"}},{"$f":"IF(ЗАЯВКА!#REF!=\"да\",ЗАЯВКА!#REF!,0)","v":{"$error":"#REF!"}}]
[{"$f":"IF(ЗАЯВКА!#REF!=\"проектирование\",ЗАЯВКА!#REF!,0)","v":{"$error":"#REF!"}},{"$f":"IF(ЗАЯВКА!#REF!=\"строительно-монтажные работы\",ЗАЯВКА!#REF!,0)","v":{"$error":"#REF!"}},{"$f":"IF(ЗАЯВКА!#REF!=\"да\",ЗАЯВКА!#REF!,0)","v":{"$error":"#REF!"}}]
[{"$f":"IF(ЗАЯВКА!#REF!=\"проектирование\",ЗАЯВКА!#REF!,0)","v":{"$error":"#REF!"}},{"$f":"IF(ЗАЯВКА!#REF!=\"строительно-монтажные работы\",ЗАЯВКА!#REF!,0)","v":{"$error":"#REF!"}},{"$f":"IF(ЗАЯВКА!#REF!=\"да\",ЗАЯВКА!#REF!,0)","v":{"$error":"#REF!"}}]
[{"$f":"IF(ЗАЯВКА!#REF!=\"проектирование\",ЗАЯВКА!#REF!,0)","v":{"$error":"#REF!"}},{"$f":"IF(ЗАЯВКА!#REF!=\"строительно-монтажные работы\",ЗАЯВКА!#REF!,0)","v":{"$error":"#REF!"}},{"$f":"IF(ЗАЯВКА!#REF!=\"да\",ЗАЯВКА!#REF!,0)","v":{"$error":"#REF!"}}]
[{"$f":"IF(ЗАЯВКА!#REF!=\"проектирование\",ЗАЯВКА!#REF!,0)","v":{"$error":"#REF!"}},{"$f":"IF(ЗАЯВКА!#REF!=\"строительно-монтажные работы\",ЗАЯВКА!#REF!,0)","v":{"$error":"#REF!"}},{"$f":"IF(ЗАЯВКА!#REF!=\"да\",ЗАЯВКА!#REF!,0)","v":{"$error":"#REF!"}}]
[{"$f":"IF(ЗАЯВКА!#REF!=\"проектирование\",ЗАЯВКА!#REF!,0)","v":{"$error":"#REF!"}},{"$f":"IF(ЗАЯВКА!#REF!=\"строительно-монтажные работы\",ЗАЯВКА!#REF!,0)","v":{"$error":"#REF!"}},{"$f":"IF(ЗАЯВКА!#REF!=\"да\",ЗАЯВКА!#REF!,0)","v":{"$error":"#REF!"}}]
[{"$f":"IF(ЗАЯВКА!#REF!=\"проектирование\",ЗАЯВКА!#REF!,0)","v":{"$error":"#REF!"}},{"$f":"IF(ЗАЯВКА!#REF!=\"строительно-монтажные работы\",ЗАЯВКА!#REF!,0)","v":{"$error":"#REF!"}},{"$f":"IF(ЗАЯВКА!#REF!=\"да\",ЗАЯВКА!#REF!,0)","v":{"$error":"#REF!"}}]
[{"$f":"IF(ЗАЯВКА!#REF!=\"проектирование\",ЗАЯВКА!#REF!,0)","v":{"$error":"#REF!"}},{"$f":"IF(ЗАЯВКА!#REF!=\"строительно-монтажные работы\",ЗАЯВКА!#REF!,0)","v":{"$error":"#REF!"}},{"$f":"IF(ЗАЯВКА!#REF!=\"да\",ЗАЯВКА!#REF!,0)","v":{"$error":"#REF!"}}]
[{"$f":"IF(ЗАЯВКА!#REF!=\"проектирование\",ЗАЯВКА!#REF!,0)","v":{"$error":"#REF!"}},{"$f":"IF(ЗАЯВКА!#REF!=\"строительно-монтажные работы\",ЗАЯВКА!#REF!,0)","v":{"$error":"#REF!"}},{"$f":"IF(ЗАЯВКА!#REF!=\"да\",ЗАЯВКА!#REF!,0)","v":{"$error":"#REF!"}}]
[{"$f":"IF(ЗАЯВКА!#REF!=\"проектирование\",ЗАЯВКА!#REF!,0)","v":{"$error":"#REF!"}},{"$f":"IF(ЗАЯВКА!#REF!=\"строительно-монтажные работы\",ЗАЯВКА!#REF!,0)","v":{"$error":"#REF!"}},{"$f":"IF(ЗАЯВКА!#REF!=\"да\",ЗАЯВКА!#REF!,0)","v":{"$error":"#REF!"}}]
[{"$f":"IF(ЗАЯВКА!#REF!=\"проектирование\",ЗАЯВКА!#REF!,0)","v":{"$error":"#REF!"}},{"$f":"IF(ЗАЯВКА!#REF!=\"строительно-монтажные работы\",ЗАЯВКА!#REF!,0)","v":{"$error":"#REF!"}},{"$f":"IF(ЗАЯВКА!#REF!=\"да\",ЗАЯВКА!#REF!,0)","v":{"$error":"#REF!"}}]
[{"$f":"IF(ЗАЯВКА!#REF!=\"проектирование\",ЗАЯВКА!#REF!,0)","v":{"$error":"#REF!"}},{"$f":"IF(ЗАЯВКА!#REF!=\"строительно-монтажные работы\",ЗАЯВКА!#REF!,0)","v":{"$error":"#REF!"}},{"$f":"IF(ЗАЯВКА!#REF!=\"да\",ЗАЯВКА!#REF!,0)","v":{"$error":"#REF!"}}]
[{"$f":"IF(ЗАЯВКА!#REF!=\"проектирование\",ЗАЯВКА!#REF!,0)","v":{"$error":"#REF!"}},{"$f":"IF(ЗАЯВКА!#REF!=\"строительно-монтажные работы\",ЗАЯВКА!#REF!,0)","v":{"$error":"#REF!"}},{"$f":"IF(ЗАЯВКА!#REF!=\"да\",ЗАЯВКА!#REF!,0)","v":{"$error":"#REF!"}}]
[{"$f":"IF(ЗАЯВКА!#REF!=\"проектирование\",ЗАЯВКА!#REF!,0)","v":{"$error":"#REF!"}},{"$f":"IF(ЗАЯВКА!#REF!=\"строительно-монтажные работы\",ЗАЯВКА!#REF!,0)","v":{"$error":"#REF!"}},{"$f":"IF(ЗАЯВКА!#REF!=\"да\",ЗАЯВКА!#REF!,0)","v":{"$error":"#REF!"}}]
[{"$f":"IF(ЗАЯВКА!#REF!=\"проектирование\",ЗАЯВКА!#REF!,0)","v":{"$error":"#REF!"}},{"$f":"IF(ЗАЯВКА!#REF!=\"строительно-монтажные работы\",ЗАЯВКА!#REF!,0)","v":{"$error":"#REF!"}},{"$f":"IF(ЗАЯВКА!#REF!=\"да\",ЗАЯВКА!#REF!,0)","v":{"$error":"#REF!"}}]
[{"$f":"IF(ЗАЯВКА!#REF!=\"проектирование\",ЗАЯВКА!#REF!,0)","v":{"$error":"#REF!"}},{"$f":"IF(ЗАЯВКА!#REF!=\"строительно-монтажные работы\",ЗАЯВКА!#REF!,0)","v":{"$error":"#REF!"}},{"$f":"IF(ЗАЯВКА!#REF!=\"да\",ЗАЯВКА!#REF!,0)","v":{"$error":"#REF!"}}]
[{"$f":"IF(ЗАЯВКА!#REF!=\"проектирование\",ЗАЯВКА!#REF!,0)","v":{"$error":"#REF!"}},{"$f":"IF(ЗАЯВКА!#REF!=\"строительно-монтажные работы\",ЗАЯВКА!#REF!,0)","v":{"$error":"#REF!"}},{"$f":"IF(ЗАЯВКА!#REF!=\"да\",ЗАЯВКА!#REF!,0)","v":{"$error":"#REF!"}}]
[{"$f":"IF(ЗАЯВКА!#REF!=\"проектирование\",ЗАЯВКА!#REF!,0)","v":{"$error":"#REF!"}},{"$f":"IF(ЗАЯВКА!#REF!=\"строительно-монтажные работы\",ЗАЯВКА!#REF!,0)","v":{"$error":"#REF!"}},{"$f":"IF(ЗАЯВКА!#REF!=\"да\",ЗАЯВКА!#REF!,0)","v":{"$error":"#REF!"}}]
[{"$f":"IF(ЗАЯВКА!#REF!=\"проектирование\",ЗАЯВКА!#REF!,0)","v":{"$error":"#REF!"}},{"$f":"IF(ЗАЯВКА!#REF!=\"строительно-монтажные работы\",ЗАЯВКА!#REF!,0)","v":{"$error":"#REF!"}},{"$f":"IF(ЗАЯВКА!#REF!=\"да\",ЗАЯВКА!#REF!,0)","v":{"$error":"#REF!"}}]
[{"$f":"IF(ЗАЯВКА!#REF!=\"проектирование\",ЗАЯВКА!#REF!,0)","v":{"$error":"#REF!"}},{"$f":"IF(ЗАЯВКА!#REF!=\"строительно-монтажные работы\",ЗАЯВКА!#REF!,0)","v":{"$error":"#REF!"}},{"$f":"IF(ЗАЯВКА!#REF!=\"да\",ЗАЯВКА!#REF!,0)","v":{"$error":"#REF!"}}]
[{"$f":"IF(ЗАЯВКА!#REF!=\"проектирование\",ЗАЯВКА!#REF!,0)","v":{"$error":"#REF!"}},{"$f":"IF(ЗАЯВКА!#REF!=\"строительно-монтажные работы\",ЗАЯВКА!#REF!,0)","v":{"$error":"#REF!"}},{"$f":"IF(ЗАЯВКА!#REF!=\"да\",ЗАЯВКА!#REF!,0)","v":{"$error":"#REF!"}}]
[{"$f":"IF(ЗАЯВКА!#REF!=\"проектирование\",ЗАЯВКА!#REF!,0)","v":{"$error":"#REF!"}},{"$f":"IF(ЗАЯВКА!#REF!=\"строительно-монтажные работы\",ЗАЯВКА!#REF!,0)","v":{"$error":"#REF!"}},{"$f":"IF(ЗАЯВКА!#REF!=\"да\",ЗАЯВКА!#REF!,0)","v":{"$error":"#REF!"}}]
[{"$f":"IF(ЗАЯВКА!#REF!=\"проектирование\",ЗАЯВКА!#REF!,0)","v":{"$error":"#REF!"}},{"$f":"IF(ЗАЯВКА!#REF!=\"строительно-монтажные работы\",ЗАЯВКА!#REF!,0)","v":{"$error":"#REF!"}},{"$f":"IF(ЗАЯВКА!#REF!=\"да\",ЗАЯВКА!#REF!,0)","v":{"$error":"#REF!"}}]
[{"$f":"IF(ЗАЯВКА!#REF!=\"проектирование\",ЗАЯВКА!#REF!,0)","v":{"$error":"#REF!"}},{"$f":"IF(ЗАЯВКА!#REF!=\"строительно-монтажные работы\",ЗАЯВКА!#REF!,0)","v":{"$error":"#REF!"}},{"$f":"IF(ЗАЯВКА!#REF!=\"да\",ЗАЯВКА!#REF!,0)","v":{"$error":"#REF!"}}]
[{"$f":"IF(ЗАЯВКА!#REF!=\"проектирование\",ЗАЯВКА!#REF!,0)","v":{"$error":"#REF!"}},{"$f":"IF(ЗАЯВКА!#REF!=\"строительно-монтажные работы\",ЗАЯВКА!#REF!,0)","v":{"$error":"#REF!"}},{"$f":"IF(ЗАЯВКА!#REF!=\"да\",ЗАЯВКА!#REF!,0)","v":{"$error":"#REF!"}}]
[{"$f":"IF(ЗАЯВКА!#REF!=\"проектирование\",ЗАЯВКА!#REF!,0)","v":{"$error":"#REF!"}},{"$f":"IF(ЗАЯВКА!#REF!=\"строительно-монтажные работы\",ЗАЯВКА!#REF!,0)","v":{"$error":"#REF!"}},{"$f":"IF(ЗАЯВКА!#REF!=\"да\",ЗАЯВКА!#REF!,0)","v":{"$error":"#REF!"}}]
[{"$f":"IF(ЗАЯВКА!#REF!=\"проектирование\",ЗАЯВКА!#REF!,0)","v":{"$error":"#REF!"}},{"$f":"IF(ЗАЯВКА!#REF!=\"строительно-монтажные работы\",ЗАЯВКА!#REF!,0)","v":{"$error":"#REF!"}},{"$f":"IF(ЗАЯВКА!#REF!=\"да\",ЗАЯВКА!#REF!,0)","v":{"$error":"#REF!"}}]
[{"$f":"IF(ЗАЯВКА!#REF!=\"проектирование\",ЗАЯВКА!#REF!,0)","v":{"$error":"#REF!"}},{"$f":"IF(ЗАЯВКА!#REF!=\"строительно-монтажные работы\",ЗАЯВКА!#REF!,0)","v":{"$error":"#REF!"}},{"$f":"IF(ЗАЯВКА!#REF!=\"да\",ЗАЯВКА!#REF!,0)","v":{"$error":"#REF!"}}]
[{"$f":"IF(ЗАЯВКА!#REF!=\"проектирование\",ЗАЯВКА!#REF!,0)","v":{"$error":"#REF!"}},{"$f":"IF(ЗАЯВКА!#REF!=\"строительно-монтажные работы\",ЗАЯВКА!#REF!,0)","v":{"$error":"#REF!"}},{"$f":"IF(ЗАЯВКА!#REF!=\"да\",ЗАЯВКА!#REF!,0)","v":{"$error":"#REF!"}}]
[{"$f":"IF(ЗАЯВКА!#REF!=\"проектирование\",ЗАЯВКА!#REF!,0)","v":{"$error":"#REF!"}},{"$f":"IF(ЗАЯВКА!#REF!=\"строительно-монтажные работы\",ЗАЯВКА!#REF!,0)","v":{"$error":"#REF!"}},{"$f":"IF(ЗАЯВКА!#REF!=\"да\",ЗАЯВКА!#REF!,0)","v":{"$error":"#REF!"}}]
[{"$f":"IF(ЗАЯВКА!#REF!=\"проектирование\",ЗАЯВКА!#REF!,0)","v":{"$error":"#REF!"}},{"$f":"IF(ЗАЯВКА!#REF!=\"строительно-монтажные работы\",ЗАЯВКА!#REF!,0)","v":{"$error":"#REF!"}},{"$f":"IF(ЗАЯВКА!#REF!=\"да\",ЗАЯВКА!#REF!,0)","v":{"$error":"#REF!"}}]
[{"$f":"IF(ЗАЯВКА!#REF!=\"проектирование\",ЗАЯВКА!#REF!,0)","v":{"$error":"#REF!"}},{"$f":"IF(ЗАЯВКА!#REF!=\"строительно-монтажные работы\",ЗАЯВКА!#REF!,0)","v":{"$error":"#REF!"}},{"$f":"IF(ЗАЯВКА!#REF!=\"да\",ЗАЯВКА!#REF!,0)","v":{"$error":"#REF!"}}]
[{"$f":"IF(ЗАЯВКА!#REF!=\"проектирование\",ЗАЯВКА!#REF!,0)","v":{"$error":"#REF!"}},{"$f":"IF(ЗАЯВКА!#REF!=\"строительно-монтажные работы\",ЗАЯВКА!#REF!,0)","v":{"$error":"#REF!"}},{"$f":"IF(ЗАЯВКА!#REF!=\"да\",ЗАЯВКА!#REF!,0)","v":{"$error":"#REF!"}}]
[{"$f":"IF(ЗАЯВКА!#REF!=\"проектирование\",ЗАЯВКА!#REF!,0)","v":{"$error":"#REF!"}},{"$f":"IF(ЗАЯВКА!#REF!=\"строительно-монтажные работы\",ЗАЯВКА!#REF!,0)","v":{"$error":"#REF!"}},{"$f":"IF(ЗАЯВКА!#REF!=\"да\",ЗАЯВКА!#REF!,0)","v":{"$error":"#REF!"}}]
[{"$f":"IF(ЗАЯВКА!#REF!=\"проектирование\",ЗАЯВКА!#REF!,0)","v":{"$error":"#REF!"}},{"$f":"IF(ЗАЯВКА!#REF!=\"строительно-монтажные работы\",ЗАЯВКА!#REF!,0)","v":{"$error":"#REF!"}},{"$f":"IF(ЗАЯВКА!#REF!=\"да\",ЗАЯВКА!#REF!,0)","v":{"$error":"#REF!"}}]
[{"$f":"IF(ЗАЯВКА!#REF!=\"проектирование\",ЗАЯВКА!#REF!,0)","v":{"$error":"#REF!"}},{"$f":"IF(ЗАЯВКА!#REF!=\"строительно-монтажные работы\",ЗАЯВКА!#REF!,0)","v":{"$error":"#REF!"}},{"$f":"IF(ЗАЯВКА!#REF!=\"да\",ЗАЯВКА!#REF!,0)","v":{"$error":"#REF!"}}]
[{"$f":"IF(ЗАЯВКА!#REF!=\"проектирование\",ЗАЯВКА!#REF!,0)","v":{"$error":"#REF!"}},{"$f":"IF(ЗАЯВКА!#REF!=\"строительно-монтажные работы\",ЗАЯВКА!#REF!,0)","v":{"$error":"#REF!"}},{"$f":"IF(ЗАЯВКА!#REF!=\"да\",ЗАЯВКА!#REF!,0)","v":{"$error":"#REF!"}}]
[{"$f":"IF(ЗАЯВКА!#REF!=\"проектирование\",ЗАЯВКА!#REF!,0)","v":{"$error":"#REF!"}},{"$f":"IF(ЗАЯВКА!#REF!=\"строительно-монтажные работы\",ЗАЯВКА!#REF!,0)","v":{"$error":"#REF!"}},{"$f":"IF(ЗАЯВКА!#REF!=\"да\",ЗАЯВКА!#REF!,0)","v":{"$error":"#REF!"}}]
[{"$f":"IF(ЗАЯВКА!#REF!=\"проектирование\",ЗАЯВКА!#REF!,0)","v":{"$error":"#REF!"}},{"$f":"IF(ЗАЯВКА!#REF!=\"строительно-монтажные работы\",ЗАЯВКА!#REF!,0)","v":{"$error":"#REF!"}},{"$f":"IF(ЗАЯВКА!#REF!=\"да\",ЗАЯВКА!#REF!,0)","v":{"$error":"#REF!"}}]
[{"$f":"IF(ЗАЯВКА!#REF!=\"проектирование\",ЗАЯВКА!#REF!,0)","v":{"$error":"#REF!"}},{"$f":"IF(ЗАЯВКА!#REF!=\"строительно-монтажные работы\",ЗАЯВКА!#REF!,0)","v":{"$error":"#REF!"}},{"$f":"IF(ЗАЯВКА!#REF!=\"да\",ЗАЯВКА!#REF!,0)","v":{"$error":"#REF!"}}]
[{"$f":"IF(ЗАЯВКА!#REF!=\"проектирование\",ЗАЯВКА!#REF!,0)","v":{"$error":"#REF!"}},{"$f":"IF(ЗАЯВКА!#REF!=\"строительно-монтажные работы\",ЗАЯВКА!#REF!,0)","v":{"$error":"#REF!"}},{"$f":"IF(ЗАЯВКА!#REF!=\"да\",ЗАЯВКА!#REF!,0)","v":{"$error":"#REF!"}}]
[{"$f":"IF(ЗАЯВКА!#REF!=\"проектирование\",ЗАЯВКА!#REF!,0)","v":{"$error":"#REF!"}},{"$f":"IF(ЗАЯВКА!#REF!=\"строительно-монтажные работы\",ЗАЯВКА!#REF!,0)","v":{"$error":"#REF!"}},{"$f":"IF(ЗАЯВКА!#REF!=\"да\",ЗАЯВКА!#REF!,0)","v":{"$error":"#REF!"}}]
[{"$f":"IF(ЗАЯВКА!#REF!=\"проектирование\",ЗАЯВКА!#REF!,0)","v":{"$error":"#REF!"}},{"$f":"IF(ЗАЯВКА!#REF!=\"строительно-монтажные работы\",ЗАЯВКА!#REF!,0)","v":{"$error":"#REF!"}},{"$f":"IF(ЗАЯВКА!#REF!=\"да\",ЗАЯВКА!#REF!,0)","v":{"$error":"#REF!"}}]
[{"$f":"IF(ЗАЯВКА!#REF!=\"проектирование\",ЗАЯВКА!#REF!,0)","v":{"$error":"#REF!"}},{"$f":"IF(ЗАЯВКА!#REF!=\"строительно-монтажные работы\",ЗАЯВКА!#REF!,0)","v":{"$error":"#REF!"}},{"$f":"IF(ЗАЯВКА!#REF!=\"да\",ЗАЯВКА!#REF!,0)","v":{"$error":"#REF!"}}]
[{"$f":"IF(ЗАЯВКА!#REF!=\"проектирование\",ЗАЯВКА!#REF!,0)","v":{"$error":"#REF!"}},{"$f":"IF(ЗАЯВКА!#REF!=\"строительно-монтажные работы\",ЗАЯВКА!#REF!,0)","v":{"$error":"#REF!"}},{"$f":"IF(ЗАЯВКА!#REF!=\"да\",ЗАЯВКА!#REF!,0)","v":{"$error":"#REF!"}}]
[{"$f":"IF(ЗАЯВКА!#REF!=\"проектирование\",ЗАЯВКА!#REF!,0)","v":{"$error":"#REF!"}},{"$f":"IF(ЗАЯВКА!#REF!=\"строительно-монтажные работы\",ЗАЯВКА!#REF!,0)","v":{"$error":"#REF!"}},{"$f":"IF(ЗАЯВКА!#REF!=\"да\",ЗАЯВКА!#REF!,0)","v":{"$error":"#REF!"}}]
[{"$f":"IF(ЗАЯВКА!#REF!=\"проектирование\",ЗАЯВКА!#REF!,0)","v":{"$error":"#REF!"}},{"$f":"IF(ЗАЯВКА!#REF!=\"строительно-монтажные работы\",ЗАЯВКА!#REF!,0)","v":{"$error":"#REF!"}},{"$f":"IF(ЗАЯВКА!#REF!=\"да\",ЗАЯВКА!#REF!,0)","v":{"$error":"#REF!"}}]
[{"$f":"IF(ЗАЯВКА!#REF!=\"проектирование\",ЗАЯВКА!#REF!,0)","v":{"$error":"#REF!"}},{"$f":"IF(ЗАЯВКА!#REF!=\"строительно-монтажные работы\",ЗАЯВКА!#REF!,0)","v":{"$error":"#REF!"}},{"$f":"IF(ЗАЯВКА!#REF!=\"да\",ЗАЯВКА!#REF!,0)","v":{"$error":"#REF!"}}]
[{"$f":"IF(ЗАЯВКА!#REF!=\"проектирование\",ЗАЯВКА!#REF!,0)","v":{"$error":"#REF!"}},{"$f":"IF(ЗАЯВКА!#REF!=\"строительно-монтажные работы\",ЗАЯВКА!#REF!,0)","v":{"$error":"#REF!"}},{"$f":"IF(ЗАЯВКА!#REF!=\"да\",ЗАЯВКА!#REF!,0)","v":{"$error":"#REF!"}}]
[{"$f":"IF(ЗАЯВКА!#REF!=\"проектирование\",ЗАЯВКА!#REF!,0)","v":{"$error":"#REF!"}},{"$f":"IF(ЗАЯВКА!#REF!=\"строительно-монтажные работы\",ЗАЯВКА!#REF!,0)","v":{"$error":"#REF!"}},{"$f":"IF(ЗАЯВКА!#REF!=\"да\",ЗАЯВКА!#REF!,0)","v":{"$error":"#REF!"}}]
[{"$f":"IF(ЗАЯВКА!#REF!=\"проектирование\",ЗАЯВКА!#REF!,0)","v":{"$error":"#REF!"}},{"$f":"IF(ЗАЯВКА!#REF!=\"строительно-монтажные работы\",ЗАЯВКА!#REF!,0)","v":{"$error":"#REF!"}},{"$f":"IF(ЗАЯВКА!#REF!=\"да\",ЗАЯВКА!#REF!,0)","v":{"$error":"#REF!"}}]
[{"$f":"IF(ЗАЯВКА!#REF!=\"проектирование\",ЗАЯВКА!#REF!,0)","v":{"$error":"#REF!"}},{"$f":"IF(ЗАЯВКА!#REF!=\"строительно-монтажные работы\",ЗАЯВКА!#REF!,0)","v":{"$error":"#REF!"}},{"$f":"IF(ЗАЯВКА!#REF!=\"да\",ЗАЯВКА!#REF!,0)","v":{"$error":"#REF!"}}]
[{"$f":"IF(ЗАЯВКА!#REF!=\"проектирование\",ЗАЯВКА!#REF!,0)","v":{"$error":"#REF!"}},{"$f":"IF(ЗАЯВКА!#REF!=\"строительно-монтажные работы\",ЗАЯВКА!#REF!,0)","v":{"$error":"#REF!"}},{"$f":"IF(ЗАЯВКА!#REF!=\"да\",ЗАЯВКА!#REF!,0)","v":{"$error":"#REF!"}}]
[{"$f":"IF(ЗАЯВКА!#REF!=\"проектирование\",ЗАЯВКА!#REF!,0)","v":{"$error":"#REF!"}},{"$f":"IF(ЗАЯВКА!#REF!=\"строительно-монтажные работы\",ЗАЯВКА!#REF!,0)","v":{"$error":"#REF!"}},{"$f":"IF(ЗАЯВКА!#REF!=\"да\",ЗАЯВКА!#REF!,0)","v":{"$error":"#REF!"}}]
[{"$f":"IF(ЗАЯВКА!#REF!=\"проектирование\",ЗАЯВКА!#REF!,0)","v":{"$error":"#REF!"}},{"$f":"IF(ЗАЯВКА!#REF!=\"строительно-монтажные работы\",ЗАЯВКА!#REF!,0)","v":{"$error":"#REF!"}},{"$f":"IF(ЗАЯВКА!#REF!=\"да\",ЗАЯВКА!#REF!,0)","v":{"$error":"#REF!"}}]
[{"$f":"IF(ЗАЯВКА!#REF!=\"проектирование\",ЗАЯВКА!#REF!,0)","v":{"$error":"#REF!"}},{"$f":"IF(ЗАЯВКА!#REF!=\"строительно-монтажные работы\",ЗАЯВКА!#REF!,0)","v":{"$error":"#REF!"}},{"$f":"IF(ЗАЯВКА!#REF!=\"да\",ЗАЯВКА!#REF!,0)","v":{"$error":"#REF!"}}]
[{"$f":"IF(ЗАЯВКА!#REF!=\"проектирование\",ЗАЯВКА!#REF!,0)","v":{"$error":"#REF!"}},{"$f":"IF(ЗАЯВКА!#REF!=\"строительно-монтажные работы\",ЗАЯВКА!#REF!,0)","v":{"$error":"#REF!"}},{"$f":"IF(ЗАЯВКА!#REF!=\"да\",ЗАЯВКА!#REF!,0)","v":{"$error":"#REF!"}}]
[{"$f":"IF(ЗАЯВКА!#REF!=\"проектирование\",ЗАЯВКА!#REF!,0)","v":{"$error":"#REF!"}},{"$f":"IF(ЗАЯВКА!#REF!=\"строительно-монтажные работы\",ЗАЯВКА!#REF!,0)","v":{"$error":"#REF!"}},{"$f":"IF(ЗАЯВКА!#REF!=\"да\",ЗАЯВКА!#REF!,0)","v":{"$error":"#REF!"}}]
[{"$f":"IF(ЗАЯВКА!#REF!=\"проектирование\",ЗАЯВКА!#REF!,0)","v":{"$error":"#REF!"}},{"$f":"IF(ЗАЯВКА!#REF!=\"строительно-монтажные работы\",ЗАЯВКА!#REF!,0)","v":{"$error":"#REF!"}},{"$f":"IF(ЗАЯВКА!#REF!=\"да\",ЗАЯВКА!#REF!,0)","v":{"$error":"#REF!"}}]
[{"$f":"IF(ЗАЯВКА!#REF!=\"проектирование\",ЗАЯВКА!#REF!,0)","v":{"$error":"#REF!"}},{"$f":"IF(ЗАЯВКА!#REF!=\"строительно-монтажные работы\",ЗАЯВКА!#REF!,0)","v":{"$error":"#REF!"}},{"$f":"IF(ЗАЯВКА!#REF!=\"да\",ЗАЯВКА!#REF!,0)","v":{"$error":"#REF!"}}]
[{"$f":"IF(ЗАЯВКА!#REF!=\"проектирование\",ЗАЯВКА!#REF!,0)","v":{"$error":"#REF!"}},{"$f":"IF(ЗАЯВКА!#REF!=\"строительно-монтажные работы\",ЗАЯВКА!#REF!,0)","v":{"$error":"#REF!"}},{"$f":"IF(ЗАЯВКА!#REF!=\"да\",ЗАЯВКА!#REF!,0)","v":{"$error":"#REF!"}}]
[{"$f":"IF(ЗАЯВКА!#REF!=\"проектирование\",ЗАЯВКА!#REF!,0)","v":{"$error":"#REF!"}},{"$f":"IF(ЗАЯВКА!#REF!=\"строительно-монтажные работы\",ЗАЯВКА!#REF!,0)","v":{"$error":"#REF!"}},{"$f":"IF(ЗАЯВКА!#REF!=\"да\",ЗАЯВКА!#REF!,0)","v":{"$error":"#REF!"}}]
[{"$f":"IF(ЗАЯВКА!#REF!=\"проектирование\",ЗАЯВКА!#REF!,0)","v":{"$error":"#REF!"}},{"$f":"IF(ЗАЯВКА!#REF!=\"строительно-монтажные работы\",ЗАЯВКА!#REF!,0)","v":{"$error":"#REF!"}},{"$f":"IF(ЗАЯВКА!#REF!=\"да\",ЗАЯВКА!#REF!,0)","v":{"$error":"#REF!"}}]
[{"$f":"IF(ЗАЯВКА!#REF!=\"проектирование\",ЗАЯВКА!#REF!,0)","v":{"$error":"#REF!"}},{"$f":"IF(ЗАЯВКА!#REF!=\"строительно-монтажные работы\",ЗАЯВКА!#REF!,0)","v":{"$error":"#REF!"}},{"$f":"IF(ЗАЯВКА!#REF!=\"да\",ЗАЯВКА!#REF!,0)","v":{"$error":"#REF!"}}]
[{"$f":"IF(ЗАЯВКА!#REF!=\"проектирование\",ЗАЯВКА!#REF!,0)","v":{"$error":"#REF!"}},{"$f":"IF(ЗАЯВКА!#REF!=\"строительно-монтажные работы\",ЗАЯВКА!#REF!,0)","v":{"$error":"#REF!"}},{"$f":"IF(ЗАЯВКА!#REF!=\"да\",ЗАЯВКА!#REF!,0)","v":{"$error":"#REF!"}}]
[{"$f":"IF(ЗАЯВКА!#REF!=\"проектирование\",ЗАЯВКА!#REF!,0)","v":{"$error":"#REF!"}},{"$f":"IF(ЗАЯВКА!#REF!=\"строительно-монтажные работы\",ЗАЯВКА!#REF!,0)","v":{"$error":"#REF!"}},{"$f":"IF(ЗАЯВКА!#REF!=\"да\",ЗАЯВКА!#REF!,0)","v":{"$error":"#REF!"}}]
[{"$f":"IF(ЗАЯВКА!#REF!=\"проектирование\",ЗАЯВКА!#REF!,0)","v":{"$error":"#REF!"}},{"$f":"IF(ЗАЯВКА!#REF!=\"строительно-монтажные работы\",ЗАЯВКА!#REF!,0)","v":{"$error":"#REF!"}},{"$f":"IF(ЗАЯВКА!#REF!=\"да\",ЗАЯВКА!#REF!,0)","v":{"$error":"#REF!"}}]
[{"$f":"IF(ЗАЯВКА!#REF!=\"проектирование\",ЗАЯВКА!#REF!,0)","v":{"$error":"#REF!"}},{"$f":"IF(ЗАЯВКА!#REF!=\"строительно-монтажные работы\",ЗАЯВКА!#REF!,0)","v":{"$error":"#REF!"}},{"$f":"IF(ЗАЯВКА!#REF!=\"да\",ЗАЯВКА!#REF!,0)","v":{"$error":"#REF!"}}]
[{"$f":"IF(ЗАЯВКА!#REF!=\"проектирование\",ЗАЯВКА!#REF!,0)","v":{"$error":"#REF!"}},{"$f":"IF(ЗАЯВКА!#REF!=\"строительно-монтажные работы\",ЗАЯВКА!#REF!,0)","v":{"$error":"#REF!"}},{"$f":"IF(ЗАЯВКА!#REF!=\"да\",ЗАЯВКА!#REF!,0)","v":{"$error":"#REF!"}}]
[{"$f":"IF(ЗАЯВКА!#REF!=\"проектирование\",ЗАЯВКА!#REF!,0)","v":{"$error":"#REF!"}},{"$f":"IF(ЗАЯВКА!#REF!=\"строительно-монтажные работы\",ЗАЯВКА!#REF!,0)","v":{"$error":"#REF!"}},{"$f":"IF(ЗАЯВКА!#REF!=\"да\",ЗАЯВКА!#REF!,0)","v":{"$error":"#REF!"}}]
[{"$f":"IF(ЗАЯВКА!I1056=\"проектирование\",ЗАЯВКА!K1056,0)","v":0},{"$f":"IF(ЗАЯВКА!I1056=\"строительно-монтажные работы\",ЗАЯВКА!K1056,0)","v":0},{"$f":"IF(ЗАЯВКА!N1056=\"да\",ЗАЯВКА!K1056,0)","v":0}]
[{"$f":"IF(ЗАЯВКА!I1057=\"проектирование\",ЗАЯВКА!K1057,0)","v":0},{"$f":"IF(ЗАЯВКА!I1057=\"строительно-монтажные работы\",ЗАЯВКА!K1057,0)","v":0},{"$f":"IF(ЗАЯВКА!N1057=\"да\",ЗАЯВКА!K1057,0)","v":0}]
[{"$f":"IF(ЗАЯВКА!I1058=\"проектирование\",ЗАЯВКА!K1058,0)","v":0},{"$f":"IF(ЗАЯВКА!I1058=\"строительно-монтажные работы\",ЗАЯВКА!K1058,0)","v":0},{"$f":"IF(ЗАЯВКА!N1058=\"да\",ЗАЯВКА!K1058,0)","v":0}]
[{"$f":"IF(ЗАЯВКА!I1059=\"проектирование\",ЗАЯВКА!K1059,0)","v":0},{"$f":"IF(ЗАЯВКА!I1059=\"строительно-монтажные работы\",ЗАЯВКА!K1059,0)","v":0},{"$f":"IF(ЗАЯВКА!N1059=\"да\",ЗАЯВКА!K1059,0)","v":0}]
[{"$f":"IF(ЗАЯВКА!I1060=\"проектирование\",ЗАЯВКА!K1060,0)","v":0},{"$f":"IF(ЗАЯВКА!I1060=\"строительно-монтажные работы\",ЗАЯВКА!K1060,0)","v":0},{"$f":"IF(ЗАЯВКА!N1060=\"да\",ЗАЯВКА!K1060,0)","v":0}]
[{"$f":"IF(ЗАЯВКА!I1061=\"проектирование\",ЗАЯВКА!K1061,0)","v":0},{"$f":"IF(ЗАЯВКА!I1061=\"строительно-монтажные работы\",ЗАЯВКА!K1061,0)","v":0},{"$f":"IF(ЗАЯВКА!N1061=\"да\",ЗАЯВКА!K1061,0)","v":0}]
[{"$f":"IF(ЗАЯВКА!I1062=\"проектирование\",ЗАЯВКА!K1062,0)","v":0},{"$f":"IF(ЗАЯВКА!I1062=\"строительно-монтажные работы\",ЗАЯВКА!K1062,0)","v":0},{"$f":"IF(ЗАЯВКА!N1062=\"да\",ЗАЯВКА!K1062,0)","v":0}]
[{"$f":"IF(ЗАЯВКА!I1063=\"проектирование\",ЗАЯВКА!K1063,0)","v":0},{"$f":"IF(ЗАЯВКА!I1063=\"строительно-монтажные работы\",ЗАЯВКА!K1063,0)","v":0},{"$f":"IF(ЗАЯВКА!N1063=\"да\",ЗАЯВКА!K1063,0)","v":0}]
[{"$f":"IF(ЗАЯВКА!I1064=\"проектирование\",ЗАЯВКА!K1064,0)","v":0},{"$f":"IF(ЗАЯВКА!I1064=\"строительно-монтажные работы\",ЗАЯВКА!K1064,0)","v":0},{"$f":"IF(ЗАЯВКА!N1064=\"да\",ЗАЯВКА!K1064,0)","v":0}]
[{"$f":"IF(ЗАЯВКА!I1065=\"проектирование\",ЗАЯВКА!K1065,0)","v":0},{"$f":"IF(ЗАЯВКА!I1065=\"строительно-монтажные работы\",ЗАЯВКА!K1065,0)","v":0},{"$f":"IF(ЗАЯВКА!N1065=\"да\",ЗАЯВКА!K1065,0)","v":0}]
[{"$f":"IF(ЗАЯВКА!I1066=\"проектирование\",ЗАЯВКА!K1066,0)","v":0},{"$f":"IF(ЗАЯВКА!I1066=\"строительно-монтажные работы\",ЗАЯВКА!K1066,0)","v":0},{"$f":"IF(ЗАЯВКА!N1066=\"да\",ЗАЯВКА!K1066,0)","v":0}]
[{"$f":"IF(ЗАЯВКА!I1067=\"проектирование\",ЗАЯВКА!K1067,0)","v":0},{"$f":"IF(ЗАЯВКА!I1067=\"строительно-монтажные работы\",ЗАЯВКА!K1067,0)","v":0},{"$f":"IF(ЗАЯВКА!N1067=\"да\",ЗАЯВКА!K1067,0)","v":0}]
[{"$f":"IF(ЗАЯВКА!I1068=\"проектирование\",ЗАЯВКА!K1068,0)","v":0},{"$f":"IF(ЗАЯВКА!I1068=\"строительно-монтажные работы\",ЗАЯВКА!K1068,0)","v":0},{"$f":"IF(ЗАЯВКА!N1068=\"да\",ЗАЯВКА!K1068,0)","v":0}]
[{"$f":"IF(ЗАЯВКА!I1069=\"проектирование\",ЗАЯВКА!K1069,0)","v":0},{"$f":"IF(ЗАЯВКА!I1069=\"строительно-монтажные работы\",ЗАЯВКА!K1069,0)","v":0},{"$f":"IF(ЗАЯВКА!N1069=\"да\",ЗАЯВКА!K1069,0)","v":0}]
[{"$f":"IF(ЗАЯВКА!I1070=\"проектирование\",ЗАЯВКА!K1070,0)","v":0},{"$f":"IF(ЗАЯВКА!I1070=\"строительно-монтажные работы\",ЗАЯВКА!K1070,0)","v":0},{"$f":"IF(ЗАЯВКА!N1070=\"да\",ЗАЯВКА!K1070,0)","v":0}]
[{"$f":"IF(ЗАЯВКА!I1071=\"проектирование\",ЗАЯВКА!K1071,0)","v":0},{"$f":"IF(ЗАЯВКА!I1071=\"строительно-монтажные работы\",ЗАЯВКА!K1071,0)","v":0},{"$f":"IF(ЗАЯВКА!N1071=\"да\",ЗАЯВКА!K1071,0)","v":0}]
[{"$f":"IF(ЗАЯВКА!I1072=\"проектирование\",ЗАЯВКА!K1072,0)","v":0},{"$f":"IF(ЗАЯВКА!I1072=\"строительно-монтажные работы\",ЗАЯВКА!K1072,0)","v":0},{"$f":"IF(ЗАЯВКА!N1072=\"да\",ЗАЯВКА!K1072,0)","v":0}]
[{"$f":"IF(ЗАЯВКА!I1073=\"проектирование\",ЗАЯВКА!K1073,0)","v":0},{"$f":"IF(ЗАЯВКА!I1073=\"строительно-монтажные работы\",ЗАЯВКА!K1073,0)","v":0},{"$f":"IF(ЗАЯВКА!N1073=\"да\",ЗАЯВКА!K1073,0)","v":0}]
[{"$f":"IF(ЗАЯВКА!I1074=\"проектирование\",ЗАЯВКА!K1074,0)","v":0},{"$f":"IF(ЗАЯВКА!I1074=\"строительно-монтажные работы\",ЗАЯВКА!K1074,0)","v":0},{"$f":"IF(ЗАЯВКА!N1074=\"да\",ЗАЯВКА!K1074,0)","v":0}]
[{"$f":"IF(ЗАЯВКА!I1075=\"проектирование\",ЗАЯВКА!K1075,0)","v":0},{"$f":"IF(ЗАЯВКА!I1075=\"строительно-монтажные работы\",ЗАЯВКА!K1075,0)","v":0},{"$f":"IF(ЗАЯВКА!N1075=\"да\",ЗАЯВКА!K1075,0)","v":0}]
[{"$f":"IF(ЗАЯВКА!I1076=\"проектирование\",ЗАЯВКА!K1076,0)","v":0},{"$f":"IF(ЗАЯВКА!I1076=\"строительно-монтажные работы\",ЗАЯВКА!K1076,0)","v":0},{"$f":"IF(ЗАЯВКА!N1076=\"да\",ЗАЯВКА!K1076,0)","v":0}]
[{"$f":"IF(ЗАЯВКА!I1077=\"проектирование\",ЗАЯВКА!K1077,0)","v":0},{"$f":"IF(ЗАЯВКА!I1077=\"строительно-монтажные работы\",ЗАЯВКА!K1077,0)","v":0},{"$f":"IF(ЗАЯВКА!N1077=\"да\",ЗАЯВКА!K1077,0)","v":0}]
[{"$f":"IF(ЗАЯВКА!I1078=\"проектирование\",ЗАЯВКА!K1078,0)","v":0},{"$f":"IF(ЗАЯВКА!I1078=\"строительно-монтажные работы\",ЗАЯВКА!K1078,0)","v":0},{"$f":"IF(ЗАЯВКА!N1078=\"да\",ЗАЯВКА!K1078,0)","v":0}]
[{"$f":"IF(ЗАЯВКА!I1079=\"проектирование\",ЗАЯВКА!K1079,0)","v":0},{"$f":"IF(ЗАЯВКА!I1079=\"строительно-монтажные работы\",ЗАЯВКА!K1079,0)","v":0},{"$f":"IF(ЗАЯВКА!N1079=\"да\",ЗАЯВКА!K1079,0)","v":0}]
[{"$f":"IF(ЗАЯВКА!I1080=\"проектирование\",ЗАЯВКА!K1080,0)","v":0},{"$f":"IF(ЗАЯВКА!I1080=\"строительно-монтажные работы\",ЗАЯВКА!K1080,0)","v":0},{"$f":"IF(ЗАЯВКА!N1080=\"да\",ЗАЯВКА!K1080,0)","v":0}]
[{"$f":"IF(ЗАЯВКА!I1081=\"проектирование\",ЗАЯВКА!K1081,0)","v":0},{"$f":"IF(ЗАЯВКА!I1081=\"строительно-монтажные работы\",ЗАЯВКА!K1081,0)","v":0},{"$f":"IF(ЗАЯВКА!N1081=\"да\",ЗАЯВКА!K1081,0)","v":0}]
[{"$f":"IF(ЗАЯВКА!I1082=\"проектирование\",ЗАЯВКА!K1082,0)","v":0},{"$f":"IF(ЗАЯВКА!I1082=\"строительно-монтажные работы\",ЗАЯВКА!K1082,0)","v":0},{"$f":"IF(ЗАЯВКА!N1082=\"да\",ЗАЯВКА!K1082,0)","v":0}]
[{"$f":"IF(ЗАЯВКА!I1083=\"проектирование\",ЗАЯВКА!K1083,0)","v":0},{"$f":"IF(ЗАЯВКА!I1083=\"строительно-монтажные работы\",ЗАЯВКА!K1083,0)","v":0},{"$f":"IF(ЗАЯВКА!N1083=\"да\",ЗАЯВКА!K1083,0)","v":0}]
[{"$f":"IF(ЗАЯВКА!I1084=\"проектирование\",ЗАЯВКА!K1084,0)","v":0},{"$f":"IF(ЗАЯВКА!I1084=\"строительно-монтажные работы\",ЗАЯВКА!K1084,0)","v":0},{"$f":"IF(ЗАЯВКА!N1084=\"да\",ЗАЯВКА!K1084,0)","v":0}]
[{"$f":"IF(ЗАЯВКА!I1085=\"проектирование\",ЗАЯВКА!K1085,0)","v":0},{"$f":"IF(ЗАЯВКА!I1085=\"строительно-монтажные работы\",ЗАЯВКА!K1085,0)","v":0},{"$f":"IF(ЗАЯВКА!N1085=\"да\",ЗАЯВКА!K1085,0)","v":0}]
[{"$f":"IF(ЗАЯВКА!I1086=\"проектирование\",ЗАЯВКА!K1086,0)","v":0},{"$f":"IF(ЗАЯВКА!I1086=\"строительно-монтажные работы\",ЗАЯВКА!K1086,0)","v":0},{"$f":"IF(ЗАЯВКА!N1086=\"да\",ЗАЯВКА!K1086,0)","v":0}]
[{"$f":"IF(ЗАЯВКА!I1087=\"проектирование\",ЗАЯВКА!K1087,0)","v":0},{"$f":"IF(ЗАЯВКА!I1087=\"строительно-монтажные работы\",ЗАЯВКА!K1087,0)","v":0},{"$f":"IF(ЗАЯВКА!N1087=\"да\",ЗАЯВКА!K1087,0)","v":0}]
[{"$f":"IF(ЗАЯВКА!I1088=\"проектирование\",ЗАЯВКА!K1088,0)","v":0},{"$f":"IF(ЗАЯВКА!I1088=\"строительно-монтажные работы\",ЗАЯВКА!K1088,0)","v":0},{"$f":"IF(ЗАЯВКА!N1088=\"да\",ЗАЯВКА!K1088,0)","v":0}]
[{"$f":"IF(ЗАЯВКА!I1089=\"проектирование\",ЗАЯВКА!K1089,0)","v":0},{"$f":"IF(ЗАЯВКА!I1089=\"строительно-монтажные работы\",ЗАЯВКА!K1089,0)","v":0},{"$f":"IF(ЗАЯВКА!N1089=\"да\",ЗАЯВКА!K1089,0)","v":0}]
[{"$f":"IF(ЗАЯВКА!I1090=\"проектирование\",ЗАЯВКА!K1090,0)","v":0},{"$f":"IF(ЗАЯВКА!I1090=\"строительно-монтажные работы\",ЗАЯВКА!K1090,0)","v":0},{"$f":"IF(ЗАЯВКА!N1090=\"да\",ЗАЯВКА!K1090,0)","v":0}]
[{"$f":"IF(ЗАЯВКА!I1091=\"проектирование\",ЗАЯВКА!K1091,0)","v":0},{"$f":"IF(ЗАЯВКА!I1091=\"строительно-монтажные работы\",ЗАЯВКА!K1091,0)","v":0},{"$f":"IF(ЗАЯВКА!N1091=\"да\",ЗАЯВКА!K1091,0)","v":0}]
[{"$f":"IF(ЗАЯВКА!I1092=\"проектирование\",ЗАЯВКА!K1092,0)","v":0},{"$f":"IF(ЗАЯВКА!I1092=\"строительно-монтажные работы\",ЗАЯВКА!K1092,0)","v":0},{"$f":"IF(ЗАЯВКА!N1092=\"да\",ЗАЯВКА!K1092,0)","v":0}]
[{"$f":"IF(ЗАЯВКА!I1093=\"проектирование\",ЗАЯВКА!K1093,0)","v":0},{"$f":"IF(ЗАЯВКА!I1093=\"строительно-монтажные работы\",ЗАЯВКА!K1093,0)","v":0},{"$f":"IF(ЗАЯВКА!N1093=\"да\",ЗАЯВКА!K1093,0)","v":0}]
[{"$f":"IF(ЗАЯВКА!I1094=\"проектирование\",ЗАЯВКА!K1094,0)","v":0},{"$f":"IF(ЗАЯВКА!I1094=\"строительно-монтажные работы\",ЗАЯВКА!K1094,0)","v":0},{"$f":"IF(ЗАЯВКА!N1094=\"да\",ЗАЯВКА!K1094,0)","v":0}]
[{"$f":"IF(ЗАЯВКА!I1095=\"проектирование\",ЗАЯВКА!K1095,0)","v":0},{"$f":"IF(ЗАЯВКА!I1095=\"строительно-монтажные работы\",ЗАЯВКА!K1095,0)","v":0},{"$f":"IF(ЗАЯВКА!N1095=\"да\",ЗАЯВКА!K1095,0)","v":0}]
[{"$f":"IF(ЗАЯВКА!I1096=\"проектирование\",ЗАЯВКА!K1096,0)","v":0},{"$f":"IF(ЗАЯВКА!I1096=\"строительно-монтажные работы\",ЗАЯВКА!K1096,0)","v":0},{"$f":"IF(ЗАЯВКА!N1096=\"да\",ЗАЯВКА!K1096,0)","v":0}]
[{"$f":"IF(ЗАЯВКА!I1097=\"проектирование\",ЗАЯВКА!K1097,0)","v":0},{"$f":"IF(ЗАЯВКА!I1097=\"строительно-монтажные работы\",ЗАЯВКА!K1097,0)","v":0},{"$f":"IF(ЗАЯВКА!N1097=\"да\",ЗАЯВКА!K1097,0)","v":0}]
[{"$f":"IF(ЗАЯВКА!I1098=\"проектирование\",ЗАЯВКА!K1098,0)","v":0},{"$f":"IF(ЗАЯВКА!I1098=\"строительно-монтажные работы\",ЗАЯВКА!K1098,0)","v":0},{"$f":"IF(ЗАЯВКА!N1098=\"да\",ЗАЯВКА!K1098,0)","v":0}]
[{"$f":"IF(ЗАЯВКА!I1099=\"проектирование\",ЗАЯВКА!K1099,0)","v":0},{"$f":"IF(ЗАЯВКА!I1099=\"строительно-монтажные работы\",ЗАЯВКА!K1099,0)","v":0},{"$f":"IF(ЗАЯВКА!N1099=\"да\",ЗАЯВКА!K1099,0)","v":0}]
[{"$f":"IF(ЗАЯВКА!I1100=\"проектирование\",ЗАЯВКА!K1100,0)","v":0},{"$f":"IF(ЗАЯВКА!I1100=\"строительно-монтажные работы\",ЗАЯВКА!K1100,0)","v":0},{"$f":"IF(ЗАЯВКА!N1100=\"да\",ЗАЯВКА!K1100,0)","v":0}]
[{"$f":"IF(ЗАЯВКА!I1101=\"проектирование\",ЗАЯВКА!K1101,0)","v":0},{"$f":"IF(ЗАЯВКА!I1101=\"строительно-монтажные работы\",ЗАЯВКА!K1101,0)","v":0},{"$f":"IF(ЗАЯВКА!N1101=\"да\",ЗАЯВКА!K1101,0)","v":0}]
[{"$f":"IF(ЗАЯВКА!I1102=\"проектирование\",ЗАЯВКА!K1102,0)","v":0},{"$f":"IF(ЗАЯВКА!I1102=\"строительно-монтажные работы\",ЗАЯВКА!K1102,0)","v":0},{"$f":"IF(ЗАЯВКА!N1102=\"да\",ЗАЯВКА!K1102,0)","v":0}]
[{"$f":"IF(ЗАЯВКА!I1103=\"проектирование\",ЗАЯВКА!K1103,0)","v":0},{"$f":"IF(ЗАЯВКА!I1103=\"строительно-монтажные работы\",ЗАЯВКА!K1103,0)","v":0},{"$f":"IF(ЗАЯВКА!N1103=\"да\",ЗАЯВКА!K1103,0)","v":0}]
[{"$f":"IF(ЗАЯВКА!I1104=\"проектирование\",ЗАЯВКА!K1104,0)","v":0},{"$f":"IF(ЗАЯВКА!I1104=\"строительно-монтажные работы\",ЗАЯВКА!K1104,0)","v":0},{"$f":"IF(ЗАЯВКА!N1104=\"да\",ЗАЯВКА!K1104,0)","v":0}]
[{"$f":"IF(ЗАЯВКА!I1105=\"проектирование\",ЗАЯВКА!K1105,0)","v":0},{"$f":"IF(ЗАЯВКА!I1105=\"строительно-монтажные работы\",ЗАЯВКА!K1105,0)","v":0},{"$f":"IF(ЗАЯВКА!N1105=\"да\",ЗАЯВКА!K1105,0)","v":0}]
[{"$f":"IF(ЗАЯВКА!I1106=\"проектирование\",ЗАЯВКА!K1106,0)","v":0},{"$f":"IF(ЗАЯВКА!I1106=\"строительно-монтажные работы\",ЗАЯВКА!K1106,0)","v":0},{"$f":"IF(ЗАЯВКА!N1106=\"да\",ЗАЯВКА!K1106,0)","v":0}]
[{"$f":"IF(ЗАЯВКА!I1107=\"проектирование\",ЗАЯВКА!K1107,0)","v":0},{"$f":"IF(ЗАЯВКА!I1107=\"строительно-монтажные работы\",ЗАЯВКА!K1107,0)","v":0},{"$f":"IF(ЗАЯВКА!N1107=\"да\",ЗАЯВКА!K1107,0)","v":0}]
[{"$f":"IF(ЗАЯВКА!I1108=\"проектирование\",ЗАЯВКА!K1108,0)","v":0},{"$f":"IF(ЗАЯВКА!I1108=\"строительно-монтажные работы\",ЗАЯВКА!K1108,0)","v":0},{"$f":"IF(ЗАЯВКА!N1108=\"да\",ЗАЯВКА!K1108,0)","v":0}]
[{"$f":"IF(ЗАЯВКА!I1109=\"проектирование\",ЗАЯВКА!K1109,0)","v":0},{"$f":"IF(ЗАЯВКА!I1109=\"строительно-монтажные работы\",ЗАЯВКА!K1109,0)","v":0},{"$f":"IF(ЗАЯВКА!N1109=\"да\",ЗАЯВКА!K1109,0)","v":0}]
[{"$f":"IF(ЗАЯВКА!I1110=\"проектирование\",ЗАЯВКА!K1110,0)","v":0},{"$f":"IF(ЗАЯВКА!I1110=\"строительно-монтажные работы\",ЗАЯВКА!K1110,0)","v":0},{"$f":"IF(ЗАЯВКА!N1110=\"да\",ЗАЯВКА!K1110,0)","v":0}]
[{"$f":"IF(ЗАЯВКА!I1111=\"проектирование\",ЗАЯВКА!K1111,0)","v":0},{"$f":"IF(ЗАЯВКА!I1111=\"строительно-монтажные работы\",ЗАЯВКА!K1111,0)","v":0},{"$f":"IF(ЗАЯВКА!N1111=\"да\",ЗАЯВКА!K1111,0)","v":0}]
[{"$f":"IF(ЗАЯВКА!I1112=\"проектирование\",ЗАЯВКА!K1112,0)","v":0},{"$f":"IF(ЗАЯВКА!I1112=\"строительно-монтажные работы\",ЗАЯВКА!K1112,0)","v":0},{"$f":"IF(ЗАЯВКА!N1112=\"да\",ЗАЯВКА!K1112,0)","v":0}]
[{"$f":"IF(ЗАЯВКА!I1113=\"проектирование\",ЗАЯВКА!K1113,0)","v":0},{"$f":"IF(ЗАЯВКА!I1113=\"строительно-монтажные работы\",ЗАЯВКА!K1113,0)","v":0},{"$f":"IF(ЗАЯВКА!N1113=\"да\",ЗАЯВКА!K1113,0)","v":0}]
[{"$f":"IF(ЗАЯВКА!I1114=\"проектирование\",ЗАЯВКА!K1114,0)","v":0},{"$f":"IF(ЗАЯВКА!I1114=\"строительно-монтажные работы\",ЗАЯВКА!K1114,0)","v":0},{"$f":"IF(ЗАЯВКА!N1114=\"да\",ЗАЯВКА!K1114,0)","v":0}]
[{"$f":"IF(ЗАЯВКА!I1115=\"проектирование\",ЗАЯВКА!K1115,0)","v":0},{"$f":"IF(ЗАЯВКА!I1115=\"строительно-монтажные работы\",ЗАЯВКА!K1115,0)","v":0},{"$f":"IF(ЗАЯВКА!N1115=\"да\",ЗАЯВКА!K1115,0)","v":0}]
[{"$f":"IF(ЗАЯВКА!I1116=\"проектирование\",ЗАЯВКА!K1116,0)","v":0},{"$f":"IF(ЗАЯВКА!I1116=\"строительно-монтажные работы\",ЗАЯВКА!K1116,0)","v":0},{"$f":"IF(ЗАЯВКА!N1116=\"да\",ЗАЯВКА!K1116,0)","v":0}]
[{"$f":"IF(ЗАЯВКА!I1117=\"проектирование\",ЗАЯВКА!K1117,0)","v":0},{"$f":"IF(ЗАЯВКА!I1117=\"строительно-монтажные работы\",ЗАЯВКА!K1117,0)","v":0},{"$f":"IF(ЗАЯВКА!N1117=\"да\",ЗАЯВКА!K1117,0)","v":0}]
[{"$f":"IF(ЗАЯВКА!I1118=\"проектирование\",ЗАЯВКА!K1118,0)","v":0},{"$f":"IF(ЗАЯВКА!I1118=\"строительно-монтажные работы\",ЗАЯВКА!K1118,0)","v":0},{"$f":"IF(ЗАЯВКА!N1118=\"да\",ЗАЯВКА!K1118,0)","v":0}]
[{"$f":"IF(ЗАЯВКА!I1119=\"проектирование\",ЗАЯВКА!K1119,0)","v":0},{"$f":"IF(ЗАЯВКА!I1119=\"строительно-монтажные работы\",ЗАЯВКА!K1119,0)","v":0},{"$f":"IF(ЗАЯВКА!N1119=\"да\",ЗАЯВКА!K1119,0)","v":0}]
[{"$f":"IF(ЗАЯВКА!I1120=\"проектирование\",ЗАЯВКА!K1120,0)","v":0},{"$f":"IF(ЗАЯВКА!I1120=\"строительно-монтажные работы\",ЗАЯВКА!K1120,0)","v":0},{"$f":"IF(ЗАЯВКА!N1120=\"да\",ЗАЯВКА!K1120,0)","v":0}]
[{"$f":"IF(ЗАЯВКА!I1121=\"проектирование\",ЗАЯВКА!K1121,0)","v":0},{"$f":"IF(ЗАЯВКА!I1121=\"строительно-монтажные работы\",ЗАЯВКА!K1121,0)","v":0},{"$f":"IF(ЗАЯВКА!N1121=\"да\",ЗАЯВКА!K1121,0)","v":0}]
[{"$f":"IF(ЗАЯВКА!I1122=\"проектирование\",ЗАЯВКА!K1122,0)","v":0},{"$f":"IF(ЗАЯВКА!I1122=\"строительно-монтажные работы\",ЗАЯВКА!K1122,0)","v":0},{"$f":"IF(ЗАЯВКА!N1122=\"да\",ЗАЯВКА!K1122,0)","v":0}]
[{"$f":"IF(ЗАЯВКА!I1123=\"проектирование\",ЗАЯВКА!K1123,0)","v":0},{"$f":"IF(ЗАЯВКА!I1123=\"строительно-монтажные работы\",ЗАЯВКА!K1123,0)","v":0},{"$f":"IF(ЗАЯВКА!N1123=\"да\",ЗАЯВКА!K1123,0)","v":0}]
[{"$f":"IF(ЗАЯВКА!I1124=\"проектирование\",ЗАЯВКА!K1124,0)","v":0},{"$f":"IF(ЗАЯВКА!I1124=\"строительно-монтажные работы\",ЗАЯВКА!K1124,0)","v":0},{"$f":"IF(ЗАЯВКА!N1124=\"да\",ЗАЯВКА!K1124,0)","v":0}]
[{"$f":"IF(ЗАЯВКА!I1125=\"проектирование\",ЗАЯВКА!K1125,0)","v":0},{"$f":"IF(ЗАЯВКА!I1125=\"строительно-монтажные работы\",ЗАЯВКА!K1125,0)","v":0},{"$f":"IF(ЗАЯВКА!N1125=\"да\",ЗАЯВКА!K1125,0)","v":0}]
[{"$f":"IF(ЗАЯВКА!I1126=\"проектирование\",ЗАЯВКА!K1126,0)","v":0},{"$f":"IF(ЗАЯВКА!I1126=\"строительно-монтажные работы\",ЗАЯВКА!K1126,0)","v":0},{"$f":"IF(ЗАЯВКА!N1126=\"да\",ЗАЯВКА!K1126,0)","v":0}]
[{"$f":"IF(ЗАЯВКА!I1127=\"проектирование\",ЗАЯВКА!K1127,0)","v":0},{"$f":"IF(ЗАЯВКА!I1127=\"строительно-монтажные работы\",ЗАЯВКА!K1127,0)","v":0},{"$f":"IF(ЗАЯВКА!N1127=\"да\",ЗАЯВКА!K1127,0)","v":0}]
[{"$f":"IF(ЗАЯВКА!I1128=\"проектирование\",ЗАЯВКА!K1128,0)","v":0},{"$f":"IF(ЗАЯВКА!I1128=\"строительно-монтажные работы\",ЗАЯВКА!K1128,0)","v":0},{"$f":"IF(ЗАЯВКА!N1128=\"да\",ЗАЯВКА!K1128,0)","v":0}]
[{"$f":"IF(ЗАЯВКА!I1129=\"проектирование\",ЗАЯВКА!K1129,0)","v":0},{"$f":"IF(ЗАЯВКА!I1129=\"строительно-монтажные работы\",ЗАЯВКА!K1129,0)","v":0},{"$f":"IF(ЗАЯВКА!N1129=\"да\",ЗАЯВКА!K1129,0)","v":0}]
[{"$f":"IF(ЗАЯВКА!I1130=\"проектирование\",ЗАЯВКА!K1130,0)","v":0},{"$f":"IF(ЗАЯВКА!I1130=\"строительно-монтажные работы\",ЗАЯВКА!K1130,0)","v":0},{"$f":"IF(ЗАЯВКА!N1130=\"да\",ЗАЯВКА!K1130,0)","v":0}]
[{"$f":"IF(ЗАЯВКА!I1131=\"проектирование\",ЗАЯВКА!K1131,0)","v":0},{"$f":"IF(ЗАЯВКА!I1131=\"строительно-монтажные работы\",ЗАЯВКА!K1131,0)","v":0},{"$f":"IF(ЗАЯВКА!N1131=\"да\",ЗАЯВКА!K1131,0)","v":0}]
[{"$f":"IF(ЗАЯВКА!I1132=\"проектирование\",ЗАЯВКА!K1132,0)","v":0},{"$f":"IF(ЗАЯВКА!I1132=\"строительно-монтажные работы\",ЗАЯВКА!K1132,0)","v":0},{"$f":"IF(ЗАЯВКА!N1132=\"да\",ЗАЯВКА!K1132,0)","v":0}]
[{"$f":"IF(ЗАЯВКА!I1133=\"проектирование\",ЗАЯВКА!K1133,0)","v":0},{"$f":"IF(ЗАЯВКА!I1133=\"строительно-монтажные работы\",ЗАЯВКА!K1133,0)","v":0},{"$f":"IF(ЗАЯВКА!N1133=\"да\",ЗАЯВКА!K1133,0)","v":0}]
[{"$f":"IF(ЗАЯВКА!I1134=\"проектирование\",ЗАЯВКА!K1134,0)","v":0},{"$f":"IF(ЗАЯВКА!I1134=\"строительно-монтажные работы\",ЗАЯВКА!K1134,0)","v":0},{"$f":"IF(ЗАЯВКА!N1134=\"да\",ЗАЯВКА!K1134,0)","v":0}]
[{"$f":"IF(ЗАЯВКА!I1135=\"проектирование\",ЗАЯВКА!K1135,0)","v":0},{"$f":"IF(ЗАЯВКА!I1135=\"строительно-монтажные работы\",ЗАЯВКА!K1135,0)","v":0},{"$f":"IF(ЗАЯВКА!N1135=\"да\",ЗАЯВКА!K1135,0)","v":0}]
[{"$f":"IF(ЗАЯВКА!I1136=\"проектирование\",ЗАЯВКА!K1136,0)","v":0},{"$f":"IF(ЗАЯВКА!I1136=\"строительно-монтажные работы\",ЗАЯВКА!K1136,0)","v":0},{"$f":"IF(ЗАЯВКА!N1136=\"да\",ЗАЯВКА!K1136,0)","v":0}]
[{"$f":"IF(ЗАЯВКА!I1137=\"проектирование\",ЗАЯВКА!K1137,0)","v":0},{"$f":"IF(ЗАЯВКА!I1137=\"строительно-монтажные работы\",ЗАЯВКА!K1137,0)","v":0},{"$f":"IF(ЗАЯВКА!N1137=\"да\",ЗАЯВКА!K1137,0)","v":0}]
[{"$f":"IF(ЗАЯВКА!I1138=\"проектирование\",ЗАЯВКА!K1138,0)","v":0},{"$f":"IF(ЗАЯВКА!I1138=\"строительно-монтажные работы\",ЗАЯВКА!K1138,0)","v":0},{"$f":"IF(ЗАЯВКА!N1138=\"да\",ЗАЯВКА!K1138,0)","v":0}]
[{"$f":"IF(ЗАЯВКА!I1139=\"проектирование\",ЗАЯВКА!K1139,0)","v":0},{"$f":"IF(ЗАЯВКА!I1139=\"строительно-монтажные работы\",ЗАЯВКА!K1139,0)","v":0},{"$f":"IF(ЗАЯВКА!N1139=\"да\",ЗАЯВКА!K1139,0)","v":0}]
[{"$f":"IF(ЗАЯВКА!I1140=\"проектирование\",ЗАЯВКА!K1140,0)","v":0},{"$f":"IF(ЗАЯВКА!I1140=\"строительно-монтажные работы\",ЗАЯВКА!K1140,0)","v":0},{"$f":"IF(ЗАЯВКА!N1140=\"да\",ЗАЯВКА!K1140,0)","v":0}]
[{"$f":"IF(ЗАЯВКА!I1141=\"проектирование\",ЗАЯВКА!K1141,0)","v":0},{"$f":"IF(ЗАЯВКА!I1141=\"строительно-монтажные работы\",ЗАЯВКА!K1141,0)","v":0},{"$f":"IF(ЗАЯВКА!N1141=\"да\",ЗАЯВКА!K1141,0)","v":0}]
[{"$f":"IF(ЗАЯВКА!I1142=\"проектирование\",ЗАЯВКА!K1142,0)","v":0},{"$f":"IF(ЗАЯВКА!I1142=\"строительно-монтажные работы\",ЗАЯВКА!K1142,0)","v":0},{"$f":"IF(ЗАЯВКА!N1142=\"да\",ЗАЯВКА!K1142,0)","v":0}]
[{"$f":"IF(ЗАЯВКА!I1143=\"проектирование\",ЗАЯВКА!K1143,0)","v":0},{"$f":"IF(ЗАЯВКА!I1143=\"строительно-монтажные работы\",ЗАЯВКА!K1143,0)","v":0},{"$f":"IF(ЗАЯВКА!N1143=\"да\",ЗАЯВКА!K1143,0)","v":0}]
[{"$f":"IF(ЗАЯВКА!I1144=\"проектирование\",ЗАЯВКА!K1144,0)","v":0},{"$f":"IF(ЗАЯВКА!I1144=\"строительно-монтажные работы\",ЗАЯВКА!K1144,0)","v":0},{"$f":"IF(ЗАЯВКА!N1144=\"да\",ЗАЯВКА!K1144,0)","v":0}]
[{"$f":"IF(ЗАЯВКА!I1145=\"проектирование\",ЗАЯВКА!K1145,0)","v":0},{"$f":"IF(ЗАЯВКА!I1145=\"строительно-монтажные работы\",ЗАЯВКА!K1145,0)","v":0},{"$f":"IF(ЗАЯВКА!N1145=\"да\",ЗАЯВКА!K1145,0)","v":0}]
[{"$f":"IF(ЗАЯВКА!I1146=\"проектирование\",ЗАЯВКА!K1146,0)","v":0},{"$f":"IF(ЗАЯВКА!I1146=\"строительно-монтажные работы\",ЗАЯВКА!K1146,0)","v":0},{"$f":"IF(ЗАЯВКА!N1146=\"да\",ЗАЯВКА!K1146,0)","v":0}]
[{"$f":"IF(ЗАЯВКА!I1147=\"проектирование\",ЗАЯВКА!K1147,0)","v":0},{"$f":"IF(ЗАЯВКА!I1147=\"строительно-монтажные работы\",ЗАЯВКА!K1147,0)","v":0},{"$f":"IF(ЗАЯВКА!N1147=\"да\",ЗАЯВКА!K1147,0)","v":0}]
[{"$f":"IF(ЗАЯВКА!I1148=\"проектирование\",ЗАЯВКА!K1148,0)","v":0},{"$f":"IF(ЗАЯВКА!I1148=\"строительно-монтажные работы\",ЗАЯВКА!K1148,0)","v":0},{"$f":"IF(ЗАЯВКА!N1148=\"да\",ЗАЯВКА!K1148,0)","v":0}]
[{"$f":"IF(ЗАЯВКА!I1149=\"проектирование\",ЗАЯВКА!K1149,0)","v":0},{"$f":"IF(ЗАЯВКА!I1149=\"строительно-монтажные работы\",ЗАЯВКА!K1149,0)","v":0},{"$f":"IF(ЗАЯВКА!N1149=\"да\",ЗАЯВКА!K1149,0)","v":0}]
[{"$f":"IF(ЗАЯВКА!I1150=\"проектирование\",ЗАЯВКА!K1150,0)","v":0},{"$f":"IF(ЗАЯВКА!I1150=\"строительно-монтажные работы\",ЗАЯВКА!K1150,0)","v":0},{"$f":"IF(ЗАЯВКА!N1150=\"да\",ЗАЯВКА!K1150,0)","v":0}]
[{"$f":"IF(ЗАЯВКА!I1151=\"проектирование\",ЗАЯВКА!K1151,0)","v":0},{"$f":"IF(ЗАЯВКА!I1151=\"строительно-монтажные работы\",ЗАЯВКА!K1151,0)","v":0},{"$f":"IF(ЗАЯВКА!N1151=\"да\",ЗАЯВКА!K1151,0)","v":0}]
[{"$f":"IF(ЗАЯВКА!I1152=\"проектирование\",ЗАЯВКА!K1152,0)","v":0},{"$f":"IF(ЗАЯВКА!I1152=\"строительно-монтажные работы\",ЗАЯВКА!K1152,0)","v":0},{"$f":"IF(ЗАЯВКА!N1152=\"да\",ЗАЯВКА!K1152,0)","v":0}]
[{"$f":"IF(ЗАЯВКА!I1153=\"проектирование\",ЗАЯВКА!K1153,0)","v":0},{"$f":"IF(ЗАЯВКА!I1153=\"строительно-монтажные работы\",ЗАЯВКА!K1153,0)","v":0},{"$f":"IF(ЗАЯВКА!N1153=\"да\",ЗАЯВКА!K1153,0)","v":0}]
[{"$f":"IF(ЗАЯВКА!I1154=\"проектирование\",ЗАЯВКА!K1154,0)","v":0},{"$f":"IF(ЗАЯВКА!I1154=\"строительно-монтажные работы\",ЗАЯВКА!K1154,0)","v":0},{"$f":"IF(ЗАЯВКА!N1154=\"да\",ЗАЯВКА!K1154,0)","v":0}]
[{"$f":"IF(ЗАЯВКА!I1155=\"проектирование\",ЗАЯВКА!K1155,0)","v":0},{"$f":"IF(ЗАЯВКА!I1155=\"строительно-монтажные работы\",ЗАЯВКА!K1155,0)","v":0},{"$f":"IF(ЗАЯВКА!N1155=\"да\",ЗАЯВКА!K1155,0)","v":0}]
[{"$f":"IF(ЗАЯВКА!I1156=\"проектирование\",ЗАЯВКА!K1156,0)","v":0},{"$f":"IF(ЗАЯВКА!I1156=\"строительно-монтажные работы\",ЗАЯВКА!K1156,0)","v":0},{"$f":"IF(ЗАЯВКА!N1156=\"да\",ЗАЯВКА!K1156,0)","v":0}]
[{"$f":"IF(ЗАЯВКА!I1157=\"проектирование\",ЗАЯВКА!K1157,0)","v":0},{"$f":"IF(ЗАЯВКА!I1157=\"строительно-монтажные работы\",ЗАЯВКА!K1157,0)","v":0},{"$f":"IF(ЗАЯВКА!N1157=\"да\",ЗАЯВКА!K1157,0)","v":0}]
[{"$f":"IF(ЗАЯВКА!I1158=\"проектирование\",ЗАЯВКА!K1158,0)","v":0},{"$f":"IF(ЗАЯВКА!I1158=\"строительно-монтажные работы\",ЗАЯВКА!K1158,0)","v":0},{"$f":"IF(ЗАЯВКА!N1158=\"да\",ЗАЯВКА!K1158,0)","v":0}]
[{"$f":"IF(ЗАЯВКА!I1159=\"проектирование\",ЗАЯВКА!K1159,0)","v":0},{"$f":"IF(ЗАЯВКА!I1159=\"строительно-монтажные работы\",ЗАЯВКА!K1159,0)","v":0},{"$f":"IF(ЗАЯВКА!N1159=\"да\",ЗАЯВКА!K1159,0)","v":0}]
[{"$f":"IF(ЗАЯВКА!I1160=\"проектирование\",ЗАЯВКА!K1160,0)","v":0},{"$f":"IF(ЗАЯВКА!I1160=\"строительно-монтажные работы\",ЗАЯВКА!K1160,0)","v":0},{"$f":"IF(ЗАЯВКА!N1160=\"да\",ЗАЯВКА!K1160,0)","v":0}]
[{"$f":"IF(ЗАЯВКА!I1161=\"проектирование\",ЗАЯВКА!K1161,0)","v":0},{"$f":"IF(ЗАЯВКА!I1161=\"строительно-монтажные работы\",ЗАЯВКА!K1161,0)","v":0},{"$f":"IF(ЗАЯВКА!N1161=\"да\",ЗАЯВКА!K1161,0)","v":0}]
[{"$f":"IF(ЗАЯВКА!I1162=\"проектирование\",ЗАЯВКА!K1162,0)","v":0},{"$f":"IF(ЗАЯВКА!I1162=\"строительно-монтажные работы\",ЗАЯВКА!K1162,0)","v":0},{"$f":"IF(ЗАЯВКА!N1162=\"да\",ЗАЯВКА!K1162,0)","v":0}]
[{"$f":"IF(ЗАЯВКА!I1163=\"проектирование\",ЗАЯВКА!K1163,0)","v":0},{"$f":"IF(ЗАЯВКА!I1163=\"строительно-монтажные работы\",ЗАЯВКА!K1163,0)","v":0},{"$f":"IF(ЗАЯВКА!N1163=\"да\",ЗАЯВКА!K1163,0)","v":0}]
[{"$f":"IF(ЗАЯВКА!I1164=\"проектирование\",ЗАЯВКА!K1164,0)","v":0},{"$f":"IF(ЗАЯВКА!I1164=\"строительно-монтажные работы\",ЗАЯВКА!K1164,0)","v":0},{"$f":"IF(ЗАЯВКА!N1164=\"да\",ЗАЯВКА!K1164,0)","v":0}]
[{"$f":"IF(ЗАЯВКА!I1165=\"проектирование\",ЗАЯВКА!K1165,0)","v":0},{"$f":"IF(ЗАЯВКА!I1165=\"строительно-монтажные работы\",ЗАЯВКА!K1165,0)","v":0},{"$f":"IF(ЗАЯВКА!N1165=\"да\",ЗАЯВКА!K1165,0)","v":0}]
[{"$f":"IF(ЗАЯВКА!I1166=\"проектирование\",ЗАЯВКА!K1166,0)","v":0},{"$f":"IF(ЗАЯВКА!I1166=\"строительно-монтажные работы\",ЗАЯВКА!K1166,0)","v":0},{"$f":"IF(ЗАЯВКА!N1166=\"да\",ЗАЯВКА!K1166,0)","v":0}]
[{"$f":"IF(ЗАЯВКА!I1167=\"проектирование\",ЗАЯВКА!K1167,0)","v":0},{"$f":"IF(ЗАЯВКА!I1167=\"строительно-монтажные работы\",ЗАЯВКА!K1167,0)","v":0},{"$f":"IF(ЗАЯВКА!N1167=\"да\",ЗАЯВКА!K1167,0)","v":0}]
[{"$f":"IF(ЗАЯВКА!I1168=\"проектирование\",ЗАЯВКА!K1168,0)","v":0},{"$f":"IF(ЗАЯВКА!I1168=\"строительно-монтажные работы\",ЗАЯВКА!K1168,0)","v":0},{"$f":"IF(ЗАЯВКА!N1168=\"да\",ЗАЯВКА!K1168,0)","v":0}]
[{"$f":"IF(ЗАЯВКА!I1169=\"проектирование\",ЗАЯВКА!K1169,0)","v":0},{"$f":"IF(ЗАЯВКА!I1169=\"строительно-монтажные работы\",ЗАЯВКА!K1169,0)","v":0},{"$f":"IF(ЗАЯВКА!N1169=\"да\",ЗАЯВКА!K1169,0)","v":0}]
[{"$f":"IF(ЗАЯВКА!I1170=\"проектирование\",ЗАЯВКА!K1170,0)","v":0},{"$f":"IF(ЗАЯВКА!I1170=\"строительно-монтажные работы\",ЗАЯВКА!K1170,0)","v":0},{"$f":"IF(ЗАЯВКА!N1170=\"да\",ЗАЯВКА!K1170,0)","v":0}]
[{"$f":"IF(ЗАЯВКА!I1171=\"проектирование\",ЗАЯВКА!K1171,0)","v":0},{"$f":"IF(ЗАЯВКА!I1171=\"строительно-монтажные работы\",ЗАЯВКА!K1171,0)","v":0},{"$f":"IF(ЗАЯВКА!N1171=\"да\",ЗАЯВКА!K1171,0)","v":0}]
[{"$f":"IF(ЗАЯВКА!I1172=\"проектирование\",ЗАЯВКА!K1172,0)","v":0},{"$f":"IF(ЗАЯВКА!I1172=\"строительно-монтажные работы\",ЗАЯВКА!K1172,0)","v":0},{"$f":"IF(ЗАЯВКА!N1172=\"да\",ЗАЯВКА!K1172,0)","v":0}]
[{"$f":"IF(ЗАЯВКА!I1173=\"проектирование\",ЗАЯВКА!K1173,0)","v":0},{"$f":"IF(ЗАЯВКА!I1173=\"строительно-монтажные работы\",ЗАЯВКА!K1173,0)","v":0},{"$f":"IF(ЗАЯВКА!N1173=\"да\",ЗАЯВКА!K1173,0)","v":0}]
[{"$f":"IF(ЗАЯВКА!I1174=\"проектирование\",ЗАЯВКА!K1174,0)","v":0},{"$f":"IF(ЗАЯВКА!I1174=\"строительно-монтажные работы\",ЗАЯВКА!K1174,0)","v":0},{"$f":"IF(ЗАЯВКА!N1174=\"да\",ЗАЯВКА!K1174,0)","v":0}]
[{"$f":"IF(ЗАЯВКА!I1175=\"проектирование\",ЗАЯВКА!K1175,0)","v":0},{"$f":"IF(ЗАЯВКА!I1175=\"строительно-монтажные работы\",ЗАЯВКА!K1175,0)","v":0},{"$f":"IF(ЗАЯВКА!N1175=\"да\",ЗАЯВКА!K1175,0)","v":0}]
[{"$f":"IF(ЗАЯВКА!I1176=\"проектирование\",ЗАЯВКА!K1176,0)","v":0},{"$f":"IF(ЗАЯВКА!I1176=\"строительно-монтажные работы\",ЗАЯВКА!K1176,0)","v":0},{"$f":"IF(ЗАЯВКА!N1176=\"да\",ЗАЯВКА!K1176,0)","v":0}]
[{"$f":"IF(ЗАЯВКА!I1177=\"проектирование\",ЗАЯВКА!K1177,0)","v":0},{"$f":"IF(ЗАЯВКА!I1177=\"строительно-монтажные работы\",ЗАЯВКА!K1177,0)","v":0},{"$f":"IF(ЗАЯВКА!N1177=\"да\",ЗАЯВКА!K1177,0)","v":0}]
[{"$f":"IF(ЗАЯВКА!I1178=\"проектирование\",ЗАЯВКА!K1178,0)","v":0},{"$f":"IF(ЗАЯВКА!I1178=\"строительно-монтажные работы\",ЗАЯВКА!K1178,0)","v":0},{"$f":"IF(ЗАЯВКА!N1178=\"да\",ЗАЯВКА!K1178,0)","v":0}]
[{"$f":"IF(ЗАЯВКА!I1179=\"проектирование\",ЗАЯВКА!K1179,0)","v":0},{"$f":"IF(ЗАЯВКА!I1179=\"строительно-монтажные работы\",ЗАЯВКА!K1179,0)","v":0},{"$f":"IF(ЗАЯВКА!N1179=\"да\",ЗАЯВКА!K1179,0)","v":0}]
[{"$f":"IF(ЗАЯВКА!I1180=\"проектирование\",ЗАЯВКА!K1180,0)","v":0},{"$f":"IF(ЗАЯВКА!I1180=\"строительно-монтажные работы\",ЗАЯВКА!K1180,0)","v":0},{"$f":"IF(ЗАЯВКА!N1180=\"да\",ЗАЯВКА!K1180,0)","v":0}]
[{"$f":"IF(ЗАЯВКА!I1181=\"проектирование\",ЗАЯВКА!K1181,0)","v":0},{"$f":"IF(ЗАЯВКА!I1181=\"строительно-монтажные работы\",ЗАЯВКА!K1181,0)","v":0},{"$f":"IF(ЗАЯВКА!N1181=\"да\",ЗАЯВКА!K1181,0)","v":0}]
[{"$f":"IF(ЗАЯВКА!I1182=\"проектирование\",ЗАЯВКА!K1182,0)","v":0},{"$f":"IF(ЗАЯВКА!I1182=\"строительно-монтажные работы\",ЗАЯВКА!K1182,0)","v":0},{"$f":"IF(ЗАЯВКА!N1182=\"да\",ЗАЯВКА!K1182,0)","v":0}]
[{"$f":"IF(ЗАЯВКА!I1183=\"проектирование\",ЗАЯВКА!K1183,0)","v":0},{"$f":"IF(ЗАЯВКА!I1183=\"строительно-монтажные работы\",ЗАЯВКА!K1183,0)","v":0},{"$f":"IF(ЗАЯВКА!N1183=\"да\",ЗАЯВКА!K1183,0)","v":0}]
[{"$f":"IF(ЗАЯВКА!I1184=\"проектирование\",ЗАЯВКА!K1184,0)","v":0},{"$f":"IF(ЗАЯВКА!I1184=\"строительно-монтажные работы\",ЗАЯВКА!K1184,0)","v":0},{"$f":"IF(ЗАЯВКА!N1184=\"да\",ЗАЯВКА!K1184,0)","v":0}]
[{"$f":"IF(ЗАЯВКА!I1185=\"проектирование\",ЗАЯВКА!K1185,0)","v":0},{"$f":"IF(ЗАЯВКА!I1185=\"строительно-монтажные работы\",ЗАЯВКА!K1185,0)","v":0},{"$f":"IF(ЗАЯВКА!N1185=\"да\",ЗАЯВКА!K1185,0)","v":0}]
[{"$f":"IF(ЗАЯВКА!I1186=\"проектирование\",ЗАЯВКА!K1186,0)","v":0},{"$f":"IF(ЗАЯВКА!I1186=\"строительно-монтажные работы\",ЗАЯВКА!K1186,0)","v":0},{"$f":"IF(ЗАЯВКА!N1186=\"да\",ЗАЯВКА!K1186,0)","v":0}]
[{"$f":"IF(ЗАЯВКА!I1187=\"проектирование\",ЗАЯВКА!K1187,0)","v":0},{"$f":"IF(ЗАЯВКА!I1187=\"строительно-монтажные работы\",ЗАЯВКА!K1187,0)","v":0},{"$f":"IF(ЗАЯВКА!N1187=\"да\",ЗАЯВКА!K1187,0)","v":0}]
[{"$f":"IF(ЗАЯВКА!I1188=\"проектирование\",ЗАЯВКА!K1188,0)","v":0},{"$f":"IF(ЗАЯВКА!I1188=\"строительно-монтажные работы\",ЗАЯВКА!K1188,0)","v":0},{"$f":"IF(ЗАЯВКА!N1188=\"да\",ЗАЯВКА!K1188,0)","v":0}]
[{"$f":"IF(ЗАЯВКА!I1189=\"проектирование\",ЗАЯВКА!K1189,0)","v":0},{"$f":"IF(ЗАЯВКА!I1189=\"строительно-монтажные работы\",ЗАЯВКА!K1189,0)","v":0},{"$f":"IF(ЗАЯВКА!N1189=\"да\",ЗАЯВКА!K1189,0)","v":0}]
[{"$f":"IF(ЗАЯВКА!I1190=\"проектирование\",ЗАЯВКА!K1190,0)","v":0},{"$f":"IF(ЗАЯВКА!I1190=\"строительно-монтажные работы\",ЗАЯВКА!K1190,0)","v":0},{"$f":"IF(ЗАЯВКА!N1190=\"да\",ЗАЯВКА!K1190,0)","v":0}]
[{"$f":"IF(ЗАЯВКА!I1191=\"проектирование\",ЗАЯВКА!K1191,0)","v":0},{"$f":"IF(ЗАЯВКА!I1191=\"строительно-монтажные работы\",ЗАЯВКА!K1191,0)","v":0},{"$f":"IF(ЗАЯВКА!N1191=\"да\",ЗАЯВКА!K1191,0)","v":0}]
[{"$f":"IF(ЗАЯВКА!I1192=\"проектирование\",ЗАЯВКА!K1192,0)","v":0},{"$f":"IF(ЗАЯВКА!I1192=\"строительно-монтажные работы\",ЗАЯВКА!K1192,0)","v":0},{"$f":"IF(ЗАЯВКА!N1192=\"да\",ЗАЯВКА!K1192,0)","v":0}]
[{"$f":"IF(ЗАЯВКА!I1193=\"проектирование\",ЗАЯВКА!K1193,0)","v":0},{"$f":"IF(ЗАЯВКА!I1193=\"строительно-монтажные работы\",ЗАЯВКА!K1193,0)","v":0},{"$f":"IF(ЗАЯВКА!N1193=\"да\",ЗАЯВКА!K1193,0)","v":0}]
[{"$f":"IF(ЗАЯВКА!I1194=\"проектирование\",ЗАЯВКА!K1194,0)","v":0},{"$f":"IF(ЗАЯВКА!I1194=\"строительно-монтажные работы\",ЗАЯВКА!K1194,0)","v":0},{"$f":"IF(ЗАЯВКА!N1194=\"да\",ЗАЯВКА!K1194,0)","v":0}]
[{"$f":"IF(ЗАЯВКА!I1195=\"проектирование\",ЗАЯВКА!K1195,0)","v":0},{"$f":"IF(ЗАЯВКА!I1195=\"строительно-монтажные работы\",ЗАЯВКА!K1195,0)","v":0},{"$f":"IF(ЗАЯВКА!N1195=\"да\",ЗАЯВКА!K1195,0)","v":0}]
[{"$f":"IF(ЗАЯВКА!I1196=\"проектирование\",ЗАЯВКА!K1196,0)","v":0},{"$f":"IF(ЗАЯВКА!I1196=\"строительно-монтажные работы\",ЗАЯВКА!K1196,0)","v":0},{"$f":"IF(ЗАЯВКА!N1196=\"да\",ЗАЯВКА!K1196,0)","v":0}]
[{"$f":"IF(ЗАЯВКА!I1197=\"проектирование\",ЗАЯВКА!K1197,0)","v":0},{"$f":"IF(ЗАЯВКА!I1197=\"строительно-монтажные работы\",ЗАЯВКА!K1197,0)","v":0},{"$f":"IF(ЗАЯВКА!N1197=\"да\",ЗАЯВКА!K1197,0)","v":0}]
[{"$f":"IF(ЗАЯВКА!I1198=\"проектирование\",ЗАЯВКА!K1198,0)","v":0},{"$f":"IF(ЗАЯВКА!I1198=\"строительно-монтажные работы\",ЗАЯВКА!K1198,0)","v":0},{"$f":"IF(ЗАЯВКА!N1198=\"да\",ЗАЯВКА!K1198,0)","v":0}]
[{"$f":"IF(ЗАЯВКА!I1199=\"проектирование\",ЗАЯВКА!K1199,0)","v":0},{"$f":"IF(ЗАЯВКА!I1199=\"строительно-монтажные работы\",ЗАЯВКА!K1199,0)","v":0},{"$f":"IF(ЗАЯВКА!N1199=\"да\",ЗАЯВКА!K1199,0)","v":0}]
[{"$f":"IF(ЗАЯВКА!I1200=\"проектирование\",ЗАЯВКА!K1200,0)","v":0},{"$f":"IF(ЗАЯВКА!I1200=\"строительно-монтажные работы\",ЗАЯВКА!K1200,0)","v":0},{"$f":"IF(ЗАЯВКА!N1200=\"да\",ЗАЯВКА!K1200,0)","v":0}]
[{"$f":"IF(ЗАЯВКА!I1201=\"проектирование\",ЗАЯВКА!K1201,0)","v":0},{"$f":"IF(ЗАЯВКА!I1201=\"строительно-монтажные работы\",ЗАЯВКА!K1201,0)","v":0},{"$f":"IF(ЗАЯВКА!N1201=\"да\",ЗАЯВКА!K1201,0)","v":0}]
[{"$f":"IF(ЗАЯВКА!I1202=\"проектирование\",ЗАЯВКА!K1202,0)","v":0},{"$f":"IF(ЗАЯВКА!I1202=\"строительно-монтажные работы\",ЗАЯВКА!K1202,0)","v":0},{"$f":"IF(ЗАЯВКА!N1202=\"да\",ЗАЯВКА!K1202,0)","v":0}]
[{"$f":"IF(ЗАЯВКА!I1203=\"проектирование\",ЗАЯВКА!K1203,0)","v":0},{"$f":"IF(ЗАЯВКА!I1203=\"строительно-монтажные работы\",ЗАЯВКА!K1203,0)","v":0},{"$f":"IF(ЗАЯВКА!N1203=\"да\",ЗАЯВКА!K1203,0)","v":0}]
[{"$f":"IF(ЗАЯВКА!I1204=\"проектирование\",ЗАЯВКА!K1204,0)","v":0},{"$f":"IF(ЗАЯВКА!I1204=\"строительно-монтажные работы\",ЗАЯВКА!K1204,0)","v":0},{"$f":"IF(ЗАЯВКА!N1204=\"да\",ЗАЯВКА!K1204,0)","v":0}]
[{"$f":"IF(ЗАЯВКА!I1205=\"проектирование\",ЗАЯВКА!K1205,0)","v":0},{"$f":"IF(ЗАЯВКА!I1205=\"строительно-монтажные работы\",ЗАЯВКА!K1205,0)","v":0},{"$f":"IF(ЗАЯВКА!N1205=\"да\",ЗАЯВКА!K1205,0)","v":0}]
[{"$f":"IF(ЗАЯВКА!I1206=\"проектирование\",ЗАЯВКА!K1206,0)","v":0},{"$f":"IF(ЗАЯВКА!I1206=\"строительно-монтажные работы\",ЗАЯВКА!K1206,0)","v":0},{"$f":"IF(ЗАЯВКА!N1206=\"да\",ЗАЯВКА!K1206,0)","v":0}]
[{"$f":"IF(ЗАЯВКА!I1207=\"проектирование\",ЗАЯВКА!K1207,0)","v":0},{"$f":"IF(ЗАЯВКА!I1207=\"строительно-монтажные работы\",ЗАЯВКА!K1207,0)","v":0},{"$f":"IF(ЗАЯВКА!N1207=\"да\",ЗАЯВКА!K1207,0)","v":0}]
[{"$f":"IF(ЗАЯВКА!I1208=\"проектирование\",ЗАЯВКА!K1208,0)","v":0},{"$f":"IF(ЗАЯВКА!I1208=\"строительно-монтажные работы\",ЗАЯВКА!K1208,0)","v":0},{"$f":"IF(ЗАЯВКА!N1208=\"да\",ЗАЯВКА!K1208,0)","v":0}]
[{"$f":"IF(ЗАЯВКА!I1209=\"проектирование\",ЗАЯВКА!K1209,0)","v":0},{"$f":"IF(ЗАЯВКА!I1209=\"строительно-монтажные работы\",ЗАЯВКА!K1209,0)","v":0},{"$f":"IF(ЗАЯВКА!N1209=\"да\",ЗАЯВКА!K1209,0)","v":0}]
[{"$f":"IF(ЗАЯВКА!I1210=\"проектирование\",ЗАЯВКА!K1210,0)","v":0},{"$f":"IF(ЗАЯВКА!I1210=\"строительно-монтажные работы\",ЗАЯВКА!K1210,0)","v":0},{"$f":"IF(ЗАЯВКА!N1210=\"да\",ЗАЯВКА!K1210,0)","v":0}]
[{"$f":"IF(ЗАЯВКА!I1211=\"проектирование\",ЗАЯВКА!K1211,0)","v":0},{"$f":"IF(ЗАЯВКА!I1211=\"строительно-монтажные работы\",ЗАЯВКА!K1211,0)","v":0},{"$f":"IF(ЗАЯВКА!N1211=\"да\",ЗАЯВКА!K1211,0)","v":0}]
[{"$f":"IF(ЗАЯВКА!I1212=\"проектирование\",ЗАЯВКА!K1212,0)","v":0},{"$f":"IF(ЗАЯВКА!I1212=\"строительно-монтажные работы\",ЗАЯВКА!K1212,0)","v":0},{"$f":"IF(ЗАЯВКА!N1212=\"да\",ЗАЯВКА!K1212,0)","v":0}]
[{"$f":"IF(ЗАЯВКА!I1213=\"проектирование\",ЗАЯВКА!K1213,0)","v":0},{"$f":"IF(ЗАЯВКА!I1213=\"строительно-монтажные работы\",ЗАЯВКА!K1213,0)","v":0},{"$f":"IF(ЗАЯВКА!N1213=\"да\",ЗАЯВКА!K1213,0)","v":0}]
[{"$f":"IF(ЗАЯВКА!I1214=\"проектирование\",ЗАЯВКА!K1214,0)","v":0},{"$f":"IF(ЗАЯВКА!I1214=\"строительно-монтажные работы\",ЗАЯВКА!K1214,0)","v":0},{"$f":"IF(ЗАЯВКА!N1214=\"да\",ЗАЯВКА!K1214,0)","v":0}]
[{"$f":"IF(ЗАЯВКА!I1215=\"проектирование\",ЗАЯВКА!K1215,0)","v":0},{"$f":"IF(ЗАЯВКА!I1215=\"строительно-монтажные работы\",ЗАЯВКА!K1215,0)","v":0},{"$f":"IF(ЗАЯВКА!N1215=\"да\",ЗАЯВКА!K1215,0)","v":0}]
[{"$f":"IF(ЗАЯВКА!I1216=\"проектирование\",ЗАЯВКА!K1216,0)","v":0},{"$f":"IF(ЗАЯВКА!I1216=\"строительно-монтажные работы\",ЗАЯВКА!K1216,0)","v":0},{"$f":"IF(ЗАЯВКА!N1216=\"да\",ЗАЯВКА!K1216,0)","v":0}]
[{"$f":"IF(ЗАЯВКА!I1217=\"проектирование\",ЗАЯВКА!K1217,0)","v":0},{"$f":"IF(ЗАЯВКА!I1217=\"строительно-монтажные работы\",ЗАЯВКА!K1217,0)","v":0},{"$f":"IF(ЗАЯВКА!N1217=\"да\",ЗАЯВКА!K1217,0)","v":0}]
[{"$f":"IF(ЗАЯВКА!I1218=\"проектирование\",ЗАЯВКА!K1218,0)","v":0},{"$f":"IF(ЗАЯВКА!I1218=\"строительно-монтажные работы\",ЗАЯВКА!K1218,0)","v":0},{"$f":"IF(ЗАЯВКА!N1218=\"да\",ЗАЯВКА!K1218,0)","v":0}]
[{"$f":"IF(ЗАЯВКА!I1219=\"проектирование\",ЗАЯВКА!K1219,0)","v":0},{"$f":"IF(ЗАЯВКА!I1219=\"строительно-монтажные работы\",ЗАЯВКА!K1219,0)","v":0},{"$f":"IF(ЗАЯВКА!N1219=\"да\",ЗАЯВКА!K1219,0)","v":0}]
[{"$f":"IF(ЗАЯВКА!I1220=\"проектирование\",ЗАЯВКА!K1220,0)","v":0},{"$f":"IF(ЗАЯВКА!I1220=\"строительно-монтажные работы\",ЗАЯВКА!K1220,0)","v":0},{"$f":"IF(ЗАЯВКА!N1220=\"да\",ЗАЯВКА!K1220,0)","v":0}]
[{"$f":"IF(ЗАЯВКА!I1221=\"проектирование\",ЗАЯВКА!K1221,0)","v":0},{"$f":"IF(ЗАЯВКА!I1221=\"строительно-монтажные работы\",ЗАЯВКА!K1221,0)","v":0},{"$f":"IF(ЗАЯВКА!N1221=\"да\",ЗАЯВКА!K1221,0)","v":0}]
[{"$f":"IF(ЗАЯВКА!I1222=\"проектирование\",ЗАЯВКА!K1222,0)","v":0},{"$f":"IF(ЗАЯВКА!I1222=\"строительно-монтажные работы\",ЗАЯВКА!K1222,0)","v":0},{"$f":"IF(ЗАЯВКА!N1222=\"да\",ЗАЯВКА!K1222,0)","v":0}]
[{"$f":"IF(ЗАЯВКА!I1223=\"проектирование\",ЗАЯВКА!K1223,0)","v":0},{"$f":"IF(ЗАЯВКА!I1223=\"строительно-монтажные работы\",ЗАЯВКА!K1223,0)","v":0},{"$f":"IF(ЗАЯВКА!N1223=\"да\",ЗАЯВКА!K1223,0)","v":0}]
[{"$f":"IF(ЗАЯВКА!I1224=\"проектирование\",ЗАЯВКА!K1224,0)","v":0},{"$f":"IF(ЗАЯВКА!I1224=\"строительно-монтажные работы\",ЗАЯВКА!K1224,0)","v":0},{"$f":"IF(ЗАЯВКА!N1224=\"да\",ЗАЯВКА!K1224,0)","v":0}]
[{"$f":"IF(ЗАЯВКА!I1225=\"проектирование\",ЗАЯВКА!K1225,0)","v":0},{"$f":"IF(ЗАЯВКА!I1225=\"строительно-монтажные работы\",ЗАЯВКА!K1225,0)","v":0},{"$f":"IF(ЗАЯВКА!N1225=\"да\",ЗАЯВКА!K1225,0)","v":0}]
[{"$f":"IF(ЗАЯВКА!I1226=\"проектирование\",ЗАЯВКА!K1226,0)","v":0},{"$f":"IF(ЗАЯВКА!I1226=\"строительно-монтажные работы\",ЗАЯВКА!K1226,0)","v":0},{"$f":"IF(ЗАЯВКА!N1226=\"да\",ЗАЯВКА!K1226,0)","v":0}]
[{"$f":"IF(ЗАЯВКА!I1227=\"проектирование\",ЗАЯВКА!K1227,0)","v":0},{"$f":"IF(ЗАЯВКА!I1227=\"строительно-монтажные работы\",ЗАЯВКА!K1227,0)","v":0},{"$f":"IF(ЗАЯВКА!N1227=\"да\",ЗАЯВКА!K1227,0)","v":0}]
[{"$f":"IF(ЗАЯВКА!I1228=\"проектирование\",ЗАЯВКА!K1228,0)","v":0},{"$f":"IF(ЗАЯВКА!I1228=\"строительно-монтажные работы\",ЗАЯВКА!K1228,0)","v":0},{"$f":"IF(ЗАЯВКА!N1228=\"да\",ЗАЯВКА!K1228,0)","v":0}]
[{"$f":"IF(ЗАЯВКА!I1229=\"проектирование\",ЗАЯВКА!K1229,0)","v":0},{"$f":"IF(ЗАЯВКА!I1229=\"строительно-монтажные работы\",ЗАЯВКА!K1229,0)","v":0},{"$f":"IF(ЗАЯВКА!N1229=\"да\",ЗАЯВКА!K1229,0)","v":0}]
[{"$f":"IF(ЗАЯВКА!I1230=\"проектирование\",ЗАЯВКА!K1230,0)","v":0},{"$f":"IF(ЗАЯВКА!I1230=\"строительно-монтажные работы\",ЗАЯВКА!K1230,0)","v":0},{"$f":"IF(ЗАЯВКА!N1230=\"да\",ЗАЯВКА!K1230,0)","v":0}]
[{"$f":"IF(ЗАЯВКА!I1231=\"проектирование\",ЗАЯВКА!K1231,0)","v":0},{"$f":"IF(ЗАЯВКА!I1231=\"строительно-монтажные работы\",ЗАЯВКА!K1231,0)","v":0},{"$f":"IF(ЗАЯВКА!N1231=\"да\",ЗАЯВКА!K1231,0)","v":0}]
[{"$f":"IF(ЗАЯВКА!I1232=\"проектирование\",ЗАЯВКА!K1232,0)","v":0},{"$f":"IF(ЗАЯВКА!I1232=\"строительно-монтажные работы\",ЗАЯВКА!K1232,0)","v":0},{"$f":"IF(ЗАЯВКА!N1232=\"да\",ЗАЯВКА!K1232,0)","v":0}]
[{"$f":"IF(ЗАЯВКА!I1233=\"проектирование\",ЗАЯВКА!K1233,0)","v":0},{"$f":"IF(ЗАЯВКА!I1233=\"строительно-монтажные работы\",ЗАЯВКА!K1233,0)","v":0},{"$f":"IF(ЗАЯВКА!N1233=\"да\",ЗАЯВКА!K1233,0)","v":0}]
[{"$f":"IF(ЗАЯВКА!I1234=\"проектирование\",ЗАЯВКА!K1234,0)","v":0},{"$f":"IF(ЗАЯВКА!I1234=\"строительно-монтажные работы\",ЗАЯВКА!K1234,0)","v":0},{"$f":"IF(ЗАЯВКА!N1234=\"да\",ЗАЯВКА!K1234,0)","v":0}]
[{"$f":"IF(ЗАЯВКА!I1235=\"проектирование\",ЗАЯВКА!K1235,0)","v":0},{"$f":"IF(ЗАЯВКА!I1235=\"строительно-монтажные работы\",ЗАЯВКА!K1235,0)","v":0},{"$f":"IF(ЗАЯВКА!N1235=\"да\",ЗАЯВКА!K1235,0)","v":0}]
[{"$f":"IF(ЗАЯВКА!I1236=\"проектирование\",ЗАЯВКА!K1236,0)","v":0},{"$f":"IF(ЗАЯВКА!I1236=\"строительно-монтажные работы\",ЗАЯВКА!K1236,0)","v":0},{"$f":"IF(ЗАЯВКА!N1236=\"да\",ЗАЯВКА!K1236,0)","v":0}]
[{"$f":"IF(ЗАЯВКА!I1237=\"проектирование\",ЗАЯВКА!K1237,0)","v":0},{"$f":"IF(ЗАЯВКА!I1237=\"строительно-монтажные работы\",ЗАЯВКА!K1237,0)","v":0},{"$f":"IF(ЗАЯВКА!N1237=\"да\",ЗАЯВКА!K1237,0)","v":0}]
[{"$f":"IF(ЗАЯВКА!I1238=\"проектирование\",ЗАЯВКА!K1238,0)","v":0},{"$f":"IF(ЗАЯВКА!I1238=\"строительно-монтажные работы\",ЗАЯВКА!K1238,0)","v":0},{"$f":"IF(ЗАЯВКА!N1238=\"да\",ЗАЯВКА!K1238,0)","v":0}]
[{"$f":"IF(ЗАЯВКА!I1239=\"проектирование\",ЗАЯВКА!K1239,0)","v":0},{"$f":"IF(ЗАЯВКА!I1239=\"строительно-монтажные работы\",ЗАЯВКА!K1239,0)","v":0},{"$f":"IF(ЗАЯВКА!N1239=\"да\",ЗАЯВКА!K1239,0)","v":0}]
[{"$f":"IF(ЗАЯВКА!I1240=\"проектирование\",ЗАЯВКА!K1240,0)","v":0},{"$f":"IF(ЗАЯВКА!I1240=\"строительно-монтажные работы\",ЗАЯВКА!K1240,0)","v":0},{"$f":"IF(ЗАЯВКА!N1240=\"да\",ЗАЯВКА!K1240,0)","v":0}]
[{"$f":"IF(ЗАЯВКА!I1241=\"проектирование\",ЗАЯВКА!K1241,0)","v":0},{"$f":"IF(ЗАЯВКА!I1241=\"строительно-монтажные работы\",ЗАЯВКА!K1241,0)","v":0},{"$f":"IF(ЗАЯВКА!N1241=\"да\",ЗАЯВКА!K1241,0)","v":0}]
[{"$f":"IF(ЗАЯВКА!I1242=\"проектирование\",ЗАЯВКА!K1242,0)","v":0},{"$f":"IF(ЗАЯВКА!I1242=\"строительно-монтажные работы\",ЗАЯВКА!K1242,0)","v":0},{"$f":"IF(ЗАЯВКА!N1242=\"да\",ЗАЯВКА!K1242,0)","v":0}]
[{"$f":"IF(ЗАЯВКА!I1243=\"проектирование\",ЗАЯВКА!K1243,0)","v":0},{"$f":"IF(ЗАЯВКА!I1243=\"строительно-монтажные работы\",ЗАЯВКА!K1243,0)","v":0},{"$f":"IF(ЗАЯВКА!N1243=\"да\",ЗАЯВКА!K1243,0)","v":0}]
[{"$f":"IF(ЗАЯВКА!I1244=\"проектирование\",ЗАЯВКА!K1244,0)","v":0},{"$f":"IF(ЗАЯВКА!I1244=\"строительно-монтажные работы\",ЗАЯВКА!K1244,0)","v":0},{"$f":"IF(ЗАЯВКА!N1244=\"да\",ЗАЯВКА!K1244,0)","v":0}]
[{"$f":"IF(ЗАЯВКА!I1245=\"проектирование\",ЗАЯВКА!K1245,0)","v":0},{"$f":"IF(ЗАЯВКА!I1245=\"строительно-монтажные работы\",ЗАЯВКА!K1245,0)","v":0},{"$f":"IF(ЗАЯВКА!N1245=\"да\",ЗАЯВКА!K1245,0)","v":0}]
[{"$f":"IF(ЗАЯВКА!I1246=\"проектирование\",ЗАЯВКА!K1246,0)","v":0},{"$f":"IF(ЗАЯВКА!I1246=\"строительно-монтажные работы\",ЗАЯВКА!K1246,0)","v":0},{"$f":"IF(ЗАЯВКА!N1246=\"да\",ЗАЯВКА!K1246,0)","v":0}]
[{"$f":"IF(ЗАЯВКА!I1247=\"проектирование\",ЗАЯВКА!K1247,0)","v":0},{"$f":"IF(ЗАЯВКА!I1247=\"строительно-монтажные работы\",ЗАЯВКА!K1247,0)","v":0},{"$f":"IF(ЗАЯВКА!N1247=\"да\",ЗАЯВКА!K1247,0)","v":0}]
[{"$f":"IF(ЗАЯВКА!I1248=\"проектирование\",ЗАЯВКА!K1248,0)","v":0},{"$f":"IF(ЗАЯВКА!I1248=\"строительно-монтажные работы\",ЗАЯВКА!K1248,0)","v":0},{"$f":"IF(ЗАЯВКА!N1248=\"да\",ЗАЯВКА!K1248,0)","v":0}]
[{"$f":"IF(ЗАЯВКА!I1249=\"проектирование\",ЗАЯВКА!K1249,0)","v":0},{"$f":"IF(ЗАЯВКА!I1249=\"строительно-монтажные работы\",ЗАЯВКА!K1249,0)","v":0},{"$f":"IF(ЗАЯВКА!N1249=\"да\",ЗАЯВКА!K1249,0)","v":0}]
[{"$f":"IF(ЗАЯВКА!I1250=\"проектирование\",ЗАЯВКА!K1250,0)","v":0},{"$f":"IF(ЗАЯВКА!I1250=\"строительно-монтажные работы\",ЗАЯВКА!K1250,0)","v":0},{"$f":"IF(ЗАЯВКА!N1250=\"да\",ЗАЯВКА!K1250,0)","v":0}]
[{"$f":"IF(ЗАЯВКА!I1251=\"проектирование\",ЗАЯВКА!K1251,0)","v":0},{"$f":"IF(ЗАЯВКА!I1251=\"строительно-монтажные работы\",ЗАЯВКА!K1251,0)","v":0},{"$f":"IF(ЗАЯВКА!N1251=\"да\",ЗАЯВКА!K1251,0)","v":0}]
[{"$f":"IF(ЗАЯВКА!I1252=\"проектирование\",ЗАЯВКА!K1252,0)","v":0},{"$f":"IF(ЗАЯВКА!I1252=\"строительно-монтажные работы\",ЗАЯВКА!K1252,0)","v":0},{"$f":"IF(ЗАЯВКА!N1252=\"да\",ЗАЯВКА!K1252,0)","v":0}]
[{"$f":"IF(ЗАЯВКА!I1253=\"проектирование\",ЗАЯВКА!K1253,0)","v":0},{"$f":"IF(ЗАЯВКА!I1253=\"строительно-монтажные работы\",ЗАЯВКА!K1253,0)","v":0},{"$f":"IF(ЗАЯВКА!N1253=\"да\",ЗАЯВКА!K1253,0)","v":0}]
[{"$f":"IF(ЗАЯВКА!I1254=\"проектирование\",ЗАЯВКА!K1254,0)","v":0},{"$f":"IF(ЗАЯВКА!I1254=\"строительно-монтажные работы\",ЗАЯВКА!K1254,0)","v":0},{"$f":"IF(ЗАЯВКА!N1254=\"да\",ЗАЯВКА!K1254,0)","v":0}]
[{"$f":"IF(ЗАЯВКА!I1255=\"проектирование\",ЗАЯВКА!K1255,0)","v":0},{"$f":"IF(ЗАЯВКА!I1255=\"строительно-монтажные работы\",ЗАЯВКА!K1255,0)","v":0},{"$f":"IF(ЗАЯВКА!N1255=\"да\",ЗАЯВКА!K1255,0)","v":0}]
[{"$f":"IF(ЗАЯВКА!I1256=\"проектирование\",ЗАЯВКА!K1256,0)","v":0},{"$f":"IF(ЗАЯВКА!I1256=\"строительно-монтажные работы\",ЗАЯВКА!K1256,0)","v":0},{"$f":"IF(ЗАЯВКА!N1256=\"да\",ЗАЯВКА!K1256,0)","v":0}]
[{"$f":"IF(ЗАЯВКА!I1257=\"проектирование\",ЗАЯВКА!K1257,0)","v":0},{"$f":"IF(ЗАЯВКА!I1257=\"строительно-монтажные работы\",ЗАЯВКА!K1257,0)","v":0},{"$f":"IF(ЗАЯВКА!N1257=\"да\",ЗАЯВКА!K1257,0)","v":0}]
[{"$f":"IF(ЗАЯВКА!I1258=\"проектирование\",ЗАЯВКА!K1258,0)","v":0},{"$f":"IF(ЗАЯВКА!I1258=\"строительно-монтажные работы\",ЗАЯВКА!K1258,0)","v":0},{"$f":"IF(ЗАЯВКА!N1258=\"да\",ЗАЯВКА!K1258,0)","v":0}]
[{"$f":"IF(ЗАЯВКА!I1259=\"проектирование\",ЗАЯВКА!K1259,0)","v":0},{"$f":"IF(ЗАЯВКА!I1259=\"строительно-монтажные работы\",ЗАЯВКА!K1259,0)","v":0},{"$f":"IF(ЗАЯВКА!N1259=\"да\",ЗАЯВКА!K1259,0)","v":0}]
[{"$f":"IF(ЗАЯВКА!I1260=\"проектирование\",ЗАЯВКА!K1260,0)","v":0},{"$f":"IF(ЗАЯВКА!I1260=\"строительно-монтажные работы\",ЗАЯВКА!K1260,0)","v":0},{"$f":"IF(ЗАЯВКА!N1260=\"да\",ЗАЯВКА!K1260,0)","v":0}]
[{"$f":"IF(ЗАЯВКА!I1261=\"проектирование\",ЗАЯВКА!K1261,0)","v":0},{"$f":"IF(ЗАЯВКА!I1261=\"строительно-монтажные работы\",ЗАЯВКА!K1261,0)","v":0},{"$f":"IF(ЗАЯВКА!N1261=\"да\",ЗАЯВКА!K1261,0)","v":0}]
[{"$f":"IF(ЗАЯВКА!I1262=\"проектирование\",ЗАЯВКА!K1262,0)","v":0},{"$f":"IF(ЗАЯВКА!I1262=\"строительно-монтажные работы\",ЗАЯВКА!K1262,0)","v":0},{"$f":"IF(ЗАЯВКА!N1262=\"да\",ЗАЯВКА!K1262,0)","v":0}]
[{"$f":"IF(ЗАЯВКА!I1263=\"проектирование\",ЗАЯВКА!K1263,0)","v":0},{"$f":"IF(ЗАЯВКА!I1263=\"строительно-монтажные работы\",ЗАЯВКА!K1263,0)","v":0},{"$f":"IF(ЗАЯВКА!N1263=\"да\",ЗАЯВКА!K1263,0)","v":0}]
[{"$f":"IF(ЗАЯВКА!I1264=\"проектирование\",ЗАЯВКА!K1264,0)","v":0},{"$f":"IF(ЗАЯВКА!I1264=\"строительно-монтажные работы\",ЗАЯВКА!K1264,0)","v":0},{"$f":"IF(ЗАЯВКА!N1264=\"да\",ЗАЯВКА!K1264,0)","v":0}]
[{"$f":"IF(ЗАЯВКА!I1265=\"проектирование\",ЗАЯВКА!K1265,0)","v":0},{"$f":"IF(ЗАЯВКА!I1265=\"строительно-монтажные работы\",ЗАЯВКА!K1265,0)","v":0},{"$f":"IF(ЗАЯВКА!N1265=\"да\",ЗАЯВКА!K1265,0)","v":0}]
[{"$f":"IF(ЗАЯВКА!I1266=\"проектирование\",ЗАЯВКА!K1266,0)","v":0},{"$f":"IF(ЗАЯВКА!I1266=\"строительно-монтажные работы\",ЗАЯВКА!K1266,0)","v":0},{"$f":"IF(ЗАЯВКА!N1266=\"да\",ЗАЯВКА!K1266,0)","v":0}]
[{"$f":"IF(ЗАЯВКА!I1267=\"проектирование\",ЗАЯВКА!K1267,0)","v":0},{"$f":"IF(ЗАЯВКА!I1267=\"строительно-монтажные работы\",ЗАЯВКА!K1267,0)","v":0},{"$f":"IF(ЗАЯВКА!N1267=\"да\",ЗАЯВКА!K1267,0)","v":0}]
[{"$f":"IF(ЗАЯВКА!I1268=\"проектирование\",ЗАЯВКА!K1268,0)","v":0},{"$f":"IF(ЗАЯВКА!I1268=\"строительно-монтажные работы\",ЗАЯВКА!K1268,0)","v":0},{"$f":"IF(ЗАЯВКА!N1268=\"да\",ЗАЯВКА!K1268,0)","v":0}]
[{"$f":"IF(ЗАЯВКА!I1269=\"проектирование\",ЗАЯВКА!K1269,0)","v":0},{"$f":"IF(ЗАЯВКА!I1269=\"строительно-монтажные работы\",ЗАЯВКА!K1269,0)","v":0},{"$f":"IF(ЗАЯВКА!N1269=\"да\",ЗАЯВКА!K1269,0)","v":0}]
[{"$f":"IF(ЗАЯВКА!I1270=\"проектирование\",ЗАЯВКА!K1270,0)","v":0},{"$f":"IF(ЗАЯВКА!I1270=\"строительно-монтажные работы\",ЗАЯВКА!K1270,0)","v":0},{"$f":"IF(ЗАЯВКА!N1270=\"да\",ЗАЯВКА!K1270,0)","v":0}]
[{"$f":"IF(ЗАЯВКА!I1271=\"проектирование\",ЗАЯВКА!K1271,0)","v":0},{"$f":"IF(ЗАЯВКА!I1271=\"строительно-монтажные работы\",ЗАЯВКА!K1271,0)","v":0},{"$f":"IF(ЗАЯВКА!N1271=\"да\",ЗАЯВКА!K1271,0)","v":0}]
[{"$f":"IF(ЗАЯВКА!I1272=\"проектирование\",ЗАЯВКА!K1272,0)","v":0},{"$f":"IF(ЗАЯВКА!I1272=\"строительно-монтажные работы\",ЗАЯВКА!K1272,0)","v":0},{"$f":"IF(ЗАЯВКА!N1272=\"да\",ЗАЯВКА!K1272,0)","v":0}]
[{"$f":"IF(ЗАЯВКА!I1273=\"проектирование\",ЗАЯВКА!K1273,0)","v":0},{"$f":"IF(ЗАЯВКА!I1273=\"строительно-монтажные работы\",ЗАЯВКА!K1273,0)","v":0},{"$f":"IF(ЗАЯВКА!N1273=\"да\",ЗАЯВКА!K1273,0)","v":0}]
[{"$f":"IF(ЗАЯВКА!I1274=\"проектирование\",ЗАЯВКА!K1274,0)","v":0},{"$f":"IF(ЗАЯВКА!I1274=\"строительно-монтажные работы\",ЗАЯВКА!K1274,0)","v":0},{"$f":"IF(ЗАЯВКА!N1274=\"да\",ЗАЯВКА!K1274,0)","v":0}]
[{"$f":"IF(ЗАЯВКА!I1275=\"проектирование\",ЗАЯВКА!K1275,0)","v":0},{"$f":"IF(ЗАЯВКА!I1275=\"строительно-монтажные работы\",ЗАЯВКА!K1275,0)","v":0},{"$f":"IF(ЗАЯВКА!N1275=\"да\",ЗАЯВКА!K1275,0)","v":0}]
[{"$f":"IF(ЗАЯВКА!I1276=\"проектирование\",ЗАЯВКА!K1276,0)","v":0},{"$f":"IF(ЗАЯВКА!I1276=\"строительно-монтажные работы\",ЗАЯВКА!K1276,0)","v":0},{"$f":"IF(ЗАЯВКА!N1276=\"да\",ЗАЯВКА!K1276,0)","v":0}]
[{"$f":"IF(ЗАЯВКА!I1277=\"проектирование\",ЗАЯВКА!K1277,0)","v":0},{"$f":"IF(ЗАЯВКА!I1277=\"строительно-монтажные работы\",ЗАЯВКА!K1277,0)","v":0},{"$f":"IF(ЗАЯВКА!N1277=\"да\",ЗАЯВКА!K1277,0)","v":0}]
[{"$f":"IF(ЗАЯВКА!I1278=\"проектирование\",ЗАЯВКА!K1278,0)","v":0},{"$f":"IF(ЗАЯВКА!I1278=\"строительно-монтажные работы\",ЗАЯВКА!K1278,0)","v":0},{"$f":"IF(ЗАЯВКА!N1278=\"да\",ЗАЯВКА!K1278,0)","v":0}]
[{"$f":"IF(ЗАЯВКА!I1279=\"проектирование\",ЗАЯВКА!K1279,0)","v":0},{"$f":"IF(ЗАЯВКА!I1279=\"строительно-монтажные работы\",ЗАЯВКА!K1279,0)","v":0},{"$f":"IF(ЗАЯВКА!N1279=\"да\",ЗАЯВКА!K1279,0)","v":0}]
[{"$f":"IF(ЗАЯВКА!I1280=\"проектирование\",ЗАЯВКА!K1280,0)","v":0},{"$f":"IF(ЗАЯВКА!I1280=\"строительно-монтажные работы\",ЗАЯВКА!K1280,0)","v":0},{"$f":"IF(ЗАЯВКА!N1280=\"да\",ЗАЯВКА!K1280,0)","v":0}]
[{"$f":"IF(ЗАЯВКА!I1281=\"проектирование\",ЗАЯВКА!K1281,0)","v":0},{"$f":"IF(ЗАЯВКА!I1281=\"строительно-монтажные работы\",ЗАЯВКА!K1281,0)","v":0},{"$f":"IF(ЗАЯВКА!N1281=\"да\",ЗАЯВКА!K1281,0)","v":0}]
[{"$f":"IF(ЗАЯВКА!I1282=\"проектирование\",ЗАЯВКА!K1282,0)","v":0},{"$f":"IF(ЗАЯВКА!I1282=\"строительно-монтажные работы\",ЗАЯВКА!K1282,0)","v":0},{"$f":"IF(ЗАЯВКА!N1282=\"да\",ЗАЯВКА!K1282,0)","v":0}]
[{"$f":"IF(ЗАЯВКА!I1283=\"проектирование\",ЗАЯВКА!K1283,0)","v":0},{"$f":"IF(ЗАЯВКА!I1283=\"строительно-монтажные работы\",ЗАЯВКА!K1283,0)","v":0},{"$f":"IF(ЗАЯВКА!N1283=\"да\",ЗАЯВКА!K1283,0)","v":0}]
[{"$f":"IF(ЗАЯВКА!I1284=\"проектирование\",ЗАЯВКА!K1284,0)","v":0},{"$f":"IF(ЗАЯВКА!I1284=\"строительно-монтажные работы\",ЗАЯВКА!K1284,0)","v":0},{"$f":"IF(ЗАЯВКА!N1284=\"да\",ЗАЯВКА!K1284,0)","v":0}]
[{"$f":"IF(ЗАЯВКА!I1285=\"проектирование\",ЗАЯВКА!K1285,0)","v":0},{"$f":"IF(ЗАЯВКА!I1285=\"строительно-монтажные работы\",ЗАЯВКА!K1285,0)","v":0},{"$f":"IF(ЗАЯВКА!N1285=\"да\",ЗАЯВКА!K1285,0)","v":0}]
[{"$f":"IF(ЗАЯВКА!I1286=\"проектирование\",ЗАЯВКА!K1286,0)","v":0},{"$f":"IF(ЗАЯВКА!I1286=\"строительно-монтажные работы\",ЗАЯВКА!K1286,0)","v":0},{"$f":"IF(ЗАЯВКА!N1286=\"да\",ЗАЯВКА!K1286,0)","v":0}]
[{"$f":"IF(ЗАЯВКА!I1287=\"проектирование\",ЗАЯВКА!K1287,0)","v":0},{"$f":"IF(ЗАЯВКА!I1287=\"строительно-монтажные работы\",ЗАЯВКА!K1287,0)","v":0},{"$f":"IF(ЗАЯВКА!N1287=\"да\",ЗАЯВКА!K1287,0)","v":0}]
[{"$f":"IF(ЗАЯВКА!I1288=\"проектирование\",ЗАЯВКА!K1288,0)","v":0},{"$f":"IF(ЗАЯВКА!I1288=\"строительно-монтажные работы\",ЗАЯВКА!K1288,0)","v":0},{"$f":"IF(ЗАЯВКА!N1288=\"да\",ЗАЯВКА!K1288,0)","v":0}]
[{"$f":"IF(ЗАЯВКА!I1289=\"проектирование\",ЗАЯВКА!K1289,0)","v":0},{"$f":"IF(ЗАЯВКА!I1289=\"строительно-монтажные работы\",ЗАЯВКА!K1289,0)","v":0},{"$f":"IF(ЗАЯВКА!N1289=\"да\",ЗАЯВКА!K1289,0)","v":0}]
[{"$f":"IF(ЗАЯВКА!I1290=\"проектирование\",ЗАЯВКА!K1290,0)","v":0},{"$f":"IF(ЗАЯВКА!I1290=\"строительно-монтажные работы\",ЗАЯВКА!K1290,0)","v":0},{"$f":"IF(ЗАЯВКА!N1290=\"да\",ЗАЯВКА!K1290,0)","v":0}]
[{"$f":"IF(ЗАЯВКА!I1291=\"проектирование\",ЗАЯВКА!K1291,0)","v":0},{"$f":"IF(ЗАЯВКА!I1291=\"строительно-монтажные работы\",ЗАЯВКА!K1291,0)","v":0},{"$f":"IF(ЗАЯВКА!N1291=\"да\",ЗАЯВКА!K1291,0)","v":0}]
[{"$f":"IF(ЗАЯВКА!I1292=\"проектирование\",ЗАЯВКА!K1292,0)","v":0},{"$f":"IF(ЗАЯВКА!I1292=\"строительно-монтажные работы\",ЗАЯВКА!K1292,0)","v":0},{"$f":"IF(ЗАЯВКА!N1292=\"да\",ЗАЯВКА!K1292,0)","v":0}]
[{"$f":"IF(ЗАЯВКА!I1293=\"проектирование\",ЗАЯВКА!K1293,0)","v":0},{"$f":"IF(ЗАЯВКА!I1293=\"строительно-монтажные работы\",ЗАЯВКА!K1293,0)","v":0},{"$f":"IF(ЗАЯВКА!N1293=\"да\",ЗАЯВКА!K1293,0)","v":0}]
[{"$f":"IF(ЗАЯВКА!I1294=\"проектирование\",ЗАЯВКА!K1294,0)","v":0},{"$f":"IF(ЗАЯВКА!I1294=\"строительно-монтажные работы\",ЗАЯВКА!K1294,0)","v":0},{"$f":"IF(ЗАЯВКА!N1294=\"да\",ЗАЯВКА!K1294,0)","v":0}]
[{"$f":"IF(ЗАЯВКА!I1295=\"проектирование\",ЗАЯВКА!K1295,0)","v":0},{"$f":"IF(ЗАЯВКА!I1295=\"строительно-монтажные работы\",ЗАЯВКА!K1295,0)","v":0},{"$f":"IF(ЗАЯВКА!N1295=\"да\",ЗАЯВКА!K1295,0)","v":0}]
[{"$f":"IF(ЗАЯВКА!I1296=\"проектирование\",ЗАЯВКА!K1296,0)","v":0},{"$f":"IF(ЗАЯВКА!I1296=\"строительно-монтажные работы\",ЗАЯВКА!K1296,0)","v":0},{"$f":"IF(ЗАЯВКА!N1296=\"да\",ЗАЯВКА!K1296,0)","v":0}]
[{"$f":"IF(ЗАЯВКА!I1297=\"проектирование\",ЗАЯВКА!K1297,0)","v":0},{"$f":"IF(ЗАЯВКА!I1297=\"строительно-монтажные работы\",ЗАЯВКА!K1297,0)","v":0},{"$f":"IF(ЗАЯВКА!N1297=\"да\",ЗАЯВКА!K1297,0)","v":0}]
[{"$f":"IF(ЗАЯВКА!I1298=\"проектирование\",ЗАЯВКА!K1298,0)","v":0},{"$f":"IF(ЗАЯВКА!I1298=\"строительно-монтажные работы\",ЗАЯВКА!K1298,0)","v":0},{"$f":"IF(ЗАЯВКА!N1298=\"да\",ЗАЯВКА!K1298,0)","v":0}]
[{"$f":"IF(ЗАЯВКА!I1299=\"проектирование\",ЗАЯВКА!K1299,0)","v":0},{"$f":"IF(ЗАЯВКА!I1299=\"строительно-монтажные работы\",ЗАЯВКА!K1299,0)","v":0},{"$f":"IF(ЗАЯВКА!N1299=\"да\",ЗАЯВКА!K1299,0)","v":0}]
[{"$f":"IF(ЗАЯВКА!I1300=\"проектирование\",ЗАЯВКА!K1300,0)","v":0},{"$f":"IF(ЗАЯВКА!I1300=\"строительно-монтажные работы\",ЗАЯВКА!K1300,0)","v":0},{"$f":"IF(ЗАЯВКА!N1300=\"да\",ЗАЯВКА!K1300,0)","v":0}]
[{"$f":"IF(ЗАЯВКА!I1301=\"проектирование\",ЗАЯВКА!K1301,0)","v":0},{"$f":"IF(ЗАЯВКА!I1301=\"строительно-монтажные работы\",ЗАЯВКА!K1301,0)","v":0},{"$f":"IF(ЗАЯВКА!N1301=\"да\",ЗАЯВКА!K1301,0)","v":0}]
[{"$f":"IF(ЗАЯВКА!I1302=\"проектирование\",ЗАЯВКА!K1302,0)","v":0},{"$f":"IF(ЗАЯВКА!I1302=\"строительно-монтажные работы\",ЗАЯВКА!K1302,0)","v":0},{"$f":"IF(ЗАЯВКА!N1302=\"да\",ЗАЯВКА!K1302,0)","v":0}]
[{"$f":"IF(ЗАЯВКА!I1303=\"проектирование\",ЗАЯВКА!K1303,0)","v":0},{"$f":"IF(ЗАЯВКА!I1303=\"строительно-монтажные работы\",ЗАЯВКА!K1303,0)","v":0},{"$f":"IF(ЗАЯВКА!N1303=\"да\",ЗАЯВКА!K1303,0)","v":0}]
[{"$f":"IF(ЗАЯВКА!I1304=\"проектирование\",ЗАЯВКА!K1304,0)","v":0},{"$f":"IF(ЗАЯВКА!I1304=\"строительно-монтажные работы\",ЗАЯВКА!K1304,0)","v":0},{"$f":"IF(ЗАЯВКА!N1304=\"да\",ЗАЯВКА!K1304,0)","v":0}]
[{"$f":"IF(ЗАЯВКА!I1305=\"проектирование\",ЗАЯВКА!K1305,0)","v":0},{"$f":"IF(ЗАЯВКА!I1305=\"строительно-монтажные работы\",ЗАЯВКА!K1305,0)","v":0},{"$f":"IF(ЗАЯВКА!N1305=\"да\",ЗАЯВКА!K1305,0)","v":0}]
[{"$f":"IF(ЗАЯВКА!I1306=\"проектирование\",ЗАЯВКА!K1306,0)","v":0},{"$f":"IF(ЗАЯВКА!I1306=\"строительно-монтажные работы\",ЗАЯВКА!K1306,0)","v":0},{"$f":"IF(ЗАЯВКА!N1306=\"да\",ЗАЯВКА!K1306,0)","v":0}]
[{"$f":"IF(ЗАЯВКА!I1307=\"проектирование\",ЗАЯВКА!K1307,0)","v":0},{"$f":"IF(ЗАЯВКА!I1307=\"строительно-монтажные работы\",ЗАЯВКА!K1307,0)","v":0},{"$f":"IF(ЗАЯВКА!N1307=\"да\",ЗАЯВКА!K1307,0)","v":0}]
[{"$f":"IF(ЗАЯВКА!I1308=\"проектирование\",ЗАЯВКА!K1308,0)","v":0},{"$f":"IF(ЗАЯВКА!I1308=\"строительно-монтажные работы\",ЗАЯВКА!K1308,0)","v":0},{"$f":"IF(ЗАЯВКА!N1308=\"да\",ЗАЯВКА!K1308,0)","v":0}]
[{"$f":"IF(ЗАЯВКА!I1309=\"проектирование\",ЗАЯВКА!K1309,0)","v":0},{"$f":"IF(ЗАЯВКА!I1309=\"строительно-монтажные работы\",ЗАЯВКА!K1309,0)","v":0},{"$f":"IF(ЗАЯВКА!N1309=\"да\",ЗАЯВКА!K1309,0)","v":0}]
[{"$f":"IF(ЗАЯВКА!I1310=\"проектирование\",ЗАЯВКА!K1310,0)","v":0},{"$f":"IF(ЗАЯВКА!I1310=\"строительно-монтажные работы\",ЗАЯВКА!K1310,0)","v":0},{"$f":"IF(ЗАЯВКА!N1310=\"да\",ЗАЯВКА!K1310,0)","v":0}]
[{"$f":"IF(ЗАЯВКА!I1311=\"проектирование\",ЗАЯВКА!K1311,0)","v":0},{"$f":"IF(ЗАЯВКА!I1311=\"строительно-монтажные работы\",ЗАЯВКА!K1311,0)","v":0},{"$f":"IF(ЗАЯВКА!N1311=\"да\",ЗАЯВКА!K1311,0)","v":0}]
[{"$f":"IF(ЗАЯВКА!I1312=\"проектирование\",ЗАЯВКА!K1312,0)","v":0},{"$f":"IF(ЗАЯВКА!I1312=\"строительно-монтажные работы\",ЗАЯВКА!K1312,0)","v":0},{"$f":"IF(ЗАЯВКА!N1312=\"да\",ЗАЯВКА!K1312,0)","v":0}]
[{"$f":"IF(ЗАЯВКА!I1313=\"проектирование\",ЗАЯВКА!K1313,0)","v":0},{"$f":"IF(ЗАЯВКА!I1313=\"строительно-монтажные работы\",ЗАЯВКА!K1313,0)","v":0},{"$f":"IF(ЗАЯВКА!N1313=\"да\",ЗАЯВКА!K1313,0)","v":0}]
[{"$f":"IF(ЗАЯВКА!I1314=\"проектирование\",ЗАЯВКА!K1314,0)","v":0},{"$f":"IF(ЗАЯВКА!I1314=\"строительно-монтажные работы\",ЗАЯВКА!K1314,0)","v":0},{"$f":"IF(ЗАЯВКА!N1314=\"да\",ЗАЯВКА!K1314,0)","v":0}]
[{"$f":"IF(ЗАЯВКА!I1315=\"проектирование\",ЗАЯВКА!K1315,0)","v":0},{"$f":"IF(ЗАЯВКА!I1315=\"строительно-монтажные работы\",ЗАЯВКА!K1315,0)","v":0},{"$f":"IF(ЗАЯВКА!N1315=\"да\",ЗАЯВКА!K1315,0)","v":0}]
[{"$f":"IF(ЗАЯВКА!I1316=\"проектирование\",ЗАЯВКА!K1316,0)","v":0},{"$f":"IF(ЗАЯВКА!I1316=\"строительно-монтажные работы\",ЗАЯВКА!K1316,0)","v":0},{"$f":"IF(ЗАЯВКА!N1316=\"да\",ЗАЯВКА!K1316,0)","v":0}]
[{"$f":"IF(ЗАЯВКА!I1317=\"проектирование\",ЗАЯВКА!K1317,0)","v":0},{"$f":"IF(ЗАЯВКА!I1317=\"строительно-монтажные работы\",ЗАЯВКА!K1317,0)","v":0},{"$f":"IF(ЗАЯВКА!N1317=\"да\",ЗАЯВКА!K1317,0)","v":0}]
[{"$f":"IF(ЗАЯВКА!I1318=\"проектирование\",ЗАЯВКА!K1318,0)","v":0},{"$f":"IF(ЗАЯВКА!I1318=\"строительно-монтажные работы\",ЗАЯВКА!K1318,0)","v":0},{"$f":"IF(ЗАЯВКА!N1318=\"да\",ЗАЯВКА!K1318,0)","v":0}]
[{"$f":"IF(ЗАЯВКА!I1319=\"проектирование\",ЗАЯВКА!K1319,0)","v":0},{"$f":"IF(ЗАЯВКА!I1319=\"строительно-монтажные работы\",ЗАЯВКА!K1319,0)","v":0},{"$f":"IF(ЗАЯВКА!N1319=\"да\",ЗАЯВКА!K1319,0)","v":0}]
[{"$f":"IF(ЗАЯВКА!I1320=\"проектирование\",ЗАЯВКА!K1320,0)","v":0},{"$f":"IF(ЗАЯВКА!I1320=\"строительно-монтажные работы\",ЗАЯВКА!K1320,0)","v":0},{"$f":"IF(ЗАЯВКА!N1320=\"да\",ЗАЯВКА!K1320,0)","v":0}]
[{"$f":"IF(ЗАЯВКА!I1321=\"проектирование\",ЗАЯВКА!K1321,0)","v":0},{"$f":"IF(ЗАЯВКА!I1321=\"строительно-монтажные работы\",ЗАЯВКА!K1321,0)","v":0},{"$f":"IF(ЗАЯВКА!N1321=\"да\",ЗАЯВКА!K1321,0)","v":0}]
[{"$f":"IF(ЗАЯВКА!I1322=\"проектирование\",ЗАЯВКА!K1322,0)","v":0},{"$f":"IF(ЗАЯВКА!I1322=\"строительно-монтажные работы\",ЗАЯВКА!K1322,0)","v":0},{"$f":"IF(ЗАЯВКА!N1322=\"да\",ЗАЯВКА!K1322,0)","v":0}]
[{"$f":"IF(ЗАЯВКА!I1323=\"проектирование\",ЗАЯВКА!K1323,0)","v":0},{"$f":"IF(ЗАЯВКА!I1323=\"строительно-монтажные работы\",ЗАЯВКА!K1323,0)","v":0},{"$f":"IF(ЗАЯВКА!N1323=\"да\",ЗАЯВКА!K1323,0)","v":0}]
[{"$f":"IF(ЗАЯВКА!I1324=\"проектирование\",ЗАЯВКА!K1324,0)","v":0},{"$f":"IF(ЗАЯВКА!I1324=\"строительно-монтажные работы\",ЗАЯВКА!K1324,0)","v":0},{"$f":"IF(ЗАЯВКА!N1324=\"да\",ЗАЯВКА!K1324,0)","v":0}]
[{"$f":"IF(ЗАЯВКА!I1325=\"проектирование\",ЗАЯВКА!K1325,0)","v":0},{"$f":"IF(ЗАЯВКА!I1325=\"строительно-монтажные работы\",ЗАЯВКА!K1325,0)","v":0},{"$f":"IF(ЗАЯВКА!N1325=\"да\",ЗАЯВКА!K1325,0)","v":0}]
[{"$f":"IF(ЗАЯВКА!I1326=\"проектирование\",ЗАЯВКА!K1326,0)","v":0},{"$f":"IF(ЗАЯВКА!I1326=\"строительно-монтажные работы\",ЗАЯВКА!K1326,0)","v":0},{"$f":"IF(ЗАЯВКА!N1326=\"да\",ЗАЯВКА!K1326,0)","v":0}]
[{"$f":"IF(ЗАЯВКА!I1327=\"проектирование\",ЗАЯВКА!K1327,0)","v":0},{"$f":"IF(ЗАЯВКА!I1327=\"строительно-монтажные работы\",ЗАЯВКА!K1327,0)","v":0},{"$f":"IF(ЗАЯВКА!N1327=\"да\",ЗАЯВКА!K1327,0)","v":0}]
[{"$f":"IF(ЗАЯВКА!I1328=\"проектирование\",ЗАЯВКА!K1328,0)","v":0},{"$f":"IF(ЗАЯВКА!I1328=\"строительно-монтажные работы\",ЗАЯВКА!K1328,0)","v":0},{"$f":"IF(ЗАЯВКА!N1328=\"да\",ЗАЯВКА!K1328,0)","v":0}]
[{"$f":"IF(ЗАЯВКА!I1329=\"проектирование\",ЗАЯВКА!K1329,0)","v":0},{"$f":"IF(ЗАЯВКА!I1329=\"строительно-монтажные работы\",ЗАЯВКА!K1329,0)","v":0},{"$f":"IF(ЗАЯВКА!N1329=\"да\",ЗАЯВКА!K1329,0)","v":0}]
[{"$f":"IF(ЗАЯВКА!I1330=\"проектирование\",ЗАЯВКА!K1330,0)","v":0},{"$f":"IF(ЗАЯВКА!I1330=\"строительно-монтажные работы\",ЗАЯВКА!K1330,0)","v":0},{"$f":"IF(ЗАЯВКА!N1330=\"да\",ЗАЯВКА!K1330,0)","v":0}]
[{"$f":"IF(ЗАЯВКА!I1331=\"проектирование\",ЗАЯВКА!K1331,0)","v":0},{"$f":"IF(ЗАЯВКА!I1331=\"строительно-монтажные работы\",ЗАЯВКА!K1331,0)","v":0},{"$f":"IF(ЗАЯВКА!N1331=\"да\",ЗАЯВКА!K1331,0)","v":0}]
[{"$f":"IF(ЗАЯВКА!I1332=\"проектирование\",ЗАЯВКА!K1332,0)","v":0},{"$f":"IF(ЗАЯВКА!I1332=\"строительно-монтажные работы\",ЗАЯВКА!K1332,0)","v":0},{"$f":"IF(ЗАЯВКА!N1332=\"да\",ЗАЯВКА!K1332,0)","v":0}]
[{"$f":"IF(ЗАЯВКА!I1333=\"проектирование\",ЗАЯВКА!K1333,0)","v":0},{"$f":"IF(ЗАЯВКА!I1333=\"строительно-монтажные работы\",ЗАЯВКА!K1333,0)","v":0},{"$f":"IF(ЗАЯВКА!N1333=\"да\",ЗАЯВКА!K1333,0)","v":0}]
[{"$f":"IF(ЗАЯВКА!I1334=\"проектирование\",ЗАЯВКА!K1334,0)","v":0},{"$f":"IF(ЗАЯВКА!I1334=\"строительно-монтажные работы\",ЗАЯВКА!K1334,0)","v":0},{"$f":"IF(ЗАЯВКА!N1334=\"да\",ЗАЯВКА!K1334,0)","v":0}]
[{"$f":"IF(ЗАЯВКА!I1335=\"проектирование\",ЗАЯВКА!K1335,0)","v":0},{"$f":"IF(ЗАЯВКА!I1335=\"строительно-монтажные работы\",ЗАЯВКА!K1335,0)","v":0},{"$f":"IF(ЗАЯВКА!N1335=\"да\",ЗАЯВКА!K1335,0)","v":0}]
[{"$f":"IF(ЗАЯВКА!I1336=\"проектирование\",ЗАЯВКА!K1336,0)","v":0},{"$f":"IF(ЗАЯВКА!I1336=\"строительно-монтажные работы\",ЗАЯВКА!K1336,0)","v":0},{"$f":"IF(ЗАЯВКА!N1336=\"да\",ЗАЯВКА!K1336,0)","v":0}]
[{"$f":"IF(ЗАЯВКА!I1337=\"проектирование\",ЗАЯВКА!K1337,0)","v":0},{"$f":"IF(ЗАЯВКА!I1337=\"строительно-монтажные работы\",ЗАЯВКА!K1337,0)","v":0},{"$f":"IF(ЗАЯВКА!N1337=\"да\",ЗАЯВКА!K1337,0)","v":0}]
[{"$f":"IF(ЗАЯВКА!I1338=\"проектирование\",ЗАЯВКА!K1338,0)","v":0},{"$f":"IF(ЗАЯВКА!I1338=\"строительно-монтажные работы\",ЗАЯВКА!K1338,0)","v":0},{"$f":"IF(ЗАЯВКА!N1338=\"да\",ЗАЯВКА!K1338,0)","v":0}]
[{"$f":"IF(ЗАЯВКА!I1339=\"проектирование\",ЗАЯВКА!K1339,0)","v":0},{"$f":"IF(ЗАЯВКА!I1339=\"строительно-монтажные работы\",ЗАЯВКА!K1339,0)","v":0},{"$f":"IF(ЗАЯВКА!N1339=\"да\",ЗАЯВКА!K1339,0)","v":0}]
[{"$f":"IF(ЗАЯВКА!I1340=\"проектирование\",ЗАЯВКА!K1340,0)","v":0},{"$f":"IF(ЗАЯВКА!I1340=\"строительно-монтажные работы\",ЗАЯВКА!K1340,0)","v":0},{"$f":"IF(ЗАЯВКА!N1340=\"да\",ЗАЯВКА!K1340,0)","v":0}]
[{"$f":"IF(ЗАЯВКА!I1341=\"проектирование\",ЗАЯВКА!K1341,0)","v":0},{"$f":"IF(ЗАЯВКА!I1341=\"строительно-монтажные работы\",ЗАЯВКА!K1341,0)","v":0},{"$f":"IF(ЗАЯВКА!N1341=\"да\",ЗАЯВКА!K1341,0)","v":0}]
[{"$f":"IF(ЗАЯВКА!I1342=\"проектирование\",ЗАЯВКА!K1342,0)","v":0},{"$f":"IF(ЗАЯВКА!I1342=\"строительно-монтажные работы\",ЗАЯВКА!K1342,0)","v":0},{"$f":"IF(ЗАЯВКА!N1342=\"да\",ЗАЯВКА!K1342,0)","v":0}]
[{"$f":"IF(ЗАЯВКА!I1343=\"проектирование\",ЗАЯВКА!K1343,0)","v":0},{"$f":"IF(ЗАЯВКА!I1343=\"строительно-монтажные работы\",ЗАЯВКА!K1343,0)","v":0},{"$f":"IF(ЗАЯВКА!N1343=\"да\",ЗАЯВКА!K1343,0)","v":0}]
[{"$f":"IF(ЗАЯВКА!I1344=\"проектирование\",ЗАЯВКА!K1344,0)","v":0},{"$f":"IF(ЗАЯВКА!I1344=\"строительно-монтажные работы\",ЗАЯВКА!K1344,0)","v":0},{"$f":"IF(ЗАЯВКА!N1344=\"да\",ЗАЯВКА!K1344,0)","v":0}]
[{"$f":"IF(ЗАЯВКА!I1345=\"проектирование\",ЗАЯВКА!K1345,0)","v":0},{"$f":"IF(ЗАЯВКА!I1345=\"строительно-монтажные работы\",ЗАЯВКА!K1345,0)","v":0},{"$f":"IF(ЗАЯВКА!N1345=\"да\",ЗАЯВКА!K1345,0)","v":0}]
[{"$f":"IF(ЗАЯВКА!I1346=\"проектирование\",ЗАЯВКА!K1346,0)","v":0},{"$f":"IF(ЗАЯВКА!I1346=\"строительно-монтажные работы\",ЗАЯВКА!K1346,0)","v":0},{"$f":"IF(ЗАЯВКА!N1346=\"да\",ЗАЯВКА!K1346,0)","v":0}]
[{"$f":"IF(ЗАЯВКА!I1347=\"проектирование\",ЗАЯВКА!K1347,0)","v":0},{"$f":"IF(ЗАЯВКА!I1347=\"строительно-монтажные работы\",ЗАЯВКА!K1347,0)","v":0},{"$f":"IF(ЗАЯВКА!N1347=\"да\",ЗАЯВКА!K1347,0)","v":0}]
[{"$f":"IF(ЗАЯВКА!I1348=\"проектирование\",ЗАЯВКА!K1348,0)","v":0},{"$f":"IF(ЗАЯВКА!I1348=\"строительно-монтажные работы\",ЗАЯВКА!K1348,0)","v":0},{"$f":"IF(ЗАЯВКА!N1348=\"да\",ЗАЯВКА!K1348,0)","v":0}]
[{"$f":"IF(ЗАЯВКА!I1349=\"проектирование\",ЗАЯВКА!K1349,0)","v":0},{"$f":"IF(ЗАЯВКА!I1349=\"строительно-монтажные работы\",ЗАЯВКА!K1349,0)","v":0},{"$f":"IF(ЗАЯВКА!N1349=\"да\",ЗАЯВКА!K1349,0)","v":0}]
[{"$f":"IF(ЗАЯВКА!I1350=\"проектирование\",ЗАЯВКА!K1350,0)","v":0},{"$f":"IF(ЗАЯВКА!I1350=\"строительно-монтажные работы\",ЗАЯВКА!K1350,0)","v":0},{"$f":"IF(ЗАЯВКА!N1350=\"да\",ЗАЯВКА!K1350,0)","v":0}]
[{"$f":"IF(ЗАЯВКА!I1351=\"проектирование\",ЗАЯВКА!K1351,0)","v":0},{"$f":"IF(ЗАЯВКА!I1351=\"строительно-монтажные работы\",ЗАЯВКА!K1351,0)","v":0},{"$f":"IF(ЗАЯВКА!N1351=\"да\",ЗАЯВКА!K1351,0)","v":0}]
[{"$f":"IF(ЗАЯВКА!I1352=\"проектирование\",ЗАЯВКА!K1352,0)","v":0},{"$f":"IF(ЗАЯВКА!I1352=\"строительно-монтажные работы\",ЗАЯВКА!K1352,0)","v":0},{"$f":"IF(ЗАЯВКА!N1352=\"да\",ЗАЯВКА!K1352,0)","v":0}]
[{"$f":"IF(ЗАЯВКА!I1353=\"проектирование\",ЗАЯВКА!K1353,0)","v":0},{"$f":"IF(ЗАЯВКА!I1353=\"строительно-монтажные работы\",ЗАЯВКА!K1353,0)","v":0},{"$f":"IF(ЗАЯВКА!N1353=\"да\",ЗАЯВКА!K1353,0)","v":0}]
[{"$f":"IF(ЗАЯВКА!I1354=\"проектирование\",ЗАЯВКА!K1354,0)","v":0},{"$f":"IF(ЗАЯВКА!I1354=\"строительно-монтажные работы\",ЗАЯВКА!K1354,0)","v":0},{"$f":"IF(ЗАЯВКА!N1354=\"да\",ЗАЯВКА!K1354,0)","v":0}]
[{"$f":"IF(ЗАЯВКА!I1355=\"проектирование\",ЗАЯВКА!K1355,0)","v":0},{"$f":"IF(ЗАЯВКА!I1355=\"строительно-монтажные работы\",ЗАЯВКА!K1355,0)","v":0},{"$f":"IF(ЗАЯВКА!N1355=\"да\",ЗАЯВКА!K1355,0)","v":0}]
[{"$f":"IF(ЗАЯВКА!I1356=\"проектирование\",ЗАЯВКА!K1356,0)","v":0},{"$f":"IF(ЗАЯВКА!I1356=\"строительно-монтажные работы\",ЗАЯВКА!K1356,0)","v":0},{"$f":"IF(ЗАЯВКА!N1356=\"да\",ЗАЯВКА!K1356,0)","v":0}]
[{"$f":"IF(ЗАЯВКА!I1357=\"проектирование\",ЗАЯВКА!K1357,0)","v":0},{"$f":"IF(ЗАЯВКА!I1357=\"строительно-монтажные работы\",ЗАЯВКА!K1357,0)","v":0},{"$f":"IF(ЗАЯВКА!N1357=\"да\",ЗАЯВКА!K1357,0)","v":0}]
[{"$f":"IF(ЗАЯВКА!I1358=\"проектирование\",ЗАЯВКА!K1358,0)","v":0},{"$f":"IF(ЗАЯВКА!I1358=\"строительно-монтажные работы\",ЗАЯВКА!K1358,0)","v":0},{"$f":"IF(ЗАЯВКА!N1358=\"да\",ЗАЯВКА!K1358,0)","v":0}]
[{"$f":"IF(ЗАЯВКА!I1359=\"проектирование\",ЗАЯВКА!K1359,0)","v":0},{"$f":"IF(ЗАЯВКА!I1359=\"строительно-монтажные работы\",ЗАЯВКА!K1359,0)","v":0},{"$f":"IF(ЗАЯВКА!N1359=\"да\",ЗАЯВКА!K1359,0)","v":0}]
[{"$f":"IF(ЗАЯВКА!I1360=\"проектирование\",ЗАЯВКА!K1360,0)","v":0},{"$f":"IF(ЗАЯВКА!I1360=\"строительно-монтажные работы\",ЗАЯВКА!K1360,0)","v":0},{"$f":"IF(ЗАЯВКА!N1360=\"да\",ЗАЯВКА!K1360,0)","v":0}]
[{"$f":"IF(ЗАЯВКА!I1361=\"проектирование\",ЗАЯВКА!K1361,0)","v":0},{"$f":"IF(ЗАЯВКА!I1361=\"строительно-монтажные работы\",ЗАЯВКА!K1361,0)","v":0},{"$f":"IF(ЗАЯВКА!N1361=\"да\",ЗАЯВКА!K1361,0)","v":0}]
[{"$f":"IF(ЗАЯВКА!I1362=\"проектирование\",ЗАЯВКА!K1362,0)","v":0},{"$f":"IF(ЗАЯВКА!I1362=\"строительно-монтажные работы\",ЗАЯВКА!K1362,0)","v":0},{"$f":"IF(ЗАЯВКА!N1362=\"да\",ЗАЯВКА!K1362,0)","v":0}]
[{"$f":"IF(ЗАЯВКА!I1363=\"проектирование\",ЗАЯВКА!K1363,0)","v":0},{"$f":"IF(ЗАЯВКА!I1363=\"строительно-монтажные работы\",ЗАЯВКА!K1363,0)","v":0},{"$f":"IF(ЗАЯВКА!N1363=\"да\",ЗАЯВКА!K1363,0)","v":0}]
[{"$f":"IF(ЗАЯВКА!I1364=\"проектирование\",ЗАЯВКА!K1364,0)","v":0},{"$f":"IF(ЗАЯВКА!I1364=\"строительно-монтажные работы\",ЗАЯВКА!K1364,0)","v":0},{"$f":"IF(ЗАЯВКА!N1364=\"да\",ЗАЯВКА!K1364,0)","v":0}]
[{"$f":"IF(ЗАЯВКА!I1365=\"проектирование\",ЗАЯВКА!K1365,0)","v":0},{"$f":"IF(ЗАЯВКА!I1365=\"строительно-монтажные работы\",ЗАЯВКА!K1365,0)","v":0},{"$f":"IF(ЗАЯВКА!N1365=\"да\",ЗАЯВКА!K1365,0)","v":0}]
[{"$f":"IF(ЗАЯВКА!I1366=\"проектирование\",ЗАЯВКА!K1366,0)","v":0},{"$f":"IF(ЗАЯВКА!I1366=\"строительно-монтажные работы\",ЗАЯВКА!K1366,0)","v":0},{"$f":"IF(ЗАЯВКА!N1366=\"да\",ЗАЯВКА!K1366,0)","v":0}]
[{"$f":"IF(ЗАЯВКА!I1367=\"проектирование\",ЗАЯВКА!K1367,0)","v":0},{"$f":"IF(ЗАЯВКА!I1367=\"строительно-монтажные работы\",ЗАЯВКА!K1367,0)","v":0},{"$f":"IF(ЗАЯВКА!N1367=\"да\",ЗАЯВКА!K1367,0)","v":0}]
[{"$f":"IF(ЗАЯВКА!I1368=\"проектирование\",ЗАЯВКА!K1368,0)","v":0},{"$f":"IF(ЗАЯВКА!I1368=\"строительно-монтажные работы\",ЗАЯВКА!K1368,0)","v":0},{"$f":"IF(ЗАЯВКА!N1368=\"да\",ЗАЯВКА!K1368,0)","v":0}]
[{"$f":"IF(ЗАЯВКА!I1369=\"проектирование\",ЗАЯВКА!K1369,0)","v":0},{"$f":"IF(ЗАЯВКА!I1369=\"строительно-монтажные работы\",ЗАЯВКА!K1369,0)","v":0},{"$f":"IF(ЗАЯВКА!N1369=\"да\",ЗАЯВКА!K1369,0)","v":0}]
[{"$f":"IF(ЗАЯВКА!I1370=\"проектирование\",ЗАЯВКА!K1370,0)","v":0},{"$f":"IF(ЗАЯВКА!I1370=\"строительно-монтажные работы\",ЗАЯВКА!K1370,0)","v":0},{"$f":"IF(ЗАЯВКА!N1370=\"да\",ЗАЯВКА!K1370,0)","v":0}]
[{"$f":"IF(ЗАЯВКА!I1371=\"проектирование\",ЗАЯВКА!K1371,0)","v":0},{"$f":"IF(ЗАЯВКА!I1371=\"строительно-монтажные работы\",ЗАЯВКА!K1371,0)","v":0},{"$f":"IF(ЗАЯВКА!N1371=\"да\",ЗАЯВКА!K1371,0)","v":0}]
[{"$f":"IF(ЗАЯВКА!I1372=\"проектирование\",ЗАЯВКА!K1372,0)","v":0},{"$f":"IF(ЗАЯВКА!I1372=\"строительно-монтажные работы\",ЗАЯВКА!K1372,0)","v":0},{"$f":"IF(ЗАЯВКА!N1372=\"да\",ЗАЯВКА!K1372,0)","v":0}]
[{"$f":"IF(ЗАЯВКА!I1373=\"проектирование\",ЗАЯВКА!K1373,0)","v":0},{"$f":"IF(ЗАЯВКА!I1373=\"строительно-монтажные работы\",ЗАЯВКА!K1373,0)","v":0},{"$f":"IF(ЗАЯВКА!N1373=\"да\",ЗАЯВКА!K1373,0)","v":0}]
[{"$f":"IF(ЗАЯВКА!I1374=\"проектирование\",ЗАЯВКА!K1374,0)","v":0},{"$f":"IF(ЗАЯВКА!I1374=\"строительно-монтажные работы\",ЗАЯВКА!K1374,0)","v":0},{"$f":"IF(ЗАЯВКА!N1374=\"да\",ЗАЯВКА!K1374,0)","v":0}]
[{"$f":"IF(ЗАЯВКА!I1375=\"проектирование\",ЗАЯВКА!K1375,0)","v":0},{"$f":"IF(ЗАЯВКА!I1375=\"строительно-монтажные работы\",ЗАЯВКА!K1375,0)","v":0},{"$f":"IF(ЗАЯВКА!N1375=\"да\",ЗАЯВКА!K1375,0)","v":0}]
[{"$f":"IF(ЗАЯВКА!I1376=\"проектирование\",ЗАЯВКА!K1376,0)","v":0},{"$f":"IF(ЗАЯВКА!I1376=\"строительно-монтажные работы\",ЗАЯВКА!K1376,0)","v":0},{"$f":"IF(ЗАЯВКА!N1376=\"да\",ЗАЯВКА!K1376,0)","v":0}]
[{"$f":"IF(ЗАЯВКА!I1377=\"проектирование\",ЗАЯВКА!K1377,0)","v":0},{"$f":"IF(ЗАЯВКА!I1377=\"строительно-монтажные работы\",ЗАЯВКА!K1377,0)","v":0},{"$f":"IF(ЗАЯВКА!N1377=\"да\",ЗАЯВКА!K1377,0)","v":0}]
[{"$f":"IF(ЗАЯВКА!I1378=\"проектирование\",ЗАЯВКА!K1378,0)","v":0},{"$f":"IF(ЗАЯВКА!I1378=\"строительно-монтажные работы\",ЗАЯВКА!K1378,0)","v":0},{"$f":"IF(ЗАЯВКА!N1378=\"да\",ЗАЯВКА!K1378,0)","v":0}]
[{"$f":"IF(ЗАЯВКА!I1379=\"проектирование\",ЗАЯВКА!K1379,0)","v":0},{"$f":"IF(ЗАЯВКА!I1379=\"строительно-монтажные работы\",ЗАЯВКА!K1379,0)","v":0},{"$f":"IF(ЗАЯВКА!N1379=\"да\",ЗАЯВКА!K1379,0)","v":0}]
[{"$f":"IF(ЗАЯВКА!I1380=\"проектирование\",ЗАЯВКА!K1380,0)","v":0},{"$f":"IF(ЗАЯВКА!I1380=\"строительно-монтажные работы\",ЗАЯВКА!K1380,0)","v":0},{"$f":"IF(ЗАЯВКА!N1380=\"да\",ЗАЯВКА!K1380,0)","v":0}]
[{"$f":"IF(ЗАЯВКА!I1381=\"проектирование\",ЗАЯВКА!K1381,0)","v":0},{"$f":"IF(ЗАЯВКА!I1381=\"строительно-монтажные работы\",ЗАЯВКА!K1381,0)","v":0},{"$f":"IF(ЗАЯВКА!N1381=\"да\",ЗАЯВКА!K1381,0)","v":0}]
[{"$f":"IF(ЗАЯВКА!I1382=\"проектирование\",ЗАЯВКА!K1382,0)","v":0},{"$f":"IF(ЗАЯВКА!I1382=\"строительно-монтажные работы\",ЗАЯВКА!K1382,0)","v":0},{"$f":"IF(ЗАЯВКА!N1382=\"да\",ЗАЯВКА!K1382,0)","v":0}]
[{"$f":"IF(ЗАЯВКА!I1383=\"проектирование\",ЗАЯВКА!K1383,0)","v":0},{"$f":"IF(ЗАЯВКА!I1383=\"строительно-монтажные работы\",ЗАЯВКА!K1383,0)","v":0},{"$f":"IF(ЗАЯВКА!N1383=\"да\",ЗАЯВКА!K1383,0)","v":0}]
[{"$f":"IF(ЗАЯВКА!I1384=\"проектирование\",ЗАЯВКА!K1384,0)","v":0},{"$f":"IF(ЗАЯВКА!I1384=\"строительно-монтажные работы\",ЗАЯВКА!K1384,0)","v":0},{"$f":"IF(ЗАЯВКА!N1384=\"да\",ЗАЯВКА!K1384,0)","v":0}]
[{"$f":"IF(ЗАЯВКА!I1385=\"проектирование\",ЗАЯВКА!K1385,0)","v":0},{"$f":"IF(ЗАЯВКА!I1385=\"строительно-монтажные работы\",ЗАЯВКА!K1385,0)","v":0},{"$f":"IF(ЗАЯВКА!N1385=\"да\",ЗАЯВКА!K1385,0)","v":0}]
[{"$f":"IF(ЗАЯВКА!I1386=\"проектирование\",ЗАЯВКА!K1386,0)","v":0},{"$f":"IF(ЗАЯВКА!I1386=\"строительно-монтажные работы\",ЗАЯВКА!K1386,0)","v":0},{"$f":"IF(ЗАЯВКА!N1386=\"да\",ЗАЯВКА!K1386,0)","v":0}]
[{"$f":"IF(ЗАЯВКА!I1387=\"проектирование\",ЗАЯВКА!K1387,0)","v":0},{"$f":"IF(ЗАЯВКА!I1387=\"строительно-монтажные работы\",ЗАЯВКА!K1387,0)","v":0},{"$f":"IF(ЗАЯВКА!N1387=\"да\",ЗАЯВКА!K1387,0)","v":0}]
[{"$f":"IF(ЗАЯВКА!I1388=\"проектирование\",ЗАЯВКА!K1388,0)","v":0},{"$f":"IF(ЗАЯВКА!I1388=\"строительно-монтажные работы\",ЗАЯВКА!K1388,0)","v":0},{"$f":"IF(ЗАЯВКА!N1388=\"да\",ЗАЯВКА!K1388,0)","v":0}]
[{"$f":"IF(ЗАЯВКА!I1389=\"проектирование\",ЗАЯВКА!K1389,0)","v":0},{"$f":"IF(ЗАЯВКА!I1389=\"строительно-монтажные работы\",ЗАЯВКА!K1389,0)","v":0},{"$f":"IF(ЗАЯВКА!N1389=\"да\",ЗАЯВКА!K1389,0)","v":0}]
[{"$f":"IF(ЗАЯВКА!I1390=\"проектирование\",ЗАЯВКА!K1390,0)","v":0},{"$f":"IF(ЗАЯВКА!I1390=\"строительно-монтажные работы\",ЗАЯВКА!K1390,0)","v":0},{"$f":"IF(ЗАЯВКА!N1390=\"да\",ЗАЯВКА!K1390,0)","v":0}]
[{"$f":"IF(ЗАЯВКА!I1391=\"проектирование\",ЗАЯВКА!K1391,0)","v":0},{"$f":"IF(ЗАЯВКА!I1391=\"строительно-монтажные работы\",ЗАЯВКА!K1391,0)","v":0},{"$f":"IF(ЗАЯВКА!N1391=\"да\",ЗАЯВКА!K1391,0)","v":0}]
[{"$f":"IF(ЗАЯВКА!I1392=\"проектирование\",ЗАЯВКА!K1392,0)","v":0},{"$f":"IF(ЗАЯВКА!I1392=\"строительно-монтажные работы\",ЗАЯВКА!K1392,0)","v":0},{"$f":"IF(ЗАЯВКА!N1392=\"да\",ЗАЯВКА!K1392,0)","v":0}]
[{"$f":"IF(ЗАЯВКА!I1393=\"проектирование\",ЗАЯВКА!K1393,0)","v":0},{"$f":"IF(ЗАЯВКА!I1393=\"строительно-монтажные работы\",ЗАЯВКА!K1393,0)","v":0},{"$f":"IF(ЗАЯВКА!N1393=\"да\",ЗАЯВКА!K1393,0)","v":0}]
[{"$f":"IF(ЗАЯВКА!I1394=\"проектирование\",ЗАЯВКА!K1394,0)","v":0},{"$f":"IF(ЗАЯВКА!I1394=\"строительно-монтажные работы\",ЗАЯВКА!K1394,0)","v":0},{"$f":"IF(ЗАЯВКА!N1394=\"да\",ЗАЯВКА!K1394,0)","v":0}]
[{"$f":"IF(ЗАЯВКА!I1395=\"проектирование\",ЗАЯВКА!K1395,0)","v":0},{"$f":"IF(ЗАЯВКА!I1395=\"строительно-монтажные работы\",ЗАЯВКА!K1395,0)","v":0},{"$f":"IF(ЗАЯВКА!N1395=\"да\",ЗАЯВКА!K1395,0)","v":0}]
[{"$f":"IF(ЗАЯВКА!I1396=\"проектирование\",ЗАЯВКА!K1396,0)","v":0},{"$f":"IF(ЗАЯВКА!I1396=\"строительно-монтажные работы\",ЗАЯВКА!K1396,0)","v":0},{"$f":"IF(ЗАЯВКА!N1396=\"да\",ЗАЯВКА!K1396,0)","v":0}]
[{"$f":"IF(ЗАЯВКА!I1397=\"проектирование\",ЗАЯВКА!K1397,0)","v":0},{"$f":"IF(ЗАЯВКА!I1397=\"строительно-монтажные работы\",ЗАЯВКА!K1397,0)","v":0},{"$f":"IF(ЗАЯВКА!N1397=\"да\",ЗАЯВКА!K1397,0)","v":0}]
[{"$f":"IF(ЗАЯВКА!I1398=\"проектирование\",ЗАЯВКА!K1398,0)","v":0},{"$f":"IF(ЗАЯВКА!I1398=\"строительно-монтажные работы\",ЗАЯВКА!K1398,0)","v":0},{"$f":"IF(ЗАЯВКА!N1398=\"да\",ЗАЯВКА!K1398,0)","v":0}]
[{"$f":"IF(ЗАЯВКА!I1399=\"проектирование\",ЗАЯВКА!K1399,0)","v":0},{"$f":"IF(ЗАЯВКА!I1399=\"строительно-монтажные работы\",ЗАЯВКА!K1399,0)","v":0},{"$f":"IF(ЗАЯВКА!N1399=\"да\",ЗАЯВКА!K1399,0)","v":0}]
[{"$f":"IF(ЗАЯВКА!I1400=\"проектирование\",ЗАЯВКА!K1400,0)","v":0},{"$f":"IF(ЗАЯВКА!I1400=\"строительно-монтажные работы\",ЗАЯВКА!K1400,0)","v":0},{"$f":"IF(ЗАЯВКА!N1400=\"да\",ЗАЯВКА!K1400,0)","v":0}]
[{"$f":"IF(ЗАЯВКА!I1401=\"проектирование\",ЗАЯВКА!K1401,0)","v":0},{"$f":"IF(ЗАЯВКА!I1401=\"строительно-монтажные работы\",ЗАЯВКА!K1401,0)","v":0},{"$f":"IF(ЗАЯВКА!N1401=\"да\",ЗАЯВКА!K1401,0)","v":0}]
[{"$f":"IF(ЗАЯВКА!I1402=\"проектирование\",ЗАЯВКА!K1402,0)","v":0},{"$f":"IF(ЗАЯВКА!I1402=\"строительно-монтажные работы\",ЗАЯВКА!K1402,0)","v":0},{"$f":"IF(ЗАЯВКА!N1402=\"да\",ЗАЯВКА!K1402,0)","v":0}]
[{"$f":"IF(ЗАЯВКА!I1403=\"проектирование\",ЗАЯВКА!K1403,0)","v":0},{"$f":"IF(ЗАЯВКА!I1403=\"строительно-монтажные работы\",ЗАЯВКА!K1403,0)","v":0},{"$f":"IF(ЗАЯВКА!N1403=\"да\",ЗАЯВКА!K1403,0)","v":0}]
[{"$f":"IF(ЗАЯВКА!I1404=\"проектирование\",ЗАЯВКА!K1404,0)","v":0},{"$f":"IF(ЗАЯВКА!I1404=\"строительно-монтажные работы\",ЗАЯВКА!K1404,0)","v":0},{"$f":"IF(ЗАЯВКА!N1404=\"да\",ЗАЯВКА!K1404,0)","v":0}]
[{"$f":"IF(ЗАЯВКА!I1405=\"проектирование\",ЗАЯВКА!K1405,0)","v":0},{"$f":"IF(ЗАЯВКА!I1405=\"строительно-монтажные работы\",ЗАЯВКА!K1405,0)","v":0},{"$f":"IF(ЗАЯВКА!N1405=\"да\",ЗАЯВКА!K1405,0)","v":0}]
[{"$f":"IF(ЗАЯВКА!I1406=\"проектирование\",ЗАЯВКА!K1406,0)","v":0},{"$f":"IF(ЗАЯВКА!I1406=\"строительно-монтажные работы\",ЗАЯВКА!K1406,0)","v":0},{"$f":"IF(ЗАЯВКА!N1406=\"да\",ЗАЯВКА!K1406,0)","v":0}]
[{"$f":"IF(ЗАЯВКА!I1407=\"проектирование\",ЗАЯВКА!K1407,0)","v":0},{"$f":"IF(ЗАЯВКА!I1407=\"строительно-монтажные работы\",ЗАЯВКА!K1407,0)","v":0},{"$f":"IF(ЗАЯВКА!N1407=\"да\",ЗАЯВКА!K1407,0)","v":0}]
[{"$f":"IF(ЗАЯВКА!I1408=\"проектирование\",ЗАЯВКА!K1408,0)","v":0},{"$f":"IF(ЗАЯВКА!I1408=\"строительно-монтажные работы\",ЗАЯВКА!K1408,0)","v":0},{"$f":"IF(ЗАЯВКА!N1408=\"да\",ЗАЯВКА!K1408,0)","v":0}]
[{"$f":"IF(ЗАЯВКА!I1409=\"проектирование\",ЗАЯВКА!K1409,0)","v":0},{"$f":"IF(ЗАЯВКА!I1409=\"строительно-монтажные работы\",ЗАЯВКА!K1409,0)","v":0},{"$f":"IF(ЗАЯВКА!N1409=\"да\",ЗАЯВКА!K1409,0)","v":0}]
[{"$f":"IF(ЗАЯВКА!I1410=\"проектирование\",ЗАЯВКА!K1410,0)","v":0},{"$f":"IF(ЗАЯВКА!I1410=\"строительно-монтажные работы\",ЗАЯВКА!K1410,0)","v":0},{"$f":"IF(ЗАЯВКА!N1410=\"да\",ЗАЯВКА!K1410,0)","v":0}]
[{"$f":"IF(ЗАЯВКА!I1411=\"проектирование\",ЗАЯВКА!K1411,0)","v":0},{"$f":"IF(ЗАЯВКА!I1411=\"строительно-монтажные работы\",ЗАЯВКА!K1411,0)","v":0},{"$f":"IF(ЗАЯВКА!N1411=\"да\",ЗАЯВКА!K1411,0)","v":0}]
[{"$f":"IF(ЗАЯВКА!I1412=\"проектирование\",ЗАЯВКА!K1412,0)","v":0},{"$f":"IF(ЗАЯВКА!I1412=\"строительно-монтажные работы\",ЗАЯВКА!K1412,0)","v":0},{"$f":"IF(ЗАЯВКА!N1412=\"да\",ЗАЯВКА!K1412,0)","v":0}]
[{"$f":"IF(ЗАЯВКА!I1413=\"проектирование\",ЗАЯВКА!K1413,0)","v":0},{"$f":"IF(ЗАЯВКА!I1413=\"строительно-монтажные работы\",ЗАЯВКА!K1413,0)","v":0},{"$f":"IF(ЗАЯВКА!N1413=\"да\",ЗАЯВКА!K1413,0)","v":0}]
[{"$f":"IF(ЗАЯВКА!I1414=\"проектирование\",ЗАЯВКА!K1414,0)","v":0},{"$f":"IF(ЗАЯВКА!I1414=\"строительно-монтажные работы\",ЗАЯВКА!K1414,0)","v":0},{"$f":"IF(ЗАЯВКА!N1414=\"да\",ЗАЯВКА!K1414,0)","v":0}]
[{"$f":"IF(ЗАЯВКА!I1415=\"проектирование\",ЗАЯВКА!K1415,0)","v":0},{"$f":"IF(ЗАЯВКА!I1415=\"строительно-монтажные работы\",ЗАЯВКА!K1415,0)","v":0},{"$f":"IF(ЗАЯВКА!N1415=\"да\",ЗАЯВКА!K1415,0)","v":0}]
[{"$f":"IF(ЗАЯВКА!I1416=\"проектирование\",ЗАЯВКА!K1416,0)","v":0},{"$f":"IF(ЗАЯВКА!I1416=\"строительно-монтажные работы\",ЗАЯВКА!K1416,0)","v":0},{"$f":"IF(ЗАЯВКА!N1416=\"да\",ЗАЯВКА!K1416,0)","v":0}]
[{"$f":"IF(ЗАЯВКА!I1417=\"проектирование\",ЗАЯВКА!K1417,0)","v":0},{"$f":"IF(ЗАЯВКА!I1417=\"строительно-монтажные работы\",ЗАЯВКА!K1417,0)","v":0},{"$f":"IF(ЗАЯВКА!N1417=\"да\",ЗАЯВКА!K1417,0)","v":0}]
[{"$f":"IF(ЗАЯВКА!I1418=\"проектирование\",ЗАЯВКА!K1418,0)","v":0},{"$f":"IF(ЗАЯВКА!I1418=\"строительно-монтажные работы\",ЗАЯВКА!K1418,0)","v":0},{"$f":"IF(ЗАЯВКА!N1418=\"да\",ЗАЯВКА!K1418,0)","v":0}]
[{"$f":"IF(ЗАЯВКА!I1419=\"проектирование\",ЗАЯВКА!K1419,0)","v":0},{"$f":"IF(ЗАЯВКА!I1419=\"строительно-монтажные работы\",ЗАЯВКА!K1419,0)","v":0},{"$f":"IF(ЗАЯВКА!N1419=\"да\",ЗАЯВКА!K1419,0)","v":0}]
[{"$f":"IF(ЗАЯВКА!I1420=\"проектирование\",ЗАЯВКА!K1420,0)","v":0},{"$f":"IF(ЗАЯВКА!I1420=\"строительно-монтажные работы\",ЗАЯВКА!K1420,0)","v":0},{"$f":"IF(ЗАЯВКА!N1420=\"да\",ЗАЯВКА!K1420,0)","v":0}]
[{"$f":"IF(ЗАЯВКА!I1421=\"проектирование\",ЗАЯВКА!K1421,0)","v":0},{"$f":"IF(ЗАЯВКА!I1421=\"строительно-монтажные работы\",ЗАЯВКА!K1421,0)","v":0},{"$f":"IF(ЗАЯВКА!N1421=\"да\",ЗАЯВКА!K1421,0)","v":0}]
[{"$f":"IF(ЗАЯВКА!I1422=\"проектирование\",ЗАЯВКА!K1422,0)","v":0},{"$f":"IF(ЗАЯВКА!I1422=\"строительно-монтажные работы\",ЗАЯВКА!K1422,0)","v":0},{"$f":"IF(ЗАЯВКА!N1422=\"да\",ЗАЯВКА!K1422,0)","v":0}]
[{"$f":"SUM(A2:A2817)","v":{"$error":"#REF!"}},{"$f":"SUM(B2:B2817)","v":{"$error":"#REF!"}},{"$f":"SUM(C2:C2817)","v":{"$error":"#REF!"}}]